{"text_format":"1","workbook":"xlsx","n_sheets":9,"sheets":["Whip Data","Conduit Fill Chart","Revision History","BOM","Standards","Breakers","Weight","Voltage Drop","PDU Circuit"],"not_rendered":{"charts":0,"images":2,"macros":1,"external_links":1,"defined_names":9,"comments":1,"pivot_tables":0},"unopened":[],"bounds":{"document_bytes":16777216,"sheet_cells":100000,"rows_first":2000,"rows_last":500,"rows_between":2000,"halvings":0,"cell_chars":16384,"cell_head_chars":4096},"cells_cut":0,"cells_raw":0,"read":"whole","date_system":"1900"}

{"sheet":"Whip Data","index":0,"n_rows":500,"n_cols":36,"rows_kept":500,"cut":false,"hidden":false,"merged":[[8,16,9,23],[0,16,3,23],[12,25,13,25],[12,26,13,26],[1,6,1,7],[12,13,13,13],[13,6,13,8],[12,17,12,19],[12,15,13,15],[12,12,13,12],[9,6,10,7],[7,6,7,7],[12,24,13,24],[12,20,12,23],[6,16,7,23],[2,0,3,1],[12,0,13,0],[12,1,12,10],[12,11,13,11],[5,0,5,1],[5,8,5,15],[6,0,6,1],[7,0,7,1],[8,0,8,1],[9,0,9,1],[10,0,10,1],[8,11,9,11],[12,14,13,14],[13,3,13,5]]}
[null,null,null,null,null,null,null,null,"Revision 12.1.2",null,null,null,null,null,null,null,"To obtain pricing: please complete the grey shaded areas, save the worksheet with a unique title, and send to cqrfq@cablequest.biz. "]
[null,null,null,null,null,null,"770-720-8230",null," ©2016 CableQuest, All Rights Reserved",null,null,"# of Pallets:",{"$f":"Weight!K29","v":"0"}]
["Serving People is Our Highest Calling",null,null,null,null,null,null,null,null,null,null,"# of Barrels:",{"$f":"Weight!K28","v":0}]
[null,null,null,null,null,null,null,"Delivery Date:",null,"mm/dd/yyyy format",null,"Total Weight:",{"$f":"Weight!N1+Weight!L29","v":0}]
[]
["Customer Name:",null,null,null,null,null,null,"Special Notes:"]
["Purchase Order #:",null,null,null,null,null,null,null,null,null,null,null,null,null,null,null,"Double click selection boxes for larger view of selectable options."]
["Ship to Address:",null,null,null,null,null,"Number of Cables:",null,null,"Enter the number of cables here and press ENTER"]
["Address Line 2:",null,null,null,null,null,null,null,null,null,null,"Select Box Type:",null,null,null,null,"White areas fill automatically. Yellow areas are optional alterations."]
["City, State Zip:",null,null,null,null,null,"Select PDU Type: ",null,1,null,null,null,1]
["Contact Name:",null,null,null,null,null,null,null,{"$f":"IF($I$10=1,\"StandardPDU\",IF($I$10=2,\"VertPDU\",\"\"))","v":"StandardPDU"}]
[]
["Cable No.","Cable Label Information",null,null,null,null,null,null,null,null,null,"Connection Type","Volts Amps","Pole/Wire","Cable Length","Pigtail","Breaker","Conduit",null,null,"Wire Qty/AWG",null,null,null,"Voltage Drop","Part Number","Description"]
[null,"PDU","Panel","Circuit #",null,null,"Circuit Color",null,null,"Equipment","Other",null,null,null,null,null,"Brnd/Style","Color","Standard Size","Size Options","Standard Wire","Wire Options","Standard Ground","Ground Option"]
[{"$f":"IFERROR(IF($I$8>=A14+1,A14+1,\"\"),\"\")","v":""},null,null,null,null,null,{"$f":"IF(A15=\"\",\"\",IFERROR(VLOOKUP(D15,'PDU Circuit'!$B$1:$F$199,IF(VLOOKUP(L15,Materials,3,FALSE)>250,$I$10+3,$I$10+1),FALSE),IF(VLOOKUP(L15,Materials,4,FALSE)>=1,IF(VLOOKUP(L15,Materials,3,FALSE)>250,\"BR\",\"BK\"))))","v":""},{"$f":"IF(A15=\"\",\"\",IFERROR(VLOOKUP(E15,'PDU Circuit'!$B$1:$F$199,IF(VLOOKUP(L15,Materials,3,FALSE)>250,$I$10+3,$I$10+1),FALSE),IF(VLOOKUP(L15,Materials,5,FALSE)>1,IF(VLOOKUP(L15,Materials,3,FALSE)>250,\"OR\",\"RED\"),\"\")))","v":""},{"$f":"IF(A15=\"\",\"\",IFERROR(VLOOKUP(F15,'PDU Circuit'!$B$1:$F$199,IF(VLOOKUP(L15,Materials,3,FALSE)>250,$I$10+3,$I$10+1),FALSE),IF(VLOOKUP(L15,Materials,5,FALSE)>2,IF(VLOOKUP(L15,Materials,3,FALSE)>250,\"YL\",\"BL\"),\"\")))","v":""},null,null,null,{"$f":"IFERROR(VLOOKUP(L15,Materials,3,FALSE)&\"V \"&VLOOKUP(L15,Materials,4,FALSE)&\"A\",\"\")","v":""},{"$f":"IFERROR(VLOOKUP(L15,Materials,6,FALSE),\"\")","v":""},null,null,null,null,{"$f":"IFERROR(VLOOKUP($L15,Materials,10,FALSE),\"\")","v":""},null,{"$f":"IFERROR(VLOOKUP($L15,Materials,8,FALSE),\"\")","v":""},null,{"$f":"IFERROR(VLOOKUP($L15,Materials,9,FALSE),\"\")","v":""},null,{"$f":"IF(A15=\"\",\"\",'Voltage Drop'!N2)","v":""},{"$f":"IFERROR(AB15,\"\")","v":""},{"$f":"IF(A15=\"\",\"\",\"CBL ASSY W/ PIGTAIL\")","v":""},{"$f":"\"CQ\"&VLOOKUP(L15,Materials,2,FALSE)&\"/\"&VLOOKUP(Q15,Breakers,2,FALSE)&\"/\"&O15&\"/\"&VLOOKUP(R15,Colors,2,FALSE)&\"/\"&AF15&AG15&AH15","v":{"$error":"#N/A"}},{"$f":"RIGHT(G15,2)","v":""},{"$f":"IF(H15=\"\",IF(G15=\"BK\",\"W\",\"GY\"),RIGHT(H15,2))","v":"GY"},{"$f":"IF(I15=\"\",IF(MID(N15,3,1)>=\"4\",IF(G15=\"BK\",\"W\",\"GY\"),\"G\"),RIGHT(I15,2))","v":"G"},{"$f":"VLOOKUP(AC15,$AI$15:$AJ$23,2,FALSE)","v":{"$error":"#N/A"}},{"$f":"VLOOKUP(AD15,$AI$15:$AJ$23,2,FALSE)","v":8},{"$f":"VLOOKUP(AE15,$AI$15:$AJ$23,2,FALSE)","v":0},"BK",1]
["",null,null,null,null,null,{"$f":"IF(A16=\"\",\"\",IFERROR(VLOOKUP(D16,'PDU Circuit'!$B$1:$F$199,IF(VLOOKUP(L16,Materials,3,FALSE)>250,$I$10+3,$I$10+1),FALSE),IF(VLOOKUP(L16,Materials,4,FALSE)>=1,IF(VLOOKUP(L16,Materials,3,FALSE)>250,\"BR\",\"BK\"))))","v":""},{"$f":"IF(A16=\"\",\"\",IFERROR(VLOOKUP(E16,'PDU Circuit'!$B$1:$F$199,IF(VLOOKUP(L16,Materials,3,FALSE)>250,$I$10+3,$I$10+1),FALSE),IF(VLOOKUP(L16,Materials,5,FALSE)>1,IF(VLOOKUP(L16,Materials,3,FALSE)>250,\"OR\",\"RED\"),\"\")))","v":""},{"$f":"IF(A16=\"\",\"\",IFERROR(VLOOKUP(F16,'PDU Circuit'!$B$1:$F$199,IF(VLOOKUP(L16,Materials,3,FALSE)>250,$I$10+3,$I$10+1),FALSE),IF(VLOOKUP(L16,Materials,5,FALSE)>2,IF(VLOOKUP(L16,Materials,3,FALSE)>250,\"YL\",\"BL\"),\"\")))","v":""},null,null,null,{"$f":"IFERROR(VLOOKUP(L16,Materials,3,FALSE)&\"V \"&VLOOKUP(L16,Materials,4,FALSE)&\"A\",\"\")","v":""},{"$f":"IFERROR(VLOOKUP(L16,Materials,6,FALSE),\"\")","v":""},null,null,null,null,"",null,{"$f":"IFERROR(VLOOKUP($L16,Materials,8,FALSE),\"\")","v":""},null,{"$f":"IFERROR(VLOOKUP($L16,Materials,9,FALSE),\"\")","v":""},null,{"$f":"IF(A16=\"\",\"\",'Voltage Drop'!N3)","v":""},{"$f":"IFERROR(AB16,\"\")","v":""},{"$f":"IF(A16=\"\",\"\",\"CBL ASSY W/ PIGTAIL\")","v":""},{"$error":"#N/A"},{"$f":"RIGHT(G16,2)","v":""},{"$f":"IF(H16=\"\",IF(G16=\"BK\",\"W\",\"GY\"),RIGHT(H16,2))","v":"GY"},{"$f":"IF(I16=\"\",IF(MID(N16,3,1)>=\"4\",IF(G16=\"BK\",\"W\",\"GY\"),\"G\"),RIGHT(I16,2))","v":"G"},{"$f":"VLOOKUP(AC16,$AI$15:$AJ$23,2,FALSE)","v":{"$error":"#N/A"}},{"$f":"VLOOKUP(AD16,$AI$15:$AJ$23,2,FALSE)","v":8},{"$f":"VLOOKUP(AE16,$AI$15:$AJ$23,2,FALSE)","v":0},"ED",2]
["",null,null,null,null,null,{"$f":"IF(A17=\"\",\"\",IFERROR(VLOOKUP(D17,'PDU Circuit'!$B$1:$F$199,IF(VLOOKUP(L17,Materials,3,FALSE)>250,$I$10+3,$I$10+1),FALSE),IF(VLOOKUP(L17,Materials,4,FALSE)>=1,IF(VLOOKUP(L17,Materials,3,FALSE)>250,\"BR\",\"BK\"))))","v":""},{"$f":"IF(A17=\"\",\"\",IFERROR(VLOOKUP(E17,'PDU Circuit'!$B$1:$F$199,IF(VLOOKUP(L17,Materials,3,FALSE)>250,$I$10+3,$I$10+1),FALSE),IF(VLOOKUP(L17,Materials,5,FALSE)>1,IF(VLOOKUP(L17,Materials,3,FALSE)>250,\"OR\",\"RED\"),\"\")))","v":""},{"$f":"IF(A17=\"\",\"\",IFERROR(VLOOKUP(F17,'PDU Circuit'!$B$1:$F$199,IF(VLOOKUP(L17,Materials,3,FALSE)>250,$I$10+3,$I$10+1),FALSE),IF(VLOOKUP(L17,Materials,5,FALSE)>2,IF(VLOOKUP(L17,Materials,3,FALSE)>250,\"YL\",\"BL\"),\"\")))","v":""},null,null,null,"","",null,null,null,null,"",null,"",null,"",null,{"$f":"IF(A17=\"\",\"\",'Voltage Drop'!N4)","v":""},"","",{"$error":"#N/A"},"","GY","G",{"$error":"#N/A"},8,0,"BL",3]
["",null,null,null,null,null,{"$f":"IF(A18=\"\",\"\",IFERROR(VLOOKUP(D18,'PDU Circuit'!$B$1:$F$199,IF(VLOOKUP(L18,Materials,3,FALSE)>250,$I$10+3,$I$10+1),FALSE),IF(VLOOKUP(L18,Materials,4,FALSE)>=1,IF(VLOOKUP(L18,Materials,3,FALSE)>250,\"BR\",\"BK\"))))","v":""},{"$f":"IF(A18=\"\",\"\",IFERROR(VLOOKUP(E18,'PDU Circuit'!$B$1:$F$199,IF(VLOOKUP(L18,Materials,3,FALSE)>250,$I$10+3,$I$10+1),FALSE),IF(VLOOKUP(L18,Materials,5,FALSE)>1,IF(VLOOKUP(L18,Materials,3,FALSE)>250,\"OR\",\"RED\"),\"\")))","v":""},{"$f":"IF(A18=\"\",\"\",IFERROR(VLOOKUP(F18,'PDU Circuit'!$B$1:$F$199,IF(VLOOKUP(L18,Materials,3,FALSE)>250,$I$10+3,$I$10+1),FALSE),IF(VLOOKUP(L18,Materials,5,FALSE)>2,IF(VLOOKUP(L18,Materials,3,FALSE)>250,\"YL\",\"BL\"),\"\")))","v":""},null,null,null,"","",null,null,null,null,"",null,"",null,"",null,{"$f":"IF(A18=\"\",\"\",'Voltage Drop'!N5)","v":""},"","",{"$error":"#N/A"},"","GY","G",{"$error":"#N/A"},8,0,"W",4]
["",null,null,null,null,null,{"$f":"IF(A19=\"\",\"\",IFERROR(VLOOKUP(D19,'PDU Circuit'!$B$1:$F$199,IF(VLOOKUP(L19,Materials,3,FALSE)>250,$I$10+3,$I$10+1),FALSE),IF(VLOOKUP(L19,Materials,4,FALSE)>=1,IF(VLOOKUP(L19,Materials,3,FALSE)>250,\"BR\",\"BK\"))))","v":""},{"$f":"IF(A19=\"\",\"\",IFERROR(VLOOKUP(E19,'PDU Circuit'!$B$1:$F$199,IF(VLOOKUP(L19,Materials,3,FALSE)>250,$I$10+3,$I$10+1),FALSE),IF(VLOOKUP(L19,Materials,5,FALSE)>1,IF(VLOOKUP(L19,Materials,3,FALSE)>250,\"OR\",\"RED\"),\"\")))","v":""},{"$f":"IF(A19=\"\",\"\",IFERROR(VLOOKUP(F19,'PDU Circuit'!$B$1:$F$199,IF(VLOOKUP(L19,Materials,3,FALSE)>250,$I$10+3,$I$10+1),FALSE),IF(VLOOKUP(L19,Materials,5,FALSE)>2,IF(VLOOKUP(L19,Materials,3,FALSE)>250,\"YL\",\"BL\"),\"\")))","v":""},null,null,null,"","",null,null,null,null,"",null,"",null,"",null,{"$f":"IF(A19=\"\",\"\",'Voltage Drop'!N6)","v":""},"","",{"$error":"#N/A"},"","GY","G",{"$error":"#N/A"},8,0,"G",0]
["",null,null,null,null,null,{"$f":"IF(A20=\"\",\"\",IFERROR(VLOOKUP(D20,'PDU Circuit'!$B$1:$F$199,IF(VLOOKUP(L20,Materials,3,FALSE)>250,$I$10+3,$I$10+1),FALSE),IF(VLOOKUP(L20,Materials,4,FALSE)>=1,IF(VLOOKUP(L20,Materials,3,FALSE)>250,\"BR\",\"BK\"))))","v":""},{"$f":"IF(A20=\"\",\"\",IFERROR(VLOOKUP(E20,'PDU Circuit'!$B$1:$F$199,IF(VLOOKUP(L20,Materials,3,FALSE)>250,$I$10+3,$I$10+1),FALSE),IF(VLOOKUP(L20,Materials,5,FALSE)>1,IF(VLOOKUP(L20,Materials,3,FALSE)>250,\"OR\",\"RED\"),\"\")))","v":""},{"$f":"IF(A20=\"\",\"\",IFERROR(VLOOKUP(F20,'PDU Circuit'!$B$1:$F$199,IF(VLOOKUP(L20,Materials,3,FALSE)>250,$I$10+3,$I$10+1),FALSE),IF(VLOOKUP(L20,Materials,5,FALSE)>2,IF(VLOOKUP(L20,Materials,3,FALSE)>250,\"YL\",\"BL\"),\"\")))","v":""},null,null,null,"","",null,null,null,null,"",null,"",null,"",null,{"$f":"IF(A20=\"\",\"\",'Voltage Drop'!N7)","v":""},"","",{"$error":"#N/A"},"","GY","G",{"$error":"#N/A"},8,0,"BR",5]
["",null,null,null,null,null,{"$f":"IF(A21=\"\",\"\",IFERROR(VLOOKUP(D21,'PDU Circuit'!$B$1:$F$199,IF(VLOOKUP(L21,Materials,3,FALSE)>250,$I$10+3,$I$10+1),FALSE),IF(VLOOKUP(L21,Materials,4,FALSE)>=1,IF(VLOOKUP(L21,Materials,3,FALSE)>250,\"BR\",\"BK\"))))","v":""},{"$f":"IF(A21=\"\",\"\",IFERROR(VLOOKUP(E21,'PDU Circuit'!$B$1:$F$199,IF(VLOOKUP(L21,Materials,3,FALSE)>250,$I$10+3,$I$10+1),FALSE),IF(VLOOKUP(L21,Materials,5,FALSE)>1,IF(VLOOKUP(L21,Materials,3,FALSE)>250,\"OR\",\"RED\"),\"\")))","v":""},{"$f":"IF(A21=\"\",\"\",IFERROR(VLOOKUP(F21,'PDU Circuit'!$B$1:$F$199,IF(VLOOKUP(L21,Materials,3,FALSE)>250,$I$10+3,$I$10+1),FALSE),IF(VLOOKUP(L21,Materials,5,FALSE)>2,IF(VLOOKUP(L21,Materials,3,FALSE)>250,\"YL\",\"BL\"),\"\")))","v":""},null,null,null,"","",null,null,null,null,"",null,"",null,"",null,{"$f":"IF(A21=\"\",\"\",'Voltage Drop'!N8)","v":""},"","",{"$error":"#N/A"},"","GY","G",{"$error":"#N/A"},8,0,"OR",6]
["",null,null,null,null,null,{"$f":"IF(A22=\"\",\"\",IFERROR(VLOOKUP(D22,'PDU Circuit'!$B$1:$F$199,IF(VLOOKUP(L22,Materials,3,FALSE)>250,$I$10+3,$I$10+1),FALSE),IF(VLOOKUP(L22,Materials,4,FALSE)>=1,IF(VLOOKUP(L22,Materials,3,FALSE)>250,\"BR\",\"BK\"))))","v":""},{"$f":"IF(A22=\"\",\"\",IFERROR(VLOOKUP(E22,'PDU Circuit'!$B$1:$F$199,IF(VLOOKUP(L22,Materials,3,FALSE)>250,$I$10+3,$I$10+1),FALSE),IF(VLOOKUP(L22,Materials,5,FALSE)>1,IF(VLOOKUP(L22,Materials,3,FALSE)>250,\"OR\",\"RED\"),\"\")))","v":""},{"$f":"IF(A22=\"\",\"\",IFERROR(VLOOKUP(F22,'PDU Circuit'!$B$1:$F$199,IF(VLOOKUP(L22,Materials,3,FALSE)>250,$I$10+3,$I$10+1),FALSE),IF(VLOOKUP(L22,Materials,5,FALSE)>2,IF(VLOOKUP(L22,Materials,3,FALSE)>250,\"YL\",\"BL\"),\"\")))","v":""},null,null,null,"","",null,null,null,null,"",null,"",null,"",null,{"$f":"IF(A22=\"\",\"\",'Voltage Drop'!N9)","v":""},"","",{"$error":"#N/A"},"","GY","G",{"$error":"#N/A"},8,0,"YL",7]
["",null,null,null,null,null,{"$f":"IF(A23=\"\",\"\",IFERROR(VLOOKUP(D23,'PDU Circuit'!$B$1:$F$199,IF(VLOOKUP(L23,Materials,3,FALSE)>250,$I$10+3,$I$10+1),FALSE),IF(VLOOKUP(L23,Materials,4,FALSE)>=1,IF(VLOOKUP(L23,Materials,3,FALSE)>250,\"BR\",\"BK\"))))","v":""},{"$f":"IF(A23=\"\",\"\",IFERROR(VLOOKUP(E23,'PDU Circuit'!$B$1:$F$199,IF(VLOOKUP(L23,Materials,3,FALSE)>250,$I$10+3,$I$10+1),FALSE),IF(VLOOKUP(L23,Materials,5,FALSE)>1,IF(VLOOKUP(L23,Materials,3,FALSE)>250,\"OR\",\"RED\"),\"\")))","v":""},{"$f":"IF(A23=\"\",\"\",IFERROR(VLOOKUP(F23,'PDU Circuit'!$B$1:$F$199,IF(VLOOKUP(L23,Materials,3,FALSE)>250,$I$10+3,$I$10+1),FALSE),IF(VLOOKUP(L23,Materials,5,FALSE)>2,IF(VLOOKUP(L23,Materials,3,FALSE)>250,\"YL\",\"BL\"),\"\")))","v":""},null,null,null,"","",null,null,null,null,"",null,"",null,"",null,{"$f":"IF(A23=\"\",\"\",'Voltage Drop'!N10)","v":""},"","",{"$error":"#N/A"},"","GY","G",{"$error":"#N/A"},8,0,"GY",8]
["",null,null,null,null,null,{"$f":"IF(A24=\"\",\"\",IFERROR(VLOOKUP(D24,'PDU Circuit'!$B$1:$F$199,IF(VLOOKUP(L24,Materials,3,FALSE)>250,$I$10+3,$I$10+1),FALSE),IF(VLOOKUP(L24,Materials,4,FALSE)>=1,IF(VLOOKUP(L24,Materials,3,FALSE)>250,\"BR\",\"BK\"))))","v":""},{"$f":"IF(A24=\"\",\"\",IFERROR(VLOOKUP(E24,'PDU Circuit'!$B$1:$F$199,IF(VLOOKUP(L24,Materials,3,FALSE)>250,$I$10+3,$I$10+1),FALSE),IF(VLOOKUP(L24,Materials,5,FALSE)>1,IF(VLOOKUP(L24,Materials,3,FALSE)>250,\"OR\",\"RED\"),\"\")))","v":""},{"$f":"IF(A24=\"\",\"\",IFERROR(VLOOKUP(F24,'PDU Circuit'!$B$1:$F$199,IF(VLOOKUP(L24,Materials,3,FALSE)>250,$I$10+3,$I$10+1),FALSE),IF(VLOOKUP(L24,Materials,5,FALSE)>2,IF(VLOOKUP(L24,Materials,3,FALSE)>250,\"YL\",\"BL\"),\"\")))","v":""},null,null,null,"","",null,null,null,null,"",null,"",null,"",null,{"$f":"IF(A24=\"\",\"\",'Voltage Drop'!N11)","v":""},"","",{"$error":"#N/A"},"","GY","G",{"$error":"#N/A"},8,0]
["",null,null,null,null,null,{"$f":"IF(A25=\"\",\"\",IFERROR(VLOOKUP(D25,'PDU Circuit'!$B$1:$F$199,IF(VLOOKUP(L25,Materials,3,FALSE)>250,$I$10+3,$I$10+1),FALSE),IF(VLOOKUP(L25,Materials,4,FALSE)>=1,IF(VLOOKUP(L25,Materials,3,FALSE)>250,\"BR\",\"BK\"))))","v":""},{"$f":"IF(A25=\"\",\"\",IFERROR(VLOOKUP(E25,'PDU Circuit'!$B$1:$F$199,IF(VLOOKUP(L25,Materials,3,FALSE)>250,$I$10+3,$I$10+1),FALSE),IF(VLOOKUP(L25,Materials,5,FALSE)>1,IF(VLOOKUP(L25,Materials,3,FALSE)>250,\"OR\",\"RED\"),\"\")))","v":""},{"$f":"IF(A25=\"\",\"\",IFERROR(VLOOKUP(F25,'PDU Circuit'!$B$1:$F$199,IF(VLOOKUP(L25,Materials,3,FALSE)>250,$I$10+3,$I$10+1),FALSE),IF(VLOOKUP(L25,Materials,5,FALSE)>2,IF(VLOOKUP(L25,Materials,3,FALSE)>250,\"YL\",\"BL\"),\"\")))","v":""},null,null,null,"","",null,null,null,null,"",null,"",null,"",null,{"$f":"IF(A25=\"\",\"\",'Voltage Drop'!N12)","v":""},"","",{"$error":"#N/A"},"","GY","G",{"$error":"#N/A"},8,0]
["",null,null,null,null,null,{"$f":"IF(A26=\"\",\"\",IFERROR(VLOOKUP(D26,'PDU Circuit'!$B$1:$F$199,IF(VLOOKUP(L26,Materials,3,FALSE)>250,$I$10+3,$I$10+1),FALSE),IF(VLOOKUP(L26,Materials,4,FALSE)>=1,IF(VLOOKUP(L26,Materials,3,FALSE)>250,\"BR\",\"BK\"))))","v":""},{"$f":"IF(A26=\"\",\"\",IFERROR(VLOOKUP(E26,'PDU Circuit'!$B$1:$F$199,IF(VLOOKUP(L26,Materials,3,FALSE)>250,$I$10+3,$I$10+1),FALSE),IF(VLOOKUP(L26,Materials,5,FALSE)>1,IF(VLOOKUP(L26,Materials,3,FALSE)>250,\"OR\",\"RED\"),\"\")))","v":""},{"$f":"IF(A26=\"\",\"\",IFERROR(VLOOKUP(F26,'PDU Circuit'!$B$1:$F$199,IF(VLOOKUP(L26,Materials,3,FALSE)>250,$I$10+3,$I$10+1),FALSE),IF(VLOOKUP(L26,Materials,5,FALSE)>2,IF(VLOOKUP(L26,Materials,3,FALSE)>250,\"YL\",\"BL\"),\"\")))","v":""},null,null,null,"","",null,null,null,null,"",null,"",null,"",null,{"$f":"IF(A26=\"\",\"\",'Voltage Drop'!N13)","v":""},"","",{"$error":"#N/A"},"","GY","G",{"$error":"#N/A"},8,0]
["",null,null,null,null,null,{"$f":"IF(A27=\"\",\"\",IFERROR(VLOOKUP(D27,'PDU Circuit'!$B$1:$F$199,IF(VLOOKUP(L27,Materials,3,FALSE)>250,$I$10+3,$I$10+1),FALSE),IF(VLOOKUP(L27,Materials,4,FALSE)>=1,IF(VLOOKUP(L27,Materials,3,FALSE)>250,\"BR\",\"BK\"))))","v":""},{"$f":"IF(A27=\"\",\"\",IFERROR(VLOOKUP(E27,'PDU Circuit'!$B$1:$F$199,IF(VLOOKUP(L27,Materials,3,FALSE)>250,$I$10+3,$I$10+1),FALSE),IF(VLOOKUP(L27,Materials,5,FALSE)>1,IF(VLOOKUP(L27,Materials,3,FALSE)>250,\"OR\",\"RED\"),\"\")))","v":""},{"$f":"IF(A27=\"\",\"\",IFERROR(VLOOKUP(F27,'PDU Circuit'!$B$1:$F$199,IF(VLOOKUP(L27,Materials,3,FALSE)>250,$I$10+3,$I$10+1),FALSE),IF(VLOOKUP(L27,Materials,5,FALSE)>2,IF(VLOOKUP(L27,Materials,3,FALSE)>250,\"YL\",\"BL\"),\"\")))","v":""},null,null,null,"","",null,null,null,null,"",null,"",null,"",null,{"$f":"IF(A27=\"\",\"\",'Voltage Drop'!N14)","v":""},"","",{"$error":"#N/A"},"","GY","G",{"$error":"#N/A"},8,0]
["",null,null,null,null,null,{"$f":"IF(A28=\"\",\"\",IFERROR(VLOOKUP(D28,'PDU Circuit'!$B$1:$F$199,IF(VLOOKUP(L28,Materials,3,FALSE)>250,$I$10+3,$I$10+1),FALSE),IF(VLOOKUP(L28,Materials,4,FALSE)>=1,IF(VLOOKUP(L28,Materials,3,FALSE)>250,\"BR\",\"BK\"))))","v":""},{"$f":"IF(A28=\"\",\"\",IFERROR(VLOOKUP(E28,'PDU Circuit'!$B$1:$F$199,IF(VLOOKUP(L28,Materials,3,FALSE)>250,$I$10+3,$I$10+1),FALSE),IF(VLOOKUP(L28,Materials,5,FALSE)>1,IF(VLOOKUP(L28,Materials,3,FALSE)>250,\"OR\",\"RED\"),\"\")))","v":""},{"$f":"IF(A28=\"\",\"\",IFERROR(VLOOKUP(F28,'PDU Circuit'!$B$1:$F$199,IF(VLOOKUP(L28,Materials,3,FALSE)>250,$I$10+3,$I$10+1),FALSE),IF(VLOOKUP(L28,Materials,5,FALSE)>2,IF(VLOOKUP(L28,Materials,3,FALSE)>250,\"YL\",\"BL\"),\"\")))","v":""},null,null,null,"","",null,null,null,null,"",null,"",null,"",null,{"$f":"IF(A28=\"\",\"\",'Voltage Drop'!N15)","v":""},"","",{"$error":"#N/A"},"","GY","G",{"$error":"#N/A"},8,0]
["",null,null,null,null,null,{"$f":"IF(A29=\"\",\"\",IFERROR(VLOOKUP(D29,'PDU Circuit'!$B$1:$F$199,IF(VLOOKUP(L29,Materials,3,FALSE)>250,$I$10+3,$I$10+1),FALSE),IF(VLOOKUP(L29,Materials,4,FALSE)>=1,IF(VLOOKUP(L29,Materials,3,FALSE)>250,\"BR\",\"BK\"))))","v":""},{"$f":"IF(A29=\"\",\"\",IFERROR(VLOOKUP(E29,'PDU Circuit'!$B$1:$F$199,IF(VLOOKUP(L29,Materials,3,FALSE)>250,$I$10+3,$I$10+1),FALSE),IF(VLOOKUP(L29,Materials,5,FALSE)>1,IF(VLOOKUP(L29,Materials,3,FALSE)>250,\"OR\",\"RED\"),\"\")))","v":""},{"$f":"IF(A29=\"\",\"\",IFERROR(VLOOKUP(F29,'PDU Circuit'!$B$1:$F$199,IF(VLOOKUP(L29,Materials,3,FALSE)>250,$I$10+3,$I$10+1),FALSE),IF(VLOOKUP(L29,Materials,5,FALSE)>2,IF(VLOOKUP(L29,Materials,3,FALSE)>250,\"YL\",\"BL\"),\"\")))","v":""},null,null,null,"","",null,null,null,null,"",null,"",null,"",null,{"$f":"IF(A29=\"\",\"\",'Voltage Drop'!N16)","v":""},"","",{"$error":"#N/A"},"","GY","G",{"$error":"#N/A"},8,0]
["",null,null,null,null,null,{"$f":"IF(A30=\"\",\"\",IFERROR(VLOOKUP(D30,'PDU Circuit'!$B$1:$F$199,IF(VLOOKUP(L30,Materials,3,FALSE)>250,$I$10+3,$I$10+1),FALSE),IF(VLOOKUP(L30,Materials,4,FALSE)>=1,IF(VLOOKUP(L30,Materials,3,FALSE)>250,\"BR\",\"BK\"))))","v":""},{"$f":"IF(A30=\"\",\"\",IFERROR(VLOOKUP(E30,'PDU Circuit'!$B$1:$F$199,IF(VLOOKUP(L30,Materials,3,FALSE)>250,$I$10+3,$I$10+1),FALSE),IF(VLOOKUP(L30,Materials,5,FALSE)>1,IF(VLOOKUP(L30,Materials,3,FALSE)>250,\"OR\",\"RED\"),\"\")))","v":""},{"$f":"IF(A30=\"\",\"\",IFERROR(VLOOKUP(F30,'PDU Circuit'!$B$1:$F$199,IF(VLOOKUP(L30,Materials,3,FALSE)>250,$I$10+3,$I$10+1),FALSE),IF(VLOOKUP(L30,Materials,5,FALSE)>2,IF(VLOOKUP(L30,Materials,3,FALSE)>250,\"YL\",\"BL\"),\"\")))","v":""},null,null,null,"","",null,null,null,null,"",null,"",null,"",null,{"$f":"IF(A30=\"\",\"\",'Voltage Drop'!N17)","v":""},"","",{"$error":"#N/A"},"","GY","G",{"$error":"#N/A"},8,0]
["",null,null,null,null,null,{"$f":"IF(A31=\"\",\"\",IFERROR(VLOOKUP(D31,'PDU Circuit'!$B$1:$F$199,IF(VLOOKUP(L31,Materials,3,FALSE)>250,$I$10+3,$I$10+1),FALSE),IF(VLOOKUP(L31,Materials,4,FALSE)>=1,IF(VLOOKUP(L31,Materials,3,FALSE)>250,\"BR\",\"BK\"))))","v":""},{"$f":"IF(A31=\"\",\"\",IFERROR(VLOOKUP(E31,'PDU Circuit'!$B$1:$F$199,IF(VLOOKUP(L31,Materials,3,FALSE)>250,$I$10+3,$I$10+1),FALSE),IF(VLOOKUP(L31,Materials,5,FALSE)>1,IF(VLOOKUP(L31,Materials,3,FALSE)>250,\"OR\",\"RED\"),\"\")))","v":""},{"$f":"IF(A31=\"\",\"\",IFERROR(VLOOKUP(F31,'PDU Circuit'!$B$1:$F$199,IF(VLOOKUP(L31,Materials,3,FALSE)>250,$I$10+3,$I$10+1),FALSE),IF(VLOOKUP(L31,Materials,5,FALSE)>2,IF(VLOOKUP(L31,Materials,3,FALSE)>250,\"YL\",\"BL\"),\"\")))","v":""},null,null,null,"","",null,null,null,null,"",null,"",null,"",null,{"$f":"IF(A31=\"\",\"\",'Voltage Drop'!N18)","v":""},"","",{"$error":"#N/A"},"","GY","G",{"$error":"#N/A"},8,0]
["",null,null,null,null,null,{"$f":"IF(A32=\"\",\"\",IFERROR(VLOOKUP(D32,'PDU Circuit'!$B$1:$F$199,IF(VLOOKUP(L32,Materials,3,FALSE)>250,$I$10+3,$I$10+1),FALSE),IF(VLOOKUP(L32,Materials,4,FALSE)>=1,IF(VLOOKUP(L32,Materials,3,FALSE)>250,\"BR\",\"BK\"))))","v":""},{"$f":"IF(A32=\"\",\"\",IFERROR(VLOOKUP(E32,'PDU Circuit'!$B$1:$F$199,IF(VLOOKUP(L32,Materials,3,FALSE)>250,$I$10+3,$I$10+1),FALSE),IF(VLOOKUP(L32,Materials,5,FALSE)>1,IF(VLOOKUP(L32,Materials,3,FALSE)>250,\"OR\",\"RED\"),\"\")))","v":""},{"$f":"IF(A32=\"\",\"\",IFERROR(VLOOKUP(F32,'PDU Circuit'!$B$1:$F$199,IF(VLOOKUP(L32,Materials,3,FALSE)>250,$I$10+3,$I$10+1),FALSE),IF(VLOOKUP(L32,Materials,5,FALSE)>2,IF(VLOOKUP(L32,Materials,3,FALSE)>250,\"YL\",\"BL\"),\"\")))","v":""},null,null,null,"","",null,null,null,null,"",null,"",null,"",null,{"$f":"IF(A32=\"\",\"\",'Voltage Drop'!N19)","v":""},"","",{"$error":"#N/A"},"","GY","G",{"$error":"#N/A"},8,0]
["",null,null,null,null,null,{"$f":"IF(A33=\"\",\"\",IFERROR(VLOOKUP(D33,'PDU Circuit'!$B$1:$F$199,IF(VLOOKUP(L33,Materials,3,FALSE)>250,$I$10+3,$I$10+1),FALSE),IF(VLOOKUP(L33,Materials,4,FALSE)>=1,IF(VLOOKUP(L33,Materials,3,FALSE)>250,\"BR\",\"BK\"))))","v":""},{"$f":"IF(A33=\"\",\"\",IFERROR(VLOOKUP(E33,'PDU Circuit'!$B$1:$F$199,IF(VLOOKUP(L33,Materials,3,FALSE)>250,$I$10+3,$I$10+1),FALSE),IF(VLOOKUP(L33,Materials,5,FALSE)>1,IF(VLOOKUP(L33,Materials,3,FALSE)>250,\"OR\",\"RED\"),\"\")))","v":""},{"$f":"IF(A33=\"\",\"\",IFERROR(VLOOKUP(F33,'PDU Circuit'!$B$1:$F$199,IF(VLOOKUP(L33,Materials,3,FALSE)>250,$I$10+3,$I$10+1),FALSE),IF(VLOOKUP(L33,Materials,5,FALSE)>2,IF(VLOOKUP(L33,Materials,3,FALSE)>250,\"YL\",\"BL\"),\"\")))","v":""},null,null,null,"","",null,null,null,null,"",null,"",null,"",null,{"$f":"IF(A33=\"\",\"\",'Voltage Drop'!N20)","v":""},"","",{"$error":"#N/A"},"","GY","G",{"$error":"#N/A"},8,0]
["",null,null,null,null,null,{"$f":"IF(A34=\"\",\"\",IFERROR(VLOOKUP(D34,'PDU Circuit'!$B$1:$F$199,IF(VLOOKUP(L34,Materials,3,FALSE)>250,$I$10+3,$I$10+1),FALSE),IF(VLOOKUP(L34,Materials,4,FALSE)>=1,IF(VLOOKUP(L34,Materials,3,FALSE)>250,\"BR\",\"BK\"))))","v":""},{"$f":"IF(A34=\"\",\"\",IFERROR(VLOOKUP(E34,'PDU Circuit'!$B$1:$F$199,IF(VLOOKUP(L34,Materials,3,FALSE)>250,$I$10+3,$I$10+1),FALSE),IF(VLOOKUP(L34,Materials,5,FALSE)>1,IF(VLOOKUP(L34,Materials,3,FALSE)>250,\"OR\",\"RED\"),\"\")))","v":""},{"$f":"IF(A34=\"\",\"\",IFERROR(VLOOKUP(F34,'PDU Circuit'!$B$1:$F$199,IF(VLOOKUP(L34,Materials,3,FALSE)>250,$I$10+3,$I$10+1),FALSE),IF(VLOOKUP(L34,Materials,5,FALSE)>2,IF(VLOOKUP(L34,Materials,3,FALSE)>250,\"YL\",\"BL\"),\"\")))","v":""},null,null,null,"","",null,null,null,null,"",null,"",null,"",null,{"$f":"IF(A34=\"\",\"\",'Voltage Drop'!N21)","v":""},"","",{"$error":"#N/A"},"","GY","G",{"$error":"#N/A"},8,0]
["",null,null,null,null,null,{"$f":"IF(A35=\"\",\"\",IFERROR(VLOOKUP(D35,'PDU Circuit'!$B$1:$F$199,IF(VLOOKUP(L35,Materials,3,FALSE)>250,$I$10+3,$I$10+1),FALSE),IF(VLOOKUP(L35,Materials,4,FALSE)>=1,IF(VLOOKUP(L35,Materials,3,FALSE)>250,\"BR\",\"BK\"))))","v":""},{"$f":"IF(A35=\"\",\"\",IFERROR(VLOOKUP(E35,'PDU Circuit'!$B$1:$F$199,IF(VLOOKUP(L35,Materials,3,FALSE)>250,$I$10+3,$I$10+1),FALSE),IF(VLOOKUP(L35,Materials,5,FALSE)>1,IF(VLOOKUP(L35,Materials,3,FALSE)>250,\"OR\",\"RED\"),\"\")))","v":""},{"$f":"IF(A35=\"\",\"\",IFERROR(VLOOKUP(F35,'PDU Circuit'!$B$1:$F$199,IF(VLOOKUP(L35,Materials,3,FALSE)>250,$I$10+3,$I$10+1),FALSE),IF(VLOOKUP(L35,Materials,5,FALSE)>2,IF(VLOOKUP(L35,Materials,3,FALSE)>250,\"YL\",\"BL\"),\"\")))","v":""},null,null,null,"","",null,null,null,null,"",null,"",null,"",null,{"$f":"IF(A35=\"\",\"\",'Voltage Drop'!N22)","v":""},"","",{"$error":"#N/A"},"","GY","G",{"$error":"#N/A"},8,0]
["",null,null,null,null,null,{"$f":"IF(A36=\"\",\"\",IFERROR(VLOOKUP(D36,'PDU Circuit'!$B$1:$F$199,IF(VLOOKUP(L36,Materials,3,FALSE)>250,$I$10+3,$I$10+1),FALSE),IF(VLOOKUP(L36,Materials,4,FALSE)>=1,IF(VLOOKUP(L36,Materials,3,FALSE)>250,\"BR\",\"BK\"))))","v":""},{"$f":"IF(A36=\"\",\"\",IFERROR(VLOOKUP(E36,'PDU Circuit'!$B$1:$F$199,IF(VLOOKUP(L36,Materials,3,FALSE)>250,$I$10+3,$I$10+1),FALSE),IF(VLOOKUP(L36,Materials,5,FALSE)>1,IF(VLOOKUP(L36,Materials,3,FALSE)>250,\"OR\",\"RED\"),\"\")))","v":""},{"$f":"IF(A36=\"\",\"\",IFERROR(VLOOKUP(F36,'PDU Circuit'!$B$1:$F$199,IF(VLOOKUP(L36,Materials,3,FALSE)>250,$I$10+3,$I$10+1),FALSE),IF(VLOOKUP(L36,Materials,5,FALSE)>2,IF(VLOOKUP(L36,Materials,3,FALSE)>250,\"YL\",\"BL\"),\"\")))","v":""},null,null,null,"","",null,null,null,null,"",null,"",null,"",null,{"$f":"IF(A36=\"\",\"\",'Voltage Drop'!N23)","v":""},"","",{"$error":"#N/A"},"","GY","G",{"$error":"#N/A"},8,0]
["",null,null,null,null,null,{"$f":"IF(A37=\"\",\"\",IFERROR(VLOOKUP(D37,'PDU Circuit'!$B$1:$F$199,IF(VLOOKUP(L37,Materials,3,FALSE)>250,$I$10+3,$I$10+1),FALSE),IF(VLOOKUP(L37,Materials,4,FALSE)>=1,IF(VLOOKUP(L37,Materials,3,FALSE)>250,\"BR\",\"BK\"))))","v":""},{"$f":"IF(A37=\"\",\"\",IFERROR(VLOOKUP(E37,'PDU Circuit'!$B$1:$F$199,IF(VLOOKUP(L37,Materials,3,FALSE)>250,$I$10+3,$I$10+1),FALSE),IF(VLOOKUP(L37,Materials,5,FALSE)>1,IF(VLOOKUP(L37,Materials,3,FALSE)>250,\"OR\",\"RED\"),\"\")))","v":""},{"$f":"IF(A37=\"\",\"\",IFERROR(VLOOKUP(F37,'PDU Circuit'!$B$1:$F$199,IF(VLOOKUP(L37,Materials,3,FALSE)>250,$I$10+3,$I$10+1),FALSE),IF(VLOOKUP(L37,Materials,5,FALSE)>2,IF(VLOOKUP(L37,Materials,3,FALSE)>250,\"YL\",\"BL\"),\"\")))","v":""},null,null,null,"","",null,null,null,null,"",null,"",null,"",null,{"$f":"IF(A37=\"\",\"\",'Voltage Drop'!N24)","v":""},"","",{"$error":"#N/A"},"","GY","G",{"$error":"#N/A"},8,0]
["",null,null,null,null,null,{"$f":"IF(A38=\"\",\"\",IFERROR(VLOOKUP(D38,'PDU Circuit'!$B$1:$F$199,IF(VLOOKUP(L38,Materials,3,FALSE)>250,$I$10+3,$I$10+1),FALSE),IF(VLOOKUP(L38,Materials,4,FALSE)>=1,IF(VLOOKUP(L38,Materials,3,FALSE)>250,\"BR\",\"BK\"))))","v":""},{"$f":"IF(A38=\"\",\"\",IFERROR(VLOOKUP(E38,'PDU Circuit'!$B$1:$F$199,IF(VLOOKUP(L38,Materials,3,FALSE)>250,$I$10+3,$I$10+1),FALSE),IF(VLOOKUP(L38,Materials,5,FALSE)>1,IF(VLOOKUP(L38,Materials,3,FALSE)>250,\"OR\",\"RED\"),\"\")))","v":""},{"$f":"IF(A38=\"\",\"\",IFERROR(VLOOKUP(F38,'PDU Circuit'!$B$1:$F$199,IF(VLOOKUP(L38,Materials,3,FALSE)>250,$I$10+3,$I$10+1),FALSE),IF(VLOOKUP(L38,Materials,5,FALSE)>2,IF(VLOOKUP(L38,Materials,3,FALSE)>250,\"YL\",\"BL\"),\"\")))","v":""},null,null,null,"","",null,null,null,null,"",null,"",null,"",null,{"$f":"IF(A38=\"\",\"\",'Voltage Drop'!N25)","v":""},"","",{"$error":"#N/A"},"","GY","G",{"$error":"#N/A"},8,0]
["",null,null,null,null,null,{"$f":"IF(A39=\"\",\"\",IFERROR(VLOOKUP(D39,'PDU Circuit'!$B$1:$F$199,IF(VLOOKUP(L39,Materials,3,FALSE)>250,$I$10+3,$I$10+1),FALSE),IF(VLOOKUP(L39,Materials,4,FALSE)>=1,IF(VLOOKUP(L39,Materials,3,FALSE)>250,\"BR\",\"BK\"))))","v":""},{"$f":"IF(A39=\"\",\"\",IFERROR(VLOOKUP(E39,'PDU Circuit'!$B$1:$F$199,IF(VLOOKUP(L39,Materials,3,FALSE)>250,$I$10+3,$I$10+1),FALSE),IF(VLOOKUP(L39,Materials,5,FALSE)>1,IF(VLOOKUP(L39,Materials,3,FALSE)>250,\"OR\",\"RED\"),\"\")))","v":""},{"$f":"IF(A39=\"\",\"\",IFERROR(VLOOKUP(F39,'PDU Circuit'!$B$1:$F$199,IF(VLOOKUP(L39,Materials,3,FALSE)>250,$I$10+3,$I$10+1),FALSE),IF(VLOOKUP(L39,Materials,5,FALSE)>2,IF(VLOOKUP(L39,Materials,3,FALSE)>250,\"YL\",\"BL\"),\"\")))","v":""},null,null,null,"","",null,null,null,null,"",null,"",null,"",null,{"$f":"IF(A39=\"\",\"\",'Voltage Drop'!N26)","v":""},"","",{"$error":"#N/A"},"","GY","G",{"$error":"#N/A"},8,0]
["",null,null,null,null,null,{"$f":"IF(A40=\"\",\"\",IFERROR(VLOOKUP(D40,'PDU Circuit'!$B$1:$F$199,IF(VLOOKUP(L40,Materials,3,FALSE)>250,$I$10+3,$I$10+1),FALSE),IF(VLOOKUP(L40,Materials,4,FALSE)>=1,IF(VLOOKUP(L40,Materials,3,FALSE)>250,\"BR\",\"BK\"))))","v":""},{"$f":"IF(A40=\"\",\"\",IFERROR(VLOOKUP(E40,'PDU Circuit'!$B$1:$F$199,IF(VLOOKUP(L40,Materials,3,FALSE)>250,$I$10+3,$I$10+1),FALSE),IF(VLOOKUP(L40,Materials,5,FALSE)>1,IF(VLOOKUP(L40,Materials,3,FALSE)>250,\"OR\",\"RED\"),\"\")))","v":""},{"$f":"IF(A40=\"\",\"\",IFERROR(VLOOKUP(F40,'PDU Circuit'!$B$1:$F$199,IF(VLOOKUP(L40,Materials,3,FALSE)>250,$I$10+3,$I$10+1),FALSE),IF(VLOOKUP(L40,Materials,5,FALSE)>2,IF(VLOOKUP(L40,Materials,3,FALSE)>250,\"YL\",\"BL\"),\"\")))","v":""},null,null,null,"","",null,null,null,null,"",null,"",null,"",null,{"$f":"IF(A40=\"\",\"\",'Voltage Drop'!N27)","v":""},"","",{"$error":"#N/A"},"","GY","G",{"$error":"#N/A"},8,0]
["",null,null,null,null,null,{"$f":"IF(A41=\"\",\"\",IFERROR(VLOOKUP(D41,'PDU Circuit'!$B$1:$F$199,IF(VLOOKUP(L41,Materials,3,FALSE)>250,$I$10+3,$I$10+1),FALSE),IF(VLOOKUP(L41,Materials,4,FALSE)>=1,IF(VLOOKUP(L41,Materials,3,FALSE)>250,\"BR\",\"BK\"))))","v":""},{"$f":"IF(A41=\"\",\"\",IFERROR(VLOOKUP(E41,'PDU Circuit'!$B$1:$F$199,IF(VLOOKUP(L41,Materials,3,FALSE)>250,$I$10+3,$I$10+1),FALSE),IF(VLOOKUP(L41,Materials,5,FALSE)>1,IF(VLOOKUP(L41,Materials,3,FALSE)>250,\"OR\",\"RED\"),\"\")))","v":""},{"$f":"IF(A41=\"\",\"\",IFERROR(VLOOKUP(F41,'PDU Circuit'!$B$1:$F$199,IF(VLOOKUP(L41,Materials,3,FALSE)>250,$I$10+3,$I$10+1),FALSE),IF(VLOOKUP(L41,Materials,5,FALSE)>2,IF(VLOOKUP(L41,Materials,3,FALSE)>250,\"YL\",\"BL\"),\"\")))","v":""},null,null,null,"","",null,null,null,null,"",null,"",null,"",null,{"$f":"IF(A41=\"\",\"\",'Voltage Drop'!N28)","v":""},"","",{"$error":"#N/A"},"","GY","G",{"$error":"#N/A"},8,0]
["",null,null,null,null,null,{"$f":"IF(A42=\"\",\"\",IFERROR(VLOOKUP(D42,'PDU Circuit'!$B$1:$F$199,IF(VLOOKUP(L42,Materials,3,FALSE)>250,$I$10+3,$I$10+1),FALSE),IF(VLOOKUP(L42,Materials,4,FALSE)>=1,IF(VLOOKUP(L42,Materials,3,FALSE)>250,\"BR\",\"BK\"))))","v":""},{"$f":"IF(A42=\"\",\"\",IFERROR(VLOOKUP(E42,'PDU Circuit'!$B$1:$F$199,IF(VLOOKUP(L42,Materials,3,FALSE)>250,$I$10+3,$I$10+1),FALSE),IF(VLOOKUP(L42,Materials,5,FALSE)>1,IF(VLOOKUP(L42,Materials,3,FALSE)>250,\"OR\",\"RED\"),\"\")))","v":""},{"$f":"IF(A42=\"\",\"\",IFERROR(VLOOKUP(F42,'PDU Circuit'!$B$1:$F$199,IF(VLOOKUP(L42,Materials,3,FALSE)>250,$I$10+3,$I$10+1),FALSE),IF(VLOOKUP(L42,Materials,5,FALSE)>2,IF(VLOOKUP(L42,Materials,3,FALSE)>250,\"YL\",\"BL\"),\"\")))","v":""},null,null,null,"","",null,null,null,null,"",null,"",null,"",null,{"$f":"IF(A42=\"\",\"\",'Voltage Drop'!N29)","v":""},"","",{"$error":"#N/A"},"","GY","G",{"$error":"#N/A"},8,0]
["",null,null,null,null,null,{"$f":"IF(A43=\"\",\"\",IFERROR(VLOOKUP(D43,'PDU Circuit'!$B$1:$F$199,IF(VLOOKUP(L43,Materials,3,FALSE)>250,$I$10+3,$I$10+1),FALSE),IF(VLOOKUP(L43,Materials,4,FALSE)>=1,IF(VLOOKUP(L43,Materials,3,FALSE)>250,\"BR\",\"BK\"))))","v":""},{"$f":"IF(A43=\"\",\"\",IFERROR(VLOOKUP(E43,'PDU Circuit'!$B$1:$F$199,IF(VLOOKUP(L43,Materials,3,FALSE)>250,$I$10+3,$I$10+1),FALSE),IF(VLOOKUP(L43,Materials,5,FALSE)>1,IF(VLOOKUP(L43,Materials,3,FALSE)>250,\"OR\",\"RED\"),\"\")))","v":""},{"$f":"IF(A43=\"\",\"\",IFERROR(VLOOKUP(F43,'PDU Circuit'!$B$1:$F$199,IF(VLOOKUP(L43,Materials,3,FALSE)>250,$I$10+3,$I$10+1),FALSE),IF(VLOOKUP(L43,Materials,5,FALSE)>2,IF(VLOOKUP(L43,Materials,3,FALSE)>250,\"YL\",\"BL\"),\"\")))","v":""},null,null,null,"","",null,null,null,null,"",null,"",null,"",null,{"$f":"IF(A43=\"\",\"\",'Voltage Drop'!N30)","v":""},"","",{"$error":"#N/A"},"","GY","G",{"$error":"#N/A"},8,0]
["",null,null,null,null,null,{"$f":"IF(A44=\"\",\"\",IFERROR(VLOOKUP(D44,'PDU Circuit'!$B$1:$F$199,IF(VLOOKUP(L44,Materials,3,FALSE)>250,$I$10+3,$I$10+1),FALSE),IF(VLOOKUP(L44,Materials,4,FALSE)>=1,IF(VLOOKUP(L44,Materials,3,FALSE)>250,\"BR\",\"BK\"))))","v":""},{"$f":"IF(A44=\"\",\"\",IFERROR(VLOOKUP(E44,'PDU Circuit'!$B$1:$F$199,IF(VLOOKUP(L44,Materials,3,FALSE)>250,$I$10+3,$I$10+1),FALSE),IF(VLOOKUP(L44,Materials,5,FALSE)>1,IF(VLOOKUP(L44,Materials,3,FALSE)>250,\"OR\",\"RED\"),\"\")))","v":""},{"$f":"IF(A44=\"\",\"\",IFERROR(VLOOKUP(F44,'PDU Circuit'!$B$1:$F$199,IF(VLOOKUP(L44,Materials,3,FALSE)>250,$I$10+3,$I$10+1),FALSE),IF(VLOOKUP(L44,Materials,5,FALSE)>2,IF(VLOOKUP(L44,Materials,3,FALSE)>250,\"YL\",\"BL\"),\"\")))","v":""},null,null,null,"","",null,null,null,null,"",null,"",null,"",null,{"$f":"IF(A44=\"\",\"\",'Voltage Drop'!N31)","v":""},"","",{"$error":"#N/A"},"","GY","G",{"$error":"#N/A"},8,0]
["",null,null,null,null,null,{"$f":"IF(A45=\"\",\"\",IFERROR(VLOOKUP(D45,'PDU Circuit'!$B$1:$F$199,IF(VLOOKUP(L45,Materials,3,FALSE)>250,$I$10+3,$I$10+1),FALSE),IF(VLOOKUP(L45,Materials,4,FALSE)>=1,IF(VLOOKUP(L45,Materials,3,FALSE)>250,\"BR\",\"BK\"))))","v":""},{"$f":"IF(A45=\"\",\"\",IFERROR(VLOOKUP(E45,'PDU Circuit'!$B$1:$F$199,IF(VLOOKUP(L45,Materials,3,FALSE)>250,$I$10+3,$I$10+1),FALSE),IF(VLOOKUP(L45,Materials,5,FALSE)>1,IF(VLOOKUP(L45,Materials,3,FALSE)>250,\"OR\",\"RED\"),\"\")))","v":""},{"$f":"IF(A45=\"\",\"\",IFERROR(VLOOKUP(F45,'PDU Circuit'!$B$1:$F$199,IF(VLOOKUP(L45,Materials,3,FALSE)>250,$I$10+3,$I$10+1),FALSE),IF(VLOOKUP(L45,Materials,5,FALSE)>2,IF(VLOOKUP(L45,Materials,3,FALSE)>250,\"YL\",\"BL\"),\"\")))","v":""},null,null,null,"","",null,null,null,null,"",null,"",null,"",null,{"$f":"IF(A45=\"\",\"\",'Voltage Drop'!N32)","v":""},"","",{"$error":"#N/A"},"","GY","G",{"$error":"#N/A"},8,0]
["",null,null,null,null,null,{"$f":"IF(A46=\"\",\"\",IFERROR(VLOOKUP(D46,'PDU Circuit'!$B$1:$F$199,IF(VLOOKUP(L46,Materials,3,FALSE)>250,$I$10+3,$I$10+1),FALSE),IF(VLOOKUP(L46,Materials,4,FALSE)>=1,IF(VLOOKUP(L46,Materials,3,FALSE)>250,\"BR\",\"BK\"))))","v":""},{"$f":"IF(A46=\"\",\"\",IFERROR(VLOOKUP(E46,'PDU Circuit'!$B$1:$F$199,IF(VLOOKUP(L46,Materials,3,FALSE)>250,$I$10+3,$I$10+1),FALSE),IF(VLOOKUP(L46,Materials,5,FALSE)>1,IF(VLOOKUP(L46,Materials,3,FALSE)>250,\"OR\",\"RED\"),\"\")))","v":""},{"$f":"IF(A46=\"\",\"\",IFERROR(VLOOKUP(F46,'PDU Circuit'!$B$1:$F$199,IF(VLOOKUP(L46,Materials,3,FALSE)>250,$I$10+3,$I$10+1),FALSE),IF(VLOOKUP(L46,Materials,5,FALSE)>2,IF(VLOOKUP(L46,Materials,3,FALSE)>250,\"YL\",\"BL\"),\"\")))","v":""},null,null,null,"","",null,null,null,null,"",null,"",null,"",null,{"$f":"IF(A46=\"\",\"\",'Voltage Drop'!N33)","v":""},"","",{"$error":"#N/A"},"","GY","G",{"$error":"#N/A"},8,0]
["",null,null,null,null,null,{"$f":"IF(A47=\"\",\"\",IFERROR(VLOOKUP(D47,'PDU Circuit'!$B$1:$F$199,IF(VLOOKUP(L47,Materials,3,FALSE)>250,$I$10+3,$I$10+1),FALSE),IF(VLOOKUP(L47,Materials,4,FALSE)>=1,IF(VLOOKUP(L47,Materials,3,FALSE)>250,\"BR\",\"BK\"))))","v":""},{"$f":"IF(A47=\"\",\"\",IFERROR(VLOOKUP(E47,'PDU Circuit'!$B$1:$F$199,IF(VLOOKUP(L47,Materials,3,FALSE)>250,$I$10+3,$I$10+1),FALSE),IF(VLOOKUP(L47,Materials,5,FALSE)>1,IF(VLOOKUP(L47,Materials,3,FALSE)>250,\"OR\",\"RED\"),\"\")))","v":""},{"$f":"IF(A47=\"\",\"\",IFERROR(VLOOKUP(F47,'PDU Circuit'!$B$1:$F$199,IF(VLOOKUP(L47,Materials,3,FALSE)>250,$I$10+3,$I$10+1),FALSE),IF(VLOOKUP(L47,Materials,5,FALSE)>2,IF(VLOOKUP(L47,Materials,3,FALSE)>250,\"YL\",\"BL\"),\"\")))","v":""},null,null,null,"","",null,null,null,null,"",null,"",null,"",null,{"$f":"IF(A47=\"\",\"\",'Voltage Drop'!N34)","v":""},"","",{"$error":"#N/A"},"","GY","G",{"$error":"#N/A"},8,0]
["",null,null,null,null,null,{"$f":"IF(A48=\"\",\"\",IFERROR(VLOOKUP(D48,'PDU Circuit'!$B$1:$F$199,IF(VLOOKUP(L48,Materials,3,FALSE)>250,$I$10+3,$I$10+1),FALSE),IF(VLOOKUP(L48,Materials,4,FALSE)>=1,IF(VLOOKUP(L48,Materials,3,FALSE)>250,\"BR\",\"BK\"))))","v":""},{"$f":"IF(A48=\"\",\"\",IFERROR(VLOOKUP(E48,'PDU Circuit'!$B$1:$F$199,IF(VLOOKUP(L48,Materials,3,FALSE)>250,$I$10+3,$I$10+1),FALSE),IF(VLOOKUP(L48,Materials,5,FALSE)>1,IF(VLOOKUP(L48,Materials,3,FALSE)>250,\"OR\",\"RED\"),\"\")))","v":""},{"$f":"IF(A48=\"\",\"\",IFERROR(VLOOKUP(F48,'PDU Circuit'!$B$1:$F$199,IF(VLOOKUP(L48,Materials,3,FALSE)>250,$I$10+3,$I$10+1),FALSE),IF(VLOOKUP(L48,Materials,5,FALSE)>2,IF(VLOOKUP(L48,Materials,3,FALSE)>250,\"YL\",\"BL\"),\"\")))","v":""},null,null,null,"","",null,null,null,null,"",null,"",null,"",null,{"$f":"IF(A48=\"\",\"\",'Voltage Drop'!N35)","v":""},"","",{"$error":"#N/A"},"","GY","G",{"$error":"#N/A"},8,0]
["",null,null,null,null,null,{"$f":"IF(A49=\"\",\"\",IFERROR(VLOOKUP(D49,'PDU Circuit'!$B$1:$F$199,IF(VLOOKUP(L49,Materials,3,FALSE)>250,$I$10+3,$I$10+1),FALSE),IF(VLOOKUP(L49,Materials,4,FALSE)>=1,IF(VLOOKUP(L49,Materials,3,FALSE)>250,\"BR\",\"BK\"))))","v":""},{"$f":"IF(A49=\"\",\"\",IFERROR(VLOOKUP(E49,'PDU Circuit'!$B$1:$F$199,IF(VLOOKUP(L49,Materials,3,FALSE)>250,$I$10+3,$I$10+1),FALSE),IF(VLOOKUP(L49,Materials,5,FALSE)>1,IF(VLOOKUP(L49,Materials,3,FALSE)>250,\"OR\",\"RED\"),\"\")))","v":""},{"$f":"IF(A49=\"\",\"\",IFERROR(VLOOKUP(F49,'PDU Circuit'!$B$1:$F$199,IF(VLOOKUP(L49,Materials,3,FALSE)>250,$I$10+3,$I$10+1),FALSE),IF(VLOOKUP(L49,Materials,5,FALSE)>2,IF(VLOOKUP(L49,Materials,3,FALSE)>250,\"YL\",\"BL\"),\"\")))","v":""},null,null,null,"","",null,null,null,null,"",null,"",null,"",null,{"$f":"IF(A49=\"\",\"\",'Voltage Drop'!N36)","v":""},"","",{"$error":"#N/A"},"","GY","G",{"$error":"#N/A"},8,0]
["",null,null,null,null,null,{"$f":"IF(A50=\"\",\"\",IFERROR(VLOOKUP(D50,'PDU Circuit'!$B$1:$F$199,IF(VLOOKUP(L50,Materials,3,FALSE)>250,$I$10+3,$I$10+1),FALSE),IF(VLOOKUP(L50,Materials,4,FALSE)>=1,IF(VLOOKUP(L50,Materials,3,FALSE)>250,\"BR\",\"BK\"))))","v":""},{"$f":"IF(A50=\"\",\"\",IFERROR(VLOOKUP(E50,'PDU Circuit'!$B$1:$F$199,IF(VLOOKUP(L50,Materials,3,FALSE)>250,$I$10+3,$I$10+1),FALSE),IF(VLOOKUP(L50,Materials,5,FALSE)>1,IF(VLOOKUP(L50,Materials,3,FALSE)>250,\"OR\",\"RED\"),\"\")))","v":""},{"$f":"IF(A50=\"\",\"\",IFERROR(VLOOKUP(F50,'PDU Circuit'!$B$1:$F$199,IF(VLOOKUP(L50,Materials,3,FALSE)>250,$I$10+3,$I$10+1),FALSE),IF(VLOOKUP(L50,Materials,5,FALSE)>2,IF(VLOOKUP(L50,Materials,3,FALSE)>250,\"YL\",\"BL\"),\"\")))","v":""},null,null,null,"","",null,null,null,null,"",null,"",null,"",null,{"$f":"IF(A50=\"\",\"\",'Voltage Drop'!N37)","v":""},"","",{"$error":"#N/A"},"","GY","G",{"$error":"#N/A"},8,0]
["",null,null,null,null,null,{"$f":"IF(A51=\"\",\"\",IFERROR(VLOOKUP(D51,'PDU Circuit'!$B$1:$F$199,IF(VLOOKUP(L51,Materials,3,FALSE)>250,$I$10+3,$I$10+1),FALSE),IF(VLOOKUP(L51,Materials,4,FALSE)>=1,IF(VLOOKUP(L51,Materials,3,FALSE)>250,\"BR\",\"BK\"))))","v":""},{"$f":"IF(A51=\"\",\"\",IFERROR(VLOOKUP(E51,'PDU Circuit'!$B$1:$F$199,IF(VLOOKUP(L51,Materials,3,FALSE)>250,$I$10+3,$I$10+1),FALSE),IF(VLOOKUP(L51,Materials,5,FALSE)>1,IF(VLOOKUP(L51,Materials,3,FALSE)>250,\"OR\",\"RED\"),\"\")))","v":""},{"$f":"IF(A51=\"\",\"\",IFERROR(VLOOKUP(F51,'PDU Circuit'!$B$1:$F$199,IF(VLOOKUP(L51,Materials,3,FALSE)>250,$I$10+3,$I$10+1),FALSE),IF(VLOOKUP(L51,Materials,5,FALSE)>2,IF(VLOOKUP(L51,Materials,3,FALSE)>250,\"YL\",\"BL\"),\"\")))","v":""},null,null,null,"","",null,null,null,null,"",null,"",null,"",null,{"$f":"IF(A51=\"\",\"\",'Voltage Drop'!N38)","v":""},"","",{"$error":"#N/A"},"","GY","G",{"$error":"#N/A"},8,0]
["",null,null,null,null,null,{"$f":"IF(A52=\"\",\"\",IFERROR(VLOOKUP(D52,'PDU Circuit'!$B$1:$F$199,IF(VLOOKUP(L52,Materials,3,FALSE)>250,$I$10+3,$I$10+1),FALSE),IF(VLOOKUP(L52,Materials,4,FALSE)>=1,IF(VLOOKUP(L52,Materials,3,FALSE)>250,\"BR\",\"BK\"))))","v":""},{"$f":"IF(A52=\"\",\"\",IFERROR(VLOOKUP(E52,'PDU Circuit'!$B$1:$F$199,IF(VLOOKUP(L52,Materials,3,FALSE)>250,$I$10+3,$I$10+1),FALSE),IF(VLOOKUP(L52,Materials,5,FALSE)>1,IF(VLOOKUP(L52,Materials,3,FALSE)>250,\"OR\",\"RED\"),\"\")))","v":""},{"$f":"IF(A52=\"\",\"\",IFERROR(VLOOKUP(F52,'PDU Circuit'!$B$1:$F$199,IF(VLOOKUP(L52,Materials,3,FALSE)>250,$I$10+3,$I$10+1),FALSE),IF(VLOOKUP(L52,Materials,5,FALSE)>2,IF(VLOOKUP(L52,Materials,3,FALSE)>250,\"YL\",\"BL\"),\"\")))","v":""},null,null,null,"","",null,null,null,null,"",null,"",null,"",null,{"$f":"IF(A52=\"\",\"\",'Voltage Drop'!N39)","v":""},"","",{"$error":"#N/A"},"","GY","G",{"$error":"#N/A"},8,0]
["",null,null,null,null,null,{"$f":"IF(A53=\"\",\"\",IFERROR(VLOOKUP(D53,'PDU Circuit'!$B$1:$F$199,IF(VLOOKUP(L53,Materials,3,FALSE)>250,$I$10+3,$I$10+1),FALSE),IF(VLOOKUP(L53,Materials,4,FALSE)>=1,IF(VLOOKUP(L53,Materials,3,FALSE)>250,\"BR\",\"BK\"))))","v":""},{"$f":"IF(A53=\"\",\"\",IFERROR(VLOOKUP(E53,'PDU Circuit'!$B$1:$F$199,IF(VLOOKUP(L53,Materials,3,FALSE)>250,$I$10+3,$I$10+1),FALSE),IF(VLOOKUP(L53,Materials,5,FALSE)>1,IF(VLOOKUP(L53,Materials,3,FALSE)>250,\"OR\",\"RED\"),\"\")))","v":""},{"$f":"IF(A53=\"\",\"\",IFERROR(VLOOKUP(F53,'PDU Circuit'!$B$1:$F$199,IF(VLOOKUP(L53,Materials,3,FALSE)>250,$I$10+3,$I$10+1),FALSE),IF(VLOOKUP(L53,Materials,5,FALSE)>2,IF(VLOOKUP(L53,Materials,3,FALSE)>250,\"YL\",\"BL\"),\"\")))","v":""},null,null,null,"","",null,null,null,null,"",null,"",null,"",null,{"$f":"IF(A53=\"\",\"\",'Voltage Drop'!N40)","v":""},"","",{"$error":"#N/A"},"","GY","G",{"$error":"#N/A"},8,0]
["",null,null,null,null,null,{"$f":"IF(A54=\"\",\"\",IFERROR(VLOOKUP(D54,'PDU Circuit'!$B$1:$F$199,IF(VLOOKUP(L54,Materials,3,FALSE)>250,$I$10+3,$I$10+1),FALSE),IF(VLOOKUP(L54,Materials,4,FALSE)>=1,IF(VLOOKUP(L54,Materials,3,FALSE)>250,\"BR\",\"BK\"))))","v":""},{"$f":"IF(A54=\"\",\"\",IFERROR(VLOOKUP(E54,'PDU Circuit'!$B$1:$F$199,IF(VLOOKUP(L54,Materials,3,FALSE)>250,$I$10+3,$I$10+1),FALSE),IF(VLOOKUP(L54,Materials,5,FALSE)>1,IF(VLOOKUP(L54,Materials,3,FALSE)>250,\"OR\",\"RED\"),\"\")))","v":""},{"$f":"IF(A54=\"\",\"\",IFERROR(VLOOKUP(F54,'PDU Circuit'!$B$1:$F$199,IF(VLOOKUP(L54,Materials,3,FALSE)>250,$I$10+3,$I$10+1),FALSE),IF(VLOOKUP(L54,Materials,5,FALSE)>2,IF(VLOOKUP(L54,Materials,3,FALSE)>250,\"YL\",\"BL\"),\"\")))","v":""},null,null,null,"","",null,null,null,null,"",null,"",null,"",null,{"$f":"IF(A54=\"\",\"\",'Voltage Drop'!N41)","v":""},"","",{"$error":"#N/A"},"","GY","G",{"$error":"#N/A"},8,0]
["",null,null,null,null,null,{"$f":"IF(A55=\"\",\"\",IFERROR(VLOOKUP(D55,'PDU Circuit'!$B$1:$F$199,IF(VLOOKUP(L55,Materials,3,FALSE)>250,$I$10+3,$I$10+1),FALSE),IF(VLOOKUP(L55,Materials,4,FALSE)>=1,IF(VLOOKUP(L55,Materials,3,FALSE)>250,\"BR\",\"BK\"))))","v":""},{"$f":"IF(A55=\"\",\"\",IFERROR(VLOOKUP(E55,'PDU Circuit'!$B$1:$F$199,IF(VLOOKUP(L55,Materials,3,FALSE)>250,$I$10+3,$I$10+1),FALSE),IF(VLOOKUP(L55,Materials,5,FALSE)>1,IF(VLOOKUP(L55,Materials,3,FALSE)>250,\"OR\",\"RED\"),\"\")))","v":""},{"$f":"IF(A55=\"\",\"\",IFERROR(VLOOKUP(F55,'PDU Circuit'!$B$1:$F$199,IF(VLOOKUP(L55,Materials,3,FALSE)>250,$I$10+3,$I$10+1),FALSE),IF(VLOOKUP(L55,Materials,5,FALSE)>2,IF(VLOOKUP(L55,Materials,3,FALSE)>250,\"YL\",\"BL\"),\"\")))","v":""},null,null,null,"","",null,null,null,null,"",null,"",null,"",null,{"$f":"IF(A55=\"\",\"\",'Voltage Drop'!N42)","v":""},"","",{"$error":"#N/A"},"","GY","G",{"$error":"#N/A"},8,0]
["",null,null,null,null,null,{"$f":"IF(A56=\"\",\"\",IFERROR(VLOOKUP(D56,'PDU Circuit'!$B$1:$F$199,IF(VLOOKUP(L56,Materials,3,FALSE)>250,$I$10+3,$I$10+1),FALSE),IF(VLOOKUP(L56,Materials,4,FALSE)>=1,IF(VLOOKUP(L56,Materials,3,FALSE)>250,\"BR\",\"BK\"))))","v":""},{"$f":"IF(A56=\"\",\"\",IFERROR(VLOOKUP(E56,'PDU Circuit'!$B$1:$F$199,IF(VLOOKUP(L56,Materials,3,FALSE)>250,$I$10+3,$I$10+1),FALSE),IF(VLOOKUP(L56,Materials,5,FALSE)>1,IF(VLOOKUP(L56,Materials,3,FALSE)>250,\"OR\",\"RED\"),\"\")))","v":""},{"$f":"IF(A56=\"\",\"\",IFERROR(VLOOKUP(F56,'PDU Circuit'!$B$1:$F$199,IF(VLOOKUP(L56,Materials,3,FALSE)>250,$I$10+3,$I$10+1),FALSE),IF(VLOOKUP(L56,Materials,5,FALSE)>2,IF(VLOOKUP(L56,Materials,3,FALSE)>250,\"YL\",\"BL\"),\"\")))","v":""},null,null,null,"","",null,null,null,null,"",null,"",null,"",null,{"$f":"IF(A56=\"\",\"\",'Voltage Drop'!N43)","v":""},"","",{"$error":"#N/A"},"","GY","G",{"$error":"#N/A"},8,0]
["",null,null,null,null,null,{"$f":"IF(A57=\"\",\"\",IFERROR(VLOOKUP(D57,'PDU Circuit'!$B$1:$F$199,IF(VLOOKUP(L57,Materials,3,FALSE)>250,$I$10+3,$I$10+1),FALSE),IF(VLOOKUP(L57,Materials,4,FALSE)>=1,IF(VLOOKUP(L57,Materials,3,FALSE)>250,\"BR\",\"BK\"))))","v":""},{"$f":"IF(A57=\"\",\"\",IFERROR(VLOOKUP(E57,'PDU Circuit'!$B$1:$F$199,IF(VLOOKUP(L57,Materials,3,FALSE)>250,$I$10+3,$I$10+1),FALSE),IF(VLOOKUP(L57,Materials,5,FALSE)>1,IF(VLOOKUP(L57,Materials,3,FALSE)>250,\"OR\",\"RED\"),\"\")))","v":""},{"$f":"IF(A57=\"\",\"\",IFERROR(VLOOKUP(F57,'PDU Circuit'!$B$1:$F$199,IF(VLOOKUP(L57,Materials,3,FALSE)>250,$I$10+3,$I$10+1),FALSE),IF(VLOOKUP(L57,Materials,5,FALSE)>2,IF(VLOOKUP(L57,Materials,3,FALSE)>250,\"YL\",\"BL\"),\"\")))","v":""},null,null,null,"","",null,null,null,null,"",null,"",null,"",null,{"$f":"IF(A57=\"\",\"\",'Voltage Drop'!N44)","v":""},"","",{"$error":"#N/A"},"","GY","G",{"$error":"#N/A"},8,0]
["",null,null,null,null,null,{"$f":"IF(A58=\"\",\"\",IFERROR(VLOOKUP(D58,'PDU Circuit'!$B$1:$F$199,IF(VLOOKUP(L58,Materials,3,FALSE)>250,$I$10+3,$I$10+1),FALSE),IF(VLOOKUP(L58,Materials,4,FALSE)>=1,IF(VLOOKUP(L58,Materials,3,FALSE)>250,\"BR\",\"BK\"))))","v":""},{"$f":"IF(A58=\"\",\"\",IFERROR(VLOOKUP(E58,'PDU Circuit'!$B$1:$F$199,IF(VLOOKUP(L58,Materials,3,FALSE)>250,$I$10+3,$I$10+1),FALSE),IF(VLOOKUP(L58,Materials,5,FALSE)>1,IF(VLOOKUP(L58,Materials,3,FALSE)>250,\"OR\",\"RED\"),\"\")))","v":""},{"$f":"IF(A58=\"\",\"\",IFERROR(VLOOKUP(F58,'PDU Circuit'!$B$1:$F$199,IF(VLOOKUP(L58,Materials,3,FALSE)>250,$I$10+3,$I$10+1),FALSE),IF(VLOOKUP(L58,Materials,5,FALSE)>2,IF(VLOOKUP(L58,Materials,3,FALSE)>250,\"YL\",\"BL\"),\"\")))","v":""},null,null,null,"","",null,null,null,null,"",null,"",null,"",null,{"$f":"IF(A58=\"\",\"\",'Voltage Drop'!N45)","v":""},"","",{"$error":"#N/A"},"","GY","G",{"$error":"#N/A"},8,0]
["",null,null,null,null,null,{"$f":"IF(A59=\"\",\"\",IFERROR(VLOOKUP(D59,'PDU Circuit'!$B$1:$F$199,IF(VLOOKUP(L59,Materials,3,FALSE)>250,$I$10+3,$I$10+1),FALSE),IF(VLOOKUP(L59,Materials,4,FALSE)>=1,IF(VLOOKUP(L59,Materials,3,FALSE)>250,\"BR\",\"BK\"))))","v":""},{"$f":"IF(A59=\"\",\"\",IFERROR(VLOOKUP(E59,'PDU Circuit'!$B$1:$F$199,IF(VLOOKUP(L59,Materials,3,FALSE)>250,$I$10+3,$I$10+1),FALSE),IF(VLOOKUP(L59,Materials,5,FALSE)>1,IF(VLOOKUP(L59,Materials,3,FALSE)>250,\"OR\",\"RED\"),\"\")))","v":""},{"$f":"IF(A59=\"\",\"\",IFERROR(VLOOKUP(F59,'PDU Circuit'!$B$1:$F$199,IF(VLOOKUP(L59,Materials,3,FALSE)>250,$I$10+3,$I$10+1),FALSE),IF(VLOOKUP(L59,Materials,5,FALSE)>2,IF(VLOOKUP(L59,Materials,3,FALSE)>250,\"YL\",\"BL\"),\"\")))","v":""},null,null,null,"","",null,null,null,null,"",null,"",null,"",null,{"$f":"IF(A59=\"\",\"\",'Voltage Drop'!N46)","v":""},"","",{"$error":"#N/A"},"","GY","G",{"$error":"#N/A"},8,0]
["",null,null,null,null,null,{"$f":"IF(A60=\"\",\"\",IFERROR(VLOOKUP(D60,'PDU Circuit'!$B$1:$F$199,IF(VLOOKUP(L60,Materials,3,FALSE)>250,$I$10+3,$I$10+1),FALSE),IF(VLOOKUP(L60,Materials,4,FALSE)>=1,IF(VLOOKUP(L60,Materials,3,FALSE)>250,\"BR\",\"BK\"))))","v":""},{"$f":"IF(A60=\"\",\"\",IFERROR(VLOOKUP(E60,'PDU Circuit'!$B$1:$F$199,IF(VLOOKUP(L60,Materials,3,FALSE)>250,$I$10+3,$I$10+1),FALSE),IF(VLOOKUP(L60,Materials,5,FALSE)>1,IF(VLOOKUP(L60,Materials,3,FALSE)>250,\"OR\",\"RED\"),\"\")))","v":""},{"$f":"IF(A60=\"\",\"\",IFERROR(VLOOKUP(F60,'PDU Circuit'!$B$1:$F$199,IF(VLOOKUP(L60,Materials,3,FALSE)>250,$I$10+3,$I$10+1),FALSE),IF(VLOOKUP(L60,Materials,5,FALSE)>2,IF(VLOOKUP(L60,Materials,3,FALSE)>250,\"YL\",\"BL\"),\"\")))","v":""},null,null,null,"","",null,null,null,null,"",null,"",null,"",null,{"$f":"IF(A60=\"\",\"\",'Voltage Drop'!N47)","v":""},"","",{"$error":"#N/A"},"","GY","G",{"$error":"#N/A"},8,0]
["",null,null,null,null,null,{"$f":"IF(A61=\"\",\"\",IFERROR(VLOOKUP(D61,'PDU Circuit'!$B$1:$F$199,IF(VLOOKUP(L61,Materials,3,FALSE)>250,$I$10+3,$I$10+1),FALSE),IF(VLOOKUP(L61,Materials,4,FALSE)>=1,IF(VLOOKUP(L61,Materials,3,FALSE)>250,\"BR\",\"BK\"))))","v":""},{"$f":"IF(A61=\"\",\"\",IFERROR(VLOOKUP(E61,'PDU Circuit'!$B$1:$F$199,IF(VLOOKUP(L61,Materials,3,FALSE)>250,$I$10+3,$I$10+1),FALSE),IF(VLOOKUP(L61,Materials,5,FALSE)>1,IF(VLOOKUP(L61,Materials,3,FALSE)>250,\"OR\",\"RED\"),\"\")))","v":""},{"$f":"IF(A61=\"\",\"\",IFERROR(VLOOKUP(F61,'PDU Circuit'!$B$1:$F$199,IF(VLOOKUP(L61,Materials,3,FALSE)>250,$I$10+3,$I$10+1),FALSE),IF(VLOOKUP(L61,Materials,5,FALSE)>2,IF(VLOOKUP(L61,Materials,3,FALSE)>250,\"YL\",\"BL\"),\"\")))","v":""},null,null,null,"","",null,null,null,null,"",null,"",null,"",null,{"$f":"IF(A61=\"\",\"\",'Voltage Drop'!N48)","v":""},"","",{"$error":"#N/A"},"","GY","G",{"$error":"#N/A"},8,0]
["",null,null,null,null,null,{"$f":"IF(A62=\"\",\"\",IFERROR(VLOOKUP(D62,'PDU Circuit'!$B$1:$F$199,IF(VLOOKUP(L62,Materials,3,FALSE)>250,$I$10+3,$I$10+1),FALSE),IF(VLOOKUP(L62,Materials,4,FALSE)>=1,IF(VLOOKUP(L62,Materials,3,FALSE)>250,\"BR\",\"BK\"))))","v":""},{"$f":"IF(A62=\"\",\"\",IFERROR(VLOOKUP(E62,'PDU Circuit'!$B$1:$F$199,IF(VLOOKUP(L62,Materials,3,FALSE)>250,$I$10+3,$I$10+1),FALSE),IF(VLOOKUP(L62,Materials,5,FALSE)>1,IF(VLOOKUP(L62,Materials,3,FALSE)>250,\"OR\",\"RED\"),\"\")))","v":""},{"$f":"IF(A62=\"\",\"\",IFERROR(VLOOKUP(F62,'PDU Circuit'!$B$1:$F$199,IF(VLOOKUP(L62,Materials,3,FALSE)>250,$I$10+3,$I$10+1),FALSE),IF(VLOOKUP(L62,Materials,5,FALSE)>2,IF(VLOOKUP(L62,Materials,3,FALSE)>250,\"YL\",\"BL\"),\"\")))","v":""},null,null,null,"","",null,null,null,null,"",null,"",null,"",null,{"$f":"IF(A62=\"\",\"\",'Voltage Drop'!N49)","v":""},"","",{"$error":"#N/A"},"","GY","G",{"$error":"#N/A"},8,0]
["",null,null,null,null,null,{"$f":"IF(A63=\"\",\"\",IFERROR(VLOOKUP(D63,'PDU Circuit'!$B$1:$F$199,IF(VLOOKUP(L63,Materials,3,FALSE)>250,$I$10+3,$I$10+1),FALSE),IF(VLOOKUP(L63,Materials,4,FALSE)>=1,IF(VLOOKUP(L63,Materials,3,FALSE)>250,\"BR\",\"BK\"))))","v":""},{"$f":"IF(A63=\"\",\"\",IFERROR(VLOOKUP(E63,'PDU Circuit'!$B$1:$F$199,IF(VLOOKUP(L63,Materials,3,FALSE)>250,$I$10+3,$I$10+1),FALSE),IF(VLOOKUP(L63,Materials,5,FALSE)>1,IF(VLOOKUP(L63,Materials,3,FALSE)>250,\"OR\",\"RED\"),\"\")))","v":""},{"$f":"IF(A63=\"\",\"\",IFERROR(VLOOKUP(F63,'PDU Circuit'!$B$1:$F$199,IF(VLOOKUP(L63,Materials,3,FALSE)>250,$I$10+3,$I$10+1),FALSE),IF(VLOOKUP(L63,Materials,5,FALSE)>2,IF(VLOOKUP(L63,Materials,3,FALSE)>250,\"YL\",\"BL\"),\"\")))","v":""},null,null,null,"","",null,null,null,null,"",null,"",null,"",null,{"$f":"IF(A63=\"\",\"\",'Voltage Drop'!N50)","v":""},"","",{"$error":"#N/A"},"","GY","G",{"$error":"#N/A"},8,0]
["",null,null,null,null,null,{"$f":"IF(A64=\"\",\"\",IFERROR(VLOOKUP(D64,'PDU Circuit'!$B$1:$F$199,IF(VLOOKUP(L64,Materials,3,FALSE)>250,$I$10+3,$I$10+1),FALSE),IF(VLOOKUP(L64,Materials,4,FALSE)>=1,IF(VLOOKUP(L64,Materials,3,FALSE)>250,\"BR\",\"BK\"))))","v":""},{"$f":"IF(A64=\"\",\"\",IFERROR(VLOOKUP(E64,'PDU Circuit'!$B$1:$F$199,IF(VLOOKUP(L64,Materials,3,FALSE)>250,$I$10+3,$I$10+1),FALSE),IF(VLOOKUP(L64,Materials,5,FALSE)>1,IF(VLOOKUP(L64,Materials,3,FALSE)>250,\"OR\",\"RED\"),\"\")))","v":""},{"$f":"IF(A64=\"\",\"\",IFERROR(VLOOKUP(F64,'PDU Circuit'!$B$1:$F$199,IF(VLOOKUP(L64,Materials,3,FALSE)>250,$I$10+3,$I$10+1),FALSE),IF(VLOOKUP(L64,Materials,5,FALSE)>2,IF(VLOOKUP(L64,Materials,3,FALSE)>250,\"YL\",\"BL\"),\"\")))","v":""},null,null,null,"","",null,null,null,null,"",null,"",null,"",null,{"$f":"IF(A64=\"\",\"\",'Voltage Drop'!N51)","v":""},"","",{"$error":"#N/A"},"","GY","G",{"$error":"#N/A"},8,0]
["",null,null,null,null,null,{"$f":"IF(A65=\"\",\"\",IFERROR(VLOOKUP(D65,'PDU Circuit'!$B$1:$F$199,IF(VLOOKUP(L65,Materials,3,FALSE)>250,$I$10+3,$I$10+1),FALSE),IF(VLOOKUP(L65,Materials,4,FALSE)>=1,IF(VLOOKUP(L65,Materials,3,FALSE)>250,\"BR\",\"BK\"))))","v":""},{"$f":"IF(A65=\"\",\"\",IFERROR(VLOOKUP(E65,'PDU Circuit'!$B$1:$F$199,IF(VLOOKUP(L65,Materials,3,FALSE)>250,$I$10+3,$I$10+1),FALSE),IF(VLOOKUP(L65,Materials,5,FALSE)>1,IF(VLOOKUP(L65,Materials,3,FALSE)>250,\"OR\",\"RED\"),\"\")))","v":""},{"$f":"IF(A65=\"\",\"\",IFERROR(VLOOKUP(F65,'PDU Circuit'!$B$1:$F$199,IF(VLOOKUP(L65,Materials,3,FALSE)>250,$I$10+3,$I$10+1),FALSE),IF(VLOOKUP(L65,Materials,5,FALSE)>2,IF(VLOOKUP(L65,Materials,3,FALSE)>250,\"YL\",\"BL\"),\"\")))","v":""},null,null,null,"","",null,null,null,null,"",null,"",null,"",null,{"$f":"IF(A65=\"\",\"\",'Voltage Drop'!N52)","v":""},"","",{"$error":"#N/A"},"","GY","G",{"$error":"#N/A"},8,0]
["",null,null,null,null,null,{"$f":"IF(A66=\"\",\"\",IFERROR(VLOOKUP(D66,'PDU Circuit'!$B$1:$F$199,IF(VLOOKUP(L66,Materials,3,FALSE)>250,$I$10+3,$I$10+1),FALSE),IF(VLOOKUP(L66,Materials,4,FALSE)>=1,IF(VLOOKUP(L66,Materials,3,FALSE)>250,\"BR\",\"BK\"))))","v":""},{"$f":"IF(A66=\"\",\"\",IFERROR(VLOOKUP(E66,'PDU Circuit'!$B$1:$F$199,IF(VLOOKUP(L66,Materials,3,FALSE)>250,$I$10+3,$I$10+1),FALSE),IF(VLOOKUP(L66,Materials,5,FALSE)>1,IF(VLOOKUP(L66,Materials,3,FALSE)>250,\"OR\",\"RED\"),\"\")))","v":""},{"$f":"IF(A66=\"\",\"\",IFERROR(VLOOKUP(F66,'PDU Circuit'!$B$1:$F$199,IF(VLOOKUP(L66,Materials,3,FALSE)>250,$I$10+3,$I$10+1),FALSE),IF(VLOOKUP(L66,Materials,5,FALSE)>2,IF(VLOOKUP(L66,Materials,3,FALSE)>250,\"YL\",\"BL\"),\"\")))","v":""},null,null,null,"","",null,null,null,null,"",null,"",null,"",null,{"$f":"IF(A66=\"\",\"\",'Voltage Drop'!N53)","v":""},"","",{"$error":"#N/A"},"","GY","G",{"$error":"#N/A"},8,0]
["",null,null,null,null,null,{"$f":"IF(A67=\"\",\"\",IFERROR(VLOOKUP(D67,'PDU Circuit'!$B$1:$F$199,IF(VLOOKUP(L67,Materials,3,FALSE)>250,$I$10+3,$I$10+1),FALSE),IF(VLOOKUP(L67,Materials,4,FALSE)>=1,IF(VLOOKUP(L67,Materials,3,FALSE)>250,\"BR\",\"BK\"))))","v":""},{"$f":"IF(A67=\"\",\"\",IFERROR(VLOOKUP(E67,'PDU Circuit'!$B$1:$F$199,IF(VLOOKUP(L67,Materials,3,FALSE)>250,$I$10+3,$I$10+1),FALSE),IF(VLOOKUP(L67,Materials,5,FALSE)>1,IF(VLOOKUP(L67,Materials,3,FALSE)>250,\"OR\",\"RED\"),\"\")))","v":""},{"$f":"IF(A67=\"\",\"\",IFERROR(VLOOKUP(F67,'PDU Circuit'!$B$1:$F$199,IF(VLOOKUP(L67,Materials,3,FALSE)>250,$I$10+3,$I$10+1),FALSE),IF(VLOOKUP(L67,Materials,5,FALSE)>2,IF(VLOOKUP(L67,Materials,3,FALSE)>250,\"YL\",\"BL\"),\"\")))","v":""},null,null,null,"","",null,null,null,null,"",null,"",null,"",null,{"$f":"IF(A67=\"\",\"\",'Voltage Drop'!N54)","v":""},"","",{"$error":"#N/A"},"","GY","G",{"$error":"#N/A"},8,0]
["",null,null,null,null,null,{"$f":"IF(A68=\"\",\"\",IFERROR(VLOOKUP(D68,'PDU Circuit'!$B$1:$F$199,IF(VLOOKUP(L68,Materials,3,FALSE)>250,$I$10+3,$I$10+1),FALSE),IF(VLOOKUP(L68,Materials,4,FALSE)>=1,IF(VLOOKUP(L68,Materials,3,FALSE)>250,\"BR\",\"BK\"))))","v":""},{"$f":"IF(A68=\"\",\"\",IFERROR(VLOOKUP(E68,'PDU Circuit'!$B$1:$F$199,IF(VLOOKUP(L68,Materials,3,FALSE)>250,$I$10+3,$I$10+1),FALSE),IF(VLOOKUP(L68,Materials,5,FALSE)>1,IF(VLOOKUP(L68,Materials,3,FALSE)>250,\"OR\",\"RED\"),\"\")))","v":""},{"$f":"IF(A68=\"\",\"\",IFERROR(VLOOKUP(F68,'PDU Circuit'!$B$1:$F$199,IF(VLOOKUP(L68,Materials,3,FALSE)>250,$I$10+3,$I$10+1),FALSE),IF(VLOOKUP(L68,Materials,5,FALSE)>2,IF(VLOOKUP(L68,Materials,3,FALSE)>250,\"YL\",\"BL\"),\"\")))","v":""},null,null,null,"","",null,null,null,null,"",null,"",null,"",null,{"$f":"IF(A68=\"\",\"\",'Voltage Drop'!N55)","v":""},"","",{"$error":"#N/A"},"","GY","G",{"$error":"#N/A"},8,0]
["",null,null,null,null,null,{"$f":"IF(A69=\"\",\"\",IFERROR(VLOOKUP(D69,'PDU Circuit'!$B$1:$F$199,IF(VLOOKUP(L69,Materials,3,FALSE)>250,$I$10+3,$I$10+1),FALSE),IF(VLOOKUP(L69,Materials,4,FALSE)>=1,IF(VLOOKUP(L69,Materials,3,FALSE)>250,\"BR\",\"BK\"))))","v":""},{"$f":"IF(A69=\"\",\"\",IFERROR(VLOOKUP(E69,'PDU Circuit'!$B$1:$F$199,IF(VLOOKUP(L69,Materials,3,FALSE)>250,$I$10+3,$I$10+1),FALSE),IF(VLOOKUP(L69,Materials,5,FALSE)>1,IF(VLOOKUP(L69,Materials,3,FALSE)>250,\"OR\",\"RED\"),\"\")))","v":""},{"$f":"IF(A69=\"\",\"\",IFERROR(VLOOKUP(F69,'PDU Circuit'!$B$1:$F$199,IF(VLOOKUP(L69,Materials,3,FALSE)>250,$I$10+3,$I$10+1),FALSE),IF(VLOOKUP(L69,Materials,5,FALSE)>2,IF(VLOOKUP(L69,Materials,3,FALSE)>250,\"YL\",\"BL\"),\"\")))","v":""},null,null,null,"","",null,null,null,null,"",null,"",null,"",null,{"$f":"IF(A69=\"\",\"\",'Voltage Drop'!N56)","v":""},"","",{"$error":"#N/A"},"","GY","G",{"$error":"#N/A"},8,0]
["",null,null,null,null,null,{"$f":"IF(A70=\"\",\"\",IFERROR(VLOOKUP(D70,'PDU Circuit'!$B$1:$F$199,IF(VLOOKUP(L70,Materials,3,FALSE)>250,$I$10+3,$I$10+1),FALSE),IF(VLOOKUP(L70,Materials,4,FALSE)>=1,IF(VLOOKUP(L70,Materials,3,FALSE)>250,\"BR\",\"BK\"))))","v":""},{"$f":"IF(A70=\"\",\"\",IFERROR(VLOOKUP(E70,'PDU Circuit'!$B$1:$F$199,IF(VLOOKUP(L70,Materials,3,FALSE)>250,$I$10+3,$I$10+1),FALSE),IF(VLOOKUP(L70,Materials,5,FALSE)>1,IF(VLOOKUP(L70,Materials,3,FALSE)>250,\"OR\",\"RED\"),\"\")))","v":""},{"$f":"IF(A70=\"\",\"\",IFERROR(VLOOKUP(F70,'PDU Circuit'!$B$1:$F$199,IF(VLOOKUP(L70,Materials,3,FALSE)>250,$I$10+3,$I$10+1),FALSE),IF(VLOOKUP(L70,Materials,5,FALSE)>2,IF(VLOOKUP(L70,Materials,3,FALSE)>250,\"YL\",\"BL\"),\"\")))","v":""},null,null,null,"","",null,null,null,null,"",null,"",null,"",null,{"$f":"IF(A70=\"\",\"\",'Voltage Drop'!N57)","v":""},"","",{"$error":"#N/A"},"","GY","G",{"$error":"#N/A"},8,0]
["",null,null,null,null,null,{"$f":"IF(A71=\"\",\"\",IFERROR(VLOOKUP(D71,'PDU Circuit'!$B$1:$F$199,IF(VLOOKUP(L71,Materials,3,FALSE)>250,$I$10+3,$I$10+1),FALSE),IF(VLOOKUP(L71,Materials,4,FALSE)>=1,IF(VLOOKUP(L71,Materials,3,FALSE)>250,\"BR\",\"BK\"))))","v":""},{"$f":"IF(A71=\"\",\"\",IFERROR(VLOOKUP(E71,'PDU Circuit'!$B$1:$F$199,IF(VLOOKUP(L71,Materials,3,FALSE)>250,$I$10+3,$I$10+1),FALSE),IF(VLOOKUP(L71,Materials,5,FALSE)>1,IF(VLOOKUP(L71,Materials,3,FALSE)>250,\"OR\",\"RED\"),\"\")))","v":""},{"$f":"IF(A71=\"\",\"\",IFERROR(VLOOKUP(F71,'PDU Circuit'!$B$1:$F$199,IF(VLOOKUP(L71,Materials,3,FALSE)>250,$I$10+3,$I$10+1),FALSE),IF(VLOOKUP(L71,Materials,5,FALSE)>2,IF(VLOOKUP(L71,Materials,3,FALSE)>250,\"YL\",\"BL\"),\"\")))","v":""},null,null,null,"","",null,null,null,null,"",null,"",null,"",null,{"$f":"IF(A71=\"\",\"\",'Voltage Drop'!N58)","v":""},"","",{"$error":"#N/A"},"","GY","G",{"$error":"#N/A"},8,0]
["",null,null,null,null,null,{"$f":"IF(A72=\"\",\"\",IFERROR(VLOOKUP(D72,'PDU Circuit'!$B$1:$F$199,IF(VLOOKUP(L72,Materials,3,FALSE)>250,$I$10+3,$I$10+1),FALSE),IF(VLOOKUP(L72,Materials,4,FALSE)>=1,IF(VLOOKUP(L72,Materials,3,FALSE)>250,\"BR\",\"BK\"))))","v":""},{"$f":"IF(A72=\"\",\"\",IFERROR(VLOOKUP(E72,'PDU Circuit'!$B$1:$F$199,IF(VLOOKUP(L72,Materials,3,FALSE)>250,$I$10+3,$I$10+1),FALSE),IF(VLOOKUP(L72,Materials,5,FALSE)>1,IF(VLOOKUP(L72,Materials,3,FALSE)>250,\"OR\",\"RED\"),\"\")))","v":""},{"$f":"IF(A72=\"\",\"\",IFERROR(VLOOKUP(F72,'PDU Circuit'!$B$1:$F$199,IF(VLOOKUP(L72,Materials,3,FALSE)>250,$I$10+3,$I$10+1),FALSE),IF(VLOOKUP(L72,Materials,5,FALSE)>2,IF(VLOOKUP(L72,Materials,3,FALSE)>250,\"YL\",\"BL\"),\"\")))","v":""},null,null,null,"","",null,null,null,null,"",null,"",null,"",null,{"$f":"IF(A72=\"\",\"\",'Voltage Drop'!N59)","v":""},"","",{"$error":"#N/A"},"","GY","G",{"$error":"#N/A"},8,0]
["",null,null,null,null,null,{"$f":"IF(A73=\"\",\"\",IFERROR(VLOOKUP(D73,'PDU Circuit'!$B$1:$F$199,IF(VLOOKUP(L73,Materials,3,FALSE)>250,$I$10+3,$I$10+1),FALSE),IF(VLOOKUP(L73,Materials,4,FALSE)>=1,IF(VLOOKUP(L73,Materials,3,FALSE)>250,\"BR\",\"BK\"))))","v":""},{"$f":"IF(A73=\"\",\"\",IFERROR(VLOOKUP(E73,'PDU Circuit'!$B$1:$F$199,IF(VLOOKUP(L73,Materials,3,FALSE)>250,$I$10+3,$I$10+1),FALSE),IF(VLOOKUP(L73,Materials,5,FALSE)>1,IF(VLOOKUP(L73,Materials,3,FALSE)>250,\"OR\",\"RED\"),\"\")))","v":""},{"$f":"IF(A73=\"\",\"\",IFERROR(VLOOKUP(F73,'PDU Circuit'!$B$1:$F$199,IF(VLOOKUP(L73,Materials,3,FALSE)>250,$I$10+3,$I$10+1),FALSE),IF(VLOOKUP(L73,Materials,5,FALSE)>2,IF(VLOOKUP(L73,Materials,3,FALSE)>250,\"YL\",\"BL\"),\"\")))","v":""},null,null,null,"","",null,null,null,null,"",null,"",null,"",null,{"$f":"IF(A73=\"\",\"\",'Voltage Drop'!N60)","v":""},"","",{"$error":"#N/A"},"","GY","G",{"$error":"#N/A"},8,0]
["",null,null,null,null,null,{"$f":"IF(A74=\"\",\"\",IFERROR(VLOOKUP(D74,'PDU Circuit'!$B$1:$F$199,IF(VLOOKUP(L74,Materials,3,FALSE)>250,$I$10+3,$I$10+1),FALSE),IF(VLOOKUP(L74,Materials,4,FALSE)>=1,IF(VLOOKUP(L74,Materials,3,FALSE)>250,\"BR\",\"BK\"))))","v":""},{"$f":"IF(A74=\"\",\"\",IFERROR(VLOOKUP(E74,'PDU Circuit'!$B$1:$F$199,IF(VLOOKUP(L74,Materials,3,FALSE)>250,$I$10+3,$I$10+1),FALSE),IF(VLOOKUP(L74,Materials,5,FALSE)>1,IF(VLOOKUP(L74,Materials,3,FALSE)>250,\"OR\",\"RED\"),\"\")))","v":""},{"$f":"IF(A74=\"\",\"\",IFERROR(VLOOKUP(F74,'PDU Circuit'!$B$1:$F$199,IF(VLOOKUP(L74,Materials,3,FALSE)>250,$I$10+3,$I$10+1),FALSE),IF(VLOOKUP(L74,Materials,5,FALSE)>2,IF(VLOOKUP(L74,Materials,3,FALSE)>250,\"YL\",\"BL\"),\"\")))","v":""},null,null,null,"","",null,null,null,null,"",null,"",null,"",null,{"$f":"IF(A74=\"\",\"\",'Voltage Drop'!N61)","v":""},"","",{"$error":"#N/A"},"","GY","G",{"$error":"#N/A"},8,0]
["",null,null,null,null,null,{"$f":"IF(A75=\"\",\"\",IFERROR(VLOOKUP(D75,'PDU Circuit'!$B$1:$F$199,IF(VLOOKUP(L75,Materials,3,FALSE)>250,$I$10+3,$I$10+1),FALSE),IF(VLOOKUP(L75,Materials,4,FALSE)>=1,IF(VLOOKUP(L75,Materials,3,FALSE)>250,\"BR\",\"BK\"))))","v":""},{"$f":"IF(A75=\"\",\"\",IFERROR(VLOOKUP(E75,'PDU Circuit'!$B$1:$F$199,IF(VLOOKUP(L75,Materials,3,FALSE)>250,$I$10+3,$I$10+1),FALSE),IF(VLOOKUP(L75,Materials,5,FALSE)>1,IF(VLOOKUP(L75,Materials,3,FALSE)>250,\"OR\",\"RED\"),\"\")))","v":""},{"$f":"IF(A75=\"\",\"\",IFERROR(VLOOKUP(F75,'PDU Circuit'!$B$1:$F$199,IF(VLOOKUP(L75,Materials,3,FALSE)>250,$I$10+3,$I$10+1),FALSE),IF(VLOOKUP(L75,Materials,5,FALSE)>2,IF(VLOOKUP(L75,Materials,3,FALSE)>250,\"YL\",\"BL\"),\"\")))","v":""},null,null,null,"","",null,null,null,null,"",null,"",null,"",null,{"$f":"IF(A75=\"\",\"\",'Voltage Drop'!N62)","v":""},"","",{"$error":"#N/A"},"","GY","G",{"$error":"#N/A"},8,0]
["",null,null,null,null,null,{"$f":"IF(A76=\"\",\"\",IFERROR(VLOOKUP(D76,'PDU Circuit'!$B$1:$F$199,IF(VLOOKUP(L76,Materials,3,FALSE)>250,$I$10+3,$I$10+1),FALSE),IF(VLOOKUP(L76,Materials,4,FALSE)>=1,IF(VLOOKUP(L76,Materials,3,FALSE)>250,\"BR\",\"BK\"))))","v":""},{"$f":"IF(A76=\"\",\"\",IFERROR(VLOOKUP(E76,'PDU Circuit'!$B$1:$F$199,IF(VLOOKUP(L76,Materials,3,FALSE)>250,$I$10+3,$I$10+1),FALSE),IF(VLOOKUP(L76,Materials,5,FALSE)>1,IF(VLOOKUP(L76,Materials,3,FALSE)>250,\"OR\",\"RED\"),\"\")))","v":""},{"$f":"IF(A76=\"\",\"\",IFERROR(VLOOKUP(F76,'PDU Circuit'!$B$1:$F$199,IF(VLOOKUP(L76,Materials,3,FALSE)>250,$I$10+3,$I$10+1),FALSE),IF(VLOOKUP(L76,Materials,5,FALSE)>2,IF(VLOOKUP(L76,Materials,3,FALSE)>250,\"YL\",\"BL\"),\"\")))","v":""},null,null,null,"","",null,null,null,null,"",null,"",null,"",null,{"$f":"IF(A76=\"\",\"\",'Voltage Drop'!N63)","v":""},"","",{"$error":"#N/A"},"","GY","G",{"$error":"#N/A"},8,0]
["",null,null,null,null,null,{"$f":"IF(A77=\"\",\"\",IFERROR(VLOOKUP(D77,'PDU Circuit'!$B$1:$F$199,IF(VLOOKUP(L77,Materials,3,FALSE)>250,$I$10+3,$I$10+1),FALSE),IF(VLOOKUP(L77,Materials,4,FALSE)>=1,IF(VLOOKUP(L77,Materials,3,FALSE)>250,\"BR\",\"BK\"))))","v":""},{"$f":"IF(A77=\"\",\"\",IFERROR(VLOOKUP(E77,'PDU Circuit'!$B$1:$F$199,IF(VLOOKUP(L77,Materials,3,FALSE)>250,$I$10+3,$I$10+1),FALSE),IF(VLOOKUP(L77,Materials,5,FALSE)>1,IF(VLOOKUP(L77,Materials,3,FALSE)>250,\"OR\",\"RED\"),\"\")))","v":""},{"$f":"IF(A77=\"\",\"\",IFERROR(VLOOKUP(F77,'PDU Circuit'!$B$1:$F$199,IF(VLOOKUP(L77,Materials,3,FALSE)>250,$I$10+3,$I$10+1),FALSE),IF(VLOOKUP(L77,Materials,5,FALSE)>2,IF(VLOOKUP(L77,Materials,3,FALSE)>250,\"YL\",\"BL\"),\"\")))","v":""},null,null,null,"","",null,null,null,null,"",null,"",null,"",null,{"$f":"IF(A77=\"\",\"\",'Voltage Drop'!N64)","v":""},"","",{"$error":"#N/A"},"","GY","G",{"$error":"#N/A"},8,0]
["",null,null,null,null,null,{"$f":"IF(A78=\"\",\"\",IFERROR(VLOOKUP(D78,'PDU Circuit'!$B$1:$F$199,IF(VLOOKUP(L78,Materials,3,FALSE)>250,$I$10+3,$I$10+1),FALSE),IF(VLOOKUP(L78,Materials,4,FALSE)>=1,IF(VLOOKUP(L78,Materials,3,FALSE)>250,\"BR\",\"BK\"))))","v":""},{"$f":"IF(A78=\"\",\"\",IFERROR(VLOOKUP(E78,'PDU Circuit'!$B$1:$F$199,IF(VLOOKUP(L78,Materials,3,FALSE)>250,$I$10+3,$I$10+1),FALSE),IF(VLOOKUP(L78,Materials,5,FALSE)>1,IF(VLOOKUP(L78,Materials,3,FALSE)>250,\"OR\",\"RED\"),\"\")))","v":""},{"$f":"IF(A78=\"\",\"\",IFERROR(VLOOKUP(F78,'PDU Circuit'!$B$1:$F$199,IF(VLOOKUP(L78,Materials,3,FALSE)>250,$I$10+3,$I$10+1),FALSE),IF(VLOOKUP(L78,Materials,5,FALSE)>2,IF(VLOOKUP(L78,Materials,3,FALSE)>250,\"YL\",\"BL\"),\"\")))","v":""},null,null,null,"","",null,null,null,null,"",null,"",null,"",null,{"$f":"IF(A78=\"\",\"\",'Voltage Drop'!N65)","v":""},"","",{"$error":"#N/A"},"","GY","G",{"$error":"#N/A"},8,0]
[{"$f":"IFERROR(IF($I$8>=A78+1,A78+1,\"\"),\"\")","v":""},null,null,null,null,null,{"$f":"IF(A79=\"\",\"\",IFERROR(VLOOKUP(D79,'PDU Circuit'!$B$1:$F$199,IF(VLOOKUP(L79,Materials,3,FALSE)>250,$I$10+3,$I$10+1),FALSE),IF(VLOOKUP(L79,Materials,4,FALSE)>=1,IF(VLOOKUP(L79,Materials,3,FALSE)>250,\"BR\",\"BK\"))))","v":""},{"$f":"IF(A79=\"\",\"\",IFERROR(VLOOKUP(E79,'PDU Circuit'!$B$1:$F$199,IF(VLOOKUP(L79,Materials,3,FALSE)>250,$I$10+3,$I$10+1),FALSE),IF(VLOOKUP(L79,Materials,5,FALSE)>1,IF(VLOOKUP(L79,Materials,3,FALSE)>250,\"OR\",\"RED\"),\"\")))","v":""},{"$f":"IF(A79=\"\",\"\",IFERROR(VLOOKUP(F79,'PDU Circuit'!$B$1:$F$199,IF(VLOOKUP(L79,Materials,3,FALSE)>250,$I$10+3,$I$10+1),FALSE),IF(VLOOKUP(L79,Materials,5,FALSE)>2,IF(VLOOKUP(L79,Materials,3,FALSE)>250,\"YL\",\"BL\"),\"\")))","v":""},null,null,null,"","",null,null,null,null,{"$f":"IFERROR(VLOOKUP($L79,Materials,10,FALSE),\"\")","v":""},null,{"$f":"IFERROR(VLOOKUP($L79,Materials,8,FALSE),\"\")","v":""},null,{"$f":"IFERROR(VLOOKUP($L79,Materials,9,FALSE),\"\")","v":""},null,{"$f":"IF(A79=\"\",\"\",'Voltage Drop'!N66)","v":""},"",{"$f":"IF(A79=\"\",\"\",\"CBL ASSY W/ PIGTAIL\")","v":""},{"$f":"\"CQ\"&VLOOKUP(L79,Materials,2,FALSE)&\"/\"&VLOOKUP(Q79,Breakers,2,FALSE)&\"/\"&O79&\"/\"&VLOOKUP(R79,Colors,2,FALSE)&\"/\"&AF79&AG79&AH79","v":{"$error":"#N/A"}},"","GY","G",{"$error":"#N/A"},8,0]
["",null,null,null,null,null,{"$f":"IF(A80=\"\",\"\",IFERROR(VLOOKUP(D80,'PDU Circuit'!$B$1:$F$199,IF(VLOOKUP(L80,Materials,3,FALSE)>250,$I$10+3,$I$10+1),FALSE),IF(VLOOKUP(L80,Materials,4,FALSE)>=1,IF(VLOOKUP(L80,Materials,3,FALSE)>250,\"BR\",\"BK\"))))","v":""},{"$f":"IF(A80=\"\",\"\",IFERROR(VLOOKUP(E80,'PDU Circuit'!$B$1:$F$199,IF(VLOOKUP(L80,Materials,3,FALSE)>250,$I$10+3,$I$10+1),FALSE),IF(VLOOKUP(L80,Materials,5,FALSE)>1,IF(VLOOKUP(L80,Materials,3,FALSE)>250,\"OR\",\"RED\"),\"\")))","v":""},{"$f":"IF(A80=\"\",\"\",IFERROR(VLOOKUP(F80,'PDU Circuit'!$B$1:$F$199,IF(VLOOKUP(L80,Materials,3,FALSE)>250,$I$10+3,$I$10+1),FALSE),IF(VLOOKUP(L80,Materials,5,FALSE)>2,IF(VLOOKUP(L80,Materials,3,FALSE)>250,\"YL\",\"BL\"),\"\")))","v":""},null,null,null,{"$f":"IFERROR(VLOOKUP(L80,Materials,3,FALSE)&\"V \"&VLOOKUP(L80,Materials,4,FALSE)&\"A\",\"\")","v":""},{"$f":"IFERROR(VLOOKUP(L80,Materials,6,FALSE),\"\")","v":""},null,null,null,null,"",null,"",null,"",null,{"$f":"IF(A80=\"\",\"\",'Voltage Drop'!N67)","v":""},{"$f":"IFERROR(AB80,\"\")","v":""},"",{"$error":"#N/A"},{"$f":"RIGHT(G80,2)","v":""},{"$f":"IF(H80=\"\",IF(G80=\"BK\",\"W\",\"GY\"),RIGHT(H80,2))","v":"GY"},{"$f":"IF(I80=\"\",IF(MID(N80,3,1)>=\"4\",IF(G80=\"BK\",\"W\",\"GY\"),\"G\"),RIGHT(I80,2))","v":"G"},{"$f":"VLOOKUP(AC80,$AI$15:$AJ$23,2,FALSE)","v":{"$error":"#N/A"}},{"$f":"VLOOKUP(AD80,$AI$15:$AJ$23,2,FALSE)","v":8},{"$f":"VLOOKUP(AE80,$AI$15:$AJ$23,2,FALSE)","v":0}]
["",null,null,null,null,null,{"$f":"IF(A81=\"\",\"\",IFERROR(VLOOKUP(D81,'PDU Circuit'!$B$1:$F$199,IF(VLOOKUP(L81,Materials,3,FALSE)>250,$I$10+3,$I$10+1),FALSE),IF(VLOOKUP(L81,Materials,4,FALSE)>=1,IF(VLOOKUP(L81,Materials,3,FALSE)>250,\"BR\",\"BK\"))))","v":""},{"$f":"IF(A81=\"\",\"\",IFERROR(VLOOKUP(E81,'PDU Circuit'!$B$1:$F$199,IF(VLOOKUP(L81,Materials,3,FALSE)>250,$I$10+3,$I$10+1),FALSE),IF(VLOOKUP(L81,Materials,5,FALSE)>1,IF(VLOOKUP(L81,Materials,3,FALSE)>250,\"OR\",\"RED\"),\"\")))","v":""},{"$f":"IF(A81=\"\",\"\",IFERROR(VLOOKUP(F81,'PDU Circuit'!$B$1:$F$199,IF(VLOOKUP(L81,Materials,3,FALSE)>250,$I$10+3,$I$10+1),FALSE),IF(VLOOKUP(L81,Materials,5,FALSE)>2,IF(VLOOKUP(L81,Materials,3,FALSE)>250,\"YL\",\"BL\"),\"\")))","v":""},null,null,null,"","",null,null,null,null,"",null,"",null,"",null,{"$f":"IF(A81=\"\",\"\",'Voltage Drop'!N68)","v":""},"","",{"$error":"#N/A"},"","GY","G",{"$error":"#N/A"},8,0]
["",null,null,null,null,null,{"$f":"IF(A82=\"\",\"\",IFERROR(VLOOKUP(D82,'PDU Circuit'!$B$1:$F$199,IF(VLOOKUP(L82,Materials,3,FALSE)>250,$I$10+3,$I$10+1),FALSE),IF(VLOOKUP(L82,Materials,4,FALSE)>=1,IF(VLOOKUP(L82,Materials,3,FALSE)>250,\"BR\",\"BK\"))))","v":""},{"$f":"IF(A82=\"\",\"\",IFERROR(VLOOKUP(E82,'PDU Circuit'!$B$1:$F$199,IF(VLOOKUP(L82,Materials,3,FALSE)>250,$I$10+3,$I$10+1),FALSE),IF(VLOOKUP(L82,Materials,5,FALSE)>1,IF(VLOOKUP(L82,Materials,3,FALSE)>250,\"OR\",\"RED\"),\"\")))","v":""},{"$f":"IF(A82=\"\",\"\",IFERROR(VLOOKUP(F82,'PDU Circuit'!$B$1:$F$199,IF(VLOOKUP(L82,Materials,3,FALSE)>250,$I$10+3,$I$10+1),FALSE),IF(VLOOKUP(L82,Materials,5,FALSE)>2,IF(VLOOKUP(L82,Materials,3,FALSE)>250,\"YL\",\"BL\"),\"\")))","v":""},null,null,null,"","",null,null,null,null,"",null,"",null,"",null,{"$f":"IF(A82=\"\",\"\",'Voltage Drop'!N69)","v":""},"","",{"$error":"#N/A"},"","GY","G",{"$error":"#N/A"},8,0]
["",null,null,null,null,null,{"$f":"IF(A83=\"\",\"\",IFERROR(VLOOKUP(D83,'PDU Circuit'!$B$1:$F$199,IF(VLOOKUP(L83,Materials,3,FALSE)>250,$I$10+3,$I$10+1),FALSE),IF(VLOOKUP(L83,Materials,4,FALSE)>=1,IF(VLOOKUP(L83,Materials,3,FALSE)>250,\"BR\",\"BK\"))))","v":""},{"$f":"IF(A83=\"\",\"\",IFERROR(VLOOKUP(E83,'PDU Circuit'!$B$1:$F$199,IF(VLOOKUP(L83,Materials,3,FALSE)>250,$I$10+3,$I$10+1),FALSE),IF(VLOOKUP(L83,Materials,5,FALSE)>1,IF(VLOOKUP(L83,Materials,3,FALSE)>250,\"OR\",\"RED\"),\"\")))","v":""},{"$f":"IF(A83=\"\",\"\",IFERROR(VLOOKUP(F83,'PDU Circuit'!$B$1:$F$199,IF(VLOOKUP(L83,Materials,3,FALSE)>250,$I$10+3,$I$10+1),FALSE),IF(VLOOKUP(L83,Materials,5,FALSE)>2,IF(VLOOKUP(L83,Materials,3,FALSE)>250,\"YL\",\"BL\"),\"\")))","v":""},null,null,null,"","",null,null,null,null,"",null,"",null,"",null,{"$f":"IF(A83=\"\",\"\",'Voltage Drop'!N70)","v":""},"","",{"$error":"#N/A"},"","GY","G",{"$error":"#N/A"},8,0]
["",null,null,null,null,null,{"$f":"IF(A84=\"\",\"\",IFERROR(VLOOKUP(D84,'PDU Circuit'!$B$1:$F$199,IF(VLOOKUP(L84,Materials,3,FALSE)>250,$I$10+3,$I$10+1),FALSE),IF(VLOOKUP(L84,Materials,4,FALSE)>=1,IF(VLOOKUP(L84,Materials,3,FALSE)>250,\"BR\",\"BK\"))))","v":""},{"$f":"IF(A84=\"\",\"\",IFERROR(VLOOKUP(E84,'PDU Circuit'!$B$1:$F$199,IF(VLOOKUP(L84,Materials,3,FALSE)>250,$I$10+3,$I$10+1),FALSE),IF(VLOOKUP(L84,Materials,5,FALSE)>1,IF(VLOOKUP(L84,Materials,3,FALSE)>250,\"OR\",\"RED\"),\"\")))","v":""},{"$f":"IF(A84=\"\",\"\",IFERROR(VLOOKUP(F84,'PDU Circuit'!$B$1:$F$199,IF(VLOOKUP(L84,Materials,3,FALSE)>250,$I$10+3,$I$10+1),FALSE),IF(VLOOKUP(L84,Materials,5,FALSE)>2,IF(VLOOKUP(L84,Materials,3,FALSE)>250,\"YL\",\"BL\"),\"\")))","v":""},null,null,null,"","",null,null,null,null,"",null,"",null,"",null,{"$f":"IF(A84=\"\",\"\",'Voltage Drop'!N71)","v":""},"","",{"$error":"#N/A"},"","GY","G",{"$error":"#N/A"},8,0]
["",null,null,null,null,null,{"$f":"IF(A85=\"\",\"\",IFERROR(VLOOKUP(D85,'PDU Circuit'!$B$1:$F$199,IF(VLOOKUP(L85,Materials,3,FALSE)>250,$I$10+3,$I$10+1),FALSE),IF(VLOOKUP(L85,Materials,4,FALSE)>=1,IF(VLOOKUP(L85,Materials,3,FALSE)>250,\"BR\",\"BK\"))))","v":""},{"$f":"IF(A85=\"\",\"\",IFERROR(VLOOKUP(E85,'PDU Circuit'!$B$1:$F$199,IF(VLOOKUP(L85,Materials,3,FALSE)>250,$I$10+3,$I$10+1),FALSE),IF(VLOOKUP(L85,Materials,5,FALSE)>1,IF(VLOOKUP(L85,Materials,3,FALSE)>250,\"OR\",\"RED\"),\"\")))","v":""},{"$f":"IF(A85=\"\",\"\",IFERROR(VLOOKUP(F85,'PDU Circuit'!$B$1:$F$199,IF(VLOOKUP(L85,Materials,3,FALSE)>250,$I$10+3,$I$10+1),FALSE),IF(VLOOKUP(L85,Materials,5,FALSE)>2,IF(VLOOKUP(L85,Materials,3,FALSE)>250,\"YL\",\"BL\"),\"\")))","v":""},null,null,null,"","",null,null,null,null,"",null,"",null,"",null,{"$f":"IF(A85=\"\",\"\",'Voltage Drop'!N72)","v":""},"","",{"$error":"#N/A"},"","GY","G",{"$error":"#N/A"},8,0]
["",null,null,null,null,null,{"$f":"IF(A86=\"\",\"\",IFERROR(VLOOKUP(D86,'PDU Circuit'!$B$1:$F$199,IF(VLOOKUP(L86,Materials,3,FALSE)>250,$I$10+3,$I$10+1),FALSE),IF(VLOOKUP(L86,Materials,4,FALSE)>=1,IF(VLOOKUP(L86,Materials,3,FALSE)>250,\"BR\",\"BK\"))))","v":""},{"$f":"IF(A86=\"\",\"\",IFERROR(VLOOKUP(E86,'PDU Circuit'!$B$1:$F$199,IF(VLOOKUP(L86,Materials,3,FALSE)>250,$I$10+3,$I$10+1),FALSE),IF(VLOOKUP(L86,Materials,5,FALSE)>1,IF(VLOOKUP(L86,Materials,3,FALSE)>250,\"OR\",\"RED\"),\"\")))","v":""},{"$f":"IF(A86=\"\",\"\",IFERROR(VLOOKUP(F86,'PDU Circuit'!$B$1:$F$199,IF(VLOOKUP(L86,Materials,3,FALSE)>250,$I$10+3,$I$10+1),FALSE),IF(VLOOKUP(L86,Materials,5,FALSE)>2,IF(VLOOKUP(L86,Materials,3,FALSE)>250,\"YL\",\"BL\"),\"\")))","v":""},null,null,null,"","",null,null,null,null,"",null,"",null,"",null,{"$f":"IF(A86=\"\",\"\",'Voltage Drop'!N73)","v":""},"","",{"$error":"#N/A"},"","GY","G",{"$error":"#N/A"},8,0]
["",null,null,null,null,null,{"$f":"IF(A87=\"\",\"\",IFERROR(VLOOKUP(D87,'PDU Circuit'!$B$1:$F$199,IF(VLOOKUP(L87,Materials,3,FALSE)>250,$I$10+3,$I$10+1),FALSE),IF(VLOOKUP(L87,Materials,4,FALSE)>=1,IF(VLOOKUP(L87,Materials,3,FALSE)>250,\"BR\",\"BK\"))))","v":""},{"$f":"IF(A87=\"\",\"\",IFERROR(VLOOKUP(E87,'PDU Circuit'!$B$1:$F$199,IF(VLOOKUP(L87,Materials,3,FALSE)>250,$I$10+3,$I$10+1),FALSE),IF(VLOOKUP(L87,Materials,5,FALSE)>1,IF(VLOOKUP(L87,Materials,3,FALSE)>250,\"OR\",\"RED\"),\"\")))","v":""},{"$f":"IF(A87=\"\",\"\",IFERROR(VLOOKUP(F87,'PDU Circuit'!$B$1:$F$199,IF(VLOOKUP(L87,Materials,3,FALSE)>250,$I$10+3,$I$10+1),FALSE),IF(VLOOKUP(L87,Materials,5,FALSE)>2,IF(VLOOKUP(L87,Materials,3,FALSE)>250,\"YL\",\"BL\"),\"\")))","v":""},null,null,null,"","",null,null,null,null,"",null,"",null,"",null,{"$f":"IF(A87=\"\",\"\",'Voltage Drop'!N74)","v":""},"","",{"$error":"#N/A"},"","GY","G",{"$error":"#N/A"},8,0]
["",null,null,null,null,null,{"$f":"IF(A88=\"\",\"\",IFERROR(VLOOKUP(D88,'PDU Circuit'!$B$1:$F$199,IF(VLOOKUP(L88,Materials,3,FALSE)>250,$I$10+3,$I$10+1),FALSE),IF(VLOOKUP(L88,Materials,4,FALSE)>=1,IF(VLOOKUP(L88,Materials,3,FALSE)>250,\"BR\",\"BK\"))))","v":""},{"$f":"IF(A88=\"\",\"\",IFERROR(VLOOKUP(E88,'PDU Circuit'!$B$1:$F$199,IF(VLOOKUP(L88,Materials,3,FALSE)>250,$I$10+3,$I$10+1),FALSE),IF(VLOOKUP(L88,Materials,5,FALSE)>1,IF(VLOOKUP(L88,Materials,3,FALSE)>250,\"OR\",\"RED\"),\"\")))","v":""},{"$f":"IF(A88=\"\",\"\",IFERROR(VLOOKUP(F88,'PDU Circuit'!$B$1:$F$199,IF(VLOOKUP(L88,Materials,3,FALSE)>250,$I$10+3,$I$10+1),FALSE),IF(VLOOKUP(L88,Materials,5,FALSE)>2,IF(VLOOKUP(L88,Materials,3,FALSE)>250,\"YL\",\"BL\"),\"\")))","v":""},null,null,null,"","",null,null,null,null,"",null,"",null,"",null,{"$f":"IF(A88=\"\",\"\",'Voltage Drop'!N75)","v":""},"","",{"$error":"#N/A"},"","GY","G",{"$error":"#N/A"},8,0]
["",null,null,null,null,null,{"$f":"IF(A89=\"\",\"\",IFERROR(VLOOKUP(D89,'PDU Circuit'!$B$1:$F$199,IF(VLOOKUP(L89,Materials,3,FALSE)>250,$I$10+3,$I$10+1),FALSE),IF(VLOOKUP(L89,Materials,4,FALSE)>=1,IF(VLOOKUP(L89,Materials,3,FALSE)>250,\"BR\",\"BK\"))))","v":""},{"$f":"IF(A89=\"\",\"\",IFERROR(VLOOKUP(E89,'PDU Circuit'!$B$1:$F$199,IF(VLOOKUP(L89,Materials,3,FALSE)>250,$I$10+3,$I$10+1),FALSE),IF(VLOOKUP(L89,Materials,5,FALSE)>1,IF(VLOOKUP(L89,Materials,3,FALSE)>250,\"OR\",\"RED\"),\"\")))","v":""},{"$f":"IF(A89=\"\",\"\",IFERROR(VLOOKUP(F89,'PDU Circuit'!$B$1:$F$199,IF(VLOOKUP(L89,Materials,3,FALSE)>250,$I$10+3,$I$10+1),FALSE),IF(VLOOKUP(L89,Materials,5,FALSE)>2,IF(VLOOKUP(L89,Materials,3,FALSE)>250,\"YL\",\"BL\"),\"\")))","v":""},null,null,null,"","",null,null,null,null,"",null,"",null,"",null,{"$f":"IF(A89=\"\",\"\",'Voltage Drop'!N76)","v":""},"","",{"$error":"#N/A"},"","GY","G",{"$error":"#N/A"},8,0]
["",null,null,null,null,null,{"$f":"IF(A90=\"\",\"\",IFERROR(VLOOKUP(D90,'PDU Circuit'!$B$1:$F$199,IF(VLOOKUP(L90,Materials,3,FALSE)>250,$I$10+3,$I$10+1),FALSE),IF(VLOOKUP(L90,Materials,4,FALSE)>=1,IF(VLOOKUP(L90,Materials,3,FALSE)>250,\"BR\",\"BK\"))))","v":""},{"$f":"IF(A90=\"\",\"\",IFERROR(VLOOKUP(E90,'PDU Circuit'!$B$1:$F$199,IF(VLOOKUP(L90,Materials,3,FALSE)>250,$I$10+3,$I$10+1),FALSE),IF(VLOOKUP(L90,Materials,5,FALSE)>1,IF(VLOOKUP(L90,Materials,3,FALSE)>250,\"OR\",\"RED\"),\"\")))","v":""},{"$f":"IF(A90=\"\",\"\",IFERROR(VLOOKUP(F90,'PDU Circuit'!$B$1:$F$199,IF(VLOOKUP(L90,Materials,3,FALSE)>250,$I$10+3,$I$10+1),FALSE),IF(VLOOKUP(L90,Materials,5,FALSE)>2,IF(VLOOKUP(L90,Materials,3,FALSE)>250,\"YL\",\"BL\"),\"\")))","v":""},null,null,null,"","",null,null,null,null,"",null,"",null,"",null,{"$f":"IF(A90=\"\",\"\",'Voltage Drop'!N77)","v":""},"","",{"$error":"#N/A"},"","GY","G",{"$error":"#N/A"},8,0]
["",null,null,null,null,null,{"$f":"IF(A91=\"\",\"\",IFERROR(VLOOKUP(D91,'PDU Circuit'!$B$1:$F$199,IF(VLOOKUP(L91,Materials,3,FALSE)>250,$I$10+3,$I$10+1),FALSE),IF(VLOOKUP(L91,Materials,4,FALSE)>=1,IF(VLOOKUP(L91,Materials,3,FALSE)>250,\"BR\",\"BK\"))))","v":""},{"$f":"IF(A91=\"\",\"\",IFERROR(VLOOKUP(E91,'PDU Circuit'!$B$1:$F$199,IF(VLOOKUP(L91,Materials,3,FALSE)>250,$I$10+3,$I$10+1),FALSE),IF(VLOOKUP(L91,Materials,5,FALSE)>1,IF(VLOOKUP(L91,Materials,3,FALSE)>250,\"OR\",\"RED\"),\"\")))","v":""},{"$f":"IF(A91=\"\",\"\",IFERROR(VLOOKUP(F91,'PDU Circuit'!$B$1:$F$199,IF(VLOOKUP(L91,Materials,3,FALSE)>250,$I$10+3,$I$10+1),FALSE),IF(VLOOKUP(L91,Materials,5,FALSE)>2,IF(VLOOKUP(L91,Materials,3,FALSE)>250,\"YL\",\"BL\"),\"\")))","v":""},null,null,null,"","",null,null,null,null,"",null,"",null,"",null,{"$f":"IF(A91=\"\",\"\",'Voltage Drop'!N78)","v":""},"","",{"$error":"#N/A"},"","GY","G",{"$error":"#N/A"},8,0]
["",null,null,null,null,null,{"$f":"IF(A92=\"\",\"\",IFERROR(VLOOKUP(D92,'PDU Circuit'!$B$1:$F$199,IF(VLOOKUP(L92,Materials,3,FALSE)>250,$I$10+3,$I$10+1),FALSE),IF(VLOOKUP(L92,Materials,4,FALSE)>=1,IF(VLOOKUP(L92,Materials,3,FALSE)>250,\"BR\",\"BK\"))))","v":""},{"$f":"IF(A92=\"\",\"\",IFERROR(VLOOKUP(E92,'PDU Circuit'!$B$1:$F$199,IF(VLOOKUP(L92,Materials,3,FALSE)>250,$I$10+3,$I$10+1),FALSE),IF(VLOOKUP(L92,Materials,5,FALSE)>1,IF(VLOOKUP(L92,Materials,3,FALSE)>250,\"OR\",\"RED\"),\"\")))","v":""},{"$f":"IF(A92=\"\",\"\",IFERROR(VLOOKUP(F92,'PDU Circuit'!$B$1:$F$199,IF(VLOOKUP(L92,Materials,3,FALSE)>250,$I$10+3,$I$10+1),FALSE),IF(VLOOKUP(L92,Materials,5,FALSE)>2,IF(VLOOKUP(L92,Materials,3,FALSE)>250,\"YL\",\"BL\"),\"\")))","v":""},null,null,null,"","",null,null,null,null,"",null,"",null,"",null,{"$f":"IF(A92=\"\",\"\",'Voltage Drop'!N79)","v":""},"","",{"$error":"#N/A"},"","GY","G",{"$error":"#N/A"},8,0]
["",null,null,null,null,null,{"$f":"IF(A93=\"\",\"\",IFERROR(VLOOKUP(D93,'PDU Circuit'!$B$1:$F$199,IF(VLOOKUP(L93,Materials,3,FALSE)>250,$I$10+3,$I$10+1),FALSE),IF(VLOOKUP(L93,Materials,4,FALSE)>=1,IF(VLOOKUP(L93,Materials,3,FALSE)>250,\"BR\",\"BK\"))))","v":""},{"$f":"IF(A93=\"\",\"\",IFERROR(VLOOKUP(E93,'PDU Circuit'!$B$1:$F$199,IF(VLOOKUP(L93,Materials,3,FALSE)>250,$I$10+3,$I$10+1),FALSE),IF(VLOOKUP(L93,Materials,5,FALSE)>1,IF(VLOOKUP(L93,Materials,3,FALSE)>250,\"OR\",\"RED\"),\"\")))","v":""},{"$f":"IF(A93=\"\",\"\",IFERROR(VLOOKUP(F93,'PDU Circuit'!$B$1:$F$199,IF(VLOOKUP(L93,Materials,3,FALSE)>250,$I$10+3,$I$10+1),FALSE),IF(VLOOKUP(L93,Materials,5,FALSE)>2,IF(VLOOKUP(L93,Materials,3,FALSE)>250,\"YL\",\"BL\"),\"\")))","v":""},null,null,null,"","",null,null,null,null,"",null,"",null,"",null,{"$f":"IF(A93=\"\",\"\",'Voltage Drop'!N80)","v":""},"","",{"$error":"#N/A"},"","GY","G",{"$error":"#N/A"},8,0]
["",null,null,null,null,null,{"$f":"IF(A94=\"\",\"\",IFERROR(VLOOKUP(D94,'PDU Circuit'!$B$1:$F$199,IF(VLOOKUP(L94,Materials,3,FALSE)>250,$I$10+3,$I$10+1),FALSE),IF(VLOOKUP(L94,Materials,4,FALSE)>=1,IF(VLOOKUP(L94,Materials,3,FALSE)>250,\"BR\",\"BK\"))))","v":""},{"$f":"IF(A94=\"\",\"\",IFERROR(VLOOKUP(E94,'PDU Circuit'!$B$1:$F$199,IF(VLOOKUP(L94,Materials,3,FALSE)>250,$I$10+3,$I$10+1),FALSE),IF(VLOOKUP(L94,Materials,5,FALSE)>1,IF(VLOOKUP(L94,Materials,3,FALSE)>250,\"OR\",\"RED\"),\"\")))","v":""},{"$f":"IF(A94=\"\",\"\",IFERROR(VLOOKUP(F94,'PDU Circuit'!$B$1:$F$199,IF(VLOOKUP(L94,Materials,3,FALSE)>250,$I$10+3,$I$10+1),FALSE),IF(VLOOKUP(L94,Materials,5,FALSE)>2,IF(VLOOKUP(L94,Materials,3,FALSE)>250,\"YL\",\"BL\"),\"\")))","v":""},null,null,null,"","",null,null,null,null,"",null,"",null,"",null,{"$f":"IF(A94=\"\",\"\",'Voltage Drop'!N81)","v":""},"","",{"$error":"#N/A"},"","GY","G",{"$error":"#N/A"},8,0]
["",null,null,null,null,null,{"$f":"IF(A95=\"\",\"\",IFERROR(VLOOKUP(D95,'PDU Circuit'!$B$1:$F$199,IF(VLOOKUP(L95,Materials,3,FALSE)>250,$I$10+3,$I$10+1),FALSE),IF(VLOOKUP(L95,Materials,4,FALSE)>=1,IF(VLOOKUP(L95,Materials,3,FALSE)>250,\"BR\",\"BK\"))))","v":""},{"$f":"IF(A95=\"\",\"\",IFERROR(VLOOKUP(E95,'PDU Circuit'!$B$1:$F$199,IF(VLOOKUP(L95,Materials,3,FALSE)>250,$I$10+3,$I$10+1),FALSE),IF(VLOOKUP(L95,Materials,5,FALSE)>1,IF(VLOOKUP(L95,Materials,3,FALSE)>250,\"OR\",\"RED\"),\"\")))","v":""},{"$f":"IF(A95=\"\",\"\",IFERROR(VLOOKUP(F95,'PDU Circuit'!$B$1:$F$199,IF(VLOOKUP(L95,Materials,3,FALSE)>250,$I$10+3,$I$10+1),FALSE),IF(VLOOKUP(L95,Materials,5,FALSE)>2,IF(VLOOKUP(L95,Materials,3,FALSE)>250,\"YL\",\"BL\"),\"\")))","v":""},null,null,null,"","",null,null,null,null,"",null,"",null,"",null,{"$f":"IF(A95=\"\",\"\",'Voltage Drop'!N82)","v":""},"","",{"$error":"#N/A"},"","GY","G",{"$error":"#N/A"},8,0]
["",null,null,null,null,null,{"$f":"IF(A96=\"\",\"\",IFERROR(VLOOKUP(D96,'PDU Circuit'!$B$1:$F$199,IF(VLOOKUP(L96,Materials,3,FALSE)>250,$I$10+3,$I$10+1),FALSE),IF(VLOOKUP(L96,Materials,4,FALSE)>=1,IF(VLOOKUP(L96,Materials,3,FALSE)>250,\"BR\",\"BK\"))))","v":""},{"$f":"IF(A96=\"\",\"\",IFERROR(VLOOKUP(E96,'PDU Circuit'!$B$1:$F$199,IF(VLOOKUP(L96,Materials,3,FALSE)>250,$I$10+3,$I$10+1),FALSE),IF(VLOOKUP(L96,Materials,5,FALSE)>1,IF(VLOOKUP(L96,Materials,3,FALSE)>250,\"OR\",\"RED\"),\"\")))","v":""},{"$f":"IF(A96=\"\",\"\",IFERROR(VLOOKUP(F96,'PDU Circuit'!$B$1:$F$199,IF(VLOOKUP(L96,Materials,3,FALSE)>250,$I$10+3,$I$10+1),FALSE),IF(VLOOKUP(L96,Materials,5,FALSE)>2,IF(VLOOKUP(L96,Materials,3,FALSE)>250,\"YL\",\"BL\"),\"\")))","v":""},null,null,null,"","",null,null,null,null,"",null,"",null,"",null,{"$f":"IF(A96=\"\",\"\",'Voltage Drop'!N83)","v":""},"","",{"$error":"#N/A"},"","GY","G",{"$error":"#N/A"},8,0]
["",null,null,null,null,null,{"$f":"IF(A97=\"\",\"\",IFERROR(VLOOKUP(D97,'PDU Circuit'!$B$1:$F$199,IF(VLOOKUP(L97,Materials,3,FALSE)>250,$I$10+3,$I$10+1),FALSE),IF(VLOOKUP(L97,Materials,4,FALSE)>=1,IF(VLOOKUP(L97,Materials,3,FALSE)>250,\"BR\",\"BK\"))))","v":""},{"$f":"IF(A97=\"\",\"\",IFERROR(VLOOKUP(E97,'PDU Circuit'!$B$1:$F$199,IF(VLOOKUP(L97,Materials,3,FALSE)>250,$I$10+3,$I$10+1),FALSE),IF(VLOOKUP(L97,Materials,5,FALSE)>1,IF(VLOOKUP(L97,Materials,3,FALSE)>250,\"OR\",\"RED\"),\"\")))","v":""},{"$f":"IF(A97=\"\",\"\",IFERROR(VLOOKUP(F97,'PDU Circuit'!$B$1:$F$199,IF(VLOOKUP(L97,Materials,3,FALSE)>250,$I$10+3,$I$10+1),FALSE),IF(VLOOKUP(L97,Materials,5,FALSE)>2,IF(VLOOKUP(L97,Materials,3,FALSE)>250,\"YL\",\"BL\"),\"\")))","v":""},null,null,null,"","",null,null,null,null,"",null,"",null,"",null,{"$f":"IF(A97=\"\",\"\",'Voltage Drop'!N84)","v":""},"","",{"$error":"#N/A"},"","GY","G",{"$error":"#N/A"},8,0]
["",null,null,null,null,null,{"$f":"IF(A98=\"\",\"\",IFERROR(VLOOKUP(D98,'PDU Circuit'!$B$1:$F$199,IF(VLOOKUP(L98,Materials,3,FALSE)>250,$I$10+3,$I$10+1),FALSE),IF(VLOOKUP(L98,Materials,4,FALSE)>=1,IF(VLOOKUP(L98,Materials,3,FALSE)>250,\"BR\",\"BK\"))))","v":""},{"$f":"IF(A98=\"\",\"\",IFERROR(VLOOKUP(E98,'PDU Circuit'!$B$1:$F$199,IF(VLOOKUP(L98,Materials,3,FALSE)>250,$I$10+3,$I$10+1),FALSE),IF(VLOOKUP(L98,Materials,5,FALSE)>1,IF(VLOOKUP(L98,Materials,3,FALSE)>250,\"OR\",\"RED\"),\"\")))","v":""},{"$f":"IF(A98=\"\",\"\",IFERROR(VLOOKUP(F98,'PDU Circuit'!$B$1:$F$199,IF(VLOOKUP(L98,Materials,3,FALSE)>250,$I$10+3,$I$10+1),FALSE),IF(VLOOKUP(L98,Materials,5,FALSE)>2,IF(VLOOKUP(L98,Materials,3,FALSE)>250,\"YL\",\"BL\"),\"\")))","v":""},null,null,null,"","",null,null,null,null,"",null,"",null,"",null,{"$f":"IF(A98=\"\",\"\",'Voltage Drop'!N85)","v":""},"","",{"$error":"#N/A"},"","GY","G",{"$error":"#N/A"},8,0]
["",null,null,null,null,null,{"$f":"IF(A99=\"\",\"\",IFERROR(VLOOKUP(D99,'PDU Circuit'!$B$1:$F$199,IF(VLOOKUP(L99,Materials,3,FALSE)>250,$I$10+3,$I$10+1),FALSE),IF(VLOOKUP(L99,Materials,4,FALSE)>=1,IF(VLOOKUP(L99,Materials,3,FALSE)>250,\"BR\",\"BK\"))))","v":""},{"$f":"IF(A99=\"\",\"\",IFERROR(VLOOKUP(E99,'PDU Circuit'!$B$1:$F$199,IF(VLOOKUP(L99,Materials,3,FALSE)>250,$I$10+3,$I$10+1),FALSE),IF(VLOOKUP(L99,Materials,5,FALSE)>1,IF(VLOOKUP(L99,Materials,3,FALSE)>250,\"OR\",\"RED\"),\"\")))","v":""},{"$f":"IF(A99=\"\",\"\",IFERROR(VLOOKUP(F99,'PDU Circuit'!$B$1:$F$199,IF(VLOOKUP(L99,Materials,3,FALSE)>250,$I$10+3,$I$10+1),FALSE),IF(VLOOKUP(L99,Materials,5,FALSE)>2,IF(VLOOKUP(L99,Materials,3,FALSE)>250,\"YL\",\"BL\"),\"\")))","v":""},null,null,null,"","",null,null,null,null,"",null,"",null,"",null,{"$f":"IF(A99=\"\",\"\",'Voltage Drop'!N86)","v":""},"","",{"$error":"#N/A"},"","GY","G",{"$error":"#N/A"},8,0]
["",null,null,null,null,null,{"$f":"IF(A100=\"\",\"\",IFERROR(VLOOKUP(D100,'PDU Circuit'!$B$1:$F$199,IF(VLOOKUP(L100,Materials,3,FALSE)>250,$I$10+3,$I$10+1),FALSE),IF(VLOOKUP(L100,Materials,4,FALSE)>=1,IF(VLOOKUP(L100,Materials,3,FALSE)>250,\"BR\",\"BK\"))))","v":""},{"$f":"IF(A100=\"\",\"\",IFERROR(VLOOKUP(E100,'PDU Circuit'!$B$1:$F$199,IF(VLOOKUP(L100,Materials,3,FALSE)>250,$I$10+3,$I$10+1),FALSE),IF(VLOOKUP(L100,Materials,5,FALSE)>1,IF(VLOOKUP(L100,Materials,3,FALSE)>250,\"OR\",\"RED\"),\"\")))","v":""},{"$f":"IF(A100=\"\",\"\",IFERROR(VLOOKUP(F100,'PDU Circuit'!$B$1:$F$199,IF(VLOOKUP(L100,Materials,3,FALSE)>250,$I$10+3,$I$10+1),FALSE),IF(VLOOKUP(L100,Materials,5,FALSE)>2,IF(VLOOKUP(L100,Materials,3,FALSE)>250,\"YL\",\"BL\"),\"\")))","v":""},null,null,null,"","",null,null,null,null,"",null,"",null,"",null,{"$f":"IF(A100=\"\",\"\",'Voltage Drop'!N87)","v":""},"","",{"$error":"#N/A"},"","GY","G",{"$error":"#N/A"},8,0]
["",null,null,null,null,null,{"$f":"IF(A101=\"\",\"\",IFERROR(VLOOKUP(D101,'PDU Circuit'!$B$1:$F$199,IF(VLOOKUP(L101,Materials,3,FALSE)>250,$I$10+3,$I$10+1),FALSE),IF(VLOOKUP(L101,Materials,4,FALSE)>=1,IF(VLOOKUP(L101,Materials,3,FALSE)>250,\"BR\",\"BK\"))))","v":""},{"$f":"IF(A101=\"\",\"\",IFERROR(VLOOKUP(E101,'PDU Circuit'!$B$1:$F$199,IF(VLOOKUP(L101,Materials,3,FALSE)>250,$I$10+3,$I$10+1),FALSE),IF(VLOOKUP(L101,Materials,5,FALSE)>1,IF(VLOOKUP(L101,Materials,3,FALSE)>250,\"OR\",\"RED\"),\"\")))","v":""},{"$f":"IF(A101=\"\",\"\",IFERROR(VLOOKUP(F101,'PDU Circuit'!$B$1:$F$199,IF(VLOOKUP(L101,Materials,3,FALSE)>250,$I$10+3,$I$10+1),FALSE),IF(VLOOKUP(L101,Materials,5,FALSE)>2,IF(VLOOKUP(L101,Materials,3,FALSE)>250,\"YL\",\"BL\"),\"\")))","v":""},null,null,null,"","",null,null,null,null,"",null,"",null,"",null,{"$f":"IF(A101=\"\",\"\",'Voltage Drop'!N88)","v":""},"","",{"$error":"#N/A"},"","GY","G",{"$error":"#N/A"},8,0]
["",null,null,null,null,null,{"$f":"IF(A102=\"\",\"\",IFERROR(VLOOKUP(D102,'PDU Circuit'!$B$1:$F$199,IF(VLOOKUP(L102,Materials,3,FALSE)>250,$I$10+3,$I$10+1),FALSE),IF(VLOOKUP(L102,Materials,4,FALSE)>=1,IF(VLOOKUP(L102,Materials,3,FALSE)>250,\"BR\",\"BK\"))))","v":""},{"$f":"IF(A102=\"\",\"\",IFERROR(VLOOKUP(E102,'PDU Circuit'!$B$1:$F$199,IF(VLOOKUP(L102,Materials,3,FALSE)>250,$I$10+3,$I$10+1),FALSE),IF(VLOOKUP(L102,Materials,5,FALSE)>1,IF(VLOOKUP(L102,Materials,3,FALSE)>250,\"OR\",\"RED\"),\"\")))","v":""},{"$f":"IF(A102=\"\",\"\",IFERROR(VLOOKUP(F102,'PDU Circuit'!$B$1:$F$199,IF(VLOOKUP(L102,Materials,3,FALSE)>250,$I$10+3,$I$10+1),FALSE),IF(VLOOKUP(L102,Materials,5,FALSE)>2,IF(VLOOKUP(L102,Materials,3,FALSE)>250,\"YL\",\"BL\"),\"\")))","v":""},null,null,null,"","",null,null,null,null,"",null,"",null,"",null,{"$f":"IF(A102=\"\",\"\",'Voltage Drop'!N89)","v":""},"","",{"$error":"#N/A"},"","GY","G",{"$error":"#N/A"},8,0]
["",null,null,null,null,null,{"$f":"IF(A103=\"\",\"\",IFERROR(VLOOKUP(D103,'PDU Circuit'!$B$1:$F$199,IF(VLOOKUP(L103,Materials,3,FALSE)>250,$I$10+3,$I$10+1),FALSE),IF(VLOOKUP(L103,Materials,4,FALSE)>=1,IF(VLOOKUP(L103,Materials,3,FALSE)>250,\"BR\",\"BK\"))))","v":""},{"$f":"IF(A103=\"\",\"\",IFERROR(VLOOKUP(E103,'PDU Circuit'!$B$1:$F$199,IF(VLOOKUP(L103,Materials,3,FALSE)>250,$I$10+3,$I$10+1),FALSE),IF(VLOOKUP(L103,Materials,5,FALSE)>1,IF(VLOOKUP(L103,Materials,3,FALSE)>250,\"OR\",\"RED\"),\"\")))","v":""},{"$f":"IF(A103=\"\",\"\",IFERROR(VLOOKUP(F103,'PDU Circuit'!$B$1:$F$199,IF(VLOOKUP(L103,Materials,3,FALSE)>250,$I$10+3,$I$10+1),FALSE),IF(VLOOKUP(L103,Materials,5,FALSE)>2,IF(VLOOKUP(L103,Materials,3,FALSE)>250,\"YL\",\"BL\"),\"\")))","v":""},null,null,null,"","",null,null,null,null,"",null,"",null,"",null,{"$f":"IF(A103=\"\",\"\",'Voltage Drop'!N90)","v":""},"","",{"$error":"#N/A"},"","GY","G",{"$error":"#N/A"},8,0]
["",null,null,null,null,null,{"$f":"IF(A104=\"\",\"\",IFERROR(VLOOKUP(D104,'PDU Circuit'!$B$1:$F$199,IF(VLOOKUP(L104,Materials,3,FALSE)>250,$I$10+3,$I$10+1),FALSE),IF(VLOOKUP(L104,Materials,4,FALSE)>=1,IF(VLOOKUP(L104,Materials,3,FALSE)>250,\"BR\",\"BK\"))))","v":""},{"$f":"IF(A104=\"\",\"\",IFERROR(VLOOKUP(E104,'PDU Circuit'!$B$1:$F$199,IF(VLOOKUP(L104,Materials,3,FALSE)>250,$I$10+3,$I$10+1),FALSE),IF(VLOOKUP(L104,Materials,5,FALSE)>1,IF(VLOOKUP(L104,Materials,3,FALSE)>250,\"OR\",\"RED\"),\"\")))","v":""},{"$f":"IF(A104=\"\",\"\",IFERROR(VLOOKUP(F104,'PDU Circuit'!$B$1:$F$199,IF(VLOOKUP(L104,Materials,3,FALSE)>250,$I$10+3,$I$10+1),FALSE),IF(VLOOKUP(L104,Materials,5,FALSE)>2,IF(VLOOKUP(L104,Materials,3,FALSE)>250,\"YL\",\"BL\"),\"\")))","v":""},null,null,null,"","",null,null,null,null,"",null,"",null,"",null,{"$f":"IF(A104=\"\",\"\",'Voltage Drop'!N91)","v":""},"","",{"$error":"#N/A"},"","GY","G",{"$error":"#N/A"},8,0]
["",null,null,null,null,null,{"$f":"IF(A105=\"\",\"\",IFERROR(VLOOKUP(D105,'PDU Circuit'!$B$1:$F$199,IF(VLOOKUP(L105,Materials,3,FALSE)>250,$I$10+3,$I$10+1),FALSE),IF(VLOOKUP(L105,Materials,4,FALSE)>=1,IF(VLOOKUP(L105,Materials,3,FALSE)>250,\"BR\",\"BK\"))))","v":""},{"$f":"IF(A105=\"\",\"\",IFERROR(VLOOKUP(E105,'PDU Circuit'!$B$1:$F$199,IF(VLOOKUP(L105,Materials,3,FALSE)>250,$I$10+3,$I$10+1),FALSE),IF(VLOOKUP(L105,Materials,5,FALSE)>1,IF(VLOOKUP(L105,Materials,3,FALSE)>250,\"OR\",\"RED\"),\"\")))","v":""},{"$f":"IF(A105=\"\",\"\",IFERROR(VLOOKUP(F105,'PDU Circuit'!$B$1:$F$199,IF(VLOOKUP(L105,Materials,3,FALSE)>250,$I$10+3,$I$10+1),FALSE),IF(VLOOKUP(L105,Materials,5,FALSE)>2,IF(VLOOKUP(L105,Materials,3,FALSE)>250,\"YL\",\"BL\"),\"\")))","v":""},null,null,null,"","",null,null,null,null,"",null,"",null,"",null,{"$f":"IF(A105=\"\",\"\",'Voltage Drop'!N92)","v":""},"","",{"$error":"#N/A"},"","GY","G",{"$error":"#N/A"},8,0]
["",null,null,null,null,null,{"$f":"IF(A106=\"\",\"\",IFERROR(VLOOKUP(D106,'PDU Circuit'!$B$1:$F$199,IF(VLOOKUP(L106,Materials,3,FALSE)>250,$I$10+3,$I$10+1),FALSE),IF(VLOOKUP(L106,Materials,4,FALSE)>=1,IF(VLOOKUP(L106,Materials,3,FALSE)>250,\"BR\",\"BK\"))))","v":""},{"$f":"IF(A106=\"\",\"\",IFERROR(VLOOKUP(E106,'PDU Circuit'!$B$1:$F$199,IF(VLOOKUP(L106,Materials,3,FALSE)>250,$I$10+3,$I$10+1),FALSE),IF(VLOOKUP(L106,Materials,5,FALSE)>1,IF(VLOOKUP(L106,Materials,3,FALSE)>250,\"OR\",\"RED\"),\"\")))","v":""},{"$f":"IF(A106=\"\",\"\",IFERROR(VLOOKUP(F106,'PDU Circuit'!$B$1:$F$199,IF(VLOOKUP(L106,Materials,3,FALSE)>250,$I$10+3,$I$10+1),FALSE),IF(VLOOKUP(L106,Materials,5,FALSE)>2,IF(VLOOKUP(L106,Materials,3,FALSE)>250,\"YL\",\"BL\"),\"\")))","v":""},null,null,null,"","",null,null,null,null,"",null,"",null,"",null,{"$f":"IF(A106=\"\",\"\",'Voltage Drop'!N93)","v":""},"","",{"$error":"#N/A"},"","GY","G",{"$error":"#N/A"},8,0]
["",null,null,null,null,null,{"$f":"IF(A107=\"\",\"\",IFERROR(VLOOKUP(D107,'PDU Circuit'!$B$1:$F$199,IF(VLOOKUP(L107,Materials,3,FALSE)>250,$I$10+3,$I$10+1),FALSE),IF(VLOOKUP(L107,Materials,4,FALSE)>=1,IF(VLOOKUP(L107,Materials,3,FALSE)>250,\"BR\",\"BK\"))))","v":""},{"$f":"IF(A107=\"\",\"\",IFERROR(VLOOKUP(E107,'PDU Circuit'!$B$1:$F$199,IF(VLOOKUP(L107,Materials,3,FALSE)>250,$I$10+3,$I$10+1),FALSE),IF(VLOOKUP(L107,Materials,5,FALSE)>1,IF(VLOOKUP(L107,Materials,3,FALSE)>250,\"OR\",\"RED\"),\"\")))","v":""},{"$f":"IF(A107=\"\",\"\",IFERROR(VLOOKUP(F107,'PDU Circuit'!$B$1:$F$199,IF(VLOOKUP(L107,Materials,3,FALSE)>250,$I$10+3,$I$10+1),FALSE),IF(VLOOKUP(L107,Materials,5,FALSE)>2,IF(VLOOKUP(L107,Materials,3,FALSE)>250,\"YL\",\"BL\"),\"\")))","v":""},null,null,null,"","",null,null,null,null,"",null,"",null,"",null,{"$f":"IF(A107=\"\",\"\",'Voltage Drop'!N94)","v":""},"","",{"$error":"#N/A"},"","GY","G",{"$error":"#N/A"},8,0]
["",null,null,null,null,null,{"$f":"IF(A108=\"\",\"\",IFERROR(VLOOKUP(D108,'PDU Circuit'!$B$1:$F$199,IF(VLOOKUP(L108,Materials,3,FALSE)>250,$I$10+3,$I$10+1),FALSE),IF(VLOOKUP(L108,Materials,4,FALSE)>=1,IF(VLOOKUP(L108,Materials,3,FALSE)>250,\"BR\",\"BK\"))))","v":""},{"$f":"IF(A108=\"\",\"\",IFERROR(VLOOKUP(E108,'PDU Circuit'!$B$1:$F$199,IF(VLOOKUP(L108,Materials,3,FALSE)>250,$I$10+3,$I$10+1),FALSE),IF(VLOOKUP(L108,Materials,5,FALSE)>1,IF(VLOOKUP(L108,Materials,3,FALSE)>250,\"OR\",\"RED\"),\"\")))","v":""},{"$f":"IF(A108=\"\",\"\",IFERROR(VLOOKUP(F108,'PDU Circuit'!$B$1:$F$199,IF(VLOOKUP(L108,Materials,3,FALSE)>250,$I$10+3,$I$10+1),FALSE),IF(VLOOKUP(L108,Materials,5,FALSE)>2,IF(VLOOKUP(L108,Materials,3,FALSE)>250,\"YL\",\"BL\"),\"\")))","v":""},null,null,null,"","",null,null,null,null,"",null,"",null,"",null,{"$f":"IF(A108=\"\",\"\",'Voltage Drop'!N95)","v":""},"","",{"$error":"#N/A"},"","GY","G",{"$error":"#N/A"},8,0]
["",null,null,null,null,null,{"$f":"IF(A109=\"\",\"\",IFERROR(VLOOKUP(D109,'PDU Circuit'!$B$1:$F$199,IF(VLOOKUP(L109,Materials,3,FALSE)>250,$I$10+3,$I$10+1),FALSE),IF(VLOOKUP(L109,Materials,4,FALSE)>=1,IF(VLOOKUP(L109,Materials,3,FALSE)>250,\"BR\",\"BK\"))))","v":""},{"$f":"IF(A109=\"\",\"\",IFERROR(VLOOKUP(E109,'PDU Circuit'!$B$1:$F$199,IF(VLOOKUP(L109,Materials,3,FALSE)>250,$I$10+3,$I$10+1),FALSE),IF(VLOOKUP(L109,Materials,5,FALSE)>1,IF(VLOOKUP(L109,Materials,3,FALSE)>250,\"OR\",\"RED\"),\"\")))","v":""},{"$f":"IF(A109=\"\",\"\",IFERROR(VLOOKUP(F109,'PDU Circuit'!$B$1:$F$199,IF(VLOOKUP(L109,Materials,3,FALSE)>250,$I$10+3,$I$10+1),FALSE),IF(VLOOKUP(L109,Materials,5,FALSE)>2,IF(VLOOKUP(L109,Materials,3,FALSE)>250,\"YL\",\"BL\"),\"\")))","v":""},null,null,null,"","",null,null,null,null,"",null,"",null,"",null,{"$f":"IF(A109=\"\",\"\",'Voltage Drop'!N96)","v":""},"","",{"$error":"#N/A"},"","GY","G",{"$error":"#N/A"},8,0]
["",null,null,null,null,null,{"$f":"IF(A110=\"\",\"\",IFERROR(VLOOKUP(D110,'PDU Circuit'!$B$1:$F$199,IF(VLOOKUP(L110,Materials,3,FALSE)>250,$I$10+3,$I$10+1),FALSE),IF(VLOOKUP(L110,Materials,4,FALSE)>=1,IF(VLOOKUP(L110,Materials,3,FALSE)>250,\"BR\",\"BK\"))))","v":""},{"$f":"IF(A110=\"\",\"\",IFERROR(VLOOKUP(E110,'PDU Circuit'!$B$1:$F$199,IF(VLOOKUP(L110,Materials,3,FALSE)>250,$I$10+3,$I$10+1),FALSE),IF(VLOOKUP(L110,Materials,5,FALSE)>1,IF(VLOOKUP(L110,Materials,3,FALSE)>250,\"OR\",\"RED\"),\"\")))","v":""},{"$f":"IF(A110=\"\",\"\",IFERROR(VLOOKUP(F110,'PDU Circuit'!$B$1:$F$199,IF(VLOOKUP(L110,Materials,3,FALSE)>250,$I$10+3,$I$10+1),FALSE),IF(VLOOKUP(L110,Materials,5,FALSE)>2,IF(VLOOKUP(L110,Materials,3,FALSE)>250,\"YL\",\"BL\"),\"\")))","v":""},null,null,null,"","",null,null,null,null,"",null,"",null,"",null,{"$f":"IF(A110=\"\",\"\",'Voltage Drop'!N97)","v":""},"","",{"$error":"#N/A"},"","GY","G",{"$error":"#N/A"},8,0]
["",null,null,null,null,null,{"$f":"IF(A111=\"\",\"\",IFERROR(VLOOKUP(D111,'PDU Circuit'!$B$1:$F$199,IF(VLOOKUP(L111,Materials,3,FALSE)>250,$I$10+3,$I$10+1),FALSE),IF(VLOOKUP(L111,Materials,4,FALSE)>=1,IF(VLOOKUP(L111,Materials,3,FALSE)>250,\"BR\",\"BK\"))))","v":""},{"$f":"IF(A111=\"\",\"\",IFERROR(VLOOKUP(E111,'PDU Circuit'!$B$1:$F$199,IF(VLOOKUP(L111,Materials,3,FALSE)>250,$I$10+3,$I$10+1),FALSE),IF(VLOOKUP(L111,Materials,5,FALSE)>1,IF(VLOOKUP(L111,Materials,3,FALSE)>250,\"OR\",\"RED\"),\"\")))","v":""},{"$f":"IF(A111=\"\",\"\",IFERROR(VLOOKUP(F111,'PDU Circuit'!$B$1:$F$199,IF(VLOOKUP(L111,Materials,3,FALSE)>250,$I$10+3,$I$10+1),FALSE),IF(VLOOKUP(L111,Materials,5,FALSE)>2,IF(VLOOKUP(L111,Materials,3,FALSE)>250,\"YL\",\"BL\"),\"\")))","v":""},null,null,null,"","",null,null,null,null,"",null,"",null,"",null,{"$f":"IF(A111=\"\",\"\",'Voltage Drop'!N98)","v":""},"","",{"$error":"#N/A"},"","GY","G",{"$error":"#N/A"},8,0]
["",null,null,null,null,null,{"$f":"IF(A112=\"\",\"\",IFERROR(VLOOKUP(D112,'PDU Circuit'!$B$1:$F$199,IF(VLOOKUP(L112,Materials,3,FALSE)>250,$I$10+3,$I$10+1),FALSE),IF(VLOOKUP(L112,Materials,4,FALSE)>=1,IF(VLOOKUP(L112,Materials,3,FALSE)>250,\"BR\",\"BK\"))))","v":""},{"$f":"IF(A112=\"\",\"\",IFERROR(VLOOKUP(E112,'PDU Circuit'!$B$1:$F$199,IF(VLOOKUP(L112,Materials,3,FALSE)>250,$I$10+3,$I$10+1),FALSE),IF(VLOOKUP(L112,Materials,5,FALSE)>1,IF(VLOOKUP(L112,Materials,3,FALSE)>250,\"OR\",\"RED\"),\"\")))","v":""},{"$f":"IF(A112=\"\",\"\",IFERROR(VLOOKUP(F112,'PDU Circuit'!$B$1:$F$199,IF(VLOOKUP(L112,Materials,3,FALSE)>250,$I$10+3,$I$10+1),FALSE),IF(VLOOKUP(L112,Materials,5,FALSE)>2,IF(VLOOKUP(L112,Materials,3,FALSE)>250,\"YL\",\"BL\"),\"\")))","v":""},null,null,null,"","",null,null,null,null,"",null,"",null,"",null,{"$f":"IF(A112=\"\",\"\",'Voltage Drop'!N99)","v":""},"","",{"$error":"#N/A"},"","GY","G",{"$error":"#N/A"},8,0]
["",null,null,null,null,null,{"$f":"IF(A113=\"\",\"\",IFERROR(VLOOKUP(D113,'PDU Circuit'!$B$1:$F$199,IF(VLOOKUP(L113,Materials,3,FALSE)>250,$I$10+3,$I$10+1),FALSE),IF(VLOOKUP(L113,Materials,4,FALSE)>=1,IF(VLOOKUP(L113,Materials,3,FALSE)>250,\"BR\",\"BK\"))))","v":""},{"$f":"IF(A113=\"\",\"\",IFERROR(VLOOKUP(E113,'PDU Circuit'!$B$1:$F$199,IF(VLOOKUP(L113,Materials,3,FALSE)>250,$I$10+3,$I$10+1),FALSE),IF(VLOOKUP(L113,Materials,5,FALSE)>1,IF(VLOOKUP(L113,Materials,3,FALSE)>250,\"OR\",\"RED\"),\"\")))","v":""},{"$f":"IF(A113=\"\",\"\",IFERROR(VLOOKUP(F113,'PDU Circuit'!$B$1:$F$199,IF(VLOOKUP(L113,Materials,3,FALSE)>250,$I$10+3,$I$10+1),FALSE),IF(VLOOKUP(L113,Materials,5,FALSE)>2,IF(VLOOKUP(L113,Materials,3,FALSE)>250,\"YL\",\"BL\"),\"\")))","v":""},null,null,null,"","",null,null,null,null,"",null,"",null,"",null,{"$f":"IF(A113=\"\",\"\",'Voltage Drop'!N100)","v":""},"","",{"$error":"#N/A"},"","GY","G",{"$error":"#N/A"},8,0]
["",null,null,null,null,null,{"$f":"IF(A114=\"\",\"\",IFERROR(VLOOKUP(D114,'PDU Circuit'!$B$1:$F$199,IF(VLOOKUP(L114,Materials,3,FALSE)>250,$I$10+3,$I$10+1),FALSE),IF(VLOOKUP(L114,Materials,4,FALSE)>=1,IF(VLOOKUP(L114,Materials,3,FALSE)>250,\"BR\",\"BK\"))))","v":""},{"$f":"IF(A114=\"\",\"\",IFERROR(VLOOKUP(E114,'PDU Circuit'!$B$1:$F$199,IF(VLOOKUP(L114,Materials,3,FALSE)>250,$I$10+3,$I$10+1),FALSE),IF(VLOOKUP(L114,Materials,5,FALSE)>1,IF(VLOOKUP(L114,Materials,3,FALSE)>250,\"OR\",\"RED\"),\"\")))","v":""},{"$f":"IF(A114=\"\",\"\",IFERROR(VLOOKUP(F114,'PDU Circuit'!$B$1:$F$199,IF(VLOOKUP(L114,Materials,3,FALSE)>250,$I$10+3,$I$10+1),FALSE),IF(VLOOKUP(L114,Materials,5,FALSE)>2,IF(VLOOKUP(L114,Materials,3,FALSE)>250,\"YL\",\"BL\"),\"\")))","v":""},null,null,null,"","",null,null,null,null,"",null,"",null,"",null,{"$f":"IF(A114=\"\",\"\",'Voltage Drop'!N101)","v":""},"","",{"$error":"#N/A"},"","GY","G",{"$error":"#N/A"},8,0]
["",null,null,null,null,null,{"$f":"IF(A115=\"\",\"\",IFERROR(VLOOKUP(D115,'PDU Circuit'!$B$1:$F$199,IF(VLOOKUP(L115,Materials,3,FALSE)>250,$I$10+3,$I$10+1),FALSE),IF(VLOOKUP(L115,Materials,4,FALSE)>=1,IF(VLOOKUP(L115,Materials,3,FALSE)>250,\"BR\",\"BK\"))))","v":""},{"$f":"IF(A115=\"\",\"\",IFERROR(VLOOKUP(E115,'PDU Circuit'!$B$1:$F$199,IF(VLOOKUP(L115,Materials,3,FALSE)>250,$I$10+3,$I$10+1),FALSE),IF(VLOOKUP(L115,Materials,5,FALSE)>1,IF(VLOOKUP(L115,Materials,3,FALSE)>250,\"OR\",\"RED\"),\"\")))","v":""},{"$f":"IF(A115=\"\",\"\",IFERROR(VLOOKUP(F115,'PDU Circuit'!$B$1:$F$199,IF(VLOOKUP(L115,Materials,3,FALSE)>250,$I$10+3,$I$10+1),FALSE),IF(VLOOKUP(L115,Materials,5,FALSE)>2,IF(VLOOKUP(L115,Materials,3,FALSE)>250,\"YL\",\"BL\"),\"\")))","v":""},null,null,null,"","",null,null,null,null,"",null,"",null,"",null,{"$f":"IF(A115=\"\",\"\",'Voltage Drop'!N102)","v":""},"","",{"$error":"#N/A"},"","GY","G",{"$error":"#N/A"},8,0]
["",null,null,null,null,null,{"$f":"IF(A116=\"\",\"\",IFERROR(VLOOKUP(D116,'PDU Circuit'!$B$1:$F$199,IF(VLOOKUP(L116,Materials,3,FALSE)>250,$I$10+3,$I$10+1),FALSE),IF(VLOOKUP(L116,Materials,4,FALSE)>=1,IF(VLOOKUP(L116,Materials,3,FALSE)>250,\"BR\",\"BK\"))))","v":""},{"$f":"IF(A116=\"\",\"\",IFERROR(VLOOKUP(E116,'PDU Circuit'!$B$1:$F$199,IF(VLOOKUP(L116,Materials,3,FALSE)>250,$I$10+3,$I$10+1),FALSE),IF(VLOOKUP(L116,Materials,5,FALSE)>1,IF(VLOOKUP(L116,Materials,3,FALSE)>250,\"OR\",\"RED\"),\"\")))","v":""},{"$f":"IF(A116=\"\",\"\",IFERROR(VLOOKUP(F116,'PDU Circuit'!$B$1:$F$199,IF(VLOOKUP(L116,Materials,3,FALSE)>250,$I$10+3,$I$10+1),FALSE),IF(VLOOKUP(L116,Materials,5,FALSE)>2,IF(VLOOKUP(L116,Materials,3,FALSE)>250,\"YL\",\"BL\"),\"\")))","v":""},null,null,null,"","",null,null,null,null,"",null,"",null,"",null,{"$f":"IF(A116=\"\",\"\",'Voltage Drop'!N103)","v":""},"","",{"$error":"#N/A"},"","GY","G",{"$error":"#N/A"},8,0]
["",null,null,null,null,null,{"$f":"IF(A117=\"\",\"\",IFERROR(VLOOKUP(D117,'PDU Circuit'!$B$1:$F$199,IF(VLOOKUP(L117,Materials,3,FALSE)>250,$I$10+3,$I$10+1),FALSE),IF(VLOOKUP(L117,Materials,4,FALSE)>=1,IF(VLOOKUP(L117,Materials,3,FALSE)>250,\"BR\",\"BK\"))))","v":""},{"$f":"IF(A117=\"\",\"\",IFERROR(VLOOKUP(E117,'PDU Circuit'!$B$1:$F$199,IF(VLOOKUP(L117,Materials,3,FALSE)>250,$I$10+3,$I$10+1),FALSE),IF(VLOOKUP(L117,Materials,5,FALSE)>1,IF(VLOOKUP(L117,Materials,3,FALSE)>250,\"OR\",\"RED\"),\"\")))","v":""},{"$f":"IF(A117=\"\",\"\",IFERROR(VLOOKUP(F117,'PDU Circuit'!$B$1:$F$199,IF(VLOOKUP(L117,Materials,3,FALSE)>250,$I$10+3,$I$10+1),FALSE),IF(VLOOKUP(L117,Materials,5,FALSE)>2,IF(VLOOKUP(L117,Materials,3,FALSE)>250,\"YL\",\"BL\"),\"\")))","v":""},null,null,null,"","",null,null,null,null,"",null,"",null,"",null,{"$f":"IF(A117=\"\",\"\",'Voltage Drop'!N104)","v":""},"","",{"$error":"#N/A"},"","GY","G",{"$error":"#N/A"},8,0]
["",null,null,null,null,null,{"$f":"IF(A118=\"\",\"\",IFERROR(VLOOKUP(D118,'PDU Circuit'!$B$1:$F$199,IF(VLOOKUP(L118,Materials,3,FALSE)>250,$I$10+3,$I$10+1),FALSE),IF(VLOOKUP(L118,Materials,4,FALSE)>=1,IF(VLOOKUP(L118,Materials,3,FALSE)>250,\"BR\",\"BK\"))))","v":""},{"$f":"IF(A118=\"\",\"\",IFERROR(VLOOKUP(E118,'PDU Circuit'!$B$1:$F$199,IF(VLOOKUP(L118,Materials,3,FALSE)>250,$I$10+3,$I$10+1),FALSE),IF(VLOOKUP(L118,Materials,5,FALSE)>1,IF(VLOOKUP(L118,Materials,3,FALSE)>250,\"OR\",\"RED\"),\"\")))","v":""},{"$f":"IF(A118=\"\",\"\",IFERROR(VLOOKUP(F118,'PDU Circuit'!$B$1:$F$199,IF(VLOOKUP(L118,Materials,3,FALSE)>250,$I$10+3,$I$10+1),FALSE),IF(VLOOKUP(L118,Materials,5,FALSE)>2,IF(VLOOKUP(L118,Materials,3,FALSE)>250,\"YL\",\"BL\"),\"\")))","v":""},null,null,null,"","",null,null,null,null,"",null,"",null,"",null,{"$f":"IF(A118=\"\",\"\",'Voltage Drop'!N105)","v":""},"","",{"$error":"#N/A"},"","GY","G",{"$error":"#N/A"},8,0]
["",null,null,null,null,null,{"$f":"IF(A119=\"\",\"\",IFERROR(VLOOKUP(D119,'PDU Circuit'!$B$1:$F$199,IF(VLOOKUP(L119,Materials,3,FALSE)>250,$I$10+3,$I$10+1),FALSE),IF(VLOOKUP(L119,Materials,4,FALSE)>=1,IF(VLOOKUP(L119,Materials,3,FALSE)>250,\"BR\",\"BK\"))))","v":""},{"$f":"IF(A119=\"\",\"\",IFERROR(VLOOKUP(E119,'PDU Circuit'!$B$1:$F$199,IF(VLOOKUP(L119,Materials,3,FALSE)>250,$I$10+3,$I$10+1),FALSE),IF(VLOOKUP(L119,Materials,5,FALSE)>1,IF(VLOOKUP(L119,Materials,3,FALSE)>250,\"OR\",\"RED\"),\"\")))","v":""},{"$f":"IF(A119=\"\",\"\",IFERROR(VLOOKUP(F119,'PDU Circuit'!$B$1:$F$199,IF(VLOOKUP(L119,Materials,3,FALSE)>250,$I$10+3,$I$10+1),FALSE),IF(VLOOKUP(L119,Materials,5,FALSE)>2,IF(VLOOKUP(L119,Materials,3,FALSE)>250,\"YL\",\"BL\"),\"\")))","v":""},null,null,null,"","",null,null,null,null,"",null,"",null,"",null,{"$f":"IF(A119=\"\",\"\",'Voltage Drop'!N106)","v":""},"","",{"$error":"#N/A"},"","GY","G",{"$error":"#N/A"},8,0]
["",null,null,null,null,null,{"$f":"IF(A120=\"\",\"\",IFERROR(VLOOKUP(D120,'PDU Circuit'!$B$1:$F$199,IF(VLOOKUP(L120,Materials,3,FALSE)>250,$I$10+3,$I$10+1),FALSE),IF(VLOOKUP(L120,Materials,4,FALSE)>=1,IF(VLOOKUP(L120,Materials,3,FALSE)>250,\"BR\",\"BK\"))))","v":""},{"$f":"IF(A120=\"\",\"\",IFERROR(VLOOKUP(E120,'PDU Circuit'!$B$1:$F$199,IF(VLOOKUP(L120,Materials,3,FALSE)>250,$I$10+3,$I$10+1),FALSE),IF(VLOOKUP(L120,Materials,5,FALSE)>1,IF(VLOOKUP(L120,Materials,3,FALSE)>250,\"OR\",\"RED\"),\"\")))","v":""},{"$f":"IF(A120=\"\",\"\",IFERROR(VLOOKUP(F120,'PDU Circuit'!$B$1:$F$199,IF(VLOOKUP(L120,Materials,3,FALSE)>250,$I$10+3,$I$10+1),FALSE),IF(VLOOKUP(L120,Materials,5,FALSE)>2,IF(VLOOKUP(L120,Materials,3,FALSE)>250,\"YL\",\"BL\"),\"\")))","v":""},null,null,null,"","",null,null,null,null,"",null,"",null,"",null,{"$f":"IF(A120=\"\",\"\",'Voltage Drop'!N107)","v":""},"","",{"$error":"#N/A"},"","GY","G",{"$error":"#N/A"},8,0]
["",null,null,null,null,null,{"$f":"IF(A121=\"\",\"\",IFERROR(VLOOKUP(D121,'PDU Circuit'!$B$1:$F$199,IF(VLOOKUP(L121,Materials,3,FALSE)>250,$I$10+3,$I$10+1),FALSE),IF(VLOOKUP(L121,Materials,4,FALSE)>=1,IF(VLOOKUP(L121,Materials,3,FALSE)>250,\"BR\",\"BK\"))))","v":""},{"$f":"IF(A121=\"\",\"\",IFERROR(VLOOKUP(E121,'PDU Circuit'!$B$1:$F$199,IF(VLOOKUP(L121,Materials,3,FALSE)>250,$I$10+3,$I$10+1),FALSE),IF(VLOOKUP(L121,Materials,5,FALSE)>1,IF(VLOOKUP(L121,Materials,3,FALSE)>250,\"OR\",\"RED\"),\"\")))","v":""},{"$f":"IF(A121=\"\",\"\",IFERROR(VLOOKUP(F121,'PDU Circuit'!$B$1:$F$199,IF(VLOOKUP(L121,Materials,3,FALSE)>250,$I$10+3,$I$10+1),FALSE),IF(VLOOKUP(L121,Materials,5,FALSE)>2,IF(VLOOKUP(L121,Materials,3,FALSE)>250,\"YL\",\"BL\"),\"\")))","v":""},null,null,null,"","",null,null,null,null,"",null,"",null,"",null,{"$f":"IF(A121=\"\",\"\",'Voltage Drop'!N108)","v":""},"","",{"$error":"#N/A"},"","GY","G",{"$error":"#N/A"},8,0]
["",null,null,null,null,null,{"$f":"IF(A122=\"\",\"\",IFERROR(VLOOKUP(D122,'PDU Circuit'!$B$1:$F$199,IF(VLOOKUP(L122,Materials,3,FALSE)>250,$I$10+3,$I$10+1),FALSE),IF(VLOOKUP(L122,Materials,4,FALSE)>=1,IF(VLOOKUP(L122,Materials,3,FALSE)>250,\"BR\",\"BK\"))))","v":""},{"$f":"IF(A122=\"\",\"\",IFERROR(VLOOKUP(E122,'PDU Circuit'!$B$1:$F$199,IF(VLOOKUP(L122,Materials,3,FALSE)>250,$I$10+3,$I$10+1),FALSE),IF(VLOOKUP(L122,Materials,5,FALSE)>1,IF(VLOOKUP(L122,Materials,3,FALSE)>250,\"OR\",\"RED\"),\"\")))","v":""},{"$f":"IF(A122=\"\",\"\",IFERROR(VLOOKUP(F122,'PDU Circuit'!$B$1:$F$199,IF(VLOOKUP(L122,Materials,3,FALSE)>250,$I$10+3,$I$10+1),FALSE),IF(VLOOKUP(L122,Materials,5,FALSE)>2,IF(VLOOKUP(L122,Materials,3,FALSE)>250,\"YL\",\"BL\"),\"\")))","v":""},null,null,null,"","",null,null,null,null,"",null,"",null,"",null,{"$f":"IF(A122=\"\",\"\",'Voltage Drop'!N109)","v":""},"","",{"$error":"#N/A"},"","GY","G",{"$error":"#N/A"},8,0]
["",null,null,null,null,null,{"$f":"IF(A123=\"\",\"\",IFERROR(VLOOKUP(D123,'PDU Circuit'!$B$1:$F$199,IF(VLOOKUP(L123,Materials,3,FALSE)>250,$I$10+3,$I$10+1),FALSE),IF(VLOOKUP(L123,Materials,4,FALSE)>=1,IF(VLOOKUP(L123,Materials,3,FALSE)>250,\"BR\",\"BK\"))))","v":""},{"$f":"IF(A123=\"\",\"\",IFERROR(VLOOKUP(E123,'PDU Circuit'!$B$1:$F$199,IF(VLOOKUP(L123,Materials,3,FALSE)>250,$I$10+3,$I$10+1),FALSE),IF(VLOOKUP(L123,Materials,5,FALSE)>1,IF(VLOOKUP(L123,Materials,3,FALSE)>250,\"OR\",\"RED\"),\"\")))","v":""},{"$f":"IF(A123=\"\",\"\",IFERROR(VLOOKUP(F123,'PDU Circuit'!$B$1:$F$199,IF(VLOOKUP(L123,Materials,3,FALSE)>250,$I$10+3,$I$10+1),FALSE),IF(VLOOKUP(L123,Materials,5,FALSE)>2,IF(VLOOKUP(L123,Materials,3,FALSE)>250,\"YL\",\"BL\"),\"\")))","v":""},null,null,null,"","",null,null,null,null,"",null,"",null,"",null,{"$f":"IF(A123=\"\",\"\",'Voltage Drop'!N110)","v":""},"","",{"$error":"#N/A"},"","GY","G",{"$error":"#N/A"},8,0]
["",null,null,null,null,null,{"$f":"IF(A124=\"\",\"\",IFERROR(VLOOKUP(D124,'PDU Circuit'!$B$1:$F$199,IF(VLOOKUP(L124,Materials,3,FALSE)>250,$I$10+3,$I$10+1),FALSE),IF(VLOOKUP(L124,Materials,4,FALSE)>=1,IF(VLOOKUP(L124,Materials,3,FALSE)>250,\"BR\",\"BK\"))))","v":""},{"$f":"IF(A124=\"\",\"\",IFERROR(VLOOKUP(E124,'PDU Circuit'!$B$1:$F$199,IF(VLOOKUP(L124,Materials,3,FALSE)>250,$I$10+3,$I$10+1),FALSE),IF(VLOOKUP(L124,Materials,5,FALSE)>1,IF(VLOOKUP(L124,Materials,3,FALSE)>250,\"OR\",\"RED\"),\"\")))","v":""},{"$f":"IF(A124=\"\",\"\",IFERROR(VLOOKUP(F124,'PDU Circuit'!$B$1:$F$199,IF(VLOOKUP(L124,Materials,3,FALSE)>250,$I$10+3,$I$10+1),FALSE),IF(VLOOKUP(L124,Materials,5,FALSE)>2,IF(VLOOKUP(L124,Materials,3,FALSE)>250,\"YL\",\"BL\"),\"\")))","v":""},null,null,null,"","",null,null,null,null,"",null,"",null,"",null,{"$f":"IF(A124=\"\",\"\",'Voltage Drop'!N111)","v":""},"","",{"$error":"#N/A"},"","GY","G",{"$error":"#N/A"},8,0]
["",null,null,null,null,null,{"$f":"IF(A125=\"\",\"\",IFERROR(VLOOKUP(D125,'PDU Circuit'!$B$1:$F$199,IF(VLOOKUP(L125,Materials,3,FALSE)>250,$I$10+3,$I$10+1),FALSE),IF(VLOOKUP(L125,Materials,4,FALSE)>=1,IF(VLOOKUP(L125,Materials,3,FALSE)>250,\"BR\",\"BK\"))))","v":""},{"$f":"IF(A125=\"\",\"\",IFERROR(VLOOKUP(E125,'PDU Circuit'!$B$1:$F$199,IF(VLOOKUP(L125,Materials,3,FALSE)>250,$I$10+3,$I$10+1),FALSE),IF(VLOOKUP(L125,Materials,5,FALSE)>1,IF(VLOOKUP(L125,Materials,3,FALSE)>250,\"OR\",\"RED\"),\"\")))","v":""},{"$f":"IF(A125=\"\",\"\",IFERROR(VLOOKUP(F125,'PDU Circuit'!$B$1:$F$199,IF(VLOOKUP(L125,Materials,3,FALSE)>250,$I$10+3,$I$10+1),FALSE),IF(VLOOKUP(L125,Materials,5,FALSE)>2,IF(VLOOKUP(L125,Materials,3,FALSE)>250,\"YL\",\"BL\"),\"\")))","v":""},null,null,null,"","",null,null,null,null,"",null,"",null,"",null,{"$f":"IF(A125=\"\",\"\",'Voltage Drop'!N112)","v":""},"","",{"$error":"#N/A"},"","GY","G",{"$error":"#N/A"},8,0]
["",null,null,null,null,null,{"$f":"IF(A126=\"\",\"\",IFERROR(VLOOKUP(D126,'PDU Circuit'!$B$1:$F$199,IF(VLOOKUP(L126,Materials,3,FALSE)>250,$I$10+3,$I$10+1),FALSE),IF(VLOOKUP(L126,Materials,4,FALSE)>=1,IF(VLOOKUP(L126,Materials,3,FALSE)>250,\"BR\",\"BK\"))))","v":""},{"$f":"IF(A126=\"\",\"\",IFERROR(VLOOKUP(E126,'PDU Circuit'!$B$1:$F$199,IF(VLOOKUP(L126,Materials,3,FALSE)>250,$I$10+3,$I$10+1),FALSE),IF(VLOOKUP(L126,Materials,5,FALSE)>1,IF(VLOOKUP(L126,Materials,3,FALSE)>250,\"OR\",\"RED\"),\"\")))","v":""},{"$f":"IF(A126=\"\",\"\",IFERROR(VLOOKUP(F126,'PDU Circuit'!$B$1:$F$199,IF(VLOOKUP(L126,Materials,3,FALSE)>250,$I$10+3,$I$10+1),FALSE),IF(VLOOKUP(L126,Materials,5,FALSE)>2,IF(VLOOKUP(L126,Materials,3,FALSE)>250,\"YL\",\"BL\"),\"\")))","v":""},null,null,null,"","",null,null,null,null,"",null,"",null,"",null,{"$f":"IF(A126=\"\",\"\",'Voltage Drop'!N113)","v":""},"","",{"$error":"#N/A"},"","GY","G",{"$error":"#N/A"},8,0]
["",null,null,null,null,null,{"$f":"IF(A127=\"\",\"\",IFERROR(VLOOKUP(D127,'PDU Circuit'!$B$1:$F$199,IF(VLOOKUP(L127,Materials,3,FALSE)>250,$I$10+3,$I$10+1),FALSE),IF(VLOOKUP(L127,Materials,4,FALSE)>=1,IF(VLOOKUP(L127,Materials,3,FALSE)>250,\"BR\",\"BK\"))))","v":""},{"$f":"IF(A127=\"\",\"\",IFERROR(VLOOKUP(E127,'PDU Circuit'!$B$1:$F$199,IF(VLOOKUP(L127,Materials,3,FALSE)>250,$I$10+3,$I$10+1),FALSE),IF(VLOOKUP(L127,Materials,5,FALSE)>1,IF(VLOOKUP(L127,Materials,3,FALSE)>250,\"OR\",\"RED\"),\"\")))","v":""},{"$f":"IF(A127=\"\",\"\",IFERROR(VLOOKUP(F127,'PDU Circuit'!$B$1:$F$199,IF(VLOOKUP(L127,Materials,3,FALSE)>250,$I$10+3,$I$10+1),FALSE),IF(VLOOKUP(L127,Materials,5,FALSE)>2,IF(VLOOKUP(L127,Materials,3,FALSE)>250,\"YL\",\"BL\"),\"\")))","v":""},null,null,null,"","",null,null,null,null,"",null,"",null,"",null,{"$f":"IF(A127=\"\",\"\",'Voltage Drop'!N114)","v":""},"","",{"$error":"#N/A"},"","GY","G",{"$error":"#N/A"},8,0]
["",null,null,null,null,null,{"$f":"IF(A128=\"\",\"\",IFERROR(VLOOKUP(D128,'PDU Circuit'!$B$1:$F$199,IF(VLOOKUP(L128,Materials,3,FALSE)>250,$I$10+3,$I$10+1),FALSE),IF(VLOOKUP(L128,Materials,4,FALSE)>=1,IF(VLOOKUP(L128,Materials,3,FALSE)>250,\"BR\",\"BK\"))))","v":""},{"$f":"IF(A128=\"\",\"\",IFERROR(VLOOKUP(E128,'PDU Circuit'!$B$1:$F$199,IF(VLOOKUP(L128,Materials,3,FALSE)>250,$I$10+3,$I$10+1),FALSE),IF(VLOOKUP(L128,Materials,5,FALSE)>1,IF(VLOOKUP(L128,Materials,3,FALSE)>250,\"OR\",\"RED\"),\"\")))","v":""},{"$f":"IF(A128=\"\",\"\",IFERROR(VLOOKUP(F128,'PDU Circuit'!$B$1:$F$199,IF(VLOOKUP(L128,Materials,3,FALSE)>250,$I$10+3,$I$10+1),FALSE),IF(VLOOKUP(L128,Materials,5,FALSE)>2,IF(VLOOKUP(L128,Materials,3,FALSE)>250,\"YL\",\"BL\"),\"\")))","v":""},null,null,null,"","",null,null,null,null,"",null,"",null,"",null,{"$f":"IF(A128=\"\",\"\",'Voltage Drop'!N115)","v":""},"","",{"$error":"#N/A"},"","GY","G",{"$error":"#N/A"},8,0]
["",null,null,null,null,null,{"$f":"IF(A129=\"\",\"\",IFERROR(VLOOKUP(D129,'PDU Circuit'!$B$1:$F$199,IF(VLOOKUP(L129,Materials,3,FALSE)>250,$I$10+3,$I$10+1),FALSE),IF(VLOOKUP(L129,Materials,4,FALSE)>=1,IF(VLOOKUP(L129,Materials,3,FALSE)>250,\"BR\",\"BK\"))))","v":""},{"$f":"IF(A129=\"\",\"\",IFERROR(VLOOKUP(E129,'PDU Circuit'!$B$1:$F$199,IF(VLOOKUP(L129,Materials,3,FALSE)>250,$I$10+3,$I$10+1),FALSE),IF(VLOOKUP(L129,Materials,5,FALSE)>1,IF(VLOOKUP(L129,Materials,3,FALSE)>250,\"OR\",\"RED\"),\"\")))","v":""},{"$f":"IF(A129=\"\",\"\",IFERROR(VLOOKUP(F129,'PDU Circuit'!$B$1:$F$199,IF(VLOOKUP(L129,Materials,3,FALSE)>250,$I$10+3,$I$10+1),FALSE),IF(VLOOKUP(L129,Materials,5,FALSE)>2,IF(VLOOKUP(L129,Materials,3,FALSE)>250,\"YL\",\"BL\"),\"\")))","v":""},null,null,null,"","",null,null,null,null,"",null,"",null,"",null,{"$f":"IF(A129=\"\",\"\",'Voltage Drop'!N116)","v":""},"","",{"$error":"#N/A"},"","GY","G",{"$error":"#N/A"},8,0]
["",null,null,null,null,null,{"$f":"IF(A130=\"\",\"\",IFERROR(VLOOKUP(D130,'PDU Circuit'!$B$1:$F$199,IF(VLOOKUP(L130,Materials,3,FALSE)>250,$I$10+3,$I$10+1),FALSE),IF(VLOOKUP(L130,Materials,4,FALSE)>=1,IF(VLOOKUP(L130,Materials,3,FALSE)>250,\"BR\",\"BK\"))))","v":""},{"$f":"IF(A130=\"\",\"\",IFERROR(VLOOKUP(E130,'PDU Circuit'!$B$1:$F$199,IF(VLOOKUP(L130,Materials,3,FALSE)>250,$I$10+3,$I$10+1),FALSE),IF(VLOOKUP(L130,Materials,5,FALSE)>1,IF(VLOOKUP(L130,Materials,3,FALSE)>250,\"OR\",\"RED\"),\"\")))","v":""},{"$f":"IF(A130=\"\",\"\",IFERROR(VLOOKUP(F130,'PDU Circuit'!$B$1:$F$199,IF(VLOOKUP(L130,Materials,3,FALSE)>250,$I$10+3,$I$10+1),FALSE),IF(VLOOKUP(L130,Materials,5,FALSE)>2,IF(VLOOKUP(L130,Materials,3,FALSE)>250,\"YL\",\"BL\"),\"\")))","v":""},null,null,null,"","",null,null,null,null,"",null,"",null,"",null,{"$f":"IF(A130=\"\",\"\",'Voltage Drop'!N117)","v":""},"","",{"$error":"#N/A"},"","GY","G",{"$error":"#N/A"},8,0]
["",null,null,null,null,null,{"$f":"IF(A131=\"\",\"\",IFERROR(VLOOKUP(D131,'PDU Circuit'!$B$1:$F$199,IF(VLOOKUP(L131,Materials,3,FALSE)>250,$I$10+3,$I$10+1),FALSE),IF(VLOOKUP(L131,Materials,4,FALSE)>=1,IF(VLOOKUP(L131,Materials,3,FALSE)>250,\"BR\",\"BK\"))))","v":""},{"$f":"IF(A131=\"\",\"\",IFERROR(VLOOKUP(E131,'PDU Circuit'!$B$1:$F$199,IF(VLOOKUP(L131,Materials,3,FALSE)>250,$I$10+3,$I$10+1),FALSE),IF(VLOOKUP(L131,Materials,5,FALSE)>1,IF(VLOOKUP(L131,Materials,3,FALSE)>250,\"OR\",\"RED\"),\"\")))","v":""},{"$f":"IF(A131=\"\",\"\",IFERROR(VLOOKUP(F131,'PDU Circuit'!$B$1:$F$199,IF(VLOOKUP(L131,Materials,3,FALSE)>250,$I$10+3,$I$10+1),FALSE),IF(VLOOKUP(L131,Materials,5,FALSE)>2,IF(VLOOKUP(L131,Materials,3,FALSE)>250,\"YL\",\"BL\"),\"\")))","v":""},null,null,null,"","",null,null,null,null,"",null,"",null,"",null,{"$f":"IF(A131=\"\",\"\",'Voltage Drop'!N118)","v":""},"","",{"$error":"#N/A"},"","GY","G",{"$error":"#N/A"},8,0]
["",null,null,null,null,null,{"$f":"IF(A132=\"\",\"\",IFERROR(VLOOKUP(D132,'PDU Circuit'!$B$1:$F$199,IF(VLOOKUP(L132,Materials,3,FALSE)>250,$I$10+3,$I$10+1),FALSE),IF(VLOOKUP(L132,Materials,4,FALSE)>=1,IF(VLOOKUP(L132,Materials,3,FALSE)>250,\"BR\",\"BK\"))))","v":""},{"$f":"IF(A132=\"\",\"\",IFERROR(VLOOKUP(E132,'PDU Circuit'!$B$1:$F$199,IF(VLOOKUP(L132,Materials,3,FALSE)>250,$I$10+3,$I$10+1),FALSE),IF(VLOOKUP(L132,Materials,5,FALSE)>1,IF(VLOOKUP(L132,Materials,3,FALSE)>250,\"OR\",\"RED\"),\"\")))","v":""},{"$f":"IF(A132=\"\",\"\",IFERROR(VLOOKUP(F132,'PDU Circuit'!$B$1:$F$199,IF(VLOOKUP(L132,Materials,3,FALSE)>250,$I$10+3,$I$10+1),FALSE),IF(VLOOKUP(L132,Materials,5,FALSE)>2,IF(VLOOKUP(L132,Materials,3,FALSE)>250,\"YL\",\"BL\"),\"\")))","v":""},null,null,null,"","",null,null,null,null,"",null,"",null,"",null,{"$f":"IF(A132=\"\",\"\",'Voltage Drop'!N119)","v":""},"","",{"$error":"#N/A"},"","GY","G",{"$error":"#N/A"},8,0]
["",null,null,null,null,null,{"$f":"IF(A133=\"\",\"\",IFERROR(VLOOKUP(D133,'PDU Circuit'!$B$1:$F$199,IF(VLOOKUP(L133,Materials,3,FALSE)>250,$I$10+3,$I$10+1),FALSE),IF(VLOOKUP(L133,Materials,4,FALSE)>=1,IF(VLOOKUP(L133,Materials,3,FALSE)>250,\"BR\",\"BK\"))))","v":""},{"$f":"IF(A133=\"\",\"\",IFERROR(VLOOKUP(E133,'PDU Circuit'!$B$1:$F$199,IF(VLOOKUP(L133,Materials,3,FALSE)>250,$I$10+3,$I$10+1),FALSE),IF(VLOOKUP(L133,Materials,5,FALSE)>1,IF(VLOOKUP(L133,Materials,3,FALSE)>250,\"OR\",\"RED\"),\"\")))","v":""},{"$f":"IF(A133=\"\",\"\",IFERROR(VLOOKUP(F133,'PDU Circuit'!$B$1:$F$199,IF(VLOOKUP(L133,Materials,3,FALSE)>250,$I$10+3,$I$10+1),FALSE),IF(VLOOKUP(L133,Materials,5,FALSE)>2,IF(VLOOKUP(L133,Materials,3,FALSE)>250,\"YL\",\"BL\"),\"\")))","v":""},null,null,null,"","",null,null,null,null,"",null,"",null,"",null,{"$f":"IF(A133=\"\",\"\",'Voltage Drop'!N120)","v":""},"","",{"$error":"#N/A"},"","GY","G",{"$error":"#N/A"},8,0]
["",null,null,null,null,null,{"$f":"IF(A134=\"\",\"\",IFERROR(VLOOKUP(D134,'PDU Circuit'!$B$1:$F$199,IF(VLOOKUP(L134,Materials,3,FALSE)>250,$I$10+3,$I$10+1),FALSE),IF(VLOOKUP(L134,Materials,4,FALSE)>=1,IF(VLOOKUP(L134,Materials,3,FALSE)>250,\"BR\",\"BK\"))))","v":""},{"$f":"IF(A134=\"\",\"\",IFERROR(VLOOKUP(E134,'PDU Circuit'!$B$1:$F$199,IF(VLOOKUP(L134,Materials,3,FALSE)>250,$I$10+3,$I$10+1),FALSE),IF(VLOOKUP(L134,Materials,5,FALSE)>1,IF(VLOOKUP(L134,Materials,3,FALSE)>250,\"OR\",\"RED\"),\"\")))","v":""},{"$f":"IF(A134=\"\",\"\",IFERROR(VLOOKUP(F134,'PDU Circuit'!$B$1:$F$199,IF(VLOOKUP(L134,Materials,3,FALSE)>250,$I$10+3,$I$10+1),FALSE),IF(VLOOKUP(L134,Materials,5,FALSE)>2,IF(VLOOKUP(L134,Materials,3,FALSE)>250,\"YL\",\"BL\"),\"\")))","v":""},null,null,null,"","",null,null,null,null,"",null,"",null,"",null,{"$f":"IF(A134=\"\",\"\",'Voltage Drop'!N121)","v":""},"","",{"$error":"#N/A"},"","GY","G",{"$error":"#N/A"},8,0]
["",null,null,null,null,null,{"$f":"IF(A135=\"\",\"\",IFERROR(VLOOKUP(D135,'PDU Circuit'!$B$1:$F$199,IF(VLOOKUP(L135,Materials,3,FALSE)>250,$I$10+3,$I$10+1),FALSE),IF(VLOOKUP(L135,Materials,4,FALSE)>=1,IF(VLOOKUP(L135,Materials,3,FALSE)>250,\"BR\",\"BK\"))))","v":""},{"$f":"IF(A135=\"\",\"\",IFERROR(VLOOKUP(E135,'PDU Circuit'!$B$1:$F$199,IF(VLOOKUP(L135,Materials,3,FALSE)>250,$I$10+3,$I$10+1),FALSE),IF(VLOOKUP(L135,Materials,5,FALSE)>1,IF(VLOOKUP(L135,Materials,3,FALSE)>250,\"OR\",\"RED\"),\"\")))","v":""},{"$f":"IF(A135=\"\",\"\",IFERROR(VLOOKUP(F135,'PDU Circuit'!$B$1:$F$199,IF(VLOOKUP(L135,Materials,3,FALSE)>250,$I$10+3,$I$10+1),FALSE),IF(VLOOKUP(L135,Materials,5,FALSE)>2,IF(VLOOKUP(L135,Materials,3,FALSE)>250,\"YL\",\"BL\"),\"\")))","v":""},null,null,null,"","",null,null,null,null,"",null,"",null,"",null,{"$f":"IF(A135=\"\",\"\",'Voltage Drop'!N122)","v":""},"","",{"$error":"#N/A"},"","GY","G",{"$error":"#N/A"},8,0]
["",null,null,null,null,null,{"$f":"IF(A136=\"\",\"\",IFERROR(VLOOKUP(D136,'PDU Circuit'!$B$1:$F$199,IF(VLOOKUP(L136,Materials,3,FALSE)>250,$I$10+3,$I$10+1),FALSE),IF(VLOOKUP(L136,Materials,4,FALSE)>=1,IF(VLOOKUP(L136,Materials,3,FALSE)>250,\"BR\",\"BK\"))))","v":""},{"$f":"IF(A136=\"\",\"\",IFERROR(VLOOKUP(E136,'PDU Circuit'!$B$1:$F$199,IF(VLOOKUP(L136,Materials,3,FALSE)>250,$I$10+3,$I$10+1),FALSE),IF(VLOOKUP(L136,Materials,5,FALSE)>1,IF(VLOOKUP(L136,Materials,3,FALSE)>250,\"OR\",\"RED\"),\"\")))","v":""},{"$f":"IF(A136=\"\",\"\",IFERROR(VLOOKUP(F136,'PDU Circuit'!$B$1:$F$199,IF(VLOOKUP(L136,Materials,3,FALSE)>250,$I$10+3,$I$10+1),FALSE),IF(VLOOKUP(L136,Materials,5,FALSE)>2,IF(VLOOKUP(L136,Materials,3,FALSE)>250,\"YL\",\"BL\"),\"\")))","v":""},null,null,null,"","",null,null,null,null,"",null,"",null,"",null,{"$f":"IF(A136=\"\",\"\",'Voltage Drop'!N123)","v":""},"","",{"$error":"#N/A"},"","GY","G",{"$error":"#N/A"},8,0]
["",null,null,null,null,null,{"$f":"IF(A137=\"\",\"\",IFERROR(VLOOKUP(D137,'PDU Circuit'!$B$1:$F$199,IF(VLOOKUP(L137,Materials,3,FALSE)>250,$I$10+3,$I$10+1),FALSE),IF(VLOOKUP(L137,Materials,4,FALSE)>=1,IF(VLOOKUP(L137,Materials,3,FALSE)>250,\"BR\",\"BK\"))))","v":""},{"$f":"IF(A137=\"\",\"\",IFERROR(VLOOKUP(E137,'PDU Circuit'!$B$1:$F$199,IF(VLOOKUP(L137,Materials,3,FALSE)>250,$I$10+3,$I$10+1),FALSE),IF(VLOOKUP(L137,Materials,5,FALSE)>1,IF(VLOOKUP(L137,Materials,3,FALSE)>250,\"OR\",\"RED\"),\"\")))","v":""},{"$f":"IF(A137=\"\",\"\",IFERROR(VLOOKUP(F137,'PDU Circuit'!$B$1:$F$199,IF(VLOOKUP(L137,Materials,3,FALSE)>250,$I$10+3,$I$10+1),FALSE),IF(VLOOKUP(L137,Materials,5,FALSE)>2,IF(VLOOKUP(L137,Materials,3,FALSE)>250,\"YL\",\"BL\"),\"\")))","v":""},null,null,null,"","",null,null,null,null,"",null,"",null,"",null,{"$f":"IF(A137=\"\",\"\",'Voltage Drop'!N124)","v":""},"","",{"$error":"#N/A"},"","GY","G",{"$error":"#N/A"},8,0]
["",null,null,null,null,null,{"$f":"IF(A138=\"\",\"\",IFERROR(VLOOKUP(D138,'PDU Circuit'!$B$1:$F$199,IF(VLOOKUP(L138,Materials,3,FALSE)>250,$I$10+3,$I$10+1),FALSE),IF(VLOOKUP(L138,Materials,4,FALSE)>=1,IF(VLOOKUP(L138,Materials,3,FALSE)>250,\"BR\",\"BK\"))))","v":""},{"$f":"IF(A138=\"\",\"\",IFERROR(VLOOKUP(E138,'PDU Circuit'!$B$1:$F$199,IF(VLOOKUP(L138,Materials,3,FALSE)>250,$I$10+3,$I$10+1),FALSE),IF(VLOOKUP(L138,Materials,5,FALSE)>1,IF(VLOOKUP(L138,Materials,3,FALSE)>250,\"OR\",\"RED\"),\"\")))","v":""},{"$f":"IF(A138=\"\",\"\",IFERROR(VLOOKUP(F138,'PDU Circuit'!$B$1:$F$199,IF(VLOOKUP(L138,Materials,3,FALSE)>250,$I$10+3,$I$10+1),FALSE),IF(VLOOKUP(L138,Materials,5,FALSE)>2,IF(VLOOKUP(L138,Materials,3,FALSE)>250,\"YL\",\"BL\"),\"\")))","v":""},null,null,null,"","",null,null,null,null,"",null,"",null,"",null,{"$f":"IF(A138=\"\",\"\",'Voltage Drop'!N125)","v":""},"","",{"$error":"#N/A"},"","GY","G",{"$error":"#N/A"},8,0]
["",null,null,null,null,null,{"$f":"IF(A139=\"\",\"\",IFERROR(VLOOKUP(D139,'PDU Circuit'!$B$1:$F$199,IF(VLOOKUP(L139,Materials,3,FALSE)>250,$I$10+3,$I$10+1),FALSE),IF(VLOOKUP(L139,Materials,4,FALSE)>=1,IF(VLOOKUP(L139,Materials,3,FALSE)>250,\"BR\",\"BK\"))))","v":""},{"$f":"IF(A139=\"\",\"\",IFERROR(VLOOKUP(E139,'PDU Circuit'!$B$1:$F$199,IF(VLOOKUP(L139,Materials,3,FALSE)>250,$I$10+3,$I$10+1),FALSE),IF(VLOOKUP(L139,Materials,5,FALSE)>1,IF(VLOOKUP(L139,Materials,3,FALSE)>250,\"OR\",\"RED\"),\"\")))","v":""},{"$f":"IF(A139=\"\",\"\",IFERROR(VLOOKUP(F139,'PDU Circuit'!$B$1:$F$199,IF(VLOOKUP(L139,Materials,3,FALSE)>250,$I$10+3,$I$10+1),FALSE),IF(VLOOKUP(L139,Materials,5,FALSE)>2,IF(VLOOKUP(L139,Materials,3,FALSE)>250,\"YL\",\"BL\"),\"\")))","v":""},null,null,null,"","",null,null,null,null,"",null,"",null,"",null,{"$f":"IF(A139=\"\",\"\",'Voltage Drop'!N126)","v":""},"","",{"$error":"#N/A"},"","GY","G",{"$error":"#N/A"},8,0]
["",null,null,null,null,null,{"$f":"IF(A140=\"\",\"\",IFERROR(VLOOKUP(D140,'PDU Circuit'!$B$1:$F$199,IF(VLOOKUP(L140,Materials,3,FALSE)>250,$I$10+3,$I$10+1),FALSE),IF(VLOOKUP(L140,Materials,4,FALSE)>=1,IF(VLOOKUP(L140,Materials,3,FALSE)>250,\"BR\",\"BK\"))))","v":""},{"$f":"IF(A140=\"\",\"\",IFERROR(VLOOKUP(E140,'PDU Circuit'!$B$1:$F$199,IF(VLOOKUP(L140,Materials,3,FALSE)>250,$I$10+3,$I$10+1),FALSE),IF(VLOOKUP(L140,Materials,5,FALSE)>1,IF(VLOOKUP(L140,Materials,3,FALSE)>250,\"OR\",\"RED\"),\"\")))","v":""},{"$f":"IF(A140=\"\",\"\",IFERROR(VLOOKUP(F140,'PDU Circuit'!$B$1:$F$199,IF(VLOOKUP(L140,Materials,3,FALSE)>250,$I$10+3,$I$10+1),FALSE),IF(VLOOKUP(L140,Materials,5,FALSE)>2,IF(VLOOKUP(L140,Materials,3,FALSE)>250,\"YL\",\"BL\"),\"\")))","v":""},null,null,null,"","",null,null,null,null,"",null,"",null,"",null,{"$f":"IF(A140=\"\",\"\",'Voltage Drop'!N127)","v":""},"","",{"$error":"#N/A"},"","GY","G",{"$error":"#N/A"},8,0]
["",null,null,null,null,null,{"$f":"IF(A141=\"\",\"\",IFERROR(VLOOKUP(D141,'PDU Circuit'!$B$1:$F$199,IF(VLOOKUP(L141,Materials,3,FALSE)>250,$I$10+3,$I$10+1),FALSE),IF(VLOOKUP(L141,Materials,4,FALSE)>=1,IF(VLOOKUP(L141,Materials,3,FALSE)>250,\"BR\",\"BK\"))))","v":""},{"$f":"IF(A141=\"\",\"\",IFERROR(VLOOKUP(E141,'PDU Circuit'!$B$1:$F$199,IF(VLOOKUP(L141,Materials,3,FALSE)>250,$I$10+3,$I$10+1),FALSE),IF(VLOOKUP(L141,Materials,5,FALSE)>1,IF(VLOOKUP(L141,Materials,3,FALSE)>250,\"OR\",\"RED\"),\"\")))","v":""},{"$f":"IF(A141=\"\",\"\",IFERROR(VLOOKUP(F141,'PDU Circuit'!$B$1:$F$199,IF(VLOOKUP(L141,Materials,3,FALSE)>250,$I$10+3,$I$10+1),FALSE),IF(VLOOKUP(L141,Materials,5,FALSE)>2,IF(VLOOKUP(L141,Materials,3,FALSE)>250,\"YL\",\"BL\"),\"\")))","v":""},null,null,null,"","",null,null,null,null,"",null,"",null,"",null,{"$f":"IF(A141=\"\",\"\",'Voltage Drop'!N128)","v":""},"","",{"$error":"#N/A"},"","GY","G",{"$error":"#N/A"},8,0]
["",null,null,null,null,null,{"$f":"IF(A142=\"\",\"\",IFERROR(VLOOKUP(D142,'PDU Circuit'!$B$1:$F$199,IF(VLOOKUP(L142,Materials,3,FALSE)>250,$I$10+3,$I$10+1),FALSE),IF(VLOOKUP(L142,Materials,4,FALSE)>=1,IF(VLOOKUP(L142,Materials,3,FALSE)>250,\"BR\",\"BK\"))))","v":""},{"$f":"IF(A142=\"\",\"\",IFERROR(VLOOKUP(E142,'PDU Circuit'!$B$1:$F$199,IF(VLOOKUP(L142,Materials,3,FALSE)>250,$I$10+3,$I$10+1),FALSE),IF(VLOOKUP(L142,Materials,5,FALSE)>1,IF(VLOOKUP(L142,Materials,3,FALSE)>250,\"OR\",\"RED\"),\"\")))","v":""},{"$f":"IF(A142=\"\",\"\",IFERROR(VLOOKUP(F142,'PDU Circuit'!$B$1:$F$199,IF(VLOOKUP(L142,Materials,3,FALSE)>250,$I$10+3,$I$10+1),FALSE),IF(VLOOKUP(L142,Materials,5,FALSE)>2,IF(VLOOKUP(L142,Materials,3,FALSE)>250,\"YL\",\"BL\"),\"\")))","v":""},null,null,null,"","",null,null,null,null,"",null,"",null,"",null,{"$f":"IF(A142=\"\",\"\",'Voltage Drop'!N129)","v":""},"","",{"$error":"#N/A"},"","GY","G",{"$error":"#N/A"},8,0]
[{"$f":"IFERROR(IF($I$8>=A142+1,A142+1,\"\"),\"\")","v":""},null,null,null,null,null,{"$f":"IF(A143=\"\",\"\",IFERROR(VLOOKUP(D143,'PDU Circuit'!$B$1:$F$199,IF(VLOOKUP(L143,Materials,3,FALSE)>250,$I$10+3,$I$10+1),FALSE),IF(VLOOKUP(L143,Materials,4,FALSE)>=1,IF(VLOOKUP(L143,Materials,3,FALSE)>250,\"BR\",\"BK\"))))","v":""},{"$f":"IF(A143=\"\",\"\",IFERROR(VLOOKUP(E143,'PDU Circuit'!$B$1:$F$199,IF(VLOOKUP(L143,Materials,3,FALSE)>250,$I$10+3,$I$10+1),FALSE),IF(VLOOKUP(L143,Materials,5,FALSE)>1,IF(VLOOKUP(L143,Materials,3,FALSE)>250,\"OR\",\"RED\"),\"\")))","v":""},{"$f":"IF(A143=\"\",\"\",IFERROR(VLOOKUP(F143,'PDU Circuit'!$B$1:$F$199,IF(VLOOKUP(L143,Materials,3,FALSE)>250,$I$10+3,$I$10+1),FALSE),IF(VLOOKUP(L143,Materials,5,FALSE)>2,IF(VLOOKUP(L143,Materials,3,FALSE)>250,\"YL\",\"BL\"),\"\")))","v":""},null,null,null,"","",null,null,null,null,{"$f":"IFERROR(VLOOKUP($L143,Materials,10,FALSE),\"\")","v":""},null,{"$f":"IFERROR(VLOOKUP($L143,Materials,8,FALSE),\"\")","v":""},null,{"$f":"IFERROR(VLOOKUP($L143,Materials,9,FALSE),\"\")","v":""},null,{"$f":"IF(A143=\"\",\"\",'Voltage Drop'!N130)","v":""},"",{"$f":"IF(A143=\"\",\"\",\"CBL ASSY W/ PIGTAIL\")","v":""},{"$f":"\"CQ\"&VLOOKUP(L143,Materials,2,FALSE)&\"/\"&VLOOKUP(Q143,Breakers,2,FALSE)&\"/\"&O143&\"/\"&VLOOKUP(R143,Colors,2,FALSE)&\"/\"&AF143&AG143&AH143","v":{"$error":"#N/A"}},"","GY","G",{"$error":"#N/A"},8,0]
["",null,null,null,null,null,{"$f":"IF(A144=\"\",\"\",IFERROR(VLOOKUP(D144,'PDU Circuit'!$B$1:$F$199,IF(VLOOKUP(L144,Materials,3,FALSE)>250,$I$10+3,$I$10+1),FALSE),IF(VLOOKUP(L144,Materials,4,FALSE)>=1,IF(VLOOKUP(L144,Materials,3,FALSE)>250,\"BR\",\"BK\"))))","v":""},{"$f":"IF(A144=\"\",\"\",IFERROR(VLOOKUP(E144,'PDU Circuit'!$B$1:$F$199,IF(VLOOKUP(L144,Materials,3,FALSE)>250,$I$10+3,$I$10+1),FALSE),IF(VLOOKUP(L144,Materials,5,FALSE)>1,IF(VLOOKUP(L144,Materials,3,FALSE)>250,\"OR\",\"RED\"),\"\")))","v":""},{"$f":"IF(A144=\"\",\"\",IFERROR(VLOOKUP(F144,'PDU Circuit'!$B$1:$F$199,IF(VLOOKUP(L144,Materials,3,FALSE)>250,$I$10+3,$I$10+1),FALSE),IF(VLOOKUP(L144,Materials,5,FALSE)>2,IF(VLOOKUP(L144,Materials,3,FALSE)>250,\"YL\",\"BL\"),\"\")))","v":""},null,null,null,{"$f":"IFERROR(VLOOKUP(L144,Materials,3,FALSE)&\"V \"&VLOOKUP(L144,Materials,4,FALSE)&\"A\",\"\")","v":""},{"$f":"IFERROR(VLOOKUP(L144,Materials,6,FALSE),\"\")","v":""},null,null,null,null,"",null,"",null,"",null,{"$f":"IF(A144=\"\",\"\",'Voltage Drop'!N131)","v":""},{"$f":"IFERROR(AB144,\"\")","v":""},"",{"$error":"#N/A"},{"$f":"RIGHT(G144,2)","v":""},{"$f":"IF(H144=\"\",IF(G144=\"BK\",\"W\",\"GY\"),RIGHT(H144,2))","v":"GY"},{"$f":"IF(I144=\"\",IF(MID(N144,3,1)>=\"4\",IF(G144=\"BK\",\"W\",\"GY\"),\"G\"),RIGHT(I144,2))","v":"G"},{"$f":"VLOOKUP(AC144,$AI$15:$AJ$23,2,FALSE)","v":{"$error":"#N/A"}},{"$f":"VLOOKUP(AD144,$AI$15:$AJ$23,2,FALSE)","v":8},{"$f":"VLOOKUP(AE144,$AI$15:$AJ$23,2,FALSE)","v":0}]
["",null,null,null,null,null,{"$f":"IF(A145=\"\",\"\",IFERROR(VLOOKUP(D145,'PDU Circuit'!$B$1:$F$199,IF(VLOOKUP(L145,Materials,3,FALSE)>250,$I$10+3,$I$10+1),FALSE),IF(VLOOKUP(L145,Materials,4,FALSE)>=1,IF(VLOOKUP(L145,Materials,3,FALSE)>250,\"BR\",\"BK\"))))","v":""},{"$f":"IF(A145=\"\",\"\",IFERROR(VLOOKUP(E145,'PDU Circuit'!$B$1:$F$199,IF(VLOOKUP(L145,Materials,3,FALSE)>250,$I$10+3,$I$10+1),FALSE),IF(VLOOKUP(L145,Materials,5,FALSE)>1,IF(VLOOKUP(L145,Materials,3,FALSE)>250,\"OR\",\"RED\"),\"\")))","v":""},{"$f":"IF(A145=\"\",\"\",IFERROR(VLOOKUP(F145,'PDU Circuit'!$B$1:$F$199,IF(VLOOKUP(L145,Materials,3,FALSE)>250,$I$10+3,$I$10+1),FALSE),IF(VLOOKUP(L145,Materials,5,FALSE)>2,IF(VLOOKUP(L145,Materials,3,FALSE)>250,\"YL\",\"BL\"),\"\")))","v":""},null,null,null,"","",null,null,null,null,"",null,"",null,"",null,{"$f":"IF(A145=\"\",\"\",'Voltage Drop'!N132)","v":""},"","",{"$error":"#N/A"},"","GY","G",{"$error":"#N/A"},8,0]
["",null,null,null,null,null,{"$f":"IF(A146=\"\",\"\",IFERROR(VLOOKUP(D146,'PDU Circuit'!$B$1:$F$199,IF(VLOOKUP(L146,Materials,3,FALSE)>250,$I$10+3,$I$10+1),FALSE),IF(VLOOKUP(L146,Materials,4,FALSE)>=1,IF(VLOOKUP(L146,Materials,3,FALSE)>250,\"BR\",\"BK\"))))","v":""},{"$f":"IF(A146=\"\",\"\",IFERROR(VLOOKUP(E146,'PDU Circuit'!$B$1:$F$199,IF(VLOOKUP(L146,Materials,3,FALSE)>250,$I$10+3,$I$10+1),FALSE),IF(VLOOKUP(L146,Materials,5,FALSE)>1,IF(VLOOKUP(L146,Materials,3,FALSE)>250,\"OR\",\"RED\"),\"\")))","v":""},{"$f":"IF(A146=\"\",\"\",IFERROR(VLOOKUP(F146,'PDU Circuit'!$B$1:$F$199,IF(VLOOKUP(L146,Materials,3,FALSE)>250,$I$10+3,$I$10+1),FALSE),IF(VLOOKUP(L146,Materials,5,FALSE)>2,IF(VLOOKUP(L146,Materials,3,FALSE)>250,\"YL\",\"BL\"),\"\")))","v":""},null,null,null,"","",null,null,null,null,"",null,"",null,"",null,{"$f":"IF(A146=\"\",\"\",'Voltage Drop'!N133)","v":""},"","",{"$error":"#N/A"},"","GY","G",{"$error":"#N/A"},8,0]
["",null,null,null,null,null,{"$f":"IF(A147=\"\",\"\",IFERROR(VLOOKUP(D147,'PDU Circuit'!$B$1:$F$199,IF(VLOOKUP(L147,Materials,3,FALSE)>250,$I$10+3,$I$10+1),FALSE),IF(VLOOKUP(L147,Materials,4,FALSE)>=1,IF(VLOOKUP(L147,Materials,3,FALSE)>250,\"BR\",\"BK\"))))","v":""},{"$f":"IF(A147=\"\",\"\",IFERROR(VLOOKUP(E147,'PDU Circuit'!$B$1:$F$199,IF(VLOOKUP(L147,Materials,3,FALSE)>250,$I$10+3,$I$10+1),FALSE),IF(VLOOKUP(L147,Materials,5,FALSE)>1,IF(VLOOKUP(L147,Materials,3,FALSE)>250,\"OR\",\"RED\"),\"\")))","v":""},{"$f":"IF(A147=\"\",\"\",IFERROR(VLOOKUP(F147,'PDU Circuit'!$B$1:$F$199,IF(VLOOKUP(L147,Materials,3,FALSE)>250,$I$10+3,$I$10+1),FALSE),IF(VLOOKUP(L147,Materials,5,FALSE)>2,IF(VLOOKUP(L147,Materials,3,FALSE)>250,\"YL\",\"BL\"),\"\")))","v":""},null,null,null,"","",null,null,null,null,"",null,"",null,"",null,{"$f":"IF(A147=\"\",\"\",'Voltage Drop'!N134)","v":""},"","",{"$error":"#N/A"},"","GY","G",{"$error":"#N/A"},8,0]
["",null,null,null,null,null,{"$f":"IF(A148=\"\",\"\",IFERROR(VLOOKUP(D148,'PDU Circuit'!$B$1:$F$199,IF(VLOOKUP(L148,Materials,3,FALSE)>250,$I$10+3,$I$10+1),FALSE),IF(VLOOKUP(L148,Materials,4,FALSE)>=1,IF(VLOOKUP(L148,Materials,3,FALSE)>250,\"BR\",\"BK\"))))","v":""},{"$f":"IF(A148=\"\",\"\",IFERROR(VLOOKUP(E148,'PDU Circuit'!$B$1:$F$199,IF(VLOOKUP(L148,Materials,3,FALSE)>250,$I$10+3,$I$10+1),FALSE),IF(VLOOKUP(L148,Materials,5,FALSE)>1,IF(VLOOKUP(L148,Materials,3,FALSE)>250,\"OR\",\"RED\"),\"\")))","v":""},{"$f":"IF(A148=\"\",\"\",IFERROR(VLOOKUP(F148,'PDU Circuit'!$B$1:$F$199,IF(VLOOKUP(L148,Materials,3,FALSE)>250,$I$10+3,$I$10+1),FALSE),IF(VLOOKUP(L148,Materials,5,FALSE)>2,IF(VLOOKUP(L148,Materials,3,FALSE)>250,\"YL\",\"BL\"),\"\")))","v":""},null,null,null,"","",null,null,null,null,"",null,"",null,"",null,{"$f":"IF(A148=\"\",\"\",'Voltage Drop'!N135)","v":""},"","",{"$error":"#N/A"},"","GY","G",{"$error":"#N/A"},8,0]
["",null,null,null,null,null,{"$f":"IF(A149=\"\",\"\",IFERROR(VLOOKUP(D149,'PDU Circuit'!$B$1:$F$199,IF(VLOOKUP(L149,Materials,3,FALSE)>250,$I$10+3,$I$10+1),FALSE),IF(VLOOKUP(L149,Materials,4,FALSE)>=1,IF(VLOOKUP(L149,Materials,3,FALSE)>250,\"BR\",\"BK\"))))","v":""},{"$f":"IF(A149=\"\",\"\",IFERROR(VLOOKUP(E149,'PDU Circuit'!$B$1:$F$199,IF(VLOOKUP(L149,Materials,3,FALSE)>250,$I$10+3,$I$10+1),FALSE),IF(VLOOKUP(L149,Materials,5,FALSE)>1,IF(VLOOKUP(L149,Materials,3,FALSE)>250,\"OR\",\"RED\"),\"\")))","v":""},{"$f":"IF(A149=\"\",\"\",IFERROR(VLOOKUP(F149,'PDU Circuit'!$B$1:$F$199,IF(VLOOKUP(L149,Materials,3,FALSE)>250,$I$10+3,$I$10+1),FALSE),IF(VLOOKUP(L149,Materials,5,FALSE)>2,IF(VLOOKUP(L149,Materials,3,FALSE)>250,\"YL\",\"BL\"),\"\")))","v":""},null,null,null,"","",null,null,null,null,"",null,"",null,"",null,{"$f":"IF(A149=\"\",\"\",'Voltage Drop'!N136)","v":""},"","",{"$error":"#N/A"},"","GY","G",{"$error":"#N/A"},8,0]
["",null,null,null,null,null,{"$f":"IF(A150=\"\",\"\",IFERROR(VLOOKUP(D150,'PDU Circuit'!$B$1:$F$199,IF(VLOOKUP(L150,Materials,3,FALSE)>250,$I$10+3,$I$10+1),FALSE),IF(VLOOKUP(L150,Materials,4,FALSE)>=1,IF(VLOOKUP(L150,Materials,3,FALSE)>250,\"BR\",\"BK\"))))","v":""},{"$f":"IF(A150=\"\",\"\",IFERROR(VLOOKUP(E150,'PDU Circuit'!$B$1:$F$199,IF(VLOOKUP(L150,Materials,3,FALSE)>250,$I$10+3,$I$10+1),FALSE),IF(VLOOKUP(L150,Materials,5,FALSE)>1,IF(VLOOKUP(L150,Materials,3,FALSE)>250,\"OR\",\"RED\"),\"\")))","v":""},{"$f":"IF(A150=\"\",\"\",IFERROR(VLOOKUP(F150,'PDU Circuit'!$B$1:$F$199,IF(VLOOKUP(L150,Materials,3,FALSE)>250,$I$10+3,$I$10+1),FALSE),IF(VLOOKUP(L150,Materials,5,FALSE)>2,IF(VLOOKUP(L150,Materials,3,FALSE)>250,\"YL\",\"BL\"),\"\")))","v":""},null,null,null,"","",null,null,null,null,"",null,"",null,"",null,{"$f":"IF(A150=\"\",\"\",'Voltage Drop'!N137)","v":""},"","",{"$error":"#N/A"},"","GY","G",{"$error":"#N/A"},8,0]
["",null,null,null,null,null,{"$f":"IF(A151=\"\",\"\",IFERROR(VLOOKUP(D151,'PDU Circuit'!$B$1:$F$199,IF(VLOOKUP(L151,Materials,3,FALSE)>250,$I$10+3,$I$10+1),FALSE),IF(VLOOKUP(L151,Materials,4,FALSE)>=1,IF(VLOOKUP(L151,Materials,3,FALSE)>250,\"BR\",\"BK\"))))","v":""},{"$f":"IF(A151=\"\",\"\",IFERROR(VLOOKUP(E151,'PDU Circuit'!$B$1:$F$199,IF(VLOOKUP(L151,Materials,3,FALSE)>250,$I$10+3,$I$10+1),FALSE),IF(VLOOKUP(L151,Materials,5,FALSE)>1,IF(VLOOKUP(L151,Materials,3,FALSE)>250,\"OR\",\"RED\"),\"\")))","v":""},{"$f":"IF(A151=\"\",\"\",IFERROR(VLOOKUP(F151,'PDU Circuit'!$B$1:$F$199,IF(VLOOKUP(L151,Materials,3,FALSE)>250,$I$10+3,$I$10+1),FALSE),IF(VLOOKUP(L151,Materials,5,FALSE)>2,IF(VLOOKUP(L151,Materials,3,FALSE)>250,\"YL\",\"BL\"),\"\")))","v":""},null,null,null,"","",null,null,null,null,"",null,"",null,"",null,{"$f":"IF(A151=\"\",\"\",'Voltage Drop'!N138)","v":""},"","",{"$error":"#N/A"},"","GY","G",{"$error":"#N/A"},8,0]
["",null,null,null,null,null,{"$f":"IF(A152=\"\",\"\",IFERROR(VLOOKUP(D152,'PDU Circuit'!$B$1:$F$199,IF(VLOOKUP(L152,Materials,3,FALSE)>250,$I$10+3,$I$10+1),FALSE),IF(VLOOKUP(L152,Materials,4,FALSE)>=1,IF(VLOOKUP(L152,Materials,3,FALSE)>250,\"BR\",\"BK\"))))","v":""},{"$f":"IF(A152=\"\",\"\",IFERROR(VLOOKUP(E152,'PDU Circuit'!$B$1:$F$199,IF(VLOOKUP(L152,Materials,3,FALSE)>250,$I$10+3,$I$10+1),FALSE),IF(VLOOKUP(L152,Materials,5,FALSE)>1,IF(VLOOKUP(L152,Materials,3,FALSE)>250,\"OR\",\"RED\"),\"\")))","v":""},{"$f":"IF(A152=\"\",\"\",IFERROR(VLOOKUP(F152,'PDU Circuit'!$B$1:$F$199,IF(VLOOKUP(L152,Materials,3,FALSE)>250,$I$10+3,$I$10+1),FALSE),IF(VLOOKUP(L152,Materials,5,FALSE)>2,IF(VLOOKUP(L152,Materials,3,FALSE)>250,\"YL\",\"BL\"),\"\")))","v":""},null,null,null,"","",null,null,null,null,"",null,"",null,"",null,{"$f":"IF(A152=\"\",\"\",'Voltage Drop'!N139)","v":""},"","",{"$error":"#N/A"},"","GY","G",{"$error":"#N/A"},8,0]
["",null,null,null,null,null,{"$f":"IF(A153=\"\",\"\",IFERROR(VLOOKUP(D153,'PDU Circuit'!$B$1:$F$199,IF(VLOOKUP(L153,Materials,3,FALSE)>250,$I$10+3,$I$10+1),FALSE),IF(VLOOKUP(L153,Materials,4,FALSE)>=1,IF(VLOOKUP(L153,Materials,3,FALSE)>250,\"BR\",\"BK\"))))","v":""},{"$f":"IF(A153=\"\",\"\",IFERROR(VLOOKUP(E153,'PDU Circuit'!$B$1:$F$199,IF(VLOOKUP(L153,Materials,3,FALSE)>250,$I$10+3,$I$10+1),FALSE),IF(VLOOKUP(L153,Materials,5,FALSE)>1,IF(VLOOKUP(L153,Materials,3,FALSE)>250,\"OR\",\"RED\"),\"\")))","v":""},{"$f":"IF(A153=\"\",\"\",IFERROR(VLOOKUP(F153,'PDU Circuit'!$B$1:$F$199,IF(VLOOKUP(L153,Materials,3,FALSE)>250,$I$10+3,$I$10+1),FALSE),IF(VLOOKUP(L153,Materials,5,FALSE)>2,IF(VLOOKUP(L153,Materials,3,FALSE)>250,\"YL\",\"BL\"),\"\")))","v":""},null,null,null,"","",null,null,null,null,"",null,"",null,"",null,{"$f":"IF(A153=\"\",\"\",'Voltage Drop'!N140)","v":""},"","",{"$error":"#N/A"},"","GY","G",{"$error":"#N/A"},8,0]
["",null,null,null,null,null,{"$f":"IF(A154=\"\",\"\",IFERROR(VLOOKUP(D154,'PDU Circuit'!$B$1:$F$199,IF(VLOOKUP(L154,Materials,3,FALSE)>250,$I$10+3,$I$10+1),FALSE),IF(VLOOKUP(L154,Materials,4,FALSE)>=1,IF(VLOOKUP(L154,Materials,3,FALSE)>250,\"BR\",\"BK\"))))","v":""},{"$f":"IF(A154=\"\",\"\",IFERROR(VLOOKUP(E154,'PDU Circuit'!$B$1:$F$199,IF(VLOOKUP(L154,Materials,3,FALSE)>250,$I$10+3,$I$10+1),FALSE),IF(VLOOKUP(L154,Materials,5,FALSE)>1,IF(VLOOKUP(L154,Materials,3,FALSE)>250,\"OR\",\"RED\"),\"\")))","v":""},{"$f":"IF(A154=\"\",\"\",IFERROR(VLOOKUP(F154,'PDU Circuit'!$B$1:$F$199,IF(VLOOKUP(L154,Materials,3,FALSE)>250,$I$10+3,$I$10+1),FALSE),IF(VLOOKUP(L154,Materials,5,FALSE)>2,IF(VLOOKUP(L154,Materials,3,FALSE)>250,\"YL\",\"BL\"),\"\")))","v":""},null,null,null,"","",null,null,null,null,"",null,"",null,"",null,{"$f":"IF(A154=\"\",\"\",'Voltage Drop'!N141)","v":""},"","",{"$error":"#N/A"},"","GY","G",{"$error":"#N/A"},8,0]
["",null,null,null,null,null,{"$f":"IF(A155=\"\",\"\",IFERROR(VLOOKUP(D155,'PDU Circuit'!$B$1:$F$199,IF(VLOOKUP(L155,Materials,3,FALSE)>250,$I$10+3,$I$10+1),FALSE),IF(VLOOKUP(L155,Materials,4,FALSE)>=1,IF(VLOOKUP(L155,Materials,3,FALSE)>250,\"BR\",\"BK\"))))","v":""},{"$f":"IF(A155=\"\",\"\",IFERROR(VLOOKUP(E155,'PDU Circuit'!$B$1:$F$199,IF(VLOOKUP(L155,Materials,3,FALSE)>250,$I$10+3,$I$10+1),FALSE),IF(VLOOKUP(L155,Materials,5,FALSE)>1,IF(VLOOKUP(L155,Materials,3,FALSE)>250,\"OR\",\"RED\"),\"\")))","v":""},{"$f":"IF(A155=\"\",\"\",IFERROR(VLOOKUP(F155,'PDU Circuit'!$B$1:$F$199,IF(VLOOKUP(L155,Materials,3,FALSE)>250,$I$10+3,$I$10+1),FALSE),IF(VLOOKUP(L155,Materials,5,FALSE)>2,IF(VLOOKUP(L155,Materials,3,FALSE)>250,\"YL\",\"BL\"),\"\")))","v":""},null,null,null,"","",null,null,null,null,"",null,"",null,"",null,{"$f":"IF(A155=\"\",\"\",'Voltage Drop'!N142)","v":""},"","",{"$error":"#N/A"},"","GY","G",{"$error":"#N/A"},8,0]
["",null,null,null,null,null,{"$f":"IF(A156=\"\",\"\",IFERROR(VLOOKUP(D156,'PDU Circuit'!$B$1:$F$199,IF(VLOOKUP(L156,Materials,3,FALSE)>250,$I$10+3,$I$10+1),FALSE),IF(VLOOKUP(L156,Materials,4,FALSE)>=1,IF(VLOOKUP(L156,Materials,3,FALSE)>250,\"BR\",\"BK\"))))","v":""},{"$f":"IF(A156=\"\",\"\",IFERROR(VLOOKUP(E156,'PDU Circuit'!$B$1:$F$199,IF(VLOOKUP(L156,Materials,3,FALSE)>250,$I$10+3,$I$10+1),FALSE),IF(VLOOKUP(L156,Materials,5,FALSE)>1,IF(VLOOKUP(L156,Materials,3,FALSE)>250,\"OR\",\"RED\"),\"\")))","v":""},{"$f":"IF(A156=\"\",\"\",IFERROR(VLOOKUP(F156,'PDU Circuit'!$B$1:$F$199,IF(VLOOKUP(L156,Materials,3,FALSE)>250,$I$10+3,$I$10+1),FALSE),IF(VLOOKUP(L156,Materials,5,FALSE)>2,IF(VLOOKUP(L156,Materials,3,FALSE)>250,\"YL\",\"BL\"),\"\")))","v":""},null,null,null,"","",null,null,null,null,"",null,"",null,"",null,{"$f":"IF(A156=\"\",\"\",'Voltage Drop'!N143)","v":""},"","",{"$error":"#N/A"},"","GY","G",{"$error":"#N/A"},8,0]
["",null,null,null,null,null,{"$f":"IF(A157=\"\",\"\",IFERROR(VLOOKUP(D157,'PDU Circuit'!$B$1:$F$199,IF(VLOOKUP(L157,Materials,3,FALSE)>250,$I$10+3,$I$10+1),FALSE),IF(VLOOKUP(L157,Materials,4,FALSE)>=1,IF(VLOOKUP(L157,Materials,3,FALSE)>250,\"BR\",\"BK\"))))","v":""},{"$f":"IF(A157=\"\",\"\",IFERROR(VLOOKUP(E157,'PDU Circuit'!$B$1:$F$199,IF(VLOOKUP(L157,Materials,3,FALSE)>250,$I$10+3,$I$10+1),FALSE),IF(VLOOKUP(L157,Materials,5,FALSE)>1,IF(VLOOKUP(L157,Materials,3,FALSE)>250,\"OR\",\"RED\"),\"\")))","v":""},{"$f":"IF(A157=\"\",\"\",IFERROR(VLOOKUP(F157,'PDU Circuit'!$B$1:$F$199,IF(VLOOKUP(L157,Materials,3,FALSE)>250,$I$10+3,$I$10+1),FALSE),IF(VLOOKUP(L157,Materials,5,FALSE)>2,IF(VLOOKUP(L157,Materials,3,FALSE)>250,\"YL\",\"BL\"),\"\")))","v":""},null,null,null,"","",null,null,null,null,"",null,"",null,"",null,{"$f":"IF(A157=\"\",\"\",'Voltage Drop'!N144)","v":""},"","",{"$error":"#N/A"},"","GY","G",{"$error":"#N/A"},8,0]
["",null,null,null,null,null,{"$f":"IF(A158=\"\",\"\",IFERROR(VLOOKUP(D158,'PDU Circuit'!$B$1:$F$199,IF(VLOOKUP(L158,Materials,3,FALSE)>250,$I$10+3,$I$10+1),FALSE),IF(VLOOKUP(L158,Materials,4,FALSE)>=1,IF(VLOOKUP(L158,Materials,3,FALSE)>250,\"BR\",\"BK\"))))","v":""},{"$f":"IF(A158=\"\",\"\",IFERROR(VLOOKUP(E158,'PDU Circuit'!$B$1:$F$199,IF(VLOOKUP(L158,Materials,3,FALSE)>250,$I$10+3,$I$10+1),FALSE),IF(VLOOKUP(L158,Materials,5,FALSE)>1,IF(VLOOKUP(L158,Materials,3,FALSE)>250,\"OR\",\"RED\"),\"\")))","v":""},{"$f":"IF(A158=\"\",\"\",IFERROR(VLOOKUP(F158,'PDU Circuit'!$B$1:$F$199,IF(VLOOKUP(L158,Materials,3,FALSE)>250,$I$10+3,$I$10+1),FALSE),IF(VLOOKUP(L158,Materials,5,FALSE)>2,IF(VLOOKUP(L158,Materials,3,FALSE)>250,\"YL\",\"BL\"),\"\")))","v":""},null,null,null,"","",null,null,null,null,"",null,"",null,"",null,{"$f":"IF(A158=\"\",\"\",'Voltage Drop'!N145)","v":""},"","",{"$error":"#N/A"},"","GY","G",{"$error":"#N/A"},8,0]
["",null,null,null,null,null,{"$f":"IF(A159=\"\",\"\",IFERROR(VLOOKUP(D159,'PDU Circuit'!$B$1:$F$199,IF(VLOOKUP(L159,Materials,3,FALSE)>250,$I$10+3,$I$10+1),FALSE),IF(VLOOKUP(L159,Materials,4,FALSE)>=1,IF(VLOOKUP(L159,Materials,3,FALSE)>250,\"BR\",\"BK\"))))","v":""},{"$f":"IF(A159=\"\",\"\",IFERROR(VLOOKUP(E159,'PDU Circuit'!$B$1:$F$199,IF(VLOOKUP(L159,Materials,3,FALSE)>250,$I$10+3,$I$10+1),FALSE),IF(VLOOKUP(L159,Materials,5,FALSE)>1,IF(VLOOKUP(L159,Materials,3,FALSE)>250,\"OR\",\"RED\"),\"\")))","v":""},{"$f":"IF(A159=\"\",\"\",IFERROR(VLOOKUP(F159,'PDU Circuit'!$B$1:$F$199,IF(VLOOKUP(L159,Materials,3,FALSE)>250,$I$10+3,$I$10+1),FALSE),IF(VLOOKUP(L159,Materials,5,FALSE)>2,IF(VLOOKUP(L159,Materials,3,FALSE)>250,\"YL\",\"BL\"),\"\")))","v":""},null,null,null,"","",null,null,null,null,"",null,"",null,"",null,{"$f":"IF(A159=\"\",\"\",'Voltage Drop'!N146)","v":""},"","",{"$error":"#N/A"},"","GY","G",{"$error":"#N/A"},8,0]
["",null,null,null,null,null,{"$f":"IF(A160=\"\",\"\",IFERROR(VLOOKUP(D160,'PDU Circuit'!$B$1:$F$199,IF(VLOOKUP(L160,Materials,3,FALSE)>250,$I$10+3,$I$10+1),FALSE),IF(VLOOKUP(L160,Materials,4,FALSE)>=1,IF(VLOOKUP(L160,Materials,3,FALSE)>250,\"BR\",\"BK\"))))","v":""},{"$f":"IF(A160=\"\",\"\",IFERROR(VLOOKUP(E160,'PDU Circuit'!$B$1:$F$199,IF(VLOOKUP(L160,Materials,3,FALSE)>250,$I$10+3,$I$10+1),FALSE),IF(VLOOKUP(L160,Materials,5,FALSE)>1,IF(VLOOKUP(L160,Materials,3,FALSE)>250,\"OR\",\"RED\"),\"\")))","v":""},{"$f":"IF(A160=\"\",\"\",IFERROR(VLOOKUP(F160,'PDU Circuit'!$B$1:$F$199,IF(VLOOKUP(L160,Materials,3,FALSE)>250,$I$10+3,$I$10+1),FALSE),IF(VLOOKUP(L160,Materials,5,FALSE)>2,IF(VLOOKUP(L160,Materials,3,FALSE)>250,\"YL\",\"BL\"),\"\")))","v":""},null,null,null,"","",null,null,null,null,"",null,"",null,"",null,{"$f":"IF(A160=\"\",\"\",'Voltage Drop'!N147)","v":""},"","",{"$error":"#N/A"},"","GY","G",{"$error":"#N/A"},8,0]
["",null,null,null,null,null,{"$f":"IF(A161=\"\",\"\",IFERROR(VLOOKUP(D161,'PDU Circuit'!$B$1:$F$199,IF(VLOOKUP(L161,Materials,3,FALSE)>250,$I$10+3,$I$10+1),FALSE),IF(VLOOKUP(L161,Materials,4,FALSE)>=1,IF(VLOOKUP(L161,Materials,3,FALSE)>250,\"BR\",\"BK\"))))","v":""},{"$f":"IF(A161=\"\",\"\",IFERROR(VLOOKUP(E161,'PDU Circuit'!$B$1:$F$199,IF(VLOOKUP(L161,Materials,3,FALSE)>250,$I$10+3,$I$10+1),FALSE),IF(VLOOKUP(L161,Materials,5,FALSE)>1,IF(VLOOKUP(L161,Materials,3,FALSE)>250,\"OR\",\"RED\"),\"\")))","v":""},{"$f":"IF(A161=\"\",\"\",IFERROR(VLOOKUP(F161,'PDU Circuit'!$B$1:$F$199,IF(VLOOKUP(L161,Materials,3,FALSE)>250,$I$10+3,$I$10+1),FALSE),IF(VLOOKUP(L161,Materials,5,FALSE)>2,IF(VLOOKUP(L161,Materials,3,FALSE)>250,\"YL\",\"BL\"),\"\")))","v":""},null,null,null,"","",null,null,null,null,"",null,"",null,"",null,{"$f":"IF(A161=\"\",\"\",'Voltage Drop'!N148)","v":""},"","",{"$error":"#N/A"},"","GY","G",{"$error":"#N/A"},8,0]
["",null,null,null,null,null,{"$f":"IF(A162=\"\",\"\",IFERROR(VLOOKUP(D162,'PDU Circuit'!$B$1:$F$199,IF(VLOOKUP(L162,Materials,3,FALSE)>250,$I$10+3,$I$10+1),FALSE),IF(VLOOKUP(L162,Materials,4,FALSE)>=1,IF(VLOOKUP(L162,Materials,3,FALSE)>250,\"BR\",\"BK\"))))","v":""},{"$f":"IF(A162=\"\",\"\",IFERROR(VLOOKUP(E162,'PDU Circuit'!$B$1:$F$199,IF(VLOOKUP(L162,Materials,3,FALSE)>250,$I$10+3,$I$10+1),FALSE),IF(VLOOKUP(L162,Materials,5,FALSE)>1,IF(VLOOKUP(L162,Materials,3,FALSE)>250,\"OR\",\"RED\"),\"\")))","v":""},{"$f":"IF(A162=\"\",\"\",IFERROR(VLOOKUP(F162,'PDU Circuit'!$B$1:$F$199,IF(VLOOKUP(L162,Materials,3,FALSE)>250,$I$10+3,$I$10+1),FALSE),IF(VLOOKUP(L162,Materials,5,FALSE)>2,IF(VLOOKUP(L162,Materials,3,FALSE)>250,\"YL\",\"BL\"),\"\")))","v":""},null,null,null,"","",null,null,null,null,"",null,"",null,"",null,{"$f":"IF(A162=\"\",\"\",'Voltage Drop'!N149)","v":""},"","",{"$error":"#N/A"},"","GY","G",{"$error":"#N/A"},8,0]
["",null,null,null,null,null,{"$f":"IF(A163=\"\",\"\",IFERROR(VLOOKUP(D163,'PDU Circuit'!$B$1:$F$199,IF(VLOOKUP(L163,Materials,3,FALSE)>250,$I$10+3,$I$10+1),FALSE),IF(VLOOKUP(L163,Materials,4,FALSE)>=1,IF(VLOOKUP(L163,Materials,3,FALSE)>250,\"BR\",\"BK\"))))","v":""},{"$f":"IF(A163=\"\",\"\",IFERROR(VLOOKUP(E163,'PDU Circuit'!$B$1:$F$199,IF(VLOOKUP(L163,Materials,3,FALSE)>250,$I$10+3,$I$10+1),FALSE),IF(VLOOKUP(L163,Materials,5,FALSE)>1,IF(VLOOKUP(L163,Materials,3,FALSE)>250,\"OR\",\"RED\"),\"\")))","v":""},{"$f":"IF(A163=\"\",\"\",IFERROR(VLOOKUP(F163,'PDU Circuit'!$B$1:$F$199,IF(VLOOKUP(L163,Materials,3,FALSE)>250,$I$10+3,$I$10+1),FALSE),IF(VLOOKUP(L163,Materials,5,FALSE)>2,IF(VLOOKUP(L163,Materials,3,FALSE)>250,\"YL\",\"BL\"),\"\")))","v":""},null,null,null,"","",null,null,null,null,"",null,"",null,"",null,{"$f":"IF(A163=\"\",\"\",'Voltage Drop'!N150)","v":""},"","",{"$error":"#N/A"},"","GY","G",{"$error":"#N/A"},8,0]
["",null,null,null,null,null,{"$f":"IF(A164=\"\",\"\",IFERROR(VLOOKUP(D164,'PDU Circuit'!$B$1:$F$199,IF(VLOOKUP(L164,Materials,3,FALSE)>250,$I$10+3,$I$10+1),FALSE),IF(VLOOKUP(L164,Materials,4,FALSE)>=1,IF(VLOOKUP(L164,Materials,3,FALSE)>250,\"BR\",\"BK\"))))","v":""},{"$f":"IF(A164=\"\",\"\",IFERROR(VLOOKUP(E164,'PDU Circuit'!$B$1:$F$199,IF(VLOOKUP(L164,Materials,3,FALSE)>250,$I$10+3,$I$10+1),FALSE),IF(VLOOKUP(L164,Materials,5,FALSE)>1,IF(VLOOKUP(L164,Materials,3,FALSE)>250,\"OR\",\"RED\"),\"\")))","v":""},{"$f":"IF(A164=\"\",\"\",IFERROR(VLOOKUP(F164,'PDU Circuit'!$B$1:$F$199,IF(VLOOKUP(L164,Materials,3,FALSE)>250,$I$10+3,$I$10+1),FALSE),IF(VLOOKUP(L164,Materials,5,FALSE)>2,IF(VLOOKUP(L164,Materials,3,FALSE)>250,\"YL\",\"BL\"),\"\")))","v":""},null,null,null,"","",null,null,null,null,"",null,"",null,"",null,{"$f":"IF(A164=\"\",\"\",'Voltage Drop'!N151)","v":""},"","",{"$error":"#N/A"},"","GY","G",{"$error":"#N/A"},8,0]
["",null,null,null,null,null,{"$f":"IF(A165=\"\",\"\",IFERROR(VLOOKUP(D165,'PDU Circuit'!$B$1:$F$199,IF(VLOOKUP(L165,Materials,3,FALSE)>250,$I$10+3,$I$10+1),FALSE),IF(VLOOKUP(L165,Materials,4,FALSE)>=1,IF(VLOOKUP(L165,Materials,3,FALSE)>250,\"BR\",\"BK\"))))","v":""},{"$f":"IF(A165=\"\",\"\",IFERROR(VLOOKUP(E165,'PDU Circuit'!$B$1:$F$199,IF(VLOOKUP(L165,Materials,3,FALSE)>250,$I$10+3,$I$10+1),FALSE),IF(VLOOKUP(L165,Materials,5,FALSE)>1,IF(VLOOKUP(L165,Materials,3,FALSE)>250,\"OR\",\"RED\"),\"\")))","v":""},{"$f":"IF(A165=\"\",\"\",IFERROR(VLOOKUP(F165,'PDU Circuit'!$B$1:$F$199,IF(VLOOKUP(L165,Materials,3,FALSE)>250,$I$10+3,$I$10+1),FALSE),IF(VLOOKUP(L165,Materials,5,FALSE)>2,IF(VLOOKUP(L165,Materials,3,FALSE)>250,\"YL\",\"BL\"),\"\")))","v":""},null,null,null,"","",null,null,null,null,"",null,"",null,"",null,{"$f":"IF(A165=\"\",\"\",'Voltage Drop'!N152)","v":""},"","",{"$error":"#N/A"},"","GY","G",{"$error":"#N/A"},8,0]
["",null,null,null,null,null,{"$f":"IF(A166=\"\",\"\",IFERROR(VLOOKUP(D166,'PDU Circuit'!$B$1:$F$199,IF(VLOOKUP(L166,Materials,3,FALSE)>250,$I$10+3,$I$10+1),FALSE),IF(VLOOKUP(L166,Materials,4,FALSE)>=1,IF(VLOOKUP(L166,Materials,3,FALSE)>250,\"BR\",\"BK\"))))","v":""},{"$f":"IF(A166=\"\",\"\",IFERROR(VLOOKUP(E166,'PDU Circuit'!$B$1:$F$199,IF(VLOOKUP(L166,Materials,3,FALSE)>250,$I$10+3,$I$10+1),FALSE),IF(VLOOKUP(L166,Materials,5,FALSE)>1,IF(VLOOKUP(L166,Materials,3,FALSE)>250,\"OR\",\"RED\"),\"\")))","v":""},{"$f":"IF(A166=\"\",\"\",IFERROR(VLOOKUP(F166,'PDU Circuit'!$B$1:$F$199,IF(VLOOKUP(L166,Materials,3,FALSE)>250,$I$10+3,$I$10+1),FALSE),IF(VLOOKUP(L166,Materials,5,FALSE)>2,IF(VLOOKUP(L166,Materials,3,FALSE)>250,\"YL\",\"BL\"),\"\")))","v":""},null,null,null,"","",null,null,null,null,"",null,"",null,"",null,{"$f":"IF(A166=\"\",\"\",'Voltage Drop'!N153)","v":""},"","",{"$error":"#N/A"},"","GY","G",{"$error":"#N/A"},8,0]
["",null,null,null,null,null,{"$f":"IF(A167=\"\",\"\",IFERROR(VLOOKUP(D167,'PDU Circuit'!$B$1:$F$199,IF(VLOOKUP(L167,Materials,3,FALSE)>250,$I$10+3,$I$10+1),FALSE),IF(VLOOKUP(L167,Materials,4,FALSE)>=1,IF(VLOOKUP(L167,Materials,3,FALSE)>250,\"BR\",\"BK\"))))","v":""},{"$f":"IF(A167=\"\",\"\",IFERROR(VLOOKUP(E167,'PDU Circuit'!$B$1:$F$199,IF(VLOOKUP(L167,Materials,3,FALSE)>250,$I$10+3,$I$10+1),FALSE),IF(VLOOKUP(L167,Materials,5,FALSE)>1,IF(VLOOKUP(L167,Materials,3,FALSE)>250,\"OR\",\"RED\"),\"\")))","v":""},{"$f":"IF(A167=\"\",\"\",IFERROR(VLOOKUP(F167,'PDU Circuit'!$B$1:$F$199,IF(VLOOKUP(L167,Materials,3,FALSE)>250,$I$10+3,$I$10+1),FALSE),IF(VLOOKUP(L167,Materials,5,FALSE)>2,IF(VLOOKUP(L167,Materials,3,FALSE)>250,\"YL\",\"BL\"),\"\")))","v":""},null,null,null,"","",null,null,null,null,"",null,"",null,"",null,{"$f":"IF(A167=\"\",\"\",'Voltage Drop'!N154)","v":""},"","",{"$error":"#N/A"},"","GY","G",{"$error":"#N/A"},8,0]
["",null,null,null,null,null,{"$f":"IF(A168=\"\",\"\",IFERROR(VLOOKUP(D168,'PDU Circuit'!$B$1:$F$199,IF(VLOOKUP(L168,Materials,3,FALSE)>250,$I$10+3,$I$10+1),FALSE),IF(VLOOKUP(L168,Materials,4,FALSE)>=1,IF(VLOOKUP(L168,Materials,3,FALSE)>250,\"BR\",\"BK\"))))","v":""},{"$f":"IF(A168=\"\",\"\",IFERROR(VLOOKUP(E168,'PDU Circuit'!$B$1:$F$199,IF(VLOOKUP(L168,Materials,3,FALSE)>250,$I$10+3,$I$10+1),FALSE),IF(VLOOKUP(L168,Materials,5,FALSE)>1,IF(VLOOKUP(L168,Materials,3,FALSE)>250,\"OR\",\"RED\"),\"\")))","v":""},{"$f":"IF(A168=\"\",\"\",IFERROR(VLOOKUP(F168,'PDU Circuit'!$B$1:$F$199,IF(VLOOKUP(L168,Materials,3,FALSE)>250,$I$10+3,$I$10+1),FALSE),IF(VLOOKUP(L168,Materials,5,FALSE)>2,IF(VLOOKUP(L168,Materials,3,FALSE)>250,\"YL\",\"BL\"),\"\")))","v":""},null,null,null,"","",null,null,null,null,"",null,"",null,"",null,{"$f":"IF(A168=\"\",\"\",'Voltage Drop'!N155)","v":""},"","",{"$error":"#N/A"},"","GY","G",{"$error":"#N/A"},8,0]
["",null,null,null,null,null,{"$f":"IF(A169=\"\",\"\",IFERROR(VLOOKUP(D169,'PDU Circuit'!$B$1:$F$199,IF(VLOOKUP(L169,Materials,3,FALSE)>250,$I$10+3,$I$10+1),FALSE),IF(VLOOKUP(L169,Materials,4,FALSE)>=1,IF(VLOOKUP(L169,Materials,3,FALSE)>250,\"BR\",\"BK\"))))","v":""},{"$f":"IF(A169=\"\",\"\",IFERROR(VLOOKUP(E169,'PDU Circuit'!$B$1:$F$199,IF(VLOOKUP(L169,Materials,3,FALSE)>250,$I$10+3,$I$10+1),FALSE),IF(VLOOKUP(L169,Materials,5,FALSE)>1,IF(VLOOKUP(L169,Materials,3,FALSE)>250,\"OR\",\"RED\"),\"\")))","v":""},{"$f":"IF(A169=\"\",\"\",IFERROR(VLOOKUP(F169,'PDU Circuit'!$B$1:$F$199,IF(VLOOKUP(L169,Materials,3,FALSE)>250,$I$10+3,$I$10+1),FALSE),IF(VLOOKUP(L169,Materials,5,FALSE)>2,IF(VLOOKUP(L169,Materials,3,FALSE)>250,\"YL\",\"BL\"),\"\")))","v":""},null,null,null,"","",null,null,null,null,"",null,"",null,"",null,{"$f":"IF(A169=\"\",\"\",'Voltage Drop'!N156)","v":""},"","",{"$error":"#N/A"},"","GY","G",{"$error":"#N/A"},8,0]
["",null,null,null,null,null,{"$f":"IF(A170=\"\",\"\",IFERROR(VLOOKUP(D170,'PDU Circuit'!$B$1:$F$199,IF(VLOOKUP(L170,Materials,3,FALSE)>250,$I$10+3,$I$10+1),FALSE),IF(VLOOKUP(L170,Materials,4,FALSE)>=1,IF(VLOOKUP(L170,Materials,3,FALSE)>250,\"BR\",\"BK\"))))","v":""},{"$f":"IF(A170=\"\",\"\",IFERROR(VLOOKUP(E170,'PDU Circuit'!$B$1:$F$199,IF(VLOOKUP(L170,Materials,3,FALSE)>250,$I$10+3,$I$10+1),FALSE),IF(VLOOKUP(L170,Materials,5,FALSE)>1,IF(VLOOKUP(L170,Materials,3,FALSE)>250,\"OR\",\"RED\"),\"\")))","v":""},{"$f":"IF(A170=\"\",\"\",IFERROR(VLOOKUP(F170,'PDU Circuit'!$B$1:$F$199,IF(VLOOKUP(L170,Materials,3,FALSE)>250,$I$10+3,$I$10+1),FALSE),IF(VLOOKUP(L170,Materials,5,FALSE)>2,IF(VLOOKUP(L170,Materials,3,FALSE)>250,\"YL\",\"BL\"),\"\")))","v":""},null,null,null,"","",null,null,null,null,"",null,"",null,"",null,{"$f":"IF(A170=\"\",\"\",'Voltage Drop'!N157)","v":""},"","",{"$error":"#N/A"},"","GY","G",{"$error":"#N/A"},8,0]
["",null,null,null,null,null,{"$f":"IF(A171=\"\",\"\",IFERROR(VLOOKUP(D171,'PDU Circuit'!$B$1:$F$199,IF(VLOOKUP(L171,Materials,3,FALSE)>250,$I$10+3,$I$10+1),FALSE),IF(VLOOKUP(L171,Materials,4,FALSE)>=1,IF(VLOOKUP(L171,Materials,3,FALSE)>250,\"BR\",\"BK\"))))","v":""},{"$f":"IF(A171=\"\",\"\",IFERROR(VLOOKUP(E171,'PDU Circuit'!$B$1:$F$199,IF(VLOOKUP(L171,Materials,3,FALSE)>250,$I$10+3,$I$10+1),FALSE),IF(VLOOKUP(L171,Materials,5,FALSE)>1,IF(VLOOKUP(L171,Materials,3,FALSE)>250,\"OR\",\"RED\"),\"\")))","v":""},{"$f":"IF(A171=\"\",\"\",IFERROR(VLOOKUP(F171,'PDU Circuit'!$B$1:$F$199,IF(VLOOKUP(L171,Materials,3,FALSE)>250,$I$10+3,$I$10+1),FALSE),IF(VLOOKUP(L171,Materials,5,FALSE)>2,IF(VLOOKUP(L171,Materials,3,FALSE)>250,\"YL\",\"BL\"),\"\")))","v":""},null,null,null,"","",null,null,null,null,"",null,"",null,"",null,{"$f":"IF(A171=\"\",\"\",'Voltage Drop'!N158)","v":""},"","",{"$error":"#N/A"},"","GY","G",{"$error":"#N/A"},8,0]
["",null,null,null,null,null,{"$f":"IF(A172=\"\",\"\",IFERROR(VLOOKUP(D172,'PDU Circuit'!$B$1:$F$199,IF(VLOOKUP(L172,Materials,3,FALSE)>250,$I$10+3,$I$10+1),FALSE),IF(VLOOKUP(L172,Materials,4,FALSE)>=1,IF(VLOOKUP(L172,Materials,3,FALSE)>250,\"BR\",\"BK\"))))","v":""},{"$f":"IF(A172=\"\",\"\",IFERROR(VLOOKUP(E172,'PDU Circuit'!$B$1:$F$199,IF(VLOOKUP(L172,Materials,3,FALSE)>250,$I$10+3,$I$10+1),FALSE),IF(VLOOKUP(L172,Materials,5,FALSE)>1,IF(VLOOKUP(L172,Materials,3,FALSE)>250,\"OR\",\"RED\"),\"\")))","v":""},{"$f":"IF(A172=\"\",\"\",IFERROR(VLOOKUP(F172,'PDU Circuit'!$B$1:$F$199,IF(VLOOKUP(L172,Materials,3,FALSE)>250,$I$10+3,$I$10+1),FALSE),IF(VLOOKUP(L172,Materials,5,FALSE)>2,IF(VLOOKUP(L172,Materials,3,FALSE)>250,\"YL\",\"BL\"),\"\")))","v":""},null,null,null,"","",null,null,null,null,"",null,"",null,"",null,{"$f":"IF(A172=\"\",\"\",'Voltage Drop'!N159)","v":""},"","",{"$error":"#N/A"},"","GY","G",{"$error":"#N/A"},8,0]
["",null,null,null,null,null,{"$f":"IF(A173=\"\",\"\",IFERROR(VLOOKUP(D173,'PDU Circuit'!$B$1:$F$199,IF(VLOOKUP(L173,Materials,3,FALSE)>250,$I$10+3,$I$10+1),FALSE),IF(VLOOKUP(L173,Materials,4,FALSE)>=1,IF(VLOOKUP(L173,Materials,3,FALSE)>250,\"BR\",\"BK\"))))","v":""},{"$f":"IF(A173=\"\",\"\",IFERROR(VLOOKUP(E173,'PDU Circuit'!$B$1:$F$199,IF(VLOOKUP(L173,Materials,3,FALSE)>250,$I$10+3,$I$10+1),FALSE),IF(VLOOKUP(L173,Materials,5,FALSE)>1,IF(VLOOKUP(L173,Materials,3,FALSE)>250,\"OR\",\"RED\"),\"\")))","v":""},{"$f":"IF(A173=\"\",\"\",IFERROR(VLOOKUP(F173,'PDU Circuit'!$B$1:$F$199,IF(VLOOKUP(L173,Materials,3,FALSE)>250,$I$10+3,$I$10+1),FALSE),IF(VLOOKUP(L173,Materials,5,FALSE)>2,IF(VLOOKUP(L173,Materials,3,FALSE)>250,\"YL\",\"BL\"),\"\")))","v":""},null,null,null,"","",null,null,null,null,"",null,"",null,"",null,{"$f":"IF(A173=\"\",\"\",'Voltage Drop'!N160)","v":""},"","",{"$error":"#N/A"},"","GY","G",{"$error":"#N/A"},8,0]
["",null,null,null,null,null,{"$f":"IF(A174=\"\",\"\",IFERROR(VLOOKUP(D174,'PDU Circuit'!$B$1:$F$199,IF(VLOOKUP(L174,Materials,3,FALSE)>250,$I$10+3,$I$10+1),FALSE),IF(VLOOKUP(L174,Materials,4,FALSE)>=1,IF(VLOOKUP(L174,Materials,3,FALSE)>250,\"BR\",\"BK\"))))","v":""},{"$f":"IF(A174=\"\",\"\",IFERROR(VLOOKUP(E174,'PDU Circuit'!$B$1:$F$199,IF(VLOOKUP(L174,Materials,3,FALSE)>250,$I$10+3,$I$10+1),FALSE),IF(VLOOKUP(L174,Materials,5,FALSE)>1,IF(VLOOKUP(L174,Materials,3,FALSE)>250,\"OR\",\"RED\"),\"\")))","v":""},{"$f":"IF(A174=\"\",\"\",IFERROR(VLOOKUP(F174,'PDU Circuit'!$B$1:$F$199,IF(VLOOKUP(L174,Materials,3,FALSE)>250,$I$10+3,$I$10+1),FALSE),IF(VLOOKUP(L174,Materials,5,FALSE)>2,IF(VLOOKUP(L174,Materials,3,FALSE)>250,\"YL\",\"BL\"),\"\")))","v":""},null,null,null,"","",null,null,null,null,"",null,"",null,"",null,{"$f":"IF(A174=\"\",\"\",'Voltage Drop'!N161)","v":""},"","",{"$error":"#N/A"},"","GY","G",{"$error":"#N/A"},8,0]
["",null,null,null,null,null,{"$f":"IF(A175=\"\",\"\",IFERROR(VLOOKUP(D175,'PDU Circuit'!$B$1:$F$199,IF(VLOOKUP(L175,Materials,3,FALSE)>250,$I$10+3,$I$10+1),FALSE),IF(VLOOKUP(L175,Materials,4,FALSE)>=1,IF(VLOOKUP(L175,Materials,3,FALSE)>250,\"BR\",\"BK\"))))","v":""},{"$f":"IF(A175=\"\",\"\",IFERROR(VLOOKUP(E175,'PDU Circuit'!$B$1:$F$199,IF(VLOOKUP(L175,Materials,3,FALSE)>250,$I$10+3,$I$10+1),FALSE),IF(VLOOKUP(L175,Materials,5,FALSE)>1,IF(VLOOKUP(L175,Materials,3,FALSE)>250,\"OR\",\"RED\"),\"\")))","v":""},{"$f":"IF(A175=\"\",\"\",IFERROR(VLOOKUP(F175,'PDU Circuit'!$B$1:$F$199,IF(VLOOKUP(L175,Materials,3,FALSE)>250,$I$10+3,$I$10+1),FALSE),IF(VLOOKUP(L175,Materials,5,FALSE)>2,IF(VLOOKUP(L175,Materials,3,FALSE)>250,\"YL\",\"BL\"),\"\")))","v":""},null,null,null,"","",null,null,null,null,"",null,"",null,"",null,{"$f":"IF(A175=\"\",\"\",'Voltage Drop'!N162)","v":""},"","",{"$error":"#N/A"},"","GY","G",{"$error":"#N/A"},8,0]
["",null,null,null,null,null,{"$f":"IF(A176=\"\",\"\",IFERROR(VLOOKUP(D176,'PDU Circuit'!$B$1:$F$199,IF(VLOOKUP(L176,Materials,3,FALSE)>250,$I$10+3,$I$10+1),FALSE),IF(VLOOKUP(L176,Materials,4,FALSE)>=1,IF(VLOOKUP(L176,Materials,3,FALSE)>250,\"BR\",\"BK\"))))","v":""},{"$f":"IF(A176=\"\",\"\",IFERROR(VLOOKUP(E176,'PDU Circuit'!$B$1:$F$199,IF(VLOOKUP(L176,Materials,3,FALSE)>250,$I$10+3,$I$10+1),FALSE),IF(VLOOKUP(L176,Materials,5,FALSE)>1,IF(VLOOKUP(L176,Materials,3,FALSE)>250,\"OR\",\"RED\"),\"\")))","v":""},{"$f":"IF(A176=\"\",\"\",IFERROR(VLOOKUP(F176,'PDU Circuit'!$B$1:$F$199,IF(VLOOKUP(L176,Materials,3,FALSE)>250,$I$10+3,$I$10+1),FALSE),IF(VLOOKUP(L176,Materials,5,FALSE)>2,IF(VLOOKUP(L176,Materials,3,FALSE)>250,\"YL\",\"BL\"),\"\")))","v":""},null,null,null,"","",null,null,null,null,"",null,"",null,"",null,{"$f":"IF(A176=\"\",\"\",'Voltage Drop'!N163)","v":""},"","",{"$error":"#N/A"},"","GY","G",{"$error":"#N/A"},8,0]
["",null,null,null,null,null,{"$f":"IF(A177=\"\",\"\",IFERROR(VLOOKUP(D177,'PDU Circuit'!$B$1:$F$199,IF(VLOOKUP(L177,Materials,3,FALSE)>250,$I$10+3,$I$10+1),FALSE),IF(VLOOKUP(L177,Materials,4,FALSE)>=1,IF(VLOOKUP(L177,Materials,3,FALSE)>250,\"BR\",\"BK\"))))","v":""},{"$f":"IF(A177=\"\",\"\",IFERROR(VLOOKUP(E177,'PDU Circuit'!$B$1:$F$199,IF(VLOOKUP(L177,Materials,3,FALSE)>250,$I$10+3,$I$10+1),FALSE),IF(VLOOKUP(L177,Materials,5,FALSE)>1,IF(VLOOKUP(L177,Materials,3,FALSE)>250,\"OR\",\"RED\"),\"\")))","v":""},{"$f":"IF(A177=\"\",\"\",IFERROR(VLOOKUP(F177,'PDU Circuit'!$B$1:$F$199,IF(VLOOKUP(L177,Materials,3,FALSE)>250,$I$10+3,$I$10+1),FALSE),IF(VLOOKUP(L177,Materials,5,FALSE)>2,IF(VLOOKUP(L177,Materials,3,FALSE)>250,\"YL\",\"BL\"),\"\")))","v":""},null,null,null,"","",null,null,null,null,"",null,"",null,"",null,{"$f":"IF(A177=\"\",\"\",'Voltage Drop'!N164)","v":""},"","",{"$error":"#N/A"},"","GY","G",{"$error":"#N/A"},8,0]
["",null,null,null,null,null,{"$f":"IF(A178=\"\",\"\",IFERROR(VLOOKUP(D178,'PDU Circuit'!$B$1:$F$199,IF(VLOOKUP(L178,Materials,3,FALSE)>250,$I$10+3,$I$10+1),FALSE),IF(VLOOKUP(L178,Materials,4,FALSE)>=1,IF(VLOOKUP(L178,Materials,3,FALSE)>250,\"BR\",\"BK\"))))","v":""},{"$f":"IF(A178=\"\",\"\",IFERROR(VLOOKUP(E178,'PDU Circuit'!$B$1:$F$199,IF(VLOOKUP(L178,Materials,3,FALSE)>250,$I$10+3,$I$10+1),FALSE),IF(VLOOKUP(L178,Materials,5,FALSE)>1,IF(VLOOKUP(L178,Materials,3,FALSE)>250,\"OR\",\"RED\"),\"\")))","v":""},{"$f":"IF(A178=\"\",\"\",IFERROR(VLOOKUP(F178,'PDU Circuit'!$B$1:$F$199,IF(VLOOKUP(L178,Materials,3,FALSE)>250,$I$10+3,$I$10+1),FALSE),IF(VLOOKUP(L178,Materials,5,FALSE)>2,IF(VLOOKUP(L178,Materials,3,FALSE)>250,\"YL\",\"BL\"),\"\")))","v":""},null,null,null,"","",null,null,null,null,"",null,"",null,"",null,{"$f":"IF(A178=\"\",\"\",'Voltage Drop'!N165)","v":""},"","",{"$error":"#N/A"},"","GY","G",{"$error":"#N/A"},8,0]
["",null,null,null,null,null,{"$f":"IF(A179=\"\",\"\",IFERROR(VLOOKUP(D179,'PDU Circuit'!$B$1:$F$199,IF(VLOOKUP(L179,Materials,3,FALSE)>250,$I$10+3,$I$10+1),FALSE),IF(VLOOKUP(L179,Materials,4,FALSE)>=1,IF(VLOOKUP(L179,Materials,3,FALSE)>250,\"BR\",\"BK\"))))","v":""},{"$f":"IF(A179=\"\",\"\",IFERROR(VLOOKUP(E179,'PDU Circuit'!$B$1:$F$199,IF(VLOOKUP(L179,Materials,3,FALSE)>250,$I$10+3,$I$10+1),FALSE),IF(VLOOKUP(L179,Materials,5,FALSE)>1,IF(VLOOKUP(L179,Materials,3,FALSE)>250,\"OR\",\"RED\"),\"\")))","v":""},{"$f":"IF(A179=\"\",\"\",IFERROR(VLOOKUP(F179,'PDU Circuit'!$B$1:$F$199,IF(VLOOKUP(L179,Materials,3,FALSE)>250,$I$10+3,$I$10+1),FALSE),IF(VLOOKUP(L179,Materials,5,FALSE)>2,IF(VLOOKUP(L179,Materials,3,FALSE)>250,\"YL\",\"BL\"),\"\")))","v":""},null,null,null,"","",null,null,null,null,"",null,"",null,"",null,{"$f":"IF(A179=\"\",\"\",'Voltage Drop'!N166)","v":""},"","",{"$error":"#N/A"},"","GY","G",{"$error":"#N/A"},8,0]
["",null,null,null,null,null,{"$f":"IF(A180=\"\",\"\",IFERROR(VLOOKUP(D180,'PDU Circuit'!$B$1:$F$199,IF(VLOOKUP(L180,Materials,3,FALSE)>250,$I$10+3,$I$10+1),FALSE),IF(VLOOKUP(L180,Materials,4,FALSE)>=1,IF(VLOOKUP(L180,Materials,3,FALSE)>250,\"BR\",\"BK\"))))","v":""},{"$f":"IF(A180=\"\",\"\",IFERROR(VLOOKUP(E180,'PDU Circuit'!$B$1:$F$199,IF(VLOOKUP(L180,Materials,3,FALSE)>250,$I$10+3,$I$10+1),FALSE),IF(VLOOKUP(L180,Materials,5,FALSE)>1,IF(VLOOKUP(L180,Materials,3,FALSE)>250,\"OR\",\"RED\"),\"\")))","v":""},{"$f":"IF(A180=\"\",\"\",IFERROR(VLOOKUP(F180,'PDU Circuit'!$B$1:$F$199,IF(VLOOKUP(L180,Materials,3,FALSE)>250,$I$10+3,$I$10+1),FALSE),IF(VLOOKUP(L180,Materials,5,FALSE)>2,IF(VLOOKUP(L180,Materials,3,FALSE)>250,\"YL\",\"BL\"),\"\")))","v":""},null,null,null,"","",null,null,null,null,"",null,"",null,"",null,{"$f":"IF(A180=\"\",\"\",'Voltage Drop'!N167)","v":""},"","",{"$error":"#N/A"},"","GY","G",{"$error":"#N/A"},8,0]
["",null,null,null,null,null,{"$f":"IF(A181=\"\",\"\",IFERROR(VLOOKUP(D181,'PDU Circuit'!$B$1:$F$199,IF(VLOOKUP(L181,Materials,3,FALSE)>250,$I$10+3,$I$10+1),FALSE),IF(VLOOKUP(L181,Materials,4,FALSE)>=1,IF(VLOOKUP(L181,Materials,3,FALSE)>250,\"BR\",\"BK\"))))","v":""},{"$f":"IF(A181=\"\",\"\",IFERROR(VLOOKUP(E181,'PDU Circuit'!$B$1:$F$199,IF(VLOOKUP(L181,Materials,3,FALSE)>250,$I$10+3,$I$10+1),FALSE),IF(VLOOKUP(L181,Materials,5,FALSE)>1,IF(VLOOKUP(L181,Materials,3,FALSE)>250,\"OR\",\"RED\"),\"\")))","v":""},{"$f":"IF(A181=\"\",\"\",IFERROR(VLOOKUP(F181,'PDU Circuit'!$B$1:$F$199,IF(VLOOKUP(L181,Materials,3,FALSE)>250,$I$10+3,$I$10+1),FALSE),IF(VLOOKUP(L181,Materials,5,FALSE)>2,IF(VLOOKUP(L181,Materials,3,FALSE)>250,\"YL\",\"BL\"),\"\")))","v":""},null,null,null,"","",null,null,null,null,"",null,"",null,"",null,{"$f":"IF(A181=\"\",\"\",'Voltage Drop'!N168)","v":""},"","",{"$error":"#N/A"},"","GY","G",{"$error":"#N/A"},8,0]
["",null,null,null,null,null,{"$f":"IF(A182=\"\",\"\",IFERROR(VLOOKUP(D182,'PDU Circuit'!$B$1:$F$199,IF(VLOOKUP(L182,Materials,3,FALSE)>250,$I$10+3,$I$10+1),FALSE),IF(VLOOKUP(L182,Materials,4,FALSE)>=1,IF(VLOOKUP(L182,Materials,3,FALSE)>250,\"BR\",\"BK\"))))","v":""},{"$f":"IF(A182=\"\",\"\",IFERROR(VLOOKUP(E182,'PDU Circuit'!$B$1:$F$199,IF(VLOOKUP(L182,Materials,3,FALSE)>250,$I$10+3,$I$10+1),FALSE),IF(VLOOKUP(L182,Materials,5,FALSE)>1,IF(VLOOKUP(L182,Materials,3,FALSE)>250,\"OR\",\"RED\"),\"\")))","v":""},{"$f":"IF(A182=\"\",\"\",IFERROR(VLOOKUP(F182,'PDU Circuit'!$B$1:$F$199,IF(VLOOKUP(L182,Materials,3,FALSE)>250,$I$10+3,$I$10+1),FALSE),IF(VLOOKUP(L182,Materials,5,FALSE)>2,IF(VLOOKUP(L182,Materials,3,FALSE)>250,\"YL\",\"BL\"),\"\")))","v":""},null,null,null,"","",null,null,null,null,"",null,"",null,"",null,{"$f":"IF(A182=\"\",\"\",'Voltage Drop'!N169)","v":""},"","",{"$error":"#N/A"},"","GY","G",{"$error":"#N/A"},8,0]
["",null,null,null,null,null,{"$f":"IF(A183=\"\",\"\",IFERROR(VLOOKUP(D183,'PDU Circuit'!$B$1:$F$199,IF(VLOOKUP(L183,Materials,3,FALSE)>250,$I$10+3,$I$10+1),FALSE),IF(VLOOKUP(L183,Materials,4,FALSE)>=1,IF(VLOOKUP(L183,Materials,3,FALSE)>250,\"BR\",\"BK\"))))","v":""},{"$f":"IF(A183=\"\",\"\",IFERROR(VLOOKUP(E183,'PDU Circuit'!$B$1:$F$199,IF(VLOOKUP(L183,Materials,3,FALSE)>250,$I$10+3,$I$10+1),FALSE),IF(VLOOKUP(L183,Materials,5,FALSE)>1,IF(VLOOKUP(L183,Materials,3,FALSE)>250,\"OR\",\"RED\"),\"\")))","v":""},{"$f":"IF(A183=\"\",\"\",IFERROR(VLOOKUP(F183,'PDU Circuit'!$B$1:$F$199,IF(VLOOKUP(L183,Materials,3,FALSE)>250,$I$10+3,$I$10+1),FALSE),IF(VLOOKUP(L183,Materials,5,FALSE)>2,IF(VLOOKUP(L183,Materials,3,FALSE)>250,\"YL\",\"BL\"),\"\")))","v":""},null,null,null,"","",null,null,null,null,"",null,"",null,"",null,{"$f":"IF(A183=\"\",\"\",'Voltage Drop'!N170)","v":""},"","",{"$error":"#N/A"},"","GY","G",{"$error":"#N/A"},8,0]
["",null,null,null,null,null,{"$f":"IF(A184=\"\",\"\",IFERROR(VLOOKUP(D184,'PDU Circuit'!$B$1:$F$199,IF(VLOOKUP(L184,Materials,3,FALSE)>250,$I$10+3,$I$10+1),FALSE),IF(VLOOKUP(L184,Materials,4,FALSE)>=1,IF(VLOOKUP(L184,Materials,3,FALSE)>250,\"BR\",\"BK\"))))","v":""},{"$f":"IF(A184=\"\",\"\",IFERROR(VLOOKUP(E184,'PDU Circuit'!$B$1:$F$199,IF(VLOOKUP(L184,Materials,3,FALSE)>250,$I$10+3,$I$10+1),FALSE),IF(VLOOKUP(L184,Materials,5,FALSE)>1,IF(VLOOKUP(L184,Materials,3,FALSE)>250,\"OR\",\"RED\"),\"\")))","v":""},{"$f":"IF(A184=\"\",\"\",IFERROR(VLOOKUP(F184,'PDU Circuit'!$B$1:$F$199,IF(VLOOKUP(L184,Materials,3,FALSE)>250,$I$10+3,$I$10+1),FALSE),IF(VLOOKUP(L184,Materials,5,FALSE)>2,IF(VLOOKUP(L184,Materials,3,FALSE)>250,\"YL\",\"BL\"),\"\")))","v":""},null,null,null,"","",null,null,null,null,"",null,"",null,"",null,{"$f":"IF(A184=\"\",\"\",'Voltage Drop'!N171)","v":""},"","",{"$error":"#N/A"},"","GY","G",{"$error":"#N/A"},8,0]
["",null,null,null,null,null,{"$f":"IF(A185=\"\",\"\",IFERROR(VLOOKUP(D185,'PDU Circuit'!$B$1:$F$199,IF(VLOOKUP(L185,Materials,3,FALSE)>250,$I$10+3,$I$10+1),FALSE),IF(VLOOKUP(L185,Materials,4,FALSE)>=1,IF(VLOOKUP(L185,Materials,3,FALSE)>250,\"BR\",\"BK\"))))","v":""},{"$f":"IF(A185=\"\",\"\",IFERROR(VLOOKUP(E185,'PDU Circuit'!$B$1:$F$199,IF(VLOOKUP(L185,Materials,3,FALSE)>250,$I$10+3,$I$10+1),FALSE),IF(VLOOKUP(L185,Materials,5,FALSE)>1,IF(VLOOKUP(L185,Materials,3,FALSE)>250,\"OR\",\"RED\"),\"\")))","v":""},{"$f":"IF(A185=\"\",\"\",IFERROR(VLOOKUP(F185,'PDU Circuit'!$B$1:$F$199,IF(VLOOKUP(L185,Materials,3,FALSE)>250,$I$10+3,$I$10+1),FALSE),IF(VLOOKUP(L185,Materials,5,FALSE)>2,IF(VLOOKUP(L185,Materials,3,FALSE)>250,\"YL\",\"BL\"),\"\")))","v":""},null,null,null,"","",null,null,null,null,"",null,"",null,"",null,{"$f":"IF(A185=\"\",\"\",'Voltage Drop'!N172)","v":""},"","",{"$error":"#N/A"},"","GY","G",{"$error":"#N/A"},8,0]
["",null,null,null,null,null,{"$f":"IF(A186=\"\",\"\",IFERROR(VLOOKUP(D186,'PDU Circuit'!$B$1:$F$199,IF(VLOOKUP(L186,Materials,3,FALSE)>250,$I$10+3,$I$10+1),FALSE),IF(VLOOKUP(L186,Materials,4,FALSE)>=1,IF(VLOOKUP(L186,Materials,3,FALSE)>250,\"BR\",\"BK\"))))","v":""},{"$f":"IF(A186=\"\",\"\",IFERROR(VLOOKUP(E186,'PDU Circuit'!$B$1:$F$199,IF(VLOOKUP(L186,Materials,3,FALSE)>250,$I$10+3,$I$10+1),FALSE),IF(VLOOKUP(L186,Materials,5,FALSE)>1,IF(VLOOKUP(L186,Materials,3,FALSE)>250,\"OR\",\"RED\"),\"\")))","v":""},{"$f":"IF(A186=\"\",\"\",IFERROR(VLOOKUP(F186,'PDU Circuit'!$B$1:$F$199,IF(VLOOKUP(L186,Materials,3,FALSE)>250,$I$10+3,$I$10+1),FALSE),IF(VLOOKUP(L186,Materials,5,FALSE)>2,IF(VLOOKUP(L186,Materials,3,FALSE)>250,\"YL\",\"BL\"),\"\")))","v":""},null,null,null,"","",null,null,null,null,"",null,"",null,"",null,{"$f":"IF(A186=\"\",\"\",'Voltage Drop'!N173)","v":""},"","",{"$error":"#N/A"},"","GY","G",{"$error":"#N/A"},8,0]
["",null,null,null,null,null,{"$f":"IF(A187=\"\",\"\",IFERROR(VLOOKUP(D187,'PDU Circuit'!$B$1:$F$199,IF(VLOOKUP(L187,Materials,3,FALSE)>250,$I$10+3,$I$10+1),FALSE),IF(VLOOKUP(L187,Materials,4,FALSE)>=1,IF(VLOOKUP(L187,Materials,3,FALSE)>250,\"BR\",\"BK\"))))","v":""},{"$f":"IF(A187=\"\",\"\",IFERROR(VLOOKUP(E187,'PDU Circuit'!$B$1:$F$199,IF(VLOOKUP(L187,Materials,3,FALSE)>250,$I$10+3,$I$10+1),FALSE),IF(VLOOKUP(L187,Materials,5,FALSE)>1,IF(VLOOKUP(L187,Materials,3,FALSE)>250,\"OR\",\"RED\"),\"\")))","v":""},{"$f":"IF(A187=\"\",\"\",IFERROR(VLOOKUP(F187,'PDU Circuit'!$B$1:$F$199,IF(VLOOKUP(L187,Materials,3,FALSE)>250,$I$10+3,$I$10+1),FALSE),IF(VLOOKUP(L187,Materials,5,FALSE)>2,IF(VLOOKUP(L187,Materials,3,FALSE)>250,\"YL\",\"BL\"),\"\")))","v":""},null,null,null,"","",null,null,null,null,"",null,"",null,"",null,{"$f":"IF(A187=\"\",\"\",'Voltage Drop'!N174)","v":""},"","",{"$error":"#N/A"},"","GY","G",{"$error":"#N/A"},8,0]
["",null,null,null,null,null,{"$f":"IF(A188=\"\",\"\",IFERROR(VLOOKUP(D188,'PDU Circuit'!$B$1:$F$199,IF(VLOOKUP(L188,Materials,3,FALSE)>250,$I$10+3,$I$10+1),FALSE),IF(VLOOKUP(L188,Materials,4,FALSE)>=1,IF(VLOOKUP(L188,Materials,3,FALSE)>250,\"BR\",\"BK\"))))","v":""},{"$f":"IF(A188=\"\",\"\",IFERROR(VLOOKUP(E188,'PDU Circuit'!$B$1:$F$199,IF(VLOOKUP(L188,Materials,3,FALSE)>250,$I$10+3,$I$10+1),FALSE),IF(VLOOKUP(L188,Materials,5,FALSE)>1,IF(VLOOKUP(L188,Materials,3,FALSE)>250,\"OR\",\"RED\"),\"\")))","v":""},{"$f":"IF(A188=\"\",\"\",IFERROR(VLOOKUP(F188,'PDU Circuit'!$B$1:$F$199,IF(VLOOKUP(L188,Materials,3,FALSE)>250,$I$10+3,$I$10+1),FALSE),IF(VLOOKUP(L188,Materials,5,FALSE)>2,IF(VLOOKUP(L188,Materials,3,FALSE)>250,\"YL\",\"BL\"),\"\")))","v":""},null,null,null,"","",null,null,null,null,"",null,"",null,"",null,{"$f":"IF(A188=\"\",\"\",'Voltage Drop'!N175)","v":""},"","",{"$error":"#N/A"},"","GY","G",{"$error":"#N/A"},8,0]
["",null,null,null,null,null,{"$f":"IF(A189=\"\",\"\",IFERROR(VLOOKUP(D189,'PDU Circuit'!$B$1:$F$199,IF(VLOOKUP(L189,Materials,3,FALSE)>250,$I$10+3,$I$10+1),FALSE),IF(VLOOKUP(L189,Materials,4,FALSE)>=1,IF(VLOOKUP(L189,Materials,3,FALSE)>250,\"BR\",\"BK\"))))","v":""},{"$f":"IF(A189=\"\",\"\",IFERROR(VLOOKUP(E189,'PDU Circuit'!$B$1:$F$199,IF(VLOOKUP(L189,Materials,3,FALSE)>250,$I$10+3,$I$10+1),FALSE),IF(VLOOKUP(L189,Materials,5,FALSE)>1,IF(VLOOKUP(L189,Materials,3,FALSE)>250,\"OR\",\"RED\"),\"\")))","v":""},{"$f":"IF(A189=\"\",\"\",IFERROR(VLOOKUP(F189,'PDU Circuit'!$B$1:$F$199,IF(VLOOKUP(L189,Materials,3,FALSE)>250,$I$10+3,$I$10+1),FALSE),IF(VLOOKUP(L189,Materials,5,FALSE)>2,IF(VLOOKUP(L189,Materials,3,FALSE)>250,\"YL\",\"BL\"),\"\")))","v":""},null,null,null,"","",null,null,null,null,"",null,"",null,"",null,{"$f":"IF(A189=\"\",\"\",'Voltage Drop'!N176)","v":""},"","",{"$error":"#N/A"},"","GY","G",{"$error":"#N/A"},8,0]
["",null,null,null,null,null,{"$f":"IF(A190=\"\",\"\",IFERROR(VLOOKUP(D190,'PDU Circuit'!$B$1:$F$199,IF(VLOOKUP(L190,Materials,3,FALSE)>250,$I$10+3,$I$10+1),FALSE),IF(VLOOKUP(L190,Materials,4,FALSE)>=1,IF(VLOOKUP(L190,Materials,3,FALSE)>250,\"BR\",\"BK\"))))","v":""},{"$f":"IF(A190=\"\",\"\",IFERROR(VLOOKUP(E190,'PDU Circuit'!$B$1:$F$199,IF(VLOOKUP(L190,Materials,3,FALSE)>250,$I$10+3,$I$10+1),FALSE),IF(VLOOKUP(L190,Materials,5,FALSE)>1,IF(VLOOKUP(L190,Materials,3,FALSE)>250,\"OR\",\"RED\"),\"\")))","v":""},{"$f":"IF(A190=\"\",\"\",IFERROR(VLOOKUP(F190,'PDU Circuit'!$B$1:$F$199,IF(VLOOKUP(L190,Materials,3,FALSE)>250,$I$10+3,$I$10+1),FALSE),IF(VLOOKUP(L190,Materials,5,FALSE)>2,IF(VLOOKUP(L190,Materials,3,FALSE)>250,\"YL\",\"BL\"),\"\")))","v":""},null,null,null,"","",null,null,null,null,"",null,"",null,"",null,{"$f":"IF(A190=\"\",\"\",'Voltage Drop'!N177)","v":""},"","",{"$error":"#N/A"},"","GY","G",{"$error":"#N/A"},8,0]
["",null,null,null,null,null,{"$f":"IF(A191=\"\",\"\",IFERROR(VLOOKUP(D191,'PDU Circuit'!$B$1:$F$199,IF(VLOOKUP(L191,Materials,3,FALSE)>250,$I$10+3,$I$10+1),FALSE),IF(VLOOKUP(L191,Materials,4,FALSE)>=1,IF(VLOOKUP(L191,Materials,3,FALSE)>250,\"BR\",\"BK\"))))","v":""},{"$f":"IF(A191=\"\",\"\",IFERROR(VLOOKUP(E191,'PDU Circuit'!$B$1:$F$199,IF(VLOOKUP(L191,Materials,3,FALSE)>250,$I$10+3,$I$10+1),FALSE),IF(VLOOKUP(L191,Materials,5,FALSE)>1,IF(VLOOKUP(L191,Materials,3,FALSE)>250,\"OR\",\"RED\"),\"\")))","v":""},{"$f":"IF(A191=\"\",\"\",IFERROR(VLOOKUP(F191,'PDU Circuit'!$B$1:$F$199,IF(VLOOKUP(L191,Materials,3,FALSE)>250,$I$10+3,$I$10+1),FALSE),IF(VLOOKUP(L191,Materials,5,FALSE)>2,IF(VLOOKUP(L191,Materials,3,FALSE)>250,\"YL\",\"BL\"),\"\")))","v":""},null,null,null,"","",null,null,null,null,"",null,"",null,"",null,{"$f":"IF(A191=\"\",\"\",'Voltage Drop'!N178)","v":""},"","",{"$error":"#N/A"},"","GY","G",{"$error":"#N/A"},8,0]
["",null,null,null,null,null,{"$f":"IF(A192=\"\",\"\",IFERROR(VLOOKUP(D192,'PDU Circuit'!$B$1:$F$199,IF(VLOOKUP(L192,Materials,3,FALSE)>250,$I$10+3,$I$10+1),FALSE),IF(VLOOKUP(L192,Materials,4,FALSE)>=1,IF(VLOOKUP(L192,Materials,3,FALSE)>250,\"BR\",\"BK\"))))","v":""},{"$f":"IF(A192=\"\",\"\",IFERROR(VLOOKUP(E192,'PDU Circuit'!$B$1:$F$199,IF(VLOOKUP(L192,Materials,3,FALSE)>250,$I$10+3,$I$10+1),FALSE),IF(VLOOKUP(L192,Materials,5,FALSE)>1,IF(VLOOKUP(L192,Materials,3,FALSE)>250,\"OR\",\"RED\"),\"\")))","v":""},{"$f":"IF(A192=\"\",\"\",IFERROR(VLOOKUP(F192,'PDU Circuit'!$B$1:$F$199,IF(VLOOKUP(L192,Materials,3,FALSE)>250,$I$10+3,$I$10+1),FALSE),IF(VLOOKUP(L192,Materials,5,FALSE)>2,IF(VLOOKUP(L192,Materials,3,FALSE)>250,\"YL\",\"BL\"),\"\")))","v":""},null,null,null,"","",null,null,null,null,"",null,"",null,"",null,{"$f":"IF(A192=\"\",\"\",'Voltage Drop'!N179)","v":""},"","",{"$error":"#N/A"},"","GY","G",{"$error":"#N/A"},8,0]
["",null,null,null,null,null,{"$f":"IF(A193=\"\",\"\",IFERROR(VLOOKUP(D193,'PDU Circuit'!$B$1:$F$199,IF(VLOOKUP(L193,Materials,3,FALSE)>250,$I$10+3,$I$10+1),FALSE),IF(VLOOKUP(L193,Materials,4,FALSE)>=1,IF(VLOOKUP(L193,Materials,3,FALSE)>250,\"BR\",\"BK\"))))","v":""},{"$f":"IF(A193=\"\",\"\",IFERROR(VLOOKUP(E193,'PDU Circuit'!$B$1:$F$199,IF(VLOOKUP(L193,Materials,3,FALSE)>250,$I$10+3,$I$10+1),FALSE),IF(VLOOKUP(L193,Materials,5,FALSE)>1,IF(VLOOKUP(L193,Materials,3,FALSE)>250,\"OR\",\"RED\"),\"\")))","v":""},{"$f":"IF(A193=\"\",\"\",IFERROR(VLOOKUP(F193,'PDU Circuit'!$B$1:$F$199,IF(VLOOKUP(L193,Materials,3,FALSE)>250,$I$10+3,$I$10+1),FALSE),IF(VLOOKUP(L193,Materials,5,FALSE)>2,IF(VLOOKUP(L193,Materials,3,FALSE)>250,\"YL\",\"BL\"),\"\")))","v":""},null,null,null,"","",null,null,null,null,"",null,"",null,"",null,{"$f":"IF(A193=\"\",\"\",'Voltage Drop'!N180)","v":""},"","",{"$error":"#N/A"},"","GY","G",{"$error":"#N/A"},8,0]
["",null,null,null,null,null,{"$f":"IF(A194=\"\",\"\",IFERROR(VLOOKUP(D194,'PDU Circuit'!$B$1:$F$199,IF(VLOOKUP(L194,Materials,3,FALSE)>250,$I$10+3,$I$10+1),FALSE),IF(VLOOKUP(L194,Materials,4,FALSE)>=1,IF(VLOOKUP(L194,Materials,3,FALSE)>250,\"BR\",\"BK\"))))","v":""},{"$f":"IF(A194=\"\",\"\",IFERROR(VLOOKUP(E194,'PDU Circuit'!$B$1:$F$199,IF(VLOOKUP(L194,Materials,3,FALSE)>250,$I$10+3,$I$10+1),FALSE),IF(VLOOKUP(L194,Materials,5,FALSE)>1,IF(VLOOKUP(L194,Materials,3,FALSE)>250,\"OR\",\"RED\"),\"\")))","v":""},{"$f":"IF(A194=\"\",\"\",IFERROR(VLOOKUP(F194,'PDU Circuit'!$B$1:$F$199,IF(VLOOKUP(L194,Materials,3,FALSE)>250,$I$10+3,$I$10+1),FALSE),IF(VLOOKUP(L194,Materials,5,FALSE)>2,IF(VLOOKUP(L194,Materials,3,FALSE)>250,\"YL\",\"BL\"),\"\")))","v":""},null,null,null,"","",null,null,null,null,"",null,"",null,"",null,{"$f":"IF(A194=\"\",\"\",'Voltage Drop'!N181)","v":""},"","",{"$error":"#N/A"},"","GY","G",{"$error":"#N/A"},8,0]
["",null,null,null,null,null,{"$f":"IF(A195=\"\",\"\",IFERROR(VLOOKUP(D195,'PDU Circuit'!$B$1:$F$199,IF(VLOOKUP(L195,Materials,3,FALSE)>250,$I$10+3,$I$10+1),FALSE),IF(VLOOKUP(L195,Materials,4,FALSE)>=1,IF(VLOOKUP(L195,Materials,3,FALSE)>250,\"BR\",\"BK\"))))","v":""},{"$f":"IF(A195=\"\",\"\",IFERROR(VLOOKUP(E195,'PDU Circuit'!$B$1:$F$199,IF(VLOOKUP(L195,Materials,3,FALSE)>250,$I$10+3,$I$10+1),FALSE),IF(VLOOKUP(L195,Materials,5,FALSE)>1,IF(VLOOKUP(L195,Materials,3,FALSE)>250,\"OR\",\"RED\"),\"\")))","v":""},{"$f":"IF(A195=\"\",\"\",IFERROR(VLOOKUP(F195,'PDU Circuit'!$B$1:$F$199,IF(VLOOKUP(L195,Materials,3,FALSE)>250,$I$10+3,$I$10+1),FALSE),IF(VLOOKUP(L195,Materials,5,FALSE)>2,IF(VLOOKUP(L195,Materials,3,FALSE)>250,\"YL\",\"BL\"),\"\")))","v":""},null,null,null,"","",null,null,null,null,"",null,"",null,"",null,{"$f":"IF(A195=\"\",\"\",'Voltage Drop'!N182)","v":""},"","",{"$error":"#N/A"},"","GY","G",{"$error":"#N/A"},8,0]
["",null,null,null,null,null,{"$f":"IF(A196=\"\",\"\",IFERROR(VLOOKUP(D196,'PDU Circuit'!$B$1:$F$199,IF(VLOOKUP(L196,Materials,3,FALSE)>250,$I$10+3,$I$10+1),FALSE),IF(VLOOKUP(L196,Materials,4,FALSE)>=1,IF(VLOOKUP(L196,Materials,3,FALSE)>250,\"BR\",\"BK\"))))","v":""},{"$f":"IF(A196=\"\",\"\",IFERROR(VLOOKUP(E196,'PDU Circuit'!$B$1:$F$199,IF(VLOOKUP(L196,Materials,3,FALSE)>250,$I$10+3,$I$10+1),FALSE),IF(VLOOKUP(L196,Materials,5,FALSE)>1,IF(VLOOKUP(L196,Materials,3,FALSE)>250,\"OR\",\"RED\"),\"\")))","v":""},{"$f":"IF(A196=\"\",\"\",IFERROR(VLOOKUP(F196,'PDU Circuit'!$B$1:$F$199,IF(VLOOKUP(L196,Materials,3,FALSE)>250,$I$10+3,$I$10+1),FALSE),IF(VLOOKUP(L196,Materials,5,FALSE)>2,IF(VLOOKUP(L196,Materials,3,FALSE)>250,\"YL\",\"BL\"),\"\")))","v":""},null,null,null,"","",null,null,null,null,"",null,"",null,"",null,{"$f":"IF(A196=\"\",\"\",'Voltage Drop'!N183)","v":""},"","",{"$error":"#N/A"},"","GY","G",{"$error":"#N/A"},8,0]
["",null,null,null,null,null,{"$f":"IF(A197=\"\",\"\",IFERROR(VLOOKUP(D197,'PDU Circuit'!$B$1:$F$199,IF(VLOOKUP(L197,Materials,3,FALSE)>250,$I$10+3,$I$10+1),FALSE),IF(VLOOKUP(L197,Materials,4,FALSE)>=1,IF(VLOOKUP(L197,Materials,3,FALSE)>250,\"BR\",\"BK\"))))","v":""},{"$f":"IF(A197=\"\",\"\",IFERROR(VLOOKUP(E197,'PDU Circuit'!$B$1:$F$199,IF(VLOOKUP(L197,Materials,3,FALSE)>250,$I$10+3,$I$10+1),FALSE),IF(VLOOKUP(L197,Materials,5,FALSE)>1,IF(VLOOKUP(L197,Materials,3,FALSE)>250,\"OR\",\"RED\"),\"\")))","v":""},{"$f":"IF(A197=\"\",\"\",IFERROR(VLOOKUP(F197,'PDU Circuit'!$B$1:$F$199,IF(VLOOKUP(L197,Materials,3,FALSE)>250,$I$10+3,$I$10+1),FALSE),IF(VLOOKUP(L197,Materials,5,FALSE)>2,IF(VLOOKUP(L197,Materials,3,FALSE)>250,\"YL\",\"BL\"),\"\")))","v":""},null,null,null,"","",null,null,null,null,"",null,"",null,"",null,{"$f":"IF(A197=\"\",\"\",'Voltage Drop'!N184)","v":""},"","",{"$error":"#N/A"},"","GY","G",{"$error":"#N/A"},8,0]
["",null,null,null,null,null,{"$f":"IF(A198=\"\",\"\",IFERROR(VLOOKUP(D198,'PDU Circuit'!$B$1:$F$199,IF(VLOOKUP(L198,Materials,3,FALSE)>250,$I$10+3,$I$10+1),FALSE),IF(VLOOKUP(L198,Materials,4,FALSE)>=1,IF(VLOOKUP(L198,Materials,3,FALSE)>250,\"BR\",\"BK\"))))","v":""},{"$f":"IF(A198=\"\",\"\",IFERROR(VLOOKUP(E198,'PDU Circuit'!$B$1:$F$199,IF(VLOOKUP(L198,Materials,3,FALSE)>250,$I$10+3,$I$10+1),FALSE),IF(VLOOKUP(L198,Materials,5,FALSE)>1,IF(VLOOKUP(L198,Materials,3,FALSE)>250,\"OR\",\"RED\"),\"\")))","v":""},{"$f":"IF(A198=\"\",\"\",IFERROR(VLOOKUP(F198,'PDU Circuit'!$B$1:$F$199,IF(VLOOKUP(L198,Materials,3,FALSE)>250,$I$10+3,$I$10+1),FALSE),IF(VLOOKUP(L198,Materials,5,FALSE)>2,IF(VLOOKUP(L198,Materials,3,FALSE)>250,\"YL\",\"BL\"),\"\")))","v":""},null,null,null,"","",null,null,null,null,"",null,"",null,"",null,{"$f":"IF(A198=\"\",\"\",'Voltage Drop'!N185)","v":""},"","",{"$error":"#N/A"},"","GY","G",{"$error":"#N/A"},8,0]
["",null,null,null,null,null,{"$f":"IF(A199=\"\",\"\",IFERROR(VLOOKUP(D199,'PDU Circuit'!$B$1:$F$199,IF(VLOOKUP(L199,Materials,3,FALSE)>250,$I$10+3,$I$10+1),FALSE),IF(VLOOKUP(L199,Materials,4,FALSE)>=1,IF(VLOOKUP(L199,Materials,3,FALSE)>250,\"BR\",\"BK\"))))","v":""},{"$f":"IF(A199=\"\",\"\",IFERROR(VLOOKUP(E199,'PDU Circuit'!$B$1:$F$199,IF(VLOOKUP(L199,Materials,3,FALSE)>250,$I$10+3,$I$10+1),FALSE),IF(VLOOKUP(L199,Materials,5,FALSE)>1,IF(VLOOKUP(L199,Materials,3,FALSE)>250,\"OR\",\"RED\"),\"\")))","v":""},{"$f":"IF(A199=\"\",\"\",IFERROR(VLOOKUP(F199,'PDU Circuit'!$B$1:$F$199,IF(VLOOKUP(L199,Materials,3,FALSE)>250,$I$10+3,$I$10+1),FALSE),IF(VLOOKUP(L199,Materials,5,FALSE)>2,IF(VLOOKUP(L199,Materials,3,FALSE)>250,\"YL\",\"BL\"),\"\")))","v":""},null,null,null,"","",null,null,null,null,"",null,"",null,"",null,{"$f":"IF(A199=\"\",\"\",'Voltage Drop'!N186)","v":""},"","",{"$error":"#N/A"},"","GY","G",{"$error":"#N/A"},8,0]
["",null,null,null,null,null,{"$f":"IF(A200=\"\",\"\",IFERROR(VLOOKUP(D200,'PDU Circuit'!$B$1:$F$199,IF(VLOOKUP(L200,Materials,3,FALSE)>250,$I$10+3,$I$10+1),FALSE),IF(VLOOKUP(L200,Materials,4,FALSE)>=1,IF(VLOOKUP(L200,Materials,3,FALSE)>250,\"BR\",\"BK\"))))","v":""},{"$f":"IF(A200=\"\",\"\",IFERROR(VLOOKUP(E200,'PDU Circuit'!$B$1:$F$199,IF(VLOOKUP(L200,Materials,3,FALSE)>250,$I$10+3,$I$10+1),FALSE),IF(VLOOKUP(L200,Materials,5,FALSE)>1,IF(VLOOKUP(L200,Materials,3,FALSE)>250,\"OR\",\"RED\"),\"\")))","v":""},{"$f":"IF(A200=\"\",\"\",IFERROR(VLOOKUP(F200,'PDU Circuit'!$B$1:$F$199,IF(VLOOKUP(L200,Materials,3,FALSE)>250,$I$10+3,$I$10+1),FALSE),IF(VLOOKUP(L200,Materials,5,FALSE)>2,IF(VLOOKUP(L200,Materials,3,FALSE)>250,\"YL\",\"BL\"),\"\")))","v":""},null,null,null,"","",null,null,null,null,"",null,"",null,"",null,{"$f":"IF(A200=\"\",\"\",'Voltage Drop'!N187)","v":""},"","",{"$error":"#N/A"},"","GY","G",{"$error":"#N/A"},8,0]
["",null,null,null,null,null,{"$f":"IF(A201=\"\",\"\",IFERROR(VLOOKUP(D201,'PDU Circuit'!$B$1:$F$199,IF(VLOOKUP(L201,Materials,3,FALSE)>250,$I$10+3,$I$10+1),FALSE),IF(VLOOKUP(L201,Materials,4,FALSE)>=1,IF(VLOOKUP(L201,Materials,3,FALSE)>250,\"BR\",\"BK\"))))","v":""},{"$f":"IF(A201=\"\",\"\",IFERROR(VLOOKUP(E201,'PDU Circuit'!$B$1:$F$199,IF(VLOOKUP(L201,Materials,3,FALSE)>250,$I$10+3,$I$10+1),FALSE),IF(VLOOKUP(L201,Materials,5,FALSE)>1,IF(VLOOKUP(L201,Materials,3,FALSE)>250,\"OR\",\"RED\"),\"\")))","v":""},{"$f":"IF(A201=\"\",\"\",IFERROR(VLOOKUP(F201,'PDU Circuit'!$B$1:$F$199,IF(VLOOKUP(L201,Materials,3,FALSE)>250,$I$10+3,$I$10+1),FALSE),IF(VLOOKUP(L201,Materials,5,FALSE)>2,IF(VLOOKUP(L201,Materials,3,FALSE)>250,\"YL\",\"BL\"),\"\")))","v":""},null,null,null,"","",null,null,null,null,"",null,"",null,"",null,{"$f":"IF(A201=\"\",\"\",'Voltage Drop'!N188)","v":""},"","",{"$error":"#N/A"},"","GY","G",{"$error":"#N/A"},8,0]
["",null,null,null,null,null,{"$f":"IF(A202=\"\",\"\",IFERROR(VLOOKUP(D202,'PDU Circuit'!$B$1:$F$199,IF(VLOOKUP(L202,Materials,3,FALSE)>250,$I$10+3,$I$10+1),FALSE),IF(VLOOKUP(L202,Materials,4,FALSE)>=1,IF(VLOOKUP(L202,Materials,3,FALSE)>250,\"BR\",\"BK\"))))","v":""},{"$f":"IF(A202=\"\",\"\",IFERROR(VLOOKUP(E202,'PDU Circuit'!$B$1:$F$199,IF(VLOOKUP(L202,Materials,3,FALSE)>250,$I$10+3,$I$10+1),FALSE),IF(VLOOKUP(L202,Materials,5,FALSE)>1,IF(VLOOKUP(L202,Materials,3,FALSE)>250,\"OR\",\"RED\"),\"\")))","v":""},{"$f":"IF(A202=\"\",\"\",IFERROR(VLOOKUP(F202,'PDU Circuit'!$B$1:$F$199,IF(VLOOKUP(L202,Materials,3,FALSE)>250,$I$10+3,$I$10+1),FALSE),IF(VLOOKUP(L202,Materials,5,FALSE)>2,IF(VLOOKUP(L202,Materials,3,FALSE)>250,\"YL\",\"BL\"),\"\")))","v":""},null,null,null,"","",null,null,null,null,"",null,"",null,"",null,{"$f":"IF(A202=\"\",\"\",'Voltage Drop'!N189)","v":""},"","",{"$error":"#N/A"},"","GY","G",{"$error":"#N/A"},8,0]
["",null,null,null,null,null,{"$f":"IF(A203=\"\",\"\",IFERROR(VLOOKUP(D203,'PDU Circuit'!$B$1:$F$199,IF(VLOOKUP(L203,Materials,3,FALSE)>250,$I$10+3,$I$10+1),FALSE),IF(VLOOKUP(L203,Materials,4,FALSE)>=1,IF(VLOOKUP(L203,Materials,3,FALSE)>250,\"BR\",\"BK\"))))","v":""},{"$f":"IF(A203=\"\",\"\",IFERROR(VLOOKUP(E203,'PDU Circuit'!$B$1:$F$199,IF(VLOOKUP(L203,Materials,3,FALSE)>250,$I$10+3,$I$10+1),FALSE),IF(VLOOKUP(L203,Materials,5,FALSE)>1,IF(VLOOKUP(L203,Materials,3,FALSE)>250,\"OR\",\"RED\"),\"\")))","v":""},{"$f":"IF(A203=\"\",\"\",IFERROR(VLOOKUP(F203,'PDU Circuit'!$B$1:$F$199,IF(VLOOKUP(L203,Materials,3,FALSE)>250,$I$10+3,$I$10+1),FALSE),IF(VLOOKUP(L203,Materials,5,FALSE)>2,IF(VLOOKUP(L203,Materials,3,FALSE)>250,\"YL\",\"BL\"),\"\")))","v":""},null,null,null,"","",null,null,null,null,"",null,"",null,"",null,{"$f":"IF(A203=\"\",\"\",'Voltage Drop'!N190)","v":""},"","",{"$error":"#N/A"},"","GY","G",{"$error":"#N/A"},8,0]
["",null,null,null,null,null,{"$f":"IF(A204=\"\",\"\",IFERROR(VLOOKUP(D204,'PDU Circuit'!$B$1:$F$199,IF(VLOOKUP(L204,Materials,3,FALSE)>250,$I$10+3,$I$10+1),FALSE),IF(VLOOKUP(L204,Materials,4,FALSE)>=1,IF(VLOOKUP(L204,Materials,3,FALSE)>250,\"BR\",\"BK\"))))","v":""},{"$f":"IF(A204=\"\",\"\",IFERROR(VLOOKUP(E204,'PDU Circuit'!$B$1:$F$199,IF(VLOOKUP(L204,Materials,3,FALSE)>250,$I$10+3,$I$10+1),FALSE),IF(VLOOKUP(L204,Materials,5,FALSE)>1,IF(VLOOKUP(L204,Materials,3,FALSE)>250,\"OR\",\"RED\"),\"\")))","v":""},{"$f":"IF(A204=\"\",\"\",IFERROR(VLOOKUP(F204,'PDU Circuit'!$B$1:$F$199,IF(VLOOKUP(L204,Materials,3,FALSE)>250,$I$10+3,$I$10+1),FALSE),IF(VLOOKUP(L204,Materials,5,FALSE)>2,IF(VLOOKUP(L204,Materials,3,FALSE)>250,\"YL\",\"BL\"),\"\")))","v":""},null,null,null,"","",null,null,null,null,"",null,"",null,"",null,{"$f":"IF(A204=\"\",\"\",'Voltage Drop'!N191)","v":""},"","",{"$error":"#N/A"},"","GY","G",{"$error":"#N/A"},8,0]
["",null,null,null,null,null,{"$f":"IF(A205=\"\",\"\",IFERROR(VLOOKUP(D205,'PDU Circuit'!$B$1:$F$199,IF(VLOOKUP(L205,Materials,3,FALSE)>250,$I$10+3,$I$10+1),FALSE),IF(VLOOKUP(L205,Materials,4,FALSE)>=1,IF(VLOOKUP(L205,Materials,3,FALSE)>250,\"BR\",\"BK\"))))","v":""},{"$f":"IF(A205=\"\",\"\",IFERROR(VLOOKUP(E205,'PDU Circuit'!$B$1:$F$199,IF(VLOOKUP(L205,Materials,3,FALSE)>250,$I$10+3,$I$10+1),FALSE),IF(VLOOKUP(L205,Materials,5,FALSE)>1,IF(VLOOKUP(L205,Materials,3,FALSE)>250,\"OR\",\"RED\"),\"\")))","v":""},{"$f":"IF(A205=\"\",\"\",IFERROR(VLOOKUP(F205,'PDU Circuit'!$B$1:$F$199,IF(VLOOKUP(L205,Materials,3,FALSE)>250,$I$10+3,$I$10+1),FALSE),IF(VLOOKUP(L205,Materials,5,FALSE)>2,IF(VLOOKUP(L205,Materials,3,FALSE)>250,\"YL\",\"BL\"),\"\")))","v":""},null,null,null,"","",null,null,null,null,"",null,"",null,"",null,{"$f":"IF(A205=\"\",\"\",'Voltage Drop'!N192)","v":""},"","",{"$error":"#N/A"},"","GY","G",{"$error":"#N/A"},8,0]
["",null,null,null,null,null,{"$f":"IF(A206=\"\",\"\",IFERROR(VLOOKUP(D206,'PDU Circuit'!$B$1:$F$199,IF(VLOOKUP(L206,Materials,3,FALSE)>250,$I$10+3,$I$10+1),FALSE),IF(VLOOKUP(L206,Materials,4,FALSE)>=1,IF(VLOOKUP(L206,Materials,3,FALSE)>250,\"BR\",\"BK\"))))","v":""},{"$f":"IF(A206=\"\",\"\",IFERROR(VLOOKUP(E206,'PDU Circuit'!$B$1:$F$199,IF(VLOOKUP(L206,Materials,3,FALSE)>250,$I$10+3,$I$10+1),FALSE),IF(VLOOKUP(L206,Materials,5,FALSE)>1,IF(VLOOKUP(L206,Materials,3,FALSE)>250,\"OR\",\"RED\"),\"\")))","v":""},{"$f":"IF(A206=\"\",\"\",IFERROR(VLOOKUP(F206,'PDU Circuit'!$B$1:$F$199,IF(VLOOKUP(L206,Materials,3,FALSE)>250,$I$10+3,$I$10+1),FALSE),IF(VLOOKUP(L206,Materials,5,FALSE)>2,IF(VLOOKUP(L206,Materials,3,FALSE)>250,\"YL\",\"BL\"),\"\")))","v":""},null,null,null,"","",null,null,null,null,"",null,"",null,"",null,{"$f":"IF(A206=\"\",\"\",'Voltage Drop'!N193)","v":""},"","",{"$error":"#N/A"},"","GY","G",{"$error":"#N/A"},8,0]
[{"$f":"IFERROR(IF($I$8>=A206+1,A206+1,\"\"),\"\")","v":""},null,null,null,null,null,{"$f":"IF(A207=\"\",\"\",IFERROR(VLOOKUP(D207,'PDU Circuit'!$B$1:$F$199,IF(VLOOKUP(L207,Materials,3,FALSE)>250,$I$10+3,$I$10+1),FALSE),IF(VLOOKUP(L207,Materials,4,FALSE)>=1,IF(VLOOKUP(L207,Materials,3,FALSE)>250,\"BR\",\"BK\"))))","v":""},{"$f":"IF(A207=\"\",\"\",IFERROR(VLOOKUP(E207,'PDU Circuit'!$B$1:$F$199,IF(VLOOKUP(L207,Materials,3,FALSE)>250,$I$10+3,$I$10+1),FALSE),IF(VLOOKUP(L207,Materials,5,FALSE)>1,IF(VLOOKUP(L207,Materials,3,FALSE)>250,\"OR\",\"RED\"),\"\")))","v":""},{"$f":"IF(A207=\"\",\"\",IFERROR(VLOOKUP(F207,'PDU Circuit'!$B$1:$F$199,IF(VLOOKUP(L207,Materials,3,FALSE)>250,$I$10+3,$I$10+1),FALSE),IF(VLOOKUP(L207,Materials,5,FALSE)>2,IF(VLOOKUP(L207,Materials,3,FALSE)>250,\"YL\",\"BL\"),\"\")))","v":""},null,null,null,"","",null,null,null,null,{"$f":"IFERROR(VLOOKUP($L207,Materials,10,FALSE),\"\")","v":""},null,{"$f":"IFERROR(VLOOKUP($L207,Materials,8,FALSE),\"\")","v":""},null,{"$f":"IFERROR(VLOOKUP($L207,Materials,9,FALSE),\"\")","v":""},null,{"$f":"IF(A207=\"\",\"\",'Voltage Drop'!N194)","v":""},"",{"$f":"IF(A207=\"\",\"\",\"CBL ASSY W/ PIGTAIL\")","v":""},{"$f":"\"CQ\"&VLOOKUP(L207,Materials,2,FALSE)&\"/\"&VLOOKUP(Q207,Breakers,2,FALSE)&\"/\"&O207&\"/\"&VLOOKUP(R207,Colors,2,FALSE)&\"/\"&AF207&AG207&AH207","v":{"$error":"#N/A"}},"","GY","G",{"$error":"#N/A"},8,0]
["",null,null,null,null,null,{"$f":"IF(A208=\"\",\"\",IFERROR(VLOOKUP(D208,'PDU Circuit'!$B$1:$F$199,IF(VLOOKUP(L208,Materials,3,FALSE)>250,$I$10+3,$I$10+1),FALSE),IF(VLOOKUP(L208,Materials,4,FALSE)>=1,IF(VLOOKUP(L208,Materials,3,FALSE)>250,\"BR\",\"BK\"))))","v":""},{"$f":"IF(A208=\"\",\"\",IFERROR(VLOOKUP(E208,'PDU Circuit'!$B$1:$F$199,IF(VLOOKUP(L208,Materials,3,FALSE)>250,$I$10+3,$I$10+1),FALSE),IF(VLOOKUP(L208,Materials,5,FALSE)>1,IF(VLOOKUP(L208,Materials,3,FALSE)>250,\"OR\",\"RED\"),\"\")))","v":""},{"$f":"IF(A208=\"\",\"\",IFERROR(VLOOKUP(F208,'PDU Circuit'!$B$1:$F$199,IF(VLOOKUP(L208,Materials,3,FALSE)>250,$I$10+3,$I$10+1),FALSE),IF(VLOOKUP(L208,Materials,5,FALSE)>2,IF(VLOOKUP(L208,Materials,3,FALSE)>250,\"YL\",\"BL\"),\"\")))","v":""},null,null,null,{"$f":"IFERROR(VLOOKUP(L208,Materials,3,FALSE)&\"V \"&VLOOKUP(L208,Materials,4,FALSE)&\"A\",\"\")","v":""},{"$f":"IFERROR(VLOOKUP(L208,Materials,6,FALSE),\"\")","v":""},null,null,null,null,"",null,"",null,"",null,{"$f":"IF(A208=\"\",\"\",'Voltage Drop'!N195)","v":""},{"$f":"IFERROR(AB208,\"\")","v":""},"",{"$error":"#N/A"},{"$f":"RIGHT(G208,2)","v":""},{"$f":"IF(H208=\"\",IF(G208=\"BK\",\"W\",\"GY\"),RIGHT(H208,2))","v":"GY"},{"$f":"IF(I208=\"\",IF(MID(N208,3,1)>=\"4\",IF(G208=\"BK\",\"W\",\"GY\"),\"G\"),RIGHT(I208,2))","v":"G"},{"$f":"VLOOKUP(AC208,$AI$15:$AJ$23,2,FALSE)","v":{"$error":"#N/A"}},{"$f":"VLOOKUP(AD208,$AI$15:$AJ$23,2,FALSE)","v":8},{"$f":"VLOOKUP(AE208,$AI$15:$AJ$23,2,FALSE)","v":0}]
["",null,null,null,null,null,{"$f":"IF(A209=\"\",\"\",IFERROR(VLOOKUP(D209,'PDU Circuit'!$B$1:$F$199,IF(VLOOKUP(L209,Materials,3,FALSE)>250,$I$10+3,$I$10+1),FALSE),IF(VLOOKUP(L209,Materials,4,FALSE)>=1,IF(VLOOKUP(L209,Materials,3,FALSE)>250,\"BR\",\"BK\"))))","v":""},{"$f":"IF(A209=\"\",\"\",IFERROR(VLOOKUP(E209,'PDU Circuit'!$B$1:$F$199,IF(VLOOKUP(L209,Materials,3,FALSE)>250,$I$10+3,$I$10+1),FALSE),IF(VLOOKUP(L209,Materials,5,FALSE)>1,IF(VLOOKUP(L209,Materials,3,FALSE)>250,\"OR\",\"RED\"),\"\")))","v":""},{"$f":"IF(A209=\"\",\"\",IFERROR(VLOOKUP(F209,'PDU Circuit'!$B$1:$F$199,IF(VLOOKUP(L209,Materials,3,FALSE)>250,$I$10+3,$I$10+1),FALSE),IF(VLOOKUP(L209,Materials,5,FALSE)>2,IF(VLOOKUP(L209,Materials,3,FALSE)>250,\"YL\",\"BL\"),\"\")))","v":""},null,null,null,"","",null,null,null,null,"",null,"",null,"",null,{"$f":"IF(A209=\"\",\"\",'Voltage Drop'!N196)","v":""},"","",{"$error":"#N/A"},"","GY","G",{"$error":"#N/A"},8,0]
["",null,null,null,null,null,{"$f":"IF(A210=\"\",\"\",IFERROR(VLOOKUP(D210,'PDU Circuit'!$B$1:$F$199,IF(VLOOKUP(L210,Materials,3,FALSE)>250,$I$10+3,$I$10+1),FALSE),IF(VLOOKUP(L210,Materials,4,FALSE)>=1,IF(VLOOKUP(L210,Materials,3,FALSE)>250,\"BR\",\"BK\"))))","v":""},{"$f":"IF(A210=\"\",\"\",IFERROR(VLOOKUP(E210,'PDU Circuit'!$B$1:$F$199,IF(VLOOKUP(L210,Materials,3,FALSE)>250,$I$10+3,$I$10+1),FALSE),IF(VLOOKUP(L210,Materials,5,FALSE)>1,IF(VLOOKUP(L210,Materials,3,FALSE)>250,\"OR\",\"RED\"),\"\")))","v":""},{"$f":"IF(A210=\"\",\"\",IFERROR(VLOOKUP(F210,'PDU Circuit'!$B$1:$F$199,IF(VLOOKUP(L210,Materials,3,FALSE)>250,$I$10+3,$I$10+1),FALSE),IF(VLOOKUP(L210,Materials,5,FALSE)>2,IF(VLOOKUP(L210,Materials,3,FALSE)>250,\"YL\",\"BL\"),\"\")))","v":""},null,null,null,"","",null,null,null,null,"",null,"",null,"",null,{"$f":"IF(A210=\"\",\"\",'Voltage Drop'!N197)","v":""},"","",{"$error":"#N/A"},"","GY","G",{"$error":"#N/A"},8,0]
["",null,null,null,null,null,{"$f":"IF(A211=\"\",\"\",IFERROR(VLOOKUP(D211,'PDU Circuit'!$B$1:$F$199,IF(VLOOKUP(L211,Materials,3,FALSE)>250,$I$10+3,$I$10+1),FALSE),IF(VLOOKUP(L211,Materials,4,FALSE)>=1,IF(VLOOKUP(L211,Materials,3,FALSE)>250,\"BR\",\"BK\"))))","v":""},{"$f":"IF(A211=\"\",\"\",IFERROR(VLOOKUP(E211,'PDU Circuit'!$B$1:$F$199,IF(VLOOKUP(L211,Materials,3,FALSE)>250,$I$10+3,$I$10+1),FALSE),IF(VLOOKUP(L211,Materials,5,FALSE)>1,IF(VLOOKUP(L211,Materials,3,FALSE)>250,\"OR\",\"RED\"),\"\")))","v":""},{"$f":"IF(A211=\"\",\"\",IFERROR(VLOOKUP(F211,'PDU Circuit'!$B$1:$F$199,IF(VLOOKUP(L211,Materials,3,FALSE)>250,$I$10+3,$I$10+1),FALSE),IF(VLOOKUP(L211,Materials,5,FALSE)>2,IF(VLOOKUP(L211,Materials,3,FALSE)>250,\"YL\",\"BL\"),\"\")))","v":""},null,null,null,"","",null,null,null,null,"",null,"",null,"",null,{"$f":"IF(A211=\"\",\"\",'Voltage Drop'!N198)","v":""},"","",{"$error":"#N/A"},"","GY","G",{"$error":"#N/A"},8,0]
["",null,null,null,null,null,{"$f":"IF(A212=\"\",\"\",IFERROR(VLOOKUP(D212,'PDU Circuit'!$B$1:$F$199,IF(VLOOKUP(L212,Materials,3,FALSE)>250,$I$10+3,$I$10+1),FALSE),IF(VLOOKUP(L212,Materials,4,FALSE)>=1,IF(VLOOKUP(L212,Materials,3,FALSE)>250,\"BR\",\"BK\"))))","v":""},{"$f":"IF(A212=\"\",\"\",IFERROR(VLOOKUP(E212,'PDU Circuit'!$B$1:$F$199,IF(VLOOKUP(L212,Materials,3,FALSE)>250,$I$10+3,$I$10+1),FALSE),IF(VLOOKUP(L212,Materials,5,FALSE)>1,IF(VLOOKUP(L212,Materials,3,FALSE)>250,\"OR\",\"RED\"),\"\")))","v":""},{"$f":"IF(A212=\"\",\"\",IFERROR(VLOOKUP(F212,'PDU Circuit'!$B$1:$F$199,IF(VLOOKUP(L212,Materials,3,FALSE)>250,$I$10+3,$I$10+1),FALSE),IF(VLOOKUP(L212,Materials,5,FALSE)>2,IF(VLOOKUP(L212,Materials,3,FALSE)>250,\"YL\",\"BL\"),\"\")))","v":""},null,null,null,"","",null,null,null,null,"",null,"",null,"",null,{"$f":"IF(A212=\"\",\"\",'Voltage Drop'!N199)","v":""},"","",{"$error":"#N/A"},"","GY","G",{"$error":"#N/A"},8,0]
["",null,null,null,null,null,{"$f":"IF(A213=\"\",\"\",IFERROR(VLOOKUP(D213,'PDU Circuit'!$B$1:$F$199,IF(VLOOKUP(L213,Materials,3,FALSE)>250,$I$10+3,$I$10+1),FALSE),IF(VLOOKUP(L213,Materials,4,FALSE)>=1,IF(VLOOKUP(L213,Materials,3,FALSE)>250,\"BR\",\"BK\"))))","v":""},{"$f":"IF(A213=\"\",\"\",IFERROR(VLOOKUP(E213,'PDU Circuit'!$B$1:$F$199,IF(VLOOKUP(L213,Materials,3,FALSE)>250,$I$10+3,$I$10+1),FALSE),IF(VLOOKUP(L213,Materials,5,FALSE)>1,IF(VLOOKUP(L213,Materials,3,FALSE)>250,\"OR\",\"RED\"),\"\")))","v":""},{"$f":"IF(A213=\"\",\"\",IFERROR(VLOOKUP(F213,'PDU Circuit'!$B$1:$F$199,IF(VLOOKUP(L213,Materials,3,FALSE)>250,$I$10+3,$I$10+1),FALSE),IF(VLOOKUP(L213,Materials,5,FALSE)>2,IF(VLOOKUP(L213,Materials,3,FALSE)>250,\"YL\",\"BL\"),\"\")))","v":""},null,null,null,"","",null,null,null,null,"",null,"",null,"",null,{"$f":"IF(A213=\"\",\"\",'Voltage Drop'!N200)","v":""},"","",{"$error":"#N/A"},"","GY","G",{"$error":"#N/A"},8,0]
["",null,null,null,null,null,{"$f":"IF(A214=\"\",\"\",IFERROR(VLOOKUP(D214,'PDU Circuit'!$B$1:$F$199,IF(VLOOKUP(L214,Materials,3,FALSE)>250,$I$10+3,$I$10+1),FALSE),IF(VLOOKUP(L214,Materials,4,FALSE)>=1,IF(VLOOKUP(L214,Materials,3,FALSE)>250,\"BR\",\"BK\"))))","v":""},{"$f":"IF(A214=\"\",\"\",IFERROR(VLOOKUP(E214,'PDU Circuit'!$B$1:$F$199,IF(VLOOKUP(L214,Materials,3,FALSE)>250,$I$10+3,$I$10+1),FALSE),IF(VLOOKUP(L214,Materials,5,FALSE)>1,IF(VLOOKUP(L214,Materials,3,FALSE)>250,\"OR\",\"RED\"),\"\")))","v":""},{"$f":"IF(A214=\"\",\"\",IFERROR(VLOOKUP(F214,'PDU Circuit'!$B$1:$F$199,IF(VLOOKUP(L214,Materials,3,FALSE)>250,$I$10+3,$I$10+1),FALSE),IF(VLOOKUP(L214,Materials,5,FALSE)>2,IF(VLOOKUP(L214,Materials,3,FALSE)>250,\"YL\",\"BL\"),\"\")))","v":""},null,null,null,"","",null,null,null,null,"",null,"",null,"",null,{"$f":"IF(A214=\"\",\"\",'Voltage Drop'!N201)","v":""},"","",{"$error":"#N/A"},"","GY","G",{"$error":"#N/A"},8,0]
["",null,null,null,null,null,{"$f":"IF(A215=\"\",\"\",IFERROR(VLOOKUP(D215,'PDU Circuit'!$B$1:$F$199,IF(VLOOKUP(L215,Materials,3,FALSE)>250,$I$10+3,$I$10+1),FALSE),IF(VLOOKUP(L215,Materials,4,FALSE)>=1,IF(VLOOKUP(L215,Materials,3,FALSE)>250,\"BR\",\"BK\"))))","v":""},{"$f":"IF(A215=\"\",\"\",IFERROR(VLOOKUP(E215,'PDU Circuit'!$B$1:$F$199,IF(VLOOKUP(L215,Materials,3,FALSE)>250,$I$10+3,$I$10+1),FALSE),IF(VLOOKUP(L215,Materials,5,FALSE)>1,IF(VLOOKUP(L215,Materials,3,FALSE)>250,\"OR\",\"RED\"),\"\")))","v":""},{"$f":"IF(A215=\"\",\"\",IFERROR(VLOOKUP(F215,'PDU Circuit'!$B$1:$F$199,IF(VLOOKUP(L215,Materials,3,FALSE)>250,$I$10+3,$I$10+1),FALSE),IF(VLOOKUP(L215,Materials,5,FALSE)>2,IF(VLOOKUP(L215,Materials,3,FALSE)>250,\"YL\",\"BL\"),\"\")))","v":""},null,null,null,"","",null,null,null,null,"",null,"",null,"",null,{"$f":"IF(A215=\"\",\"\",'Voltage Drop'!N202)","v":""},"","",{"$error":"#N/A"},"","GY","G",{"$error":"#N/A"},8,0]
["",null,null,null,null,null,{"$f":"IF(A216=\"\",\"\",IFERROR(VLOOKUP(D216,'PDU Circuit'!$B$1:$F$199,IF(VLOOKUP(L216,Materials,3,FALSE)>250,$I$10+3,$I$10+1),FALSE),IF(VLOOKUP(L216,Materials,4,FALSE)>=1,IF(VLOOKUP(L216,Materials,3,FALSE)>250,\"BR\",\"BK\"))))","v":""},{"$f":"IF(A216=\"\",\"\",IFERROR(VLOOKUP(E216,'PDU Circuit'!$B$1:$F$199,IF(VLOOKUP(L216,Materials,3,FALSE)>250,$I$10+3,$I$10+1),FALSE),IF(VLOOKUP(L216,Materials,5,FALSE)>1,IF(VLOOKUP(L216,Materials,3,FALSE)>250,\"OR\",\"RED\"),\"\")))","v":""},{"$f":"IF(A216=\"\",\"\",IFERROR(VLOOKUP(F216,'PDU Circuit'!$B$1:$F$199,IF(VLOOKUP(L216,Materials,3,FALSE)>250,$I$10+3,$I$10+1),FALSE),IF(VLOOKUP(L216,Materials,5,FALSE)>2,IF(VLOOKUP(L216,Materials,3,FALSE)>250,\"YL\",\"BL\"),\"\")))","v":""},null,null,null,"","",null,null,null,null,"",null,"",null,"",null,{"$f":"IF(A216=\"\",\"\",'Voltage Drop'!N203)","v":""},"","",{"$error":"#N/A"},"","GY","G",{"$error":"#N/A"},8,0]
["",null,null,null,null,null,{"$f":"IF(A217=\"\",\"\",IFERROR(VLOOKUP(D217,'PDU Circuit'!$B$1:$F$199,IF(VLOOKUP(L217,Materials,3,FALSE)>250,$I$10+3,$I$10+1),FALSE),IF(VLOOKUP(L217,Materials,4,FALSE)>=1,IF(VLOOKUP(L217,Materials,3,FALSE)>250,\"BR\",\"BK\"))))","v":""},{"$f":"IF(A217=\"\",\"\",IFERROR(VLOOKUP(E217,'PDU Circuit'!$B$1:$F$199,IF(VLOOKUP(L217,Materials,3,FALSE)>250,$I$10+3,$I$10+1),FALSE),IF(VLOOKUP(L217,Materials,5,FALSE)>1,IF(VLOOKUP(L217,Materials,3,FALSE)>250,\"OR\",\"RED\"),\"\")))","v":""},{"$f":"IF(A217=\"\",\"\",IFERROR(VLOOKUP(F217,'PDU Circuit'!$B$1:$F$199,IF(VLOOKUP(L217,Materials,3,FALSE)>250,$I$10+3,$I$10+1),FALSE),IF(VLOOKUP(L217,Materials,5,FALSE)>2,IF(VLOOKUP(L217,Materials,3,FALSE)>250,\"YL\",\"BL\"),\"\")))","v":""},null,null,null,"","",null,null,null,null,"",null,"",null,"",null,{"$f":"IF(A217=\"\",\"\",'Voltage Drop'!N204)","v":""},"","",{"$error":"#N/A"},"","GY","G",{"$error":"#N/A"},8,0]
["",null,null,null,null,null,{"$f":"IF(A218=\"\",\"\",IFERROR(VLOOKUP(D218,'PDU Circuit'!$B$1:$F$199,IF(VLOOKUP(L218,Materials,3,FALSE)>250,$I$10+3,$I$10+1),FALSE),IF(VLOOKUP(L218,Materials,4,FALSE)>=1,IF(VLOOKUP(L218,Materials,3,FALSE)>250,\"BR\",\"BK\"))))","v":""},{"$f":"IF(A218=\"\",\"\",IFERROR(VLOOKUP(E218,'PDU Circuit'!$B$1:$F$199,IF(VLOOKUP(L218,Materials,3,FALSE)>250,$I$10+3,$I$10+1),FALSE),IF(VLOOKUP(L218,Materials,5,FALSE)>1,IF(VLOOKUP(L218,Materials,3,FALSE)>250,\"OR\",\"RED\"),\"\")))","v":""},{"$f":"IF(A218=\"\",\"\",IFERROR(VLOOKUP(F218,'PDU Circuit'!$B$1:$F$199,IF(VLOOKUP(L218,Materials,3,FALSE)>250,$I$10+3,$I$10+1),FALSE),IF(VLOOKUP(L218,Materials,5,FALSE)>2,IF(VLOOKUP(L218,Materials,3,FALSE)>250,\"YL\",\"BL\"),\"\")))","v":""},null,null,null,"","",null,null,null,null,"",null,"",null,"",null,{"$f":"IF(A218=\"\",\"\",'Voltage Drop'!N205)","v":""},"","",{"$error":"#N/A"},"","GY","G",{"$error":"#N/A"},8,0]
["",null,null,null,null,null,{"$f":"IF(A219=\"\",\"\",IFERROR(VLOOKUP(D219,'PDU Circuit'!$B$1:$F$199,IF(VLOOKUP(L219,Materials,3,FALSE)>250,$I$10+3,$I$10+1),FALSE),IF(VLOOKUP(L219,Materials,4,FALSE)>=1,IF(VLOOKUP(L219,Materials,3,FALSE)>250,\"BR\",\"BK\"))))","v":""},{"$f":"IF(A219=\"\",\"\",IFERROR(VLOOKUP(E219,'PDU Circuit'!$B$1:$F$199,IF(VLOOKUP(L219,Materials,3,FALSE)>250,$I$10+3,$I$10+1),FALSE),IF(VLOOKUP(L219,Materials,5,FALSE)>1,IF(VLOOKUP(L219,Materials,3,FALSE)>250,\"OR\",\"RED\"),\"\")))","v":""},{"$f":"IF(A219=\"\",\"\",IFERROR(VLOOKUP(F219,'PDU Circuit'!$B$1:$F$199,IF(VLOOKUP(L219,Materials,3,FALSE)>250,$I$10+3,$I$10+1),FALSE),IF(VLOOKUP(L219,Materials,5,FALSE)>2,IF(VLOOKUP(L219,Materials,3,FALSE)>250,\"YL\",\"BL\"),\"\")))","v":""},null,null,null,"","",null,null,null,null,"",null,"",null,"",null,{"$f":"IF(A219=\"\",\"\",'Voltage Drop'!N206)","v":""},"","",{"$error":"#N/A"},"","GY","G",{"$error":"#N/A"},8,0]
["",null,null,null,null,null,{"$f":"IF(A220=\"\",\"\",IFERROR(VLOOKUP(D220,'PDU Circuit'!$B$1:$F$199,IF(VLOOKUP(L220,Materials,3,FALSE)>250,$I$10+3,$I$10+1),FALSE),IF(VLOOKUP(L220,Materials,4,FALSE)>=1,IF(VLOOKUP(L220,Materials,3,FALSE)>250,\"BR\",\"BK\"))))","v":""},{"$f":"IF(A220=\"\",\"\",IFERROR(VLOOKUP(E220,'PDU Circuit'!$B$1:$F$199,IF(VLOOKUP(L220,Materials,3,FALSE)>250,$I$10+3,$I$10+1),FALSE),IF(VLOOKUP(L220,Materials,5,FALSE)>1,IF(VLOOKUP(L220,Materials,3,FALSE)>250,\"OR\",\"RED\"),\"\")))","v":""},{"$f":"IF(A220=\"\",\"\",IFERROR(VLOOKUP(F220,'PDU Circuit'!$B$1:$F$199,IF(VLOOKUP(L220,Materials,3,FALSE)>250,$I$10+3,$I$10+1),FALSE),IF(VLOOKUP(L220,Materials,5,FALSE)>2,IF(VLOOKUP(L220,Materials,3,FALSE)>250,\"YL\",\"BL\"),\"\")))","v":""},null,null,null,"","",null,null,null,null,"",null,"",null,"",null,{"$f":"IF(A220=\"\",\"\",'Voltage Drop'!N207)","v":""},"","",{"$error":"#N/A"},"","GY","G",{"$error":"#N/A"},8,0]
["",null,null,null,null,null,{"$f":"IF(A221=\"\",\"\",IFERROR(VLOOKUP(D221,'PDU Circuit'!$B$1:$F$199,IF(VLOOKUP(L221,Materials,3,FALSE)>250,$I$10+3,$I$10+1),FALSE),IF(VLOOKUP(L221,Materials,4,FALSE)>=1,IF(VLOOKUP(L221,Materials,3,FALSE)>250,\"BR\",\"BK\"))))","v":""},{"$f":"IF(A221=\"\",\"\",IFERROR(VLOOKUP(E221,'PDU Circuit'!$B$1:$F$199,IF(VLOOKUP(L221,Materials,3,FALSE)>250,$I$10+3,$I$10+1),FALSE),IF(VLOOKUP(L221,Materials,5,FALSE)>1,IF(VLOOKUP(L221,Materials,3,FALSE)>250,\"OR\",\"RED\"),\"\")))","v":""},{"$f":"IF(A221=\"\",\"\",IFERROR(VLOOKUP(F221,'PDU Circuit'!$B$1:$F$199,IF(VLOOKUP(L221,Materials,3,FALSE)>250,$I$10+3,$I$10+1),FALSE),IF(VLOOKUP(L221,Materials,5,FALSE)>2,IF(VLOOKUP(L221,Materials,3,FALSE)>250,\"YL\",\"BL\"),\"\")))","v":""},null,null,null,"","",null,null,null,null,"",null,"",null,"",null,{"$f":"IF(A221=\"\",\"\",'Voltage Drop'!N208)","v":""},"","",{"$error":"#N/A"},"","GY","G",{"$error":"#N/A"},8,0]
["",null,null,null,null,null,{"$f":"IF(A222=\"\",\"\",IFERROR(VLOOKUP(D222,'PDU Circuit'!$B$1:$F$199,IF(VLOOKUP(L222,Materials,3,FALSE)>250,$I$10+3,$I$10+1),FALSE),IF(VLOOKUP(L222,Materials,4,FALSE)>=1,IF(VLOOKUP(L222,Materials,3,FALSE)>250,\"BR\",\"BK\"))))","v":""},{"$f":"IF(A222=\"\",\"\",IFERROR(VLOOKUP(E222,'PDU Circuit'!$B$1:$F$199,IF(VLOOKUP(L222,Materials,3,FALSE)>250,$I$10+3,$I$10+1),FALSE),IF(VLOOKUP(L222,Materials,5,FALSE)>1,IF(VLOOKUP(L222,Materials,3,FALSE)>250,\"OR\",\"RED\"),\"\")))","v":""},{"$f":"IF(A222=\"\",\"\",IFERROR(VLOOKUP(F222,'PDU Circuit'!$B$1:$F$199,IF(VLOOKUP(L222,Materials,3,FALSE)>250,$I$10+3,$I$10+1),FALSE),IF(VLOOKUP(L222,Materials,5,FALSE)>2,IF(VLOOKUP(L222,Materials,3,FALSE)>250,\"YL\",\"BL\"),\"\")))","v":""},null,null,null,"","",null,null,null,null,"",null,"",null,"",null,{"$f":"IF(A222=\"\",\"\",'Voltage Drop'!N209)","v":""},"","",{"$error":"#N/A"},"","GY","G",{"$error":"#N/A"},8,0]
["",null,null,null,null,null,{"$f":"IF(A223=\"\",\"\",IFERROR(VLOOKUP(D223,'PDU Circuit'!$B$1:$F$199,IF(VLOOKUP(L223,Materials,3,FALSE)>250,$I$10+3,$I$10+1),FALSE),IF(VLOOKUP(L223,Materials,4,FALSE)>=1,IF(VLOOKUP(L223,Materials,3,FALSE)>250,\"BR\",\"BK\"))))","v":""},{"$f":"IF(A223=\"\",\"\",IFERROR(VLOOKUP(E223,'PDU Circuit'!$B$1:$F$199,IF(VLOOKUP(L223,Materials,3,FALSE)>250,$I$10+3,$I$10+1),FALSE),IF(VLOOKUP(L223,Materials,5,FALSE)>1,IF(VLOOKUP(L223,Materials,3,FALSE)>250,\"OR\",\"RED\"),\"\")))","v":""},{"$f":"IF(A223=\"\",\"\",IFERROR(VLOOKUP(F223,'PDU Circuit'!$B$1:$F$199,IF(VLOOKUP(L223,Materials,3,FALSE)>250,$I$10+3,$I$10+1),FALSE),IF(VLOOKUP(L223,Materials,5,FALSE)>2,IF(VLOOKUP(L223,Materials,3,FALSE)>250,\"YL\",\"BL\"),\"\")))","v":""},null,null,null,"","",null,null,null,null,"",null,"",null,"",null,{"$f":"IF(A223=\"\",\"\",'Voltage Drop'!N210)","v":""},"","",{"$error":"#N/A"},"","GY","G",{"$error":"#N/A"},8,0]
["",null,null,null,null,null,{"$f":"IF(A224=\"\",\"\",IFERROR(VLOOKUP(D224,'PDU Circuit'!$B$1:$F$199,IF(VLOOKUP(L224,Materials,3,FALSE)>250,$I$10+3,$I$10+1),FALSE),IF(VLOOKUP(L224,Materials,4,FALSE)>=1,IF(VLOOKUP(L224,Materials,3,FALSE)>250,\"BR\",\"BK\"))))","v":""},{"$f":"IF(A224=\"\",\"\",IFERROR(VLOOKUP(E224,'PDU Circuit'!$B$1:$F$199,IF(VLOOKUP(L224,Materials,3,FALSE)>250,$I$10+3,$I$10+1),FALSE),IF(VLOOKUP(L224,Materials,5,FALSE)>1,IF(VLOOKUP(L224,Materials,3,FALSE)>250,\"OR\",\"RED\"),\"\")))","v":""},{"$f":"IF(A224=\"\",\"\",IFERROR(VLOOKUP(F224,'PDU Circuit'!$B$1:$F$199,IF(VLOOKUP(L224,Materials,3,FALSE)>250,$I$10+3,$I$10+1),FALSE),IF(VLOOKUP(L224,Materials,5,FALSE)>2,IF(VLOOKUP(L224,Materials,3,FALSE)>250,\"YL\",\"BL\"),\"\")))","v":""},null,null,null,"","",null,null,null,null,"",null,"",null,"",null,{"$f":"IF(A224=\"\",\"\",'Voltage Drop'!N211)","v":""},"","",{"$error":"#N/A"},"","GY","G",{"$error":"#N/A"},8,0]
["",null,null,null,null,null,{"$f":"IF(A225=\"\",\"\",IFERROR(VLOOKUP(D225,'PDU Circuit'!$B$1:$F$199,IF(VLOOKUP(L225,Materials,3,FALSE)>250,$I$10+3,$I$10+1),FALSE),IF(VLOOKUP(L225,Materials,4,FALSE)>=1,IF(VLOOKUP(L225,Materials,3,FALSE)>250,\"BR\",\"BK\"))))","v":""},{"$f":"IF(A225=\"\",\"\",IFERROR(VLOOKUP(E225,'PDU Circuit'!$B$1:$F$199,IF(VLOOKUP(L225,Materials,3,FALSE)>250,$I$10+3,$I$10+1),FALSE),IF(VLOOKUP(L225,Materials,5,FALSE)>1,IF(VLOOKUP(L225,Materials,3,FALSE)>250,\"OR\",\"RED\"),\"\")))","v":""},{"$f":"IF(A225=\"\",\"\",IFERROR(VLOOKUP(F225,'PDU Circuit'!$B$1:$F$199,IF(VLOOKUP(L225,Materials,3,FALSE)>250,$I$10+3,$I$10+1),FALSE),IF(VLOOKUP(L225,Materials,5,FALSE)>2,IF(VLOOKUP(L225,Materials,3,FALSE)>250,\"YL\",\"BL\"),\"\")))","v":""},null,null,null,"","",null,null,null,null,"",null,"",null,"",null,{"$f":"IF(A225=\"\",\"\",'Voltage Drop'!N212)","v":""},"","",{"$error":"#N/A"},"","GY","G",{"$error":"#N/A"},8,0]
["",null,null,null,null,null,{"$f":"IF(A226=\"\",\"\",IFERROR(VLOOKUP(D226,'PDU Circuit'!$B$1:$F$199,IF(VLOOKUP(L226,Materials,3,FALSE)>250,$I$10+3,$I$10+1),FALSE),IF(VLOOKUP(L226,Materials,4,FALSE)>=1,IF(VLOOKUP(L226,Materials,3,FALSE)>250,\"BR\",\"BK\"))))","v":""},{"$f":"IF(A226=\"\",\"\",IFERROR(VLOOKUP(E226,'PDU Circuit'!$B$1:$F$199,IF(VLOOKUP(L226,Materials,3,FALSE)>250,$I$10+3,$I$10+1),FALSE),IF(VLOOKUP(L226,Materials,5,FALSE)>1,IF(VLOOKUP(L226,Materials,3,FALSE)>250,\"OR\",\"RED\"),\"\")))","v":""},{"$f":"IF(A226=\"\",\"\",IFERROR(VLOOKUP(F226,'PDU Circuit'!$B$1:$F$199,IF(VLOOKUP(L226,Materials,3,FALSE)>250,$I$10+3,$I$10+1),FALSE),IF(VLOOKUP(L226,Materials,5,FALSE)>2,IF(VLOOKUP(L226,Materials,3,FALSE)>250,\"YL\",\"BL\"),\"\")))","v":""},null,null,null,"","",null,null,null,null,"",null,"",null,"",null,{"$f":"IF(A226=\"\",\"\",'Voltage Drop'!N213)","v":""},"","",{"$error":"#N/A"},"","GY","G",{"$error":"#N/A"},8,0]
["",null,null,null,null,null,{"$f":"IF(A227=\"\",\"\",IFERROR(VLOOKUP(D227,'PDU Circuit'!$B$1:$F$199,IF(VLOOKUP(L227,Materials,3,FALSE)>250,$I$10+3,$I$10+1),FALSE),IF(VLOOKUP(L227,Materials,4,FALSE)>=1,IF(VLOOKUP(L227,Materials,3,FALSE)>250,\"BR\",\"BK\"))))","v":""},{"$f":"IF(A227=\"\",\"\",IFERROR(VLOOKUP(E227,'PDU Circuit'!$B$1:$F$199,IF(VLOOKUP(L227,Materials,3,FALSE)>250,$I$10+3,$I$10+1),FALSE),IF(VLOOKUP(L227,Materials,5,FALSE)>1,IF(VLOOKUP(L227,Materials,3,FALSE)>250,\"OR\",\"RED\"),\"\")))","v":""},{"$f":"IF(A227=\"\",\"\",IFERROR(VLOOKUP(F227,'PDU Circuit'!$B$1:$F$199,IF(VLOOKUP(L227,Materials,3,FALSE)>250,$I$10+3,$I$10+1),FALSE),IF(VLOOKUP(L227,Materials,5,FALSE)>2,IF(VLOOKUP(L227,Materials,3,FALSE)>250,\"YL\",\"BL\"),\"\")))","v":""},null,null,null,"","",null,null,null,null,"",null,"",null,"",null,{"$f":"IF(A227=\"\",\"\",'Voltage Drop'!N214)","v":""},"","",{"$error":"#N/A"},"","GY","G",{"$error":"#N/A"},8,0]
["",null,null,null,null,null,{"$f":"IF(A228=\"\",\"\",IFERROR(VLOOKUP(D228,'PDU Circuit'!$B$1:$F$199,IF(VLOOKUP(L228,Materials,3,FALSE)>250,$I$10+3,$I$10+1),FALSE),IF(VLOOKUP(L228,Materials,4,FALSE)>=1,IF(VLOOKUP(L228,Materials,3,FALSE)>250,\"BR\",\"BK\"))))","v":""},{"$f":"IF(A228=\"\",\"\",IFERROR(VLOOKUP(E228,'PDU Circuit'!$B$1:$F$199,IF(VLOOKUP(L228,Materials,3,FALSE)>250,$I$10+3,$I$10+1),FALSE),IF(VLOOKUP(L228,Materials,5,FALSE)>1,IF(VLOOKUP(L228,Materials,3,FALSE)>250,\"OR\",\"RED\"),\"\")))","v":""},{"$f":"IF(A228=\"\",\"\",IFERROR(VLOOKUP(F228,'PDU Circuit'!$B$1:$F$199,IF(VLOOKUP(L228,Materials,3,FALSE)>250,$I$10+3,$I$10+1),FALSE),IF(VLOOKUP(L228,Materials,5,FALSE)>2,IF(VLOOKUP(L228,Materials,3,FALSE)>250,\"YL\",\"BL\"),\"\")))","v":""},null,null,null,"","",null,null,null,null,"",null,"",null,"",null,{"$f":"IF(A228=\"\",\"\",'Voltage Drop'!N215)","v":""},"","",{"$error":"#N/A"},"","GY","G",{"$error":"#N/A"},8,0]
["",null,null,null,null,null,{"$f":"IF(A229=\"\",\"\",IFERROR(VLOOKUP(D229,'PDU Circuit'!$B$1:$F$199,IF(VLOOKUP(L229,Materials,3,FALSE)>250,$I$10+3,$I$10+1),FALSE),IF(VLOOKUP(L229,Materials,4,FALSE)>=1,IF(VLOOKUP(L229,Materials,3,FALSE)>250,\"BR\",\"BK\"))))","v":""},{"$f":"IF(A229=\"\",\"\",IFERROR(VLOOKUP(E229,'PDU Circuit'!$B$1:$F$199,IF(VLOOKUP(L229,Materials,3,FALSE)>250,$I$10+3,$I$10+1),FALSE),IF(VLOOKUP(L229,Materials,5,FALSE)>1,IF(VLOOKUP(L229,Materials,3,FALSE)>250,\"OR\",\"RED\"),\"\")))","v":""},{"$f":"IF(A229=\"\",\"\",IFERROR(VLOOKUP(F229,'PDU Circuit'!$B$1:$F$199,IF(VLOOKUP(L229,Materials,3,FALSE)>250,$I$10+3,$I$10+1),FALSE),IF(VLOOKUP(L229,Materials,5,FALSE)>2,IF(VLOOKUP(L229,Materials,3,FALSE)>250,\"YL\",\"BL\"),\"\")))","v":""},null,null,null,"","",null,null,null,null,"",null,"",null,"",null,{"$f":"IF(A229=\"\",\"\",'Voltage Drop'!N216)","v":""},"","",{"$error":"#N/A"},"","GY","G",{"$error":"#N/A"},8,0]
["",null,null,null,null,null,{"$f":"IF(A230=\"\",\"\",IFERROR(VLOOKUP(D230,'PDU Circuit'!$B$1:$F$199,IF(VLOOKUP(L230,Materials,3,FALSE)>250,$I$10+3,$I$10+1),FALSE),IF(VLOOKUP(L230,Materials,4,FALSE)>=1,IF(VLOOKUP(L230,Materials,3,FALSE)>250,\"BR\",\"BK\"))))","v":""},{"$f":"IF(A230=\"\",\"\",IFERROR(VLOOKUP(E230,'PDU Circuit'!$B$1:$F$199,IF(VLOOKUP(L230,Materials,3,FALSE)>250,$I$10+3,$I$10+1),FALSE),IF(VLOOKUP(L230,Materials,5,FALSE)>1,IF(VLOOKUP(L230,Materials,3,FALSE)>250,\"OR\",\"RED\"),\"\")))","v":""},{"$f":"IF(A230=\"\",\"\",IFERROR(VLOOKUP(F230,'PDU Circuit'!$B$1:$F$199,IF(VLOOKUP(L230,Materials,3,FALSE)>250,$I$10+3,$I$10+1),FALSE),IF(VLOOKUP(L230,Materials,5,FALSE)>2,IF(VLOOKUP(L230,Materials,3,FALSE)>250,\"YL\",\"BL\"),\"\")))","v":""},null,null,null,"","",null,null,null,null,"",null,"",null,"",null,{"$f":"IF(A230=\"\",\"\",'Voltage Drop'!N217)","v":""},"","",{"$error":"#N/A"},"","GY","G",{"$error":"#N/A"},8,0]
["",null,null,null,null,null,{"$f":"IF(A231=\"\",\"\",IFERROR(VLOOKUP(D231,'PDU Circuit'!$B$1:$F$199,IF(VLOOKUP(L231,Materials,3,FALSE)>250,$I$10+3,$I$10+1),FALSE),IF(VLOOKUP(L231,Materials,4,FALSE)>=1,IF(VLOOKUP(L231,Materials,3,FALSE)>250,\"BR\",\"BK\"))))","v":""},{"$f":"IF(A231=\"\",\"\",IFERROR(VLOOKUP(E231,'PDU Circuit'!$B$1:$F$199,IF(VLOOKUP(L231,Materials,3,FALSE)>250,$I$10+3,$I$10+1),FALSE),IF(VLOOKUP(L231,Materials,5,FALSE)>1,IF(VLOOKUP(L231,Materials,3,FALSE)>250,\"OR\",\"RED\"),\"\")))","v":""},{"$f":"IF(A231=\"\",\"\",IFERROR(VLOOKUP(F231,'PDU Circuit'!$B$1:$F$199,IF(VLOOKUP(L231,Materials,3,FALSE)>250,$I$10+3,$I$10+1),FALSE),IF(VLOOKUP(L231,Materials,5,FALSE)>2,IF(VLOOKUP(L231,Materials,3,FALSE)>250,\"YL\",\"BL\"),\"\")))","v":""},null,null,null,"","",null,null,null,null,"",null,"",null,"",null,{"$f":"IF(A231=\"\",\"\",'Voltage Drop'!N218)","v":""},"","",{"$error":"#N/A"},"","GY","G",{"$error":"#N/A"},8,0]
["",null,null,null,null,null,{"$f":"IF(A232=\"\",\"\",IFERROR(VLOOKUP(D232,'PDU Circuit'!$B$1:$F$199,IF(VLOOKUP(L232,Materials,3,FALSE)>250,$I$10+3,$I$10+1),FALSE),IF(VLOOKUP(L232,Materials,4,FALSE)>=1,IF(VLOOKUP(L232,Materials,3,FALSE)>250,\"BR\",\"BK\"))))","v":""},{"$f":"IF(A232=\"\",\"\",IFERROR(VLOOKUP(E232,'PDU Circuit'!$B$1:$F$199,IF(VLOOKUP(L232,Materials,3,FALSE)>250,$I$10+3,$I$10+1),FALSE),IF(VLOOKUP(L232,Materials,5,FALSE)>1,IF(VLOOKUP(L232,Materials,3,FALSE)>250,\"OR\",\"RED\"),\"\")))","v":""},{"$f":"IF(A232=\"\",\"\",IFERROR(VLOOKUP(F232,'PDU Circuit'!$B$1:$F$199,IF(VLOOKUP(L232,Materials,3,FALSE)>250,$I$10+3,$I$10+1),FALSE),IF(VLOOKUP(L232,Materials,5,FALSE)>2,IF(VLOOKUP(L232,Materials,3,FALSE)>250,\"YL\",\"BL\"),\"\")))","v":""},null,null,null,"","",null,null,null,null,"",null,"",null,"",null,{"$f":"IF(A232=\"\",\"\",'Voltage Drop'!N219)","v":""},"","",{"$error":"#N/A"},"","GY","G",{"$error":"#N/A"},8,0]
["",null,null,null,null,null,{"$f":"IF(A233=\"\",\"\",IFERROR(VLOOKUP(D233,'PDU Circuit'!$B$1:$F$199,IF(VLOOKUP(L233,Materials,3,FALSE)>250,$I$10+3,$I$10+1),FALSE),IF(VLOOKUP(L233,Materials,4,FALSE)>=1,IF(VLOOKUP(L233,Materials,3,FALSE)>250,\"BR\",\"BK\"))))","v":""},{"$f":"IF(A233=\"\",\"\",IFERROR(VLOOKUP(E233,'PDU Circuit'!$B$1:$F$199,IF(VLOOKUP(L233,Materials,3,FALSE)>250,$I$10+3,$I$10+1),FALSE),IF(VLOOKUP(L233,Materials,5,FALSE)>1,IF(VLOOKUP(L233,Materials,3,FALSE)>250,\"OR\",\"RED\"),\"\")))","v":""},{"$f":"IF(A233=\"\",\"\",IFERROR(VLOOKUP(F233,'PDU Circuit'!$B$1:$F$199,IF(VLOOKUP(L233,Materials,3,FALSE)>250,$I$10+3,$I$10+1),FALSE),IF(VLOOKUP(L233,Materials,5,FALSE)>2,IF(VLOOKUP(L233,Materials,3,FALSE)>250,\"YL\",\"BL\"),\"\")))","v":""},null,null,null,"","",null,null,null,null,"",null,"",null,"",null,{"$f":"IF(A233=\"\",\"\",'Voltage Drop'!N220)","v":""},"","",{"$error":"#N/A"},"","GY","G",{"$error":"#N/A"},8,0]
["",null,null,null,null,null,{"$f":"IF(A234=\"\",\"\",IFERROR(VLOOKUP(D234,'PDU Circuit'!$B$1:$F$199,IF(VLOOKUP(L234,Materials,3,FALSE)>250,$I$10+3,$I$10+1),FALSE),IF(VLOOKUP(L234,Materials,4,FALSE)>=1,IF(VLOOKUP(L234,Materials,3,FALSE)>250,\"BR\",\"BK\"))))","v":""},{"$f":"IF(A234=\"\",\"\",IFERROR(VLOOKUP(E234,'PDU Circuit'!$B$1:$F$199,IF(VLOOKUP(L234,Materials,3,FALSE)>250,$I$10+3,$I$10+1),FALSE),IF(VLOOKUP(L234,Materials,5,FALSE)>1,IF(VLOOKUP(L234,Materials,3,FALSE)>250,\"OR\",\"RED\"),\"\")))","v":""},{"$f":"IF(A234=\"\",\"\",IFERROR(VLOOKUP(F234,'PDU Circuit'!$B$1:$F$199,IF(VLOOKUP(L234,Materials,3,FALSE)>250,$I$10+3,$I$10+1),FALSE),IF(VLOOKUP(L234,Materials,5,FALSE)>2,IF(VLOOKUP(L234,Materials,3,FALSE)>250,\"YL\",\"BL\"),\"\")))","v":""},null,null,null,"","",null,null,null,null,"",null,"",null,"",null,{"$f":"IF(A234=\"\",\"\",'Voltage Drop'!N221)","v":""},"","",{"$error":"#N/A"},"","GY","G",{"$error":"#N/A"},8,0]
["",null,null,null,null,null,{"$f":"IF(A235=\"\",\"\",IFERROR(VLOOKUP(D235,'PDU Circuit'!$B$1:$F$199,IF(VLOOKUP(L235,Materials,3,FALSE)>250,$I$10+3,$I$10+1),FALSE),IF(VLOOKUP(L235,Materials,4,FALSE)>=1,IF(VLOOKUP(L235,Materials,3,FALSE)>250,\"BR\",\"BK\"))))","v":""},{"$f":"IF(A235=\"\",\"\",IFERROR(VLOOKUP(E235,'PDU Circuit'!$B$1:$F$199,IF(VLOOKUP(L235,Materials,3,FALSE)>250,$I$10+3,$I$10+1),FALSE),IF(VLOOKUP(L235,Materials,5,FALSE)>1,IF(VLOOKUP(L235,Materials,3,FALSE)>250,\"OR\",\"RED\"),\"\")))","v":""},{"$f":"IF(A235=\"\",\"\",IFERROR(VLOOKUP(F235,'PDU Circuit'!$B$1:$F$199,IF(VLOOKUP(L235,Materials,3,FALSE)>250,$I$10+3,$I$10+1),FALSE),IF(VLOOKUP(L235,Materials,5,FALSE)>2,IF(VLOOKUP(L235,Materials,3,FALSE)>250,\"YL\",\"BL\"),\"\")))","v":""},null,null,null,"","",null,null,null,null,"",null,"",null,"",null,{"$f":"IF(A235=\"\",\"\",'Voltage Drop'!N222)","v":""},"","",{"$error":"#N/A"},"","GY","G",{"$error":"#N/A"},8,0]
["",null,null,null,null,null,{"$f":"IF(A236=\"\",\"\",IFERROR(VLOOKUP(D236,'PDU Circuit'!$B$1:$F$199,IF(VLOOKUP(L236,Materials,3,FALSE)>250,$I$10+3,$I$10+1),FALSE),IF(VLOOKUP(L236,Materials,4,FALSE)>=1,IF(VLOOKUP(L236,Materials,3,FALSE)>250,\"BR\",\"BK\"))))","v":""},{"$f":"IF(A236=\"\",\"\",IFERROR(VLOOKUP(E236,'PDU Circuit'!$B$1:$F$199,IF(VLOOKUP(L236,Materials,3,FALSE)>250,$I$10+3,$I$10+1),FALSE),IF(VLOOKUP(L236,Materials,5,FALSE)>1,IF(VLOOKUP(L236,Materials,3,FALSE)>250,\"OR\",\"RED\"),\"\")))","v":""},{"$f":"IF(A236=\"\",\"\",IFERROR(VLOOKUP(F236,'PDU Circuit'!$B$1:$F$199,IF(VLOOKUP(L236,Materials,3,FALSE)>250,$I$10+3,$I$10+1),FALSE),IF(VLOOKUP(L236,Materials,5,FALSE)>2,IF(VLOOKUP(L236,Materials,3,FALSE)>250,\"YL\",\"BL\"),\"\")))","v":""},null,null,null,"","",null,null,null,null,"",null,"",null,"",null,{"$f":"IF(A236=\"\",\"\",'Voltage Drop'!N223)","v":""},"","",{"$error":"#N/A"},"","GY","G",{"$error":"#N/A"},8,0]
["",null,null,null,null,null,{"$f":"IF(A237=\"\",\"\",IFERROR(VLOOKUP(D237,'PDU Circuit'!$B$1:$F$199,IF(VLOOKUP(L237,Materials,3,FALSE)>250,$I$10+3,$I$10+1),FALSE),IF(VLOOKUP(L237,Materials,4,FALSE)>=1,IF(VLOOKUP(L237,Materials,3,FALSE)>250,\"BR\",\"BK\"))))","v":""},{"$f":"IF(A237=\"\",\"\",IFERROR(VLOOKUP(E237,'PDU Circuit'!$B$1:$F$199,IF(VLOOKUP(L237,Materials,3,FALSE)>250,$I$10+3,$I$10+1),FALSE),IF(VLOOKUP(L237,Materials,5,FALSE)>1,IF(VLOOKUP(L237,Materials,3,FALSE)>250,\"OR\",\"RED\"),\"\")))","v":""},{"$f":"IF(A237=\"\",\"\",IFERROR(VLOOKUP(F237,'PDU Circuit'!$B$1:$F$199,IF(VLOOKUP(L237,Materials,3,FALSE)>250,$I$10+3,$I$10+1),FALSE),IF(VLOOKUP(L237,Materials,5,FALSE)>2,IF(VLOOKUP(L237,Materials,3,FALSE)>250,\"YL\",\"BL\"),\"\")))","v":""},null,null,null,"","",null,null,null,null,"",null,"",null,"",null,{"$f":"IF(A237=\"\",\"\",'Voltage Drop'!N224)","v":""},"","",{"$error":"#N/A"},"","GY","G",{"$error":"#N/A"},8,0]
["",null,null,null,null,null,{"$f":"IF(A238=\"\",\"\",IFERROR(VLOOKUP(D238,'PDU Circuit'!$B$1:$F$199,IF(VLOOKUP(L238,Materials,3,FALSE)>250,$I$10+3,$I$10+1),FALSE),IF(VLOOKUP(L238,Materials,4,FALSE)>=1,IF(VLOOKUP(L238,Materials,3,FALSE)>250,\"BR\",\"BK\"))))","v":""},{"$f":"IF(A238=\"\",\"\",IFERROR(VLOOKUP(E238,'PDU Circuit'!$B$1:$F$199,IF(VLOOKUP(L238,Materials,3,FALSE)>250,$I$10+3,$I$10+1),FALSE),IF(VLOOKUP(L238,Materials,5,FALSE)>1,IF(VLOOKUP(L238,Materials,3,FALSE)>250,\"OR\",\"RED\"),\"\")))","v":""},{"$f":"IF(A238=\"\",\"\",IFERROR(VLOOKUP(F238,'PDU Circuit'!$B$1:$F$199,IF(VLOOKUP(L238,Materials,3,FALSE)>250,$I$10+3,$I$10+1),FALSE),IF(VLOOKUP(L238,Materials,5,FALSE)>2,IF(VLOOKUP(L238,Materials,3,FALSE)>250,\"YL\",\"BL\"),\"\")))","v":""},null,null,null,"","",null,null,null,null,"",null,"",null,"",null,{"$f":"IF(A238=\"\",\"\",'Voltage Drop'!N225)","v":""},"","",{"$error":"#N/A"},"","GY","G",{"$error":"#N/A"},8,0]
["",null,null,null,null,null,{"$f":"IF(A239=\"\",\"\",IFERROR(VLOOKUP(D239,'PDU Circuit'!$B$1:$F$199,IF(VLOOKUP(L239,Materials,3,FALSE)>250,$I$10+3,$I$10+1),FALSE),IF(VLOOKUP(L239,Materials,4,FALSE)>=1,IF(VLOOKUP(L239,Materials,3,FALSE)>250,\"BR\",\"BK\"))))","v":""},{"$f":"IF(A239=\"\",\"\",IFERROR(VLOOKUP(E239,'PDU Circuit'!$B$1:$F$199,IF(VLOOKUP(L239,Materials,3,FALSE)>250,$I$10+3,$I$10+1),FALSE),IF(VLOOKUP(L239,Materials,5,FALSE)>1,IF(VLOOKUP(L239,Materials,3,FALSE)>250,\"OR\",\"RED\"),\"\")))","v":""},{"$f":"IF(A239=\"\",\"\",IFERROR(VLOOKUP(F239,'PDU Circuit'!$B$1:$F$199,IF(VLOOKUP(L239,Materials,3,FALSE)>250,$I$10+3,$I$10+1),FALSE),IF(VLOOKUP(L239,Materials,5,FALSE)>2,IF(VLOOKUP(L239,Materials,3,FALSE)>250,\"YL\",\"BL\"),\"\")))","v":""},null,null,null,"","",null,null,null,null,"",null,"",null,"",null,{"$f":"IF(A239=\"\",\"\",'Voltage Drop'!N226)","v":""},"","",{"$error":"#N/A"},"","GY","G",{"$error":"#N/A"},8,0]
["",null,null,null,null,null,{"$f":"IF(A240=\"\",\"\",IFERROR(VLOOKUP(D240,'PDU Circuit'!$B$1:$F$199,IF(VLOOKUP(L240,Materials,3,FALSE)>250,$I$10+3,$I$10+1),FALSE),IF(VLOOKUP(L240,Materials,4,FALSE)>=1,IF(VLOOKUP(L240,Materials,3,FALSE)>250,\"BR\",\"BK\"))))","v":""},{"$f":"IF(A240=\"\",\"\",IFERROR(VLOOKUP(E240,'PDU Circuit'!$B$1:$F$199,IF(VLOOKUP(L240,Materials,3,FALSE)>250,$I$10+3,$I$10+1),FALSE),IF(VLOOKUP(L240,Materials,5,FALSE)>1,IF(VLOOKUP(L240,Materials,3,FALSE)>250,\"OR\",\"RED\"),\"\")))","v":""},{"$f":"IF(A240=\"\",\"\",IFERROR(VLOOKUP(F240,'PDU Circuit'!$B$1:$F$199,IF(VLOOKUP(L240,Materials,3,FALSE)>250,$I$10+3,$I$10+1),FALSE),IF(VLOOKUP(L240,Materials,5,FALSE)>2,IF(VLOOKUP(L240,Materials,3,FALSE)>250,\"YL\",\"BL\"),\"\")))","v":""},null,null,null,"","",null,null,null,null,"",null,"",null,"",null,{"$f":"IF(A240=\"\",\"\",'Voltage Drop'!N227)","v":""},"","",{"$error":"#N/A"},"","GY","G",{"$error":"#N/A"},8,0]
["",null,null,null,null,null,{"$f":"IF(A241=\"\",\"\",IFERROR(VLOOKUP(D241,'PDU Circuit'!$B$1:$F$199,IF(VLOOKUP(L241,Materials,3,FALSE)>250,$I$10+3,$I$10+1),FALSE),IF(VLOOKUP(L241,Materials,4,FALSE)>=1,IF(VLOOKUP(L241,Materials,3,FALSE)>250,\"BR\",\"BK\"))))","v":""},{"$f":"IF(A241=\"\",\"\",IFERROR(VLOOKUP(E241,'PDU Circuit'!$B$1:$F$199,IF(VLOOKUP(L241,Materials,3,FALSE)>250,$I$10+3,$I$10+1),FALSE),IF(VLOOKUP(L241,Materials,5,FALSE)>1,IF(VLOOKUP(L241,Materials,3,FALSE)>250,\"OR\",\"RED\"),\"\")))","v":""},{"$f":"IF(A241=\"\",\"\",IFERROR(VLOOKUP(F241,'PDU Circuit'!$B$1:$F$199,IF(VLOOKUP(L241,Materials,3,FALSE)>250,$I$10+3,$I$10+1),FALSE),IF(VLOOKUP(L241,Materials,5,FALSE)>2,IF(VLOOKUP(L241,Materials,3,FALSE)>250,\"YL\",\"BL\"),\"\")))","v":""},null,null,null,"","",null,null,null,null,"",null,"",null,"",null,{"$f":"IF(A241=\"\",\"\",'Voltage Drop'!N228)","v":""},"","",{"$error":"#N/A"},"","GY","G",{"$error":"#N/A"},8,0]
["",null,null,null,null,null,{"$f":"IF(A242=\"\",\"\",IFERROR(VLOOKUP(D242,'PDU Circuit'!$B$1:$F$199,IF(VLOOKUP(L242,Materials,3,FALSE)>250,$I$10+3,$I$10+1),FALSE),IF(VLOOKUP(L242,Materials,4,FALSE)>=1,IF(VLOOKUP(L242,Materials,3,FALSE)>250,\"BR\",\"BK\"))))","v":""},{"$f":"IF(A242=\"\",\"\",IFERROR(VLOOKUP(E242,'PDU Circuit'!$B$1:$F$199,IF(VLOOKUP(L242,Materials,3,FALSE)>250,$I$10+3,$I$10+1),FALSE),IF(VLOOKUP(L242,Materials,5,FALSE)>1,IF(VLOOKUP(L242,Materials,3,FALSE)>250,\"OR\",\"RED\"),\"\")))","v":""},{"$f":"IF(A242=\"\",\"\",IFERROR(VLOOKUP(F242,'PDU Circuit'!$B$1:$F$199,IF(VLOOKUP(L242,Materials,3,FALSE)>250,$I$10+3,$I$10+1),FALSE),IF(VLOOKUP(L242,Materials,5,FALSE)>2,IF(VLOOKUP(L242,Materials,3,FALSE)>250,\"YL\",\"BL\"),\"\")))","v":""},null,null,null,"","",null,null,null,null,"",null,"",null,"",null,{"$f":"IF(A242=\"\",\"\",'Voltage Drop'!N229)","v":""},"","",{"$error":"#N/A"},"","GY","G",{"$error":"#N/A"},8,0]
["",null,null,null,null,null,{"$f":"IF(A243=\"\",\"\",IFERROR(VLOOKUP(D243,'PDU Circuit'!$B$1:$F$199,IF(VLOOKUP(L243,Materials,3,FALSE)>250,$I$10+3,$I$10+1),FALSE),IF(VLOOKUP(L243,Materials,4,FALSE)>=1,IF(VLOOKUP(L243,Materials,3,FALSE)>250,\"BR\",\"BK\"))))","v":""},{"$f":"IF(A243=\"\",\"\",IFERROR(VLOOKUP(E243,'PDU Circuit'!$B$1:$F$199,IF(VLOOKUP(L243,Materials,3,FALSE)>250,$I$10+3,$I$10+1),FALSE),IF(VLOOKUP(L243,Materials,5,FALSE)>1,IF(VLOOKUP(L243,Materials,3,FALSE)>250,\"OR\",\"RED\"),\"\")))","v":""},{"$f":"IF(A243=\"\",\"\",IFERROR(VLOOKUP(F243,'PDU Circuit'!$B$1:$F$199,IF(VLOOKUP(L243,Materials,3,FALSE)>250,$I$10+3,$I$10+1),FALSE),IF(VLOOKUP(L243,Materials,5,FALSE)>2,IF(VLOOKUP(L243,Materials,3,FALSE)>250,\"YL\",\"BL\"),\"\")))","v":""},null,null,null,"","",null,null,null,null,"",null,"",null,"",null,{"$f":"IF(A243=\"\",\"\",'Voltage Drop'!N230)","v":""},"","",{"$error":"#N/A"},"","GY","G",{"$error":"#N/A"},8,0]
["",null,null,null,null,null,{"$f":"IF(A244=\"\",\"\",IFERROR(VLOOKUP(D244,'PDU Circuit'!$B$1:$F$199,IF(VLOOKUP(L244,Materials,3,FALSE)>250,$I$10+3,$I$10+1),FALSE),IF(VLOOKUP(L244,Materials,4,FALSE)>=1,IF(VLOOKUP(L244,Materials,3,FALSE)>250,\"BR\",\"BK\"))))","v":""},{"$f":"IF(A244=\"\",\"\",IFERROR(VLOOKUP(E244,'PDU Circuit'!$B$1:$F$199,IF(VLOOKUP(L244,Materials,3,FALSE)>250,$I$10+3,$I$10+1),FALSE),IF(VLOOKUP(L244,Materials,5,FALSE)>1,IF(VLOOKUP(L244,Materials,3,FALSE)>250,\"OR\",\"RED\"),\"\")))","v":""},{"$f":"IF(A244=\"\",\"\",IFERROR(VLOOKUP(F244,'PDU Circuit'!$B$1:$F$199,IF(VLOOKUP(L244,Materials,3,FALSE)>250,$I$10+3,$I$10+1),FALSE),IF(VLOOKUP(L244,Materials,5,FALSE)>2,IF(VLOOKUP(L244,Materials,3,FALSE)>250,\"YL\",\"BL\"),\"\")))","v":""},null,null,null,"","",null,null,null,null,"",null,"",null,"",null,{"$f":"IF(A244=\"\",\"\",'Voltage Drop'!N231)","v":""},"","",{"$error":"#N/A"},"","GY","G",{"$error":"#N/A"},8,0]
["",null,null,null,null,null,{"$f":"IF(A245=\"\",\"\",IFERROR(VLOOKUP(D245,'PDU Circuit'!$B$1:$F$199,IF(VLOOKUP(L245,Materials,3,FALSE)>250,$I$10+3,$I$10+1),FALSE),IF(VLOOKUP(L245,Materials,4,FALSE)>=1,IF(VLOOKUP(L245,Materials,3,FALSE)>250,\"BR\",\"BK\"))))","v":""},{"$f":"IF(A245=\"\",\"\",IFERROR(VLOOKUP(E245,'PDU Circuit'!$B$1:$F$199,IF(VLOOKUP(L245,Materials,3,FALSE)>250,$I$10+3,$I$10+1),FALSE),IF(VLOOKUP(L245,Materials,5,FALSE)>1,IF(VLOOKUP(L245,Materials,3,FALSE)>250,\"OR\",\"RED\"),\"\")))","v":""},{"$f":"IF(A245=\"\",\"\",IFERROR(VLOOKUP(F245,'PDU Circuit'!$B$1:$F$199,IF(VLOOKUP(L245,Materials,3,FALSE)>250,$I$10+3,$I$10+1),FALSE),IF(VLOOKUP(L245,Materials,5,FALSE)>2,IF(VLOOKUP(L245,Materials,3,FALSE)>250,\"YL\",\"BL\"),\"\")))","v":""},null,null,null,"","",null,null,null,null,"",null,"",null,"",null,{"$f":"IF(A245=\"\",\"\",'Voltage Drop'!N232)","v":""},"","",{"$error":"#N/A"},"","GY","G",{"$error":"#N/A"},8,0]
["",null,null,null,null,null,{"$f":"IF(A246=\"\",\"\",IFERROR(VLOOKUP(D246,'PDU Circuit'!$B$1:$F$199,IF(VLOOKUP(L246,Materials,3,FALSE)>250,$I$10+3,$I$10+1),FALSE),IF(VLOOKUP(L246,Materials,4,FALSE)>=1,IF(VLOOKUP(L246,Materials,3,FALSE)>250,\"BR\",\"BK\"))))","v":""},{"$f":"IF(A246=\"\",\"\",IFERROR(VLOOKUP(E246,'PDU Circuit'!$B$1:$F$199,IF(VLOOKUP(L246,Materials,3,FALSE)>250,$I$10+3,$I$10+1),FALSE),IF(VLOOKUP(L246,Materials,5,FALSE)>1,IF(VLOOKUP(L246,Materials,3,FALSE)>250,\"OR\",\"RED\"),\"\")))","v":""},{"$f":"IF(A246=\"\",\"\",IFERROR(VLOOKUP(F246,'PDU Circuit'!$B$1:$F$199,IF(VLOOKUP(L246,Materials,3,FALSE)>250,$I$10+3,$I$10+1),FALSE),IF(VLOOKUP(L246,Materials,5,FALSE)>2,IF(VLOOKUP(L246,Materials,3,FALSE)>250,\"YL\",\"BL\"),\"\")))","v":""},null,null,null,"","",null,null,null,null,"",null,"",null,"",null,{"$f":"IF(A246=\"\",\"\",'Voltage Drop'!N233)","v":""},"","",{"$error":"#N/A"},"","GY","G",{"$error":"#N/A"},8,0]
["",null,null,null,null,null,{"$f":"IF(A247=\"\",\"\",IFERROR(VLOOKUP(D247,'PDU Circuit'!$B$1:$F$199,IF(VLOOKUP(L247,Materials,3,FALSE)>250,$I$10+3,$I$10+1),FALSE),IF(VLOOKUP(L247,Materials,4,FALSE)>=1,IF(VLOOKUP(L247,Materials,3,FALSE)>250,\"BR\",\"BK\"))))","v":""},{"$f":"IF(A247=\"\",\"\",IFERROR(VLOOKUP(E247,'PDU Circuit'!$B$1:$F$199,IF(VLOOKUP(L247,Materials,3,FALSE)>250,$I$10+3,$I$10+1),FALSE),IF(VLOOKUP(L247,Materials,5,FALSE)>1,IF(VLOOKUP(L247,Materials,3,FALSE)>250,\"OR\",\"RED\"),\"\")))","v":""},{"$f":"IF(A247=\"\",\"\",IFERROR(VLOOKUP(F247,'PDU Circuit'!$B$1:$F$199,IF(VLOOKUP(L247,Materials,3,FALSE)>250,$I$10+3,$I$10+1),FALSE),IF(VLOOKUP(L247,Materials,5,FALSE)>2,IF(VLOOKUP(L247,Materials,3,FALSE)>250,\"YL\",\"BL\"),\"\")))","v":""},null,null,null,"","",null,null,null,null,"",null,"",null,"",null,{"$f":"IF(A247=\"\",\"\",'Voltage Drop'!N234)","v":""},"","",{"$error":"#N/A"},"","GY","G",{"$error":"#N/A"},8,0]
["",null,null,null,null,null,{"$f":"IF(A248=\"\",\"\",IFERROR(VLOOKUP(D248,'PDU Circuit'!$B$1:$F$199,IF(VLOOKUP(L248,Materials,3,FALSE)>250,$I$10+3,$I$10+1),FALSE),IF(VLOOKUP(L248,Materials,4,FALSE)>=1,IF(VLOOKUP(L248,Materials,3,FALSE)>250,\"BR\",\"BK\"))))","v":""},{"$f":"IF(A248=\"\",\"\",IFERROR(VLOOKUP(E248,'PDU Circuit'!$B$1:$F$199,IF(VLOOKUP(L248,Materials,3,FALSE)>250,$I$10+3,$I$10+1),FALSE),IF(VLOOKUP(L248,Materials,5,FALSE)>1,IF(VLOOKUP(L248,Materials,3,FALSE)>250,\"OR\",\"RED\"),\"\")))","v":""},{"$f":"IF(A248=\"\",\"\",IFERROR(VLOOKUP(F248,'PDU Circuit'!$B$1:$F$199,IF(VLOOKUP(L248,Materials,3,FALSE)>250,$I$10+3,$I$10+1),FALSE),IF(VLOOKUP(L248,Materials,5,FALSE)>2,IF(VLOOKUP(L248,Materials,3,FALSE)>250,\"YL\",\"BL\"),\"\")))","v":""},null,null,null,"","",null,null,null,null,"",null,"",null,"",null,{"$f":"IF(A248=\"\",\"\",'Voltage Drop'!N235)","v":""},"","",{"$error":"#N/A"},"","GY","G",{"$error":"#N/A"},8,0]
["",null,null,null,null,null,{"$f":"IF(A249=\"\",\"\",IFERROR(VLOOKUP(D249,'PDU Circuit'!$B$1:$F$199,IF(VLOOKUP(L249,Materials,3,FALSE)>250,$I$10+3,$I$10+1),FALSE),IF(VLOOKUP(L249,Materials,4,FALSE)>=1,IF(VLOOKUP(L249,Materials,3,FALSE)>250,\"BR\",\"BK\"))))","v":""},{"$f":"IF(A249=\"\",\"\",IFERROR(VLOOKUP(E249,'PDU Circuit'!$B$1:$F$199,IF(VLOOKUP(L249,Materials,3,FALSE)>250,$I$10+3,$I$10+1),FALSE),IF(VLOOKUP(L249,Materials,5,FALSE)>1,IF(VLOOKUP(L249,Materials,3,FALSE)>250,\"OR\",\"RED\"),\"\")))","v":""},{"$f":"IF(A249=\"\",\"\",IFERROR(VLOOKUP(F249,'PDU Circuit'!$B$1:$F$199,IF(VLOOKUP(L249,Materials,3,FALSE)>250,$I$10+3,$I$10+1),FALSE),IF(VLOOKUP(L249,Materials,5,FALSE)>2,IF(VLOOKUP(L249,Materials,3,FALSE)>250,\"YL\",\"BL\"),\"\")))","v":""},null,null,null,"","",null,null,null,null,"",null,"",null,"",null,{"$f":"IF(A249=\"\",\"\",'Voltage Drop'!N236)","v":""},"","",{"$error":"#N/A"},"","GY","G",{"$error":"#N/A"},8,0]
["",null,null,null,null,null,{"$f":"IF(A250=\"\",\"\",IFERROR(VLOOKUP(D250,'PDU Circuit'!$B$1:$F$199,IF(VLOOKUP(L250,Materials,3,FALSE)>250,$I$10+3,$I$10+1),FALSE),IF(VLOOKUP(L250,Materials,4,FALSE)>=1,IF(VLOOKUP(L250,Materials,3,FALSE)>250,\"BR\",\"BK\"))))","v":""},{"$f":"IF(A250=\"\",\"\",IFERROR(VLOOKUP(E250,'PDU Circuit'!$B$1:$F$199,IF(VLOOKUP(L250,Materials,3,FALSE)>250,$I$10+3,$I$10+1),FALSE),IF(VLOOKUP(L250,Materials,5,FALSE)>1,IF(VLOOKUP(L250,Materials,3,FALSE)>250,\"OR\",\"RED\"),\"\")))","v":""},{"$f":"IF(A250=\"\",\"\",IFERROR(VLOOKUP(F250,'PDU Circuit'!$B$1:$F$199,IF(VLOOKUP(L250,Materials,3,FALSE)>250,$I$10+3,$I$10+1),FALSE),IF(VLOOKUP(L250,Materials,5,FALSE)>2,IF(VLOOKUP(L250,Materials,3,FALSE)>250,\"YL\",\"BL\"),\"\")))","v":""},null,null,null,"","",null,null,null,null,"",null,"",null,"",null,{"$f":"IF(A250=\"\",\"\",'Voltage Drop'!N237)","v":""},"","",{"$error":"#N/A"},"","GY","G",{"$error":"#N/A"},8,0]
["",null,null,null,null,null,{"$f":"IF(A251=\"\",\"\",IFERROR(VLOOKUP(D251,'PDU Circuit'!$B$1:$F$199,IF(VLOOKUP(L251,Materials,3,FALSE)>250,$I$10+3,$I$10+1),FALSE),IF(VLOOKUP(L251,Materials,4,FALSE)>=1,IF(VLOOKUP(L251,Materials,3,FALSE)>250,\"BR\",\"BK\"))))","v":""},{"$f":"IF(A251=\"\",\"\",IFERROR(VLOOKUP(E251,'PDU Circuit'!$B$1:$F$199,IF(VLOOKUP(L251,Materials,3,FALSE)>250,$I$10+3,$I$10+1),FALSE),IF(VLOOKUP(L251,Materials,5,FALSE)>1,IF(VLOOKUP(L251,Materials,3,FALSE)>250,\"OR\",\"RED\"),\"\")))","v":""},{"$f":"IF(A251=\"\",\"\",IFERROR(VLOOKUP(F251,'PDU Circuit'!$B$1:$F$199,IF(VLOOKUP(L251,Materials,3,FALSE)>250,$I$10+3,$I$10+1),FALSE),IF(VLOOKUP(L251,Materials,5,FALSE)>2,IF(VLOOKUP(L251,Materials,3,FALSE)>250,\"YL\",\"BL\"),\"\")))","v":""},null,null,null,"","",null,null,null,null,"",null,"",null,"",null,{"$f":"IF(A251=\"\",\"\",'Voltage Drop'!N238)","v":""},"","",{"$error":"#N/A"},"","GY","G",{"$error":"#N/A"},8,0]
["",null,null,null,null,null,{"$f":"IF(A252=\"\",\"\",IFERROR(VLOOKUP(D252,'PDU Circuit'!$B$1:$F$199,IF(VLOOKUP(L252,Materials,3,FALSE)>250,$I$10+3,$I$10+1),FALSE),IF(VLOOKUP(L252,Materials,4,FALSE)>=1,IF(VLOOKUP(L252,Materials,3,FALSE)>250,\"BR\",\"BK\"))))","v":""},{"$f":"IF(A252=\"\",\"\",IFERROR(VLOOKUP(E252,'PDU Circuit'!$B$1:$F$199,IF(VLOOKUP(L252,Materials,3,FALSE)>250,$I$10+3,$I$10+1),FALSE),IF(VLOOKUP(L252,Materials,5,FALSE)>1,IF(VLOOKUP(L252,Materials,3,FALSE)>250,\"OR\",\"RED\"),\"\")))","v":""},{"$f":"IF(A252=\"\",\"\",IFERROR(VLOOKUP(F252,'PDU Circuit'!$B$1:$F$199,IF(VLOOKUP(L252,Materials,3,FALSE)>250,$I$10+3,$I$10+1),FALSE),IF(VLOOKUP(L252,Materials,5,FALSE)>2,IF(VLOOKUP(L252,Materials,3,FALSE)>250,\"YL\",\"BL\"),\"\")))","v":""},null,null,null,"","",null,null,null,null,"",null,"",null,"",null,{"$f":"IF(A252=\"\",\"\",'Voltage Drop'!N239)","v":""},"","",{"$error":"#N/A"},"","GY","G",{"$error":"#N/A"},8,0]
["",null,null,null,null,null,{"$f":"IF(A253=\"\",\"\",IFERROR(VLOOKUP(D253,'PDU Circuit'!$B$1:$F$199,IF(VLOOKUP(L253,Materials,3,FALSE)>250,$I$10+3,$I$10+1),FALSE),IF(VLOOKUP(L253,Materials,4,FALSE)>=1,IF(VLOOKUP(L253,Materials,3,FALSE)>250,\"BR\",\"BK\"))))","v":""},{"$f":"IF(A253=\"\",\"\",IFERROR(VLOOKUP(E253,'PDU Circuit'!$B$1:$F$199,IF(VLOOKUP(L253,Materials,3,FALSE)>250,$I$10+3,$I$10+1),FALSE),IF(VLOOKUP(L253,Materials,5,FALSE)>1,IF(VLOOKUP(L253,Materials,3,FALSE)>250,\"OR\",\"RED\"),\"\")))","v":""},{"$f":"IF(A253=\"\",\"\",IFERROR(VLOOKUP(F253,'PDU Circuit'!$B$1:$F$199,IF(VLOOKUP(L253,Materials,3,FALSE)>250,$I$10+3,$I$10+1),FALSE),IF(VLOOKUP(L253,Materials,5,FALSE)>2,IF(VLOOKUP(L253,Materials,3,FALSE)>250,\"YL\",\"BL\"),\"\")))","v":""},null,null,null,"","",null,null,null,null,"",null,"",null,"",null,{"$f":"IF(A253=\"\",\"\",'Voltage Drop'!N240)","v":""},"","",{"$error":"#N/A"},"","GY","G",{"$error":"#N/A"},8,0]
["",null,null,null,null,null,{"$f":"IF(A254=\"\",\"\",IFERROR(VLOOKUP(D254,'PDU Circuit'!$B$1:$F$199,IF(VLOOKUP(L254,Materials,3,FALSE)>250,$I$10+3,$I$10+1),FALSE),IF(VLOOKUP(L254,Materials,4,FALSE)>=1,IF(VLOOKUP(L254,Materials,3,FALSE)>250,\"BR\",\"BK\"))))","v":""},{"$f":"IF(A254=\"\",\"\",IFERROR(VLOOKUP(E254,'PDU Circuit'!$B$1:$F$199,IF(VLOOKUP(L254,Materials,3,FALSE)>250,$I$10+3,$I$10+1),FALSE),IF(VLOOKUP(L254,Materials,5,FALSE)>1,IF(VLOOKUP(L254,Materials,3,FALSE)>250,\"OR\",\"RED\"),\"\")))","v":""},{"$f":"IF(A254=\"\",\"\",IFERROR(VLOOKUP(F254,'PDU Circuit'!$B$1:$F$199,IF(VLOOKUP(L254,Materials,3,FALSE)>250,$I$10+3,$I$10+1),FALSE),IF(VLOOKUP(L254,Materials,5,FALSE)>2,IF(VLOOKUP(L254,Materials,3,FALSE)>250,\"YL\",\"BL\"),\"\")))","v":""},null,null,null,"","",null,null,null,null,"",null,"",null,"",null,{"$f":"IF(A254=\"\",\"\",'Voltage Drop'!N241)","v":""},"","",{"$error":"#N/A"},"","GY","G",{"$error":"#N/A"},8,0]
["",null,null,null,null,null,{"$f":"IF(A255=\"\",\"\",IFERROR(VLOOKUP(D255,'PDU Circuit'!$B$1:$F$199,IF(VLOOKUP(L255,Materials,3,FALSE)>250,$I$10+3,$I$10+1),FALSE),IF(VLOOKUP(L255,Materials,4,FALSE)>=1,IF(VLOOKUP(L255,Materials,3,FALSE)>250,\"BR\",\"BK\"))))","v":""},{"$f":"IF(A255=\"\",\"\",IFERROR(VLOOKUP(E255,'PDU Circuit'!$B$1:$F$199,IF(VLOOKUP(L255,Materials,3,FALSE)>250,$I$10+3,$I$10+1),FALSE),IF(VLOOKUP(L255,Materials,5,FALSE)>1,IF(VLOOKUP(L255,Materials,3,FALSE)>250,\"OR\",\"RED\"),\"\")))","v":""},{"$f":"IF(A255=\"\",\"\",IFERROR(VLOOKUP(F255,'PDU Circuit'!$B$1:$F$199,IF(VLOOKUP(L255,Materials,3,FALSE)>250,$I$10+3,$I$10+1),FALSE),IF(VLOOKUP(L255,Materials,5,FALSE)>2,IF(VLOOKUP(L255,Materials,3,FALSE)>250,\"YL\",\"BL\"),\"\")))","v":""},null,null,null,"","",null,null,null,null,"",null,"",null,"",null,{"$f":"IF(A255=\"\",\"\",'Voltage Drop'!N242)","v":""},"","",{"$error":"#N/A"},"","GY","G",{"$error":"#N/A"},8,0]
["",null,null,null,null,null,{"$f":"IF(A256=\"\",\"\",IFERROR(VLOOKUP(D256,'PDU Circuit'!$B$1:$F$199,IF(VLOOKUP(L256,Materials,3,FALSE)>250,$I$10+3,$I$10+1),FALSE),IF(VLOOKUP(L256,Materials,4,FALSE)>=1,IF(VLOOKUP(L256,Materials,3,FALSE)>250,\"BR\",\"BK\"))))","v":""},{"$f":"IF(A256=\"\",\"\",IFERROR(VLOOKUP(E256,'PDU Circuit'!$B$1:$F$199,IF(VLOOKUP(L256,Materials,3,FALSE)>250,$I$10+3,$I$10+1),FALSE),IF(VLOOKUP(L256,Materials,5,FALSE)>1,IF(VLOOKUP(L256,Materials,3,FALSE)>250,\"OR\",\"RED\"),\"\")))","v":""},{"$f":"IF(A256=\"\",\"\",IFERROR(VLOOKUP(F256,'PDU Circuit'!$B$1:$F$199,IF(VLOOKUP(L256,Materials,3,FALSE)>250,$I$10+3,$I$10+1),FALSE),IF(VLOOKUP(L256,Materials,5,FALSE)>2,IF(VLOOKUP(L256,Materials,3,FALSE)>250,\"YL\",\"BL\"),\"\")))","v":""},null,null,null,"","",null,null,null,null,"",null,"",null,"",null,{"$f":"IF(A256=\"\",\"\",'Voltage Drop'!N243)","v":""},"","",{"$error":"#N/A"},"","GY","G",{"$error":"#N/A"},8,0]
["",null,null,null,null,null,{"$f":"IF(A257=\"\",\"\",IFERROR(VLOOKUP(D257,'PDU Circuit'!$B$1:$F$199,IF(VLOOKUP(L257,Materials,3,FALSE)>250,$I$10+3,$I$10+1),FALSE),IF(VLOOKUP(L257,Materials,4,FALSE)>=1,IF(VLOOKUP(L257,Materials,3,FALSE)>250,\"BR\",\"BK\"))))","v":""},{"$f":"IF(A257=\"\",\"\",IFERROR(VLOOKUP(E257,'PDU Circuit'!$B$1:$F$199,IF(VLOOKUP(L257,Materials,3,FALSE)>250,$I$10+3,$I$10+1),FALSE),IF(VLOOKUP(L257,Materials,5,FALSE)>1,IF(VLOOKUP(L257,Materials,3,FALSE)>250,\"OR\",\"RED\"),\"\")))","v":""},{"$f":"IF(A257=\"\",\"\",IFERROR(VLOOKUP(F257,'PDU Circuit'!$B$1:$F$199,IF(VLOOKUP(L257,Materials,3,FALSE)>250,$I$10+3,$I$10+1),FALSE),IF(VLOOKUP(L257,Materials,5,FALSE)>2,IF(VLOOKUP(L257,Materials,3,FALSE)>250,\"YL\",\"BL\"),\"\")))","v":""},null,null,null,"","",null,null,null,null,"",null,"",null,"",null,{"$f":"IF(A257=\"\",\"\",'Voltage Drop'!N244)","v":""},"","",{"$error":"#N/A"},"","GY","G",{"$error":"#N/A"},8,0]
["",null,null,null,null,null,{"$f":"IF(A258=\"\",\"\",IFERROR(VLOOKUP(D258,'PDU Circuit'!$B$1:$F$199,IF(VLOOKUP(L258,Materials,3,FALSE)>250,$I$10+3,$I$10+1),FALSE),IF(VLOOKUP(L258,Materials,4,FALSE)>=1,IF(VLOOKUP(L258,Materials,3,FALSE)>250,\"BR\",\"BK\"))))","v":""},{"$f":"IF(A258=\"\",\"\",IFERROR(VLOOKUP(E258,'PDU Circuit'!$B$1:$F$199,IF(VLOOKUP(L258,Materials,3,FALSE)>250,$I$10+3,$I$10+1),FALSE),IF(VLOOKUP(L258,Materials,5,FALSE)>1,IF(VLOOKUP(L258,Materials,3,FALSE)>250,\"OR\",\"RED\"),\"\")))","v":""},{"$f":"IF(A258=\"\",\"\",IFERROR(VLOOKUP(F258,'PDU Circuit'!$B$1:$F$199,IF(VLOOKUP(L258,Materials,3,FALSE)>250,$I$10+3,$I$10+1),FALSE),IF(VLOOKUP(L258,Materials,5,FALSE)>2,IF(VLOOKUP(L258,Materials,3,FALSE)>250,\"YL\",\"BL\"),\"\")))","v":""},null,null,null,"","",null,null,null,null,"",null,"",null,"",null,{"$f":"IF(A258=\"\",\"\",'Voltage Drop'!N245)","v":""},"","",{"$error":"#N/A"},"","GY","G",{"$error":"#N/A"},8,0]
["",null,null,null,null,null,{"$f":"IF(A259=\"\",\"\",IFERROR(VLOOKUP(D259,'PDU Circuit'!$B$1:$F$199,IF(VLOOKUP(L259,Materials,3,FALSE)>250,$I$10+3,$I$10+1),FALSE),IF(VLOOKUP(L259,Materials,4,FALSE)>=1,IF(VLOOKUP(L259,Materials,3,FALSE)>250,\"BR\",\"BK\"))))","v":""},{"$f":"IF(A259=\"\",\"\",IFERROR(VLOOKUP(E259,'PDU Circuit'!$B$1:$F$199,IF(VLOOKUP(L259,Materials,3,FALSE)>250,$I$10+3,$I$10+1),FALSE),IF(VLOOKUP(L259,Materials,5,FALSE)>1,IF(VLOOKUP(L259,Materials,3,FALSE)>250,\"OR\",\"RED\"),\"\")))","v":""},{"$f":"IF(A259=\"\",\"\",IFERROR(VLOOKUP(F259,'PDU Circuit'!$B$1:$F$199,IF(VLOOKUP(L259,Materials,3,FALSE)>250,$I$10+3,$I$10+1),FALSE),IF(VLOOKUP(L259,Materials,5,FALSE)>2,IF(VLOOKUP(L259,Materials,3,FALSE)>250,\"YL\",\"BL\"),\"\")))","v":""},null,null,null,"","",null,null,null,null,"",null,"",null,"",null,{"$f":"IF(A259=\"\",\"\",'Voltage Drop'!N246)","v":""},"","",{"$error":"#N/A"},"","GY","G",{"$error":"#N/A"},8,0]
["",null,null,null,null,null,{"$f":"IF(A260=\"\",\"\",IFERROR(VLOOKUP(D260,'PDU Circuit'!$B$1:$F$199,IF(VLOOKUP(L260,Materials,3,FALSE)>250,$I$10+3,$I$10+1),FALSE),IF(VLOOKUP(L260,Materials,4,FALSE)>=1,IF(VLOOKUP(L260,Materials,3,FALSE)>250,\"BR\",\"BK\"))))","v":""},{"$f":"IF(A260=\"\",\"\",IFERROR(VLOOKUP(E260,'PDU Circuit'!$B$1:$F$199,IF(VLOOKUP(L260,Materials,3,FALSE)>250,$I$10+3,$I$10+1),FALSE),IF(VLOOKUP(L260,Materials,5,FALSE)>1,IF(VLOOKUP(L260,Materials,3,FALSE)>250,\"OR\",\"RED\"),\"\")))","v":""},{"$f":"IF(A260=\"\",\"\",IFERROR(VLOOKUP(F260,'PDU Circuit'!$B$1:$F$199,IF(VLOOKUP(L260,Materials,3,FALSE)>250,$I$10+3,$I$10+1),FALSE),IF(VLOOKUP(L260,Materials,5,FALSE)>2,IF(VLOOKUP(L260,Materials,3,FALSE)>250,\"YL\",\"BL\"),\"\")))","v":""},null,null,null,"","",null,null,null,null,"",null,"",null,"",null,{"$f":"IF(A260=\"\",\"\",'Voltage Drop'!N247)","v":""},"","",{"$error":"#N/A"},"","GY","G",{"$error":"#N/A"},8,0]
["",null,null,null,null,null,{"$f":"IF(A261=\"\",\"\",IFERROR(VLOOKUP(D261,'PDU Circuit'!$B$1:$F$199,IF(VLOOKUP(L261,Materials,3,FALSE)>250,$I$10+3,$I$10+1),FALSE),IF(VLOOKUP(L261,Materials,4,FALSE)>=1,IF(VLOOKUP(L261,Materials,3,FALSE)>250,\"BR\",\"BK\"))))","v":""},{"$f":"IF(A261=\"\",\"\",IFERROR(VLOOKUP(E261,'PDU Circuit'!$B$1:$F$199,IF(VLOOKUP(L261,Materials,3,FALSE)>250,$I$10+3,$I$10+1),FALSE),IF(VLOOKUP(L261,Materials,5,FALSE)>1,IF(VLOOKUP(L261,Materials,3,FALSE)>250,\"OR\",\"RED\"),\"\")))","v":""},{"$f":"IF(A261=\"\",\"\",IFERROR(VLOOKUP(F261,'PDU Circuit'!$B$1:$F$199,IF(VLOOKUP(L261,Materials,3,FALSE)>250,$I$10+3,$I$10+1),FALSE),IF(VLOOKUP(L261,Materials,5,FALSE)>2,IF(VLOOKUP(L261,Materials,3,FALSE)>250,\"YL\",\"BL\"),\"\")))","v":""},null,null,null,"","",null,null,null,null,"",null,"",null,"",null,{"$f":"IF(A261=\"\",\"\",'Voltage Drop'!N248)","v":""},"","",{"$error":"#N/A"},"","GY","G",{"$error":"#N/A"},8,0]
["",null,null,null,null,null,{"$f":"IF(A262=\"\",\"\",IFERROR(VLOOKUP(D262,'PDU Circuit'!$B$1:$F$199,IF(VLOOKUP(L262,Materials,3,FALSE)>250,$I$10+3,$I$10+1),FALSE),IF(VLOOKUP(L262,Materials,4,FALSE)>=1,IF(VLOOKUP(L262,Materials,3,FALSE)>250,\"BR\",\"BK\"))))","v":""},{"$f":"IF(A262=\"\",\"\",IFERROR(VLOOKUP(E262,'PDU Circuit'!$B$1:$F$199,IF(VLOOKUP(L262,Materials,3,FALSE)>250,$I$10+3,$I$10+1),FALSE),IF(VLOOKUP(L262,Materials,5,FALSE)>1,IF(VLOOKUP(L262,Materials,3,FALSE)>250,\"OR\",\"RED\"),\"\")))","v":""},{"$f":"IF(A262=\"\",\"\",IFERROR(VLOOKUP(F262,'PDU Circuit'!$B$1:$F$199,IF(VLOOKUP(L262,Materials,3,FALSE)>250,$I$10+3,$I$10+1),FALSE),IF(VLOOKUP(L262,Materials,5,FALSE)>2,IF(VLOOKUP(L262,Materials,3,FALSE)>250,\"YL\",\"BL\"),\"\")))","v":""},null,null,null,"","",null,null,null,null,"",null,"",null,"",null,{"$f":"IF(A262=\"\",\"\",'Voltage Drop'!N249)","v":""},"","",{"$error":"#N/A"},"","GY","G",{"$error":"#N/A"},8,0]
["",null,null,null,null,null,{"$f":"IF(A263=\"\",\"\",IFERROR(VLOOKUP(D263,'PDU Circuit'!$B$1:$F$199,IF(VLOOKUP(L263,Materials,3,FALSE)>250,$I$10+3,$I$10+1),FALSE),IF(VLOOKUP(L263,Materials,4,FALSE)>=1,IF(VLOOKUP(L263,Materials,3,FALSE)>250,\"BR\",\"BK\"))))","v":""},{"$f":"IF(A263=\"\",\"\",IFERROR(VLOOKUP(E263,'PDU Circuit'!$B$1:$F$199,IF(VLOOKUP(L263,Materials,3,FALSE)>250,$I$10+3,$I$10+1),FALSE),IF(VLOOKUP(L263,Materials,5,FALSE)>1,IF(VLOOKUP(L263,Materials,3,FALSE)>250,\"OR\",\"RED\"),\"\")))","v":""},{"$f":"IF(A263=\"\",\"\",IFERROR(VLOOKUP(F263,'PDU Circuit'!$B$1:$F$199,IF(VLOOKUP(L263,Materials,3,FALSE)>250,$I$10+3,$I$10+1),FALSE),IF(VLOOKUP(L263,Materials,5,FALSE)>2,IF(VLOOKUP(L263,Materials,3,FALSE)>250,\"YL\",\"BL\"),\"\")))","v":""},null,null,null,"","",null,null,null,null,"",null,"",null,"",null,{"$f":"IF(A263=\"\",\"\",'Voltage Drop'!N250)","v":""},"","",{"$error":"#N/A"},"","GY","G",{"$error":"#N/A"},8,0]
["",null,null,null,null,null,{"$f":"IF(A264=\"\",\"\",IFERROR(VLOOKUP(D264,'PDU Circuit'!$B$1:$F$199,IF(VLOOKUP(L264,Materials,3,FALSE)>250,$I$10+3,$I$10+1),FALSE),IF(VLOOKUP(L264,Materials,4,FALSE)>=1,IF(VLOOKUP(L264,Materials,3,FALSE)>250,\"BR\",\"BK\"))))","v":""},{"$f":"IF(A264=\"\",\"\",IFERROR(VLOOKUP(E264,'PDU Circuit'!$B$1:$F$199,IF(VLOOKUP(L264,Materials,3,FALSE)>250,$I$10+3,$I$10+1),FALSE),IF(VLOOKUP(L264,Materials,5,FALSE)>1,IF(VLOOKUP(L264,Materials,3,FALSE)>250,\"OR\",\"RED\"),\"\")))","v":""},{"$f":"IF(A264=\"\",\"\",IFERROR(VLOOKUP(F264,'PDU Circuit'!$B$1:$F$199,IF(VLOOKUP(L264,Materials,3,FALSE)>250,$I$10+3,$I$10+1),FALSE),IF(VLOOKUP(L264,Materials,5,FALSE)>2,IF(VLOOKUP(L264,Materials,3,FALSE)>250,\"YL\",\"BL\"),\"\")))","v":""},null,null,null,"","",null,null,null,null,"",null,"",null,"",null,{"$f":"IF(A264=\"\",\"\",'Voltage Drop'!N251)","v":""},"","",{"$error":"#N/A"},"","GY","G",{"$error":"#N/A"},8,0]
["",null,null,null,null,null,{"$f":"IF(A265=\"\",\"\",IFERROR(VLOOKUP(D265,'PDU Circuit'!$B$1:$F$199,IF(VLOOKUP(L265,Materials,3,FALSE)>250,$I$10+3,$I$10+1),FALSE),IF(VLOOKUP(L265,Materials,4,FALSE)>=1,IF(VLOOKUP(L265,Materials,3,FALSE)>250,\"BR\",\"BK\"))))","v":""},{"$f":"IF(A265=\"\",\"\",IFERROR(VLOOKUP(E265,'PDU Circuit'!$B$1:$F$199,IF(VLOOKUP(L265,Materials,3,FALSE)>250,$I$10+3,$I$10+1),FALSE),IF(VLOOKUP(L265,Materials,5,FALSE)>1,IF(VLOOKUP(L265,Materials,3,FALSE)>250,\"OR\",\"RED\"),\"\")))","v":""},{"$f":"IF(A265=\"\",\"\",IFERROR(VLOOKUP(F265,'PDU Circuit'!$B$1:$F$199,IF(VLOOKUP(L265,Materials,3,FALSE)>250,$I$10+3,$I$10+1),FALSE),IF(VLOOKUP(L265,Materials,5,FALSE)>2,IF(VLOOKUP(L265,Materials,3,FALSE)>250,\"YL\",\"BL\"),\"\")))","v":""},null,null,null,"","",null,null,null,null,"",null,"",null,"",null,{"$f":"IF(A265=\"\",\"\",'Voltage Drop'!N252)","v":""},"","",{"$error":"#N/A"},"","GY","G",{"$error":"#N/A"},8,0]
["",null,null,null,null,null,{"$f":"IF(A266=\"\",\"\",IFERROR(VLOOKUP(D266,'PDU Circuit'!$B$1:$F$199,IF(VLOOKUP(L266,Materials,3,FALSE)>250,$I$10+3,$I$10+1),FALSE),IF(VLOOKUP(L266,Materials,4,FALSE)>=1,IF(VLOOKUP(L266,Materials,3,FALSE)>250,\"BR\",\"BK\"))))","v":""},{"$f":"IF(A266=\"\",\"\",IFERROR(VLOOKUP(E266,'PDU Circuit'!$B$1:$F$199,IF(VLOOKUP(L266,Materials,3,FALSE)>250,$I$10+3,$I$10+1),FALSE),IF(VLOOKUP(L266,Materials,5,FALSE)>1,IF(VLOOKUP(L266,Materials,3,FALSE)>250,\"OR\",\"RED\"),\"\")))","v":""},{"$f":"IF(A266=\"\",\"\",IFERROR(VLOOKUP(F266,'PDU Circuit'!$B$1:$F$199,IF(VLOOKUP(L266,Materials,3,FALSE)>250,$I$10+3,$I$10+1),FALSE),IF(VLOOKUP(L266,Materials,5,FALSE)>2,IF(VLOOKUP(L266,Materials,3,FALSE)>250,\"YL\",\"BL\"),\"\")))","v":""},null,null,null,"","",null,null,null,null,"",null,"",null,"",null,{"$f":"IF(A266=\"\",\"\",'Voltage Drop'!N253)","v":""},"","",{"$error":"#N/A"},"","GY","G",{"$error":"#N/A"},8,0]
["",null,null,null,null,null,{"$f":"IF(A267=\"\",\"\",IFERROR(VLOOKUP(D267,'PDU Circuit'!$B$1:$F$199,IF(VLOOKUP(L267,Materials,3,FALSE)>250,$I$10+3,$I$10+1),FALSE),IF(VLOOKUP(L267,Materials,4,FALSE)>=1,IF(VLOOKUP(L267,Materials,3,FALSE)>250,\"BR\",\"BK\"))))","v":""},{"$f":"IF(A267=\"\",\"\",IFERROR(VLOOKUP(E267,'PDU Circuit'!$B$1:$F$199,IF(VLOOKUP(L267,Materials,3,FALSE)>250,$I$10+3,$I$10+1),FALSE),IF(VLOOKUP(L267,Materials,5,FALSE)>1,IF(VLOOKUP(L267,Materials,3,FALSE)>250,\"OR\",\"RED\"),\"\")))","v":""},{"$f":"IF(A267=\"\",\"\",IFERROR(VLOOKUP(F267,'PDU Circuit'!$B$1:$F$199,IF(VLOOKUP(L267,Materials,3,FALSE)>250,$I$10+3,$I$10+1),FALSE),IF(VLOOKUP(L267,Materials,5,FALSE)>2,IF(VLOOKUP(L267,Materials,3,FALSE)>250,\"YL\",\"BL\"),\"\")))","v":""},null,null,null,"","",null,null,null,null,"",null,"",null,"",null,{"$f":"IF(A267=\"\",\"\",'Voltage Drop'!N254)","v":""},"","",{"$error":"#N/A"},"","GY","G",{"$error":"#N/A"},8,0]
["",null,null,null,null,null,{"$f":"IF(A268=\"\",\"\",IFERROR(VLOOKUP(D268,'PDU Circuit'!$B$1:$F$199,IF(VLOOKUP(L268,Materials,3,FALSE)>250,$I$10+3,$I$10+1),FALSE),IF(VLOOKUP(L268,Materials,4,FALSE)>=1,IF(VLOOKUP(L268,Materials,3,FALSE)>250,\"BR\",\"BK\"))))","v":""},{"$f":"IF(A268=\"\",\"\",IFERROR(VLOOKUP(E268,'PDU Circuit'!$B$1:$F$199,IF(VLOOKUP(L268,Materials,3,FALSE)>250,$I$10+3,$I$10+1),FALSE),IF(VLOOKUP(L268,Materials,5,FALSE)>1,IF(VLOOKUP(L268,Materials,3,FALSE)>250,\"OR\",\"RED\"),\"\")))","v":""},{"$f":"IF(A268=\"\",\"\",IFERROR(VLOOKUP(F268,'PDU Circuit'!$B$1:$F$199,IF(VLOOKUP(L268,Materials,3,FALSE)>250,$I$10+3,$I$10+1),FALSE),IF(VLOOKUP(L268,Materials,5,FALSE)>2,IF(VLOOKUP(L268,Materials,3,FALSE)>250,\"YL\",\"BL\"),\"\")))","v":""},null,null,null,"","",null,null,null,null,"",null,"",null,"",null,{"$f":"IF(A268=\"\",\"\",'Voltage Drop'!N255)","v":""},"","",{"$error":"#N/A"},"","GY","G",{"$error":"#N/A"},8,0]
["",null,null,null,null,null,{"$f":"IF(A269=\"\",\"\",IFERROR(VLOOKUP(D269,'PDU Circuit'!$B$1:$F$199,IF(VLOOKUP(L269,Materials,3,FALSE)>250,$I$10+3,$I$10+1),FALSE),IF(VLOOKUP(L269,Materials,4,FALSE)>=1,IF(VLOOKUP(L269,Materials,3,FALSE)>250,\"BR\",\"BK\"))))","v":""},{"$f":"IF(A269=\"\",\"\",IFERROR(VLOOKUP(E269,'PDU Circuit'!$B$1:$F$199,IF(VLOOKUP(L269,Materials,3,FALSE)>250,$I$10+3,$I$10+1),FALSE),IF(VLOOKUP(L269,Materials,5,FALSE)>1,IF(VLOOKUP(L269,Materials,3,FALSE)>250,\"OR\",\"RED\"),\"\")))","v":""},{"$f":"IF(A269=\"\",\"\",IFERROR(VLOOKUP(F269,'PDU Circuit'!$B$1:$F$199,IF(VLOOKUP(L269,Materials,3,FALSE)>250,$I$10+3,$I$10+1),FALSE),IF(VLOOKUP(L269,Materials,5,FALSE)>2,IF(VLOOKUP(L269,Materials,3,FALSE)>250,\"YL\",\"BL\"),\"\")))","v":""},null,null,null,"","",null,null,null,null,"",null,"",null,"",null,{"$f":"IF(A269=\"\",\"\",'Voltage Drop'!N256)","v":""},"","",{"$error":"#N/A"},"","GY","G",{"$error":"#N/A"},8,0]
["",null,null,null,null,null,{"$f":"IF(A270=\"\",\"\",IFERROR(VLOOKUP(D270,'PDU Circuit'!$B$1:$F$199,IF(VLOOKUP(L270,Materials,3,FALSE)>250,$I$10+3,$I$10+1),FALSE),IF(VLOOKUP(L270,Materials,4,FALSE)>=1,IF(VLOOKUP(L270,Materials,3,FALSE)>250,\"BR\",\"BK\"))))","v":""},{"$f":"IF(A270=\"\",\"\",IFERROR(VLOOKUP(E270,'PDU Circuit'!$B$1:$F$199,IF(VLOOKUP(L270,Materials,3,FALSE)>250,$I$10+3,$I$10+1),FALSE),IF(VLOOKUP(L270,Materials,5,FALSE)>1,IF(VLOOKUP(L270,Materials,3,FALSE)>250,\"OR\",\"RED\"),\"\")))","v":""},{"$f":"IF(A270=\"\",\"\",IFERROR(VLOOKUP(F270,'PDU Circuit'!$B$1:$F$199,IF(VLOOKUP(L270,Materials,3,FALSE)>250,$I$10+3,$I$10+1),FALSE),IF(VLOOKUP(L270,Materials,5,FALSE)>2,IF(VLOOKUP(L270,Materials,3,FALSE)>250,\"YL\",\"BL\"),\"\")))","v":""},null,null,null,"","",null,null,null,null,"",null,"",null,"",null,{"$f":"IF(A270=\"\",\"\",'Voltage Drop'!N257)","v":""},"","",{"$error":"#N/A"},"","GY","G",{"$error":"#N/A"},8,0]
[{"$f":"IFERROR(IF($I$8>=A270+1,A270+1,\"\"),\"\")","v":""},null,null,null,null,null,{"$f":"IF(A271=\"\",\"\",IFERROR(VLOOKUP(D271,'PDU Circuit'!$B$1:$F$199,IF(VLOOKUP(L271,Materials,3,FALSE)>250,$I$10+3,$I$10+1),FALSE),IF(VLOOKUP(L271,Materials,4,FALSE)>=1,IF(VLOOKUP(L271,Materials,3,FALSE)>250,\"BR\",\"BK\"))))","v":""},{"$f":"IF(A271=\"\",\"\",IFERROR(VLOOKUP(E271,'PDU Circuit'!$B$1:$F$199,IF(VLOOKUP(L271,Materials,3,FALSE)>250,$I$10+3,$I$10+1),FALSE),IF(VLOOKUP(L271,Materials,5,FALSE)>1,IF(VLOOKUP(L271,Materials,3,FALSE)>250,\"OR\",\"RED\"),\"\")))","v":""},{"$f":"IF(A271=\"\",\"\",IFERROR(VLOOKUP(F271,'PDU Circuit'!$B$1:$F$199,IF(VLOOKUP(L271,Materials,3,FALSE)>250,$I$10+3,$I$10+1),FALSE),IF(VLOOKUP(L271,Materials,5,FALSE)>2,IF(VLOOKUP(L271,Materials,3,FALSE)>250,\"YL\",\"BL\"),\"\")))","v":""},null,null,null,"","",null,null,null,null,{"$f":"IFERROR(VLOOKUP($L271,Materials,10,FALSE),\"\")","v":""},null,{"$f":"IFERROR(VLOOKUP($L271,Materials,8,FALSE),\"\")","v":""},null,{"$f":"IFERROR(VLOOKUP($L271,Materials,9,FALSE),\"\")","v":""},null,{"$f":"IF(A271=\"\",\"\",'Voltage Drop'!N258)","v":""},"",{"$f":"IF(A271=\"\",\"\",\"CBL ASSY W/ PIGTAIL\")","v":""},{"$f":"\"CQ\"&VLOOKUP(L271,Materials,2,FALSE)&\"/\"&VLOOKUP(Q271,Breakers,2,FALSE)&\"/\"&O271&\"/\"&VLOOKUP(R271,Colors,2,FALSE)&\"/\"&AF271&AG271&AH271","v":{"$error":"#N/A"}},"","GY","G",{"$error":"#N/A"},8,0]
["",null,null,null,null,null,{"$f":"IF(A272=\"\",\"\",IFERROR(VLOOKUP(D272,'PDU Circuit'!$B$1:$F$199,IF(VLOOKUP(L272,Materials,3,FALSE)>250,$I$10+3,$I$10+1),FALSE),IF(VLOOKUP(L272,Materials,4,FALSE)>=1,IF(VLOOKUP(L272,Materials,3,FALSE)>250,\"BR\",\"BK\"))))","v":""},{"$f":"IF(A272=\"\",\"\",IFERROR(VLOOKUP(E272,'PDU Circuit'!$B$1:$F$199,IF(VLOOKUP(L272,Materials,3,FALSE)>250,$I$10+3,$I$10+1),FALSE),IF(VLOOKUP(L272,Materials,5,FALSE)>1,IF(VLOOKUP(L272,Materials,3,FALSE)>250,\"OR\",\"RED\"),\"\")))","v":""},{"$f":"IF(A272=\"\",\"\",IFERROR(VLOOKUP(F272,'PDU Circuit'!$B$1:$F$199,IF(VLOOKUP(L272,Materials,3,FALSE)>250,$I$10+3,$I$10+1),FALSE),IF(VLOOKUP(L272,Materials,5,FALSE)>2,IF(VLOOKUP(L272,Materials,3,FALSE)>250,\"YL\",\"BL\"),\"\")))","v":""},null,null,null,{"$f":"IFERROR(VLOOKUP(L272,Materials,3,FALSE)&\"V \"&VLOOKUP(L272,Materials,4,FALSE)&\"A\",\"\")","v":""},{"$f":"IFERROR(VLOOKUP(L272,Materials,6,FALSE),\"\")","v":""},null,null,null,null,"",null,"",null,"",null,{"$f":"IF(A272=\"\",\"\",'Voltage Drop'!N259)","v":""},{"$f":"IFERROR(AB272,\"\")","v":""},"",{"$error":"#N/A"},{"$f":"RIGHT(G272,2)","v":""},{"$f":"IF(H272=\"\",IF(G272=\"BK\",\"W\",\"GY\"),RIGHT(H272,2))","v":"GY"},{"$f":"IF(I272=\"\",IF(MID(N272,3,1)>=\"4\",IF(G272=\"BK\",\"W\",\"GY\"),\"G\"),RIGHT(I272,2))","v":"G"},{"$f":"VLOOKUP(AC272,$AI$15:$AJ$23,2,FALSE)","v":{"$error":"#N/A"}},{"$f":"VLOOKUP(AD272,$AI$15:$AJ$23,2,FALSE)","v":8},{"$f":"VLOOKUP(AE272,$AI$15:$AJ$23,2,FALSE)","v":0}]
["",null,null,null,null,null,{"$f":"IF(A273=\"\",\"\",IFERROR(VLOOKUP(D273,'PDU Circuit'!$B$1:$F$199,IF(VLOOKUP(L273,Materials,3,FALSE)>250,$I$10+3,$I$10+1),FALSE),IF(VLOOKUP(L273,Materials,4,FALSE)>=1,IF(VLOOKUP(L273,Materials,3,FALSE)>250,\"BR\",\"BK\"))))","v":""},{"$f":"IF(A273=\"\",\"\",IFERROR(VLOOKUP(E273,'PDU Circuit'!$B$1:$F$199,IF(VLOOKUP(L273,Materials,3,FALSE)>250,$I$10+3,$I$10+1),FALSE),IF(VLOOKUP(L273,Materials,5,FALSE)>1,IF(VLOOKUP(L273,Materials,3,FALSE)>250,\"OR\",\"RED\"),\"\")))","v":""},{"$f":"IF(A273=\"\",\"\",IFERROR(VLOOKUP(F273,'PDU Circuit'!$B$1:$F$199,IF(VLOOKUP(L273,Materials,3,FALSE)>250,$I$10+3,$I$10+1),FALSE),IF(VLOOKUP(L273,Materials,5,FALSE)>2,IF(VLOOKUP(L273,Materials,3,FALSE)>250,\"YL\",\"BL\"),\"\")))","v":""},null,null,null,"","",null,null,null,null,"",null,"",null,"",null,{"$f":"IF(A273=\"\",\"\",'Voltage Drop'!N260)","v":""},"","",{"$error":"#N/A"},"","GY","G",{"$error":"#N/A"},8,0]
["",null,null,null,null,null,{"$f":"IF(A274=\"\",\"\",IFERROR(VLOOKUP(D274,'PDU Circuit'!$B$1:$F$199,IF(VLOOKUP(L274,Materials,3,FALSE)>250,$I$10+3,$I$10+1),FALSE),IF(VLOOKUP(L274,Materials,4,FALSE)>=1,IF(VLOOKUP(L274,Materials,3,FALSE)>250,\"BR\",\"BK\"))))","v":""},{"$f":"IF(A274=\"\",\"\",IFERROR(VLOOKUP(E274,'PDU Circuit'!$B$1:$F$199,IF(VLOOKUP(L274,Materials,3,FALSE)>250,$I$10+3,$I$10+1),FALSE),IF(VLOOKUP(L274,Materials,5,FALSE)>1,IF(VLOOKUP(L274,Materials,3,FALSE)>250,\"OR\",\"RED\"),\"\")))","v":""},{"$f":"IF(A274=\"\",\"\",IFERROR(VLOOKUP(F274,'PDU Circuit'!$B$1:$F$199,IF(VLOOKUP(L274,Materials,3,FALSE)>250,$I$10+3,$I$10+1),FALSE),IF(VLOOKUP(L274,Materials,5,FALSE)>2,IF(VLOOKUP(L274,Materials,3,FALSE)>250,\"YL\",\"BL\"),\"\")))","v":""},null,null,null,"","",null,null,null,null,"",null,"",null,"",null,{"$f":"IF(A274=\"\",\"\",'Voltage Drop'!N261)","v":""},"","",{"$error":"#N/A"},"","GY","G",{"$error":"#N/A"},8,0]
["",null,null,null,null,null,{"$f":"IF(A275=\"\",\"\",IFERROR(VLOOKUP(D275,'PDU Circuit'!$B$1:$F$199,IF(VLOOKUP(L275,Materials,3,FALSE)>250,$I$10+3,$I$10+1),FALSE),IF(VLOOKUP(L275,Materials,4,FALSE)>=1,IF(VLOOKUP(L275,Materials,3,FALSE)>250,\"BR\",\"BK\"))))","v":""},{"$f":"IF(A275=\"\",\"\",IFERROR(VLOOKUP(E275,'PDU Circuit'!$B$1:$F$199,IF(VLOOKUP(L275,Materials,3,FALSE)>250,$I$10+3,$I$10+1),FALSE),IF(VLOOKUP(L275,Materials,5,FALSE)>1,IF(VLOOKUP(L275,Materials,3,FALSE)>250,\"OR\",\"RED\"),\"\")))","v":""},{"$f":"IF(A275=\"\",\"\",IFERROR(VLOOKUP(F275,'PDU Circuit'!$B$1:$F$199,IF(VLOOKUP(L275,Materials,3,FALSE)>250,$I$10+3,$I$10+1),FALSE),IF(VLOOKUP(L275,Materials,5,FALSE)>2,IF(VLOOKUP(L275,Materials,3,FALSE)>250,\"YL\",\"BL\"),\"\")))","v":""},null,null,null,"","",null,null,null,null,"",null,"",null,"",null,{"$f":"IF(A275=\"\",\"\",'Voltage Drop'!N262)","v":""},"","",{"$error":"#N/A"},"","GY","G",{"$error":"#N/A"},8,0]
["",null,null,null,null,null,{"$f":"IF(A276=\"\",\"\",IFERROR(VLOOKUP(D276,'PDU Circuit'!$B$1:$F$199,IF(VLOOKUP(L276,Materials,3,FALSE)>250,$I$10+3,$I$10+1),FALSE),IF(VLOOKUP(L276,Materials,4,FALSE)>=1,IF(VLOOKUP(L276,Materials,3,FALSE)>250,\"BR\",\"BK\"))))","v":""},{"$f":"IF(A276=\"\",\"\",IFERROR(VLOOKUP(E276,'PDU Circuit'!$B$1:$F$199,IF(VLOOKUP(L276,Materials,3,FALSE)>250,$I$10+3,$I$10+1),FALSE),IF(VLOOKUP(L276,Materials,5,FALSE)>1,IF(VLOOKUP(L276,Materials,3,FALSE)>250,\"OR\",\"RED\"),\"\")))","v":""},{"$f":"IF(A276=\"\",\"\",IFERROR(VLOOKUP(F276,'PDU Circuit'!$B$1:$F$199,IF(VLOOKUP(L276,Materials,3,FALSE)>250,$I$10+3,$I$10+1),FALSE),IF(VLOOKUP(L276,Materials,5,FALSE)>2,IF(VLOOKUP(L276,Materials,3,FALSE)>250,\"YL\",\"BL\"),\"\")))","v":""},null,null,null,"","",null,null,null,null,"",null,"",null,"",null,{"$f":"IF(A276=\"\",\"\",'Voltage Drop'!N263)","v":""},"","",{"$error":"#N/A"},"","GY","G",{"$error":"#N/A"},8,0]
["",null,null,null,null,null,{"$f":"IF(A277=\"\",\"\",IFERROR(VLOOKUP(D277,'PDU Circuit'!$B$1:$F$199,IF(VLOOKUP(L277,Materials,3,FALSE)>250,$I$10+3,$I$10+1),FALSE),IF(VLOOKUP(L277,Materials,4,FALSE)>=1,IF(VLOOKUP(L277,Materials,3,FALSE)>250,\"BR\",\"BK\"))))","v":""},{"$f":"IF(A277=\"\",\"\",IFERROR(VLOOKUP(E277,'PDU Circuit'!$B$1:$F$199,IF(VLOOKUP(L277,Materials,3,FALSE)>250,$I$10+3,$I$10+1),FALSE),IF(VLOOKUP(L277,Materials,5,FALSE)>1,IF(VLOOKUP(L277,Materials,3,FALSE)>250,\"OR\",\"RED\"),\"\")))","v":""},{"$f":"IF(A277=\"\",\"\",IFERROR(VLOOKUP(F277,'PDU Circuit'!$B$1:$F$199,IF(VLOOKUP(L277,Materials,3,FALSE)>250,$I$10+3,$I$10+1),FALSE),IF(VLOOKUP(L277,Materials,5,FALSE)>2,IF(VLOOKUP(L277,Materials,3,FALSE)>250,\"YL\",\"BL\"),\"\")))","v":""},null,null,null,"","",null,null,null,null,"",null,"",null,"",null,{"$f":"IF(A277=\"\",\"\",'Voltage Drop'!N264)","v":""},"","",{"$error":"#N/A"},"","GY","G",{"$error":"#N/A"},8,0]
["",null,null,null,null,null,{"$f":"IF(A278=\"\",\"\",IFERROR(VLOOKUP(D278,'PDU Circuit'!$B$1:$F$199,IF(VLOOKUP(L278,Materials,3,FALSE)>250,$I$10+3,$I$10+1),FALSE),IF(VLOOKUP(L278,Materials,4,FALSE)>=1,IF(VLOOKUP(L278,Materials,3,FALSE)>250,\"BR\",\"BK\"))))","v":""},{"$f":"IF(A278=\"\",\"\",IFERROR(VLOOKUP(E278,'PDU Circuit'!$B$1:$F$199,IF(VLOOKUP(L278,Materials,3,FALSE)>250,$I$10+3,$I$10+1),FALSE),IF(VLOOKUP(L278,Materials,5,FALSE)>1,IF(VLOOKUP(L278,Materials,3,FALSE)>250,\"OR\",\"RED\"),\"\")))","v":""},{"$f":"IF(A278=\"\",\"\",IFERROR(VLOOKUP(F278,'PDU Circuit'!$B$1:$F$199,IF(VLOOKUP(L278,Materials,3,FALSE)>250,$I$10+3,$I$10+1),FALSE),IF(VLOOKUP(L278,Materials,5,FALSE)>2,IF(VLOOKUP(L278,Materials,3,FALSE)>250,\"YL\",\"BL\"),\"\")))","v":""},null,null,null,"","",null,null,null,null,"",null,"",null,"",null,{"$f":"IF(A278=\"\",\"\",'Voltage Drop'!N265)","v":""},"","",{"$error":"#N/A"},"","GY","G",{"$error":"#N/A"},8,0]
["",null,null,null,null,null,{"$f":"IF(A279=\"\",\"\",IFERROR(VLOOKUP(D279,'PDU Circuit'!$B$1:$F$199,IF(VLOOKUP(L279,Materials,3,FALSE)>250,$I$10+3,$I$10+1),FALSE),IF(VLOOKUP(L279,Materials,4,FALSE)>=1,IF(VLOOKUP(L279,Materials,3,FALSE)>250,\"BR\",\"BK\"))))","v":""},{"$f":"IF(A279=\"\",\"\",IFERROR(VLOOKUP(E279,'PDU Circuit'!$B$1:$F$199,IF(VLOOKUP(L279,Materials,3,FALSE)>250,$I$10+3,$I$10+1),FALSE),IF(VLOOKUP(L279,Materials,5,FALSE)>1,IF(VLOOKUP(L279,Materials,3,FALSE)>250,\"OR\",\"RED\"),\"\")))","v":""},{"$f":"IF(A279=\"\",\"\",IFERROR(VLOOKUP(F279,'PDU Circuit'!$B$1:$F$199,IF(VLOOKUP(L279,Materials,3,FALSE)>250,$I$10+3,$I$10+1),FALSE),IF(VLOOKUP(L279,Materials,5,FALSE)>2,IF(VLOOKUP(L279,Materials,3,FALSE)>250,\"YL\",\"BL\"),\"\")))","v":""},null,null,null,"","",null,null,null,null,"",null,"",null,"",null,{"$f":"IF(A279=\"\",\"\",'Voltage Drop'!N266)","v":""},"","",{"$error":"#N/A"},"","GY","G",{"$error":"#N/A"},8,0]
["",null,null,null,null,null,{"$f":"IF(A280=\"\",\"\",IFERROR(VLOOKUP(D280,'PDU Circuit'!$B$1:$F$199,IF(VLOOKUP(L280,Materials,3,FALSE)>250,$I$10+3,$I$10+1),FALSE),IF(VLOOKUP(L280,Materials,4,FALSE)>=1,IF(VLOOKUP(L280,Materials,3,FALSE)>250,\"BR\",\"BK\"))))","v":""},{"$f":"IF(A280=\"\",\"\",IFERROR(VLOOKUP(E280,'PDU Circuit'!$B$1:$F$199,IF(VLOOKUP(L280,Materials,3,FALSE)>250,$I$10+3,$I$10+1),FALSE),IF(VLOOKUP(L280,Materials,5,FALSE)>1,IF(VLOOKUP(L280,Materials,3,FALSE)>250,\"OR\",\"RED\"),\"\")))","v":""},{"$f":"IF(A280=\"\",\"\",IFERROR(VLOOKUP(F280,'PDU Circuit'!$B$1:$F$199,IF(VLOOKUP(L280,Materials,3,FALSE)>250,$I$10+3,$I$10+1),FALSE),IF(VLOOKUP(L280,Materials,5,FALSE)>2,IF(VLOOKUP(L280,Materials,3,FALSE)>250,\"YL\",\"BL\"),\"\")))","v":""},null,null,null,"","",null,null,null,null,"",null,"",null,"",null,{"$f":"IF(A280=\"\",\"\",'Voltage Drop'!N267)","v":""},"","",{"$error":"#N/A"},"","GY","G",{"$error":"#N/A"},8,0]
["",null,null,null,null,null,{"$f":"IF(A281=\"\",\"\",IFERROR(VLOOKUP(D281,'PDU Circuit'!$B$1:$F$199,IF(VLOOKUP(L281,Materials,3,FALSE)>250,$I$10+3,$I$10+1),FALSE),IF(VLOOKUP(L281,Materials,4,FALSE)>=1,IF(VLOOKUP(L281,Materials,3,FALSE)>250,\"BR\",\"BK\"))))","v":""},{"$f":"IF(A281=\"\",\"\",IFERROR(VLOOKUP(E281,'PDU Circuit'!$B$1:$F$199,IF(VLOOKUP(L281,Materials,3,FALSE)>250,$I$10+3,$I$10+1),FALSE),IF(VLOOKUP(L281,Materials,5,FALSE)>1,IF(VLOOKUP(L281,Materials,3,FALSE)>250,\"OR\",\"RED\"),\"\")))","v":""},{"$f":"IF(A281=\"\",\"\",IFERROR(VLOOKUP(F281,'PDU Circuit'!$B$1:$F$199,IF(VLOOKUP(L281,Materials,3,FALSE)>250,$I$10+3,$I$10+1),FALSE),IF(VLOOKUP(L281,Materials,5,FALSE)>2,IF(VLOOKUP(L281,Materials,3,FALSE)>250,\"YL\",\"BL\"),\"\")))","v":""},null,null,null,"","",null,null,null,null,"",null,"",null,"",null,{"$f":"IF(A281=\"\",\"\",'Voltage Drop'!N268)","v":""},"","",{"$error":"#N/A"},"","GY","G",{"$error":"#N/A"},8,0]
["",null,null,null,null,null,{"$f":"IF(A282=\"\",\"\",IFERROR(VLOOKUP(D282,'PDU Circuit'!$B$1:$F$199,IF(VLOOKUP(L282,Materials,3,FALSE)>250,$I$10+3,$I$10+1),FALSE),IF(VLOOKUP(L282,Materials,4,FALSE)>=1,IF(VLOOKUP(L282,Materials,3,FALSE)>250,\"BR\",\"BK\"))))","v":""},{"$f":"IF(A282=\"\",\"\",IFERROR(VLOOKUP(E282,'PDU Circuit'!$B$1:$F$199,IF(VLOOKUP(L282,Materials,3,FALSE)>250,$I$10+3,$I$10+1),FALSE),IF(VLOOKUP(L282,Materials,5,FALSE)>1,IF(VLOOKUP(L282,Materials,3,FALSE)>250,\"OR\",\"RED\"),\"\")))","v":""},{"$f":"IF(A282=\"\",\"\",IFERROR(VLOOKUP(F282,'PDU Circuit'!$B$1:$F$199,IF(VLOOKUP(L282,Materials,3,FALSE)>250,$I$10+3,$I$10+1),FALSE),IF(VLOOKUP(L282,Materials,5,FALSE)>2,IF(VLOOKUP(L282,Materials,3,FALSE)>250,\"YL\",\"BL\"),\"\")))","v":""},null,null,null,"","",null,null,null,null,"",null,"",null,"",null,{"$f":"IF(A282=\"\",\"\",'Voltage Drop'!N269)","v":""},"","",{"$error":"#N/A"},"","GY","G",{"$error":"#N/A"},8,0]
["",null,null,null,null,null,{"$f":"IF(A283=\"\",\"\",IFERROR(VLOOKUP(D283,'PDU Circuit'!$B$1:$F$199,IF(VLOOKUP(L283,Materials,3,FALSE)>250,$I$10+3,$I$10+1),FALSE),IF(VLOOKUP(L283,Materials,4,FALSE)>=1,IF(VLOOKUP(L283,Materials,3,FALSE)>250,\"BR\",\"BK\"))))","v":""},{"$f":"IF(A283=\"\",\"\",IFERROR(VLOOKUP(E283,'PDU Circuit'!$B$1:$F$199,IF(VLOOKUP(L283,Materials,3,FALSE)>250,$I$10+3,$I$10+1),FALSE),IF(VLOOKUP(L283,Materials,5,FALSE)>1,IF(VLOOKUP(L283,Materials,3,FALSE)>250,\"OR\",\"RED\"),\"\")))","v":""},{"$f":"IF(A283=\"\",\"\",IFERROR(VLOOKUP(F283,'PDU Circuit'!$B$1:$F$199,IF(VLOOKUP(L283,Materials,3,FALSE)>250,$I$10+3,$I$10+1),FALSE),IF(VLOOKUP(L283,Materials,5,FALSE)>2,IF(VLOOKUP(L283,Materials,3,FALSE)>250,\"YL\",\"BL\"),\"\")))","v":""},null,null,null,"","",null,null,null,null,"",null,"",null,"",null,{"$f":"IF(A283=\"\",\"\",'Voltage Drop'!N270)","v":""},"","",{"$error":"#N/A"},"","GY","G",{"$error":"#N/A"},8,0]
["",null,null,null,null,null,{"$f":"IF(A284=\"\",\"\",IFERROR(VLOOKUP(D284,'PDU Circuit'!$B$1:$F$199,IF(VLOOKUP(L284,Materials,3,FALSE)>250,$I$10+3,$I$10+1),FALSE),IF(VLOOKUP(L284,Materials,4,FALSE)>=1,IF(VLOOKUP(L284,Materials,3,FALSE)>250,\"BR\",\"BK\"))))","v":""},{"$f":"IF(A284=\"\",\"\",IFERROR(VLOOKUP(E284,'PDU Circuit'!$B$1:$F$199,IF(VLOOKUP(L284,Materials,3,FALSE)>250,$I$10+3,$I$10+1),FALSE),IF(VLOOKUP(L284,Materials,5,FALSE)>1,IF(VLOOKUP(L284,Materials,3,FALSE)>250,\"OR\",\"RED\"),\"\")))","v":""},{"$f":"IF(A284=\"\",\"\",IFERROR(VLOOKUP(F284,'PDU Circuit'!$B$1:$F$199,IF(VLOOKUP(L284,Materials,3,FALSE)>250,$I$10+3,$I$10+1),FALSE),IF(VLOOKUP(L284,Materials,5,FALSE)>2,IF(VLOOKUP(L284,Materials,3,FALSE)>250,\"YL\",\"BL\"),\"\")))","v":""},null,null,null,"","",null,null,null,null,"",null,"",null,"",null,{"$f":"IF(A284=\"\",\"\",'Voltage Drop'!N271)","v":""},"","",{"$error":"#N/A"},"","GY","G",{"$error":"#N/A"},8,0]
["",null,null,null,null,null,{"$f":"IF(A285=\"\",\"\",IFERROR(VLOOKUP(D285,'PDU Circuit'!$B$1:$F$199,IF(VLOOKUP(L285,Materials,3,FALSE)>250,$I$10+3,$I$10+1),FALSE),IF(VLOOKUP(L285,Materials,4,FALSE)>=1,IF(VLOOKUP(L285,Materials,3,FALSE)>250,\"BR\",\"BK\"))))","v":""},{"$f":"IF(A285=\"\",\"\",IFERROR(VLOOKUP(E285,'PDU Circuit'!$B$1:$F$199,IF(VLOOKUP(L285,Materials,3,FALSE)>250,$I$10+3,$I$10+1),FALSE),IF(VLOOKUP(L285,Materials,5,FALSE)>1,IF(VLOOKUP(L285,Materials,3,FALSE)>250,\"OR\",\"RED\"),\"\")))","v":""},{"$f":"IF(A285=\"\",\"\",IFERROR(VLOOKUP(F285,'PDU Circuit'!$B$1:$F$199,IF(VLOOKUP(L285,Materials,3,FALSE)>250,$I$10+3,$I$10+1),FALSE),IF(VLOOKUP(L285,Materials,5,FALSE)>2,IF(VLOOKUP(L285,Materials,3,FALSE)>250,\"YL\",\"BL\"),\"\")))","v":""},null,null,null,"","",null,null,null,null,"",null,"",null,"",null,{"$f":"IF(A285=\"\",\"\",'Voltage Drop'!N272)","v":""},"","",{"$error":"#N/A"},"","GY","G",{"$error":"#N/A"},8,0]
["",null,null,null,null,null,{"$f":"IF(A286=\"\",\"\",IFERROR(VLOOKUP(D286,'PDU Circuit'!$B$1:$F$199,IF(VLOOKUP(L286,Materials,3,FALSE)>250,$I$10+3,$I$10+1),FALSE),IF(VLOOKUP(L286,Materials,4,FALSE)>=1,IF(VLOOKUP(L286,Materials,3,FALSE)>250,\"BR\",\"BK\"))))","v":""},{"$f":"IF(A286=\"\",\"\",IFERROR(VLOOKUP(E286,'PDU Circuit'!$B$1:$F$199,IF(VLOOKUP(L286,Materials,3,FALSE)>250,$I$10+3,$I$10+1),FALSE),IF(VLOOKUP(L286,Materials,5,FALSE)>1,IF(VLOOKUP(L286,Materials,3,FALSE)>250,\"OR\",\"RED\"),\"\")))","v":""},{"$f":"IF(A286=\"\",\"\",IFERROR(VLOOKUP(F286,'PDU Circuit'!$B$1:$F$199,IF(VLOOKUP(L286,Materials,3,FALSE)>250,$I$10+3,$I$10+1),FALSE),IF(VLOOKUP(L286,Materials,5,FALSE)>2,IF(VLOOKUP(L286,Materials,3,FALSE)>250,\"YL\",\"BL\"),\"\")))","v":""},null,null,null,"","",null,null,null,null,"",null,"",null,"",null,{"$f":"IF(A286=\"\",\"\",'Voltage Drop'!N273)","v":""},"","",{"$error":"#N/A"},"","GY","G",{"$error":"#N/A"},8,0]
["",null,null,null,null,null,{"$f":"IF(A287=\"\",\"\",IFERROR(VLOOKUP(D287,'PDU Circuit'!$B$1:$F$199,IF(VLOOKUP(L287,Materials,3,FALSE)>250,$I$10+3,$I$10+1),FALSE),IF(VLOOKUP(L287,Materials,4,FALSE)>=1,IF(VLOOKUP(L287,Materials,3,FALSE)>250,\"BR\",\"BK\"))))","v":""},{"$f":"IF(A287=\"\",\"\",IFERROR(VLOOKUP(E287,'PDU Circuit'!$B$1:$F$199,IF(VLOOKUP(L287,Materials,3,FALSE)>250,$I$10+3,$I$10+1),FALSE),IF(VLOOKUP(L287,Materials,5,FALSE)>1,IF(VLOOKUP(L287,Materials,3,FALSE)>250,\"OR\",\"RED\"),\"\")))","v":""},{"$f":"IF(A287=\"\",\"\",IFERROR(VLOOKUP(F287,'PDU Circuit'!$B$1:$F$199,IF(VLOOKUP(L287,Materials,3,FALSE)>250,$I$10+3,$I$10+1),FALSE),IF(VLOOKUP(L287,Materials,5,FALSE)>2,IF(VLOOKUP(L287,Materials,3,FALSE)>250,\"YL\",\"BL\"),\"\")))","v":""},null,null,null,"","",null,null,null,null,"",null,"",null,"",null,{"$f":"IF(A287=\"\",\"\",'Voltage Drop'!N274)","v":""},"","",{"$error":"#N/A"},"","GY","G",{"$error":"#N/A"},8,0]
["",null,null,null,null,null,{"$f":"IF(A288=\"\",\"\",IFERROR(VLOOKUP(D288,'PDU Circuit'!$B$1:$F$199,IF(VLOOKUP(L288,Materials,3,FALSE)>250,$I$10+3,$I$10+1),FALSE),IF(VLOOKUP(L288,Materials,4,FALSE)>=1,IF(VLOOKUP(L288,Materials,3,FALSE)>250,\"BR\",\"BK\"))))","v":""},{"$f":"IF(A288=\"\",\"\",IFERROR(VLOOKUP(E288,'PDU Circuit'!$B$1:$F$199,IF(VLOOKUP(L288,Materials,3,FALSE)>250,$I$10+3,$I$10+1),FALSE),IF(VLOOKUP(L288,Materials,5,FALSE)>1,IF(VLOOKUP(L288,Materials,3,FALSE)>250,\"OR\",\"RED\"),\"\")))","v":""},{"$f":"IF(A288=\"\",\"\",IFERROR(VLOOKUP(F288,'PDU Circuit'!$B$1:$F$199,IF(VLOOKUP(L288,Materials,3,FALSE)>250,$I$10+3,$I$10+1),FALSE),IF(VLOOKUP(L288,Materials,5,FALSE)>2,IF(VLOOKUP(L288,Materials,3,FALSE)>250,\"YL\",\"BL\"),\"\")))","v":""},null,null,null,"","",null,null,null,null,"",null,"",null,"",null,{"$f":"IF(A288=\"\",\"\",'Voltage Drop'!N275)","v":""},"","",{"$error":"#N/A"},"","GY","G",{"$error":"#N/A"},8,0]
["",null,null,null,null,null,{"$f":"IF(A289=\"\",\"\",IFERROR(VLOOKUP(D289,'PDU Circuit'!$B$1:$F$199,IF(VLOOKUP(L289,Materials,3,FALSE)>250,$I$10+3,$I$10+1),FALSE),IF(VLOOKUP(L289,Materials,4,FALSE)>=1,IF(VLOOKUP(L289,Materials,3,FALSE)>250,\"BR\",\"BK\"))))","v":""},{"$f":"IF(A289=\"\",\"\",IFERROR(VLOOKUP(E289,'PDU Circuit'!$B$1:$F$199,IF(VLOOKUP(L289,Materials,3,FALSE)>250,$I$10+3,$I$10+1),FALSE),IF(VLOOKUP(L289,Materials,5,FALSE)>1,IF(VLOOKUP(L289,Materials,3,FALSE)>250,\"OR\",\"RED\"),\"\")))","v":""},{"$f":"IF(A289=\"\",\"\",IFERROR(VLOOKUP(F289,'PDU Circuit'!$B$1:$F$199,IF(VLOOKUP(L289,Materials,3,FALSE)>250,$I$10+3,$I$10+1),FALSE),IF(VLOOKUP(L289,Materials,5,FALSE)>2,IF(VLOOKUP(L289,Materials,3,FALSE)>250,\"YL\",\"BL\"),\"\")))","v":""},null,null,null,"","",null,null,null,null,"",null,"",null,"",null,{"$f":"IF(A289=\"\",\"\",'Voltage Drop'!N276)","v":""},"","",{"$error":"#N/A"},"","GY","G",{"$error":"#N/A"},8,0]
["",null,null,null,null,null,{"$f":"IF(A290=\"\",\"\",IFERROR(VLOOKUP(D290,'PDU Circuit'!$B$1:$F$199,IF(VLOOKUP(L290,Materials,3,FALSE)>250,$I$10+3,$I$10+1),FALSE),IF(VLOOKUP(L290,Materials,4,FALSE)>=1,IF(VLOOKUP(L290,Materials,3,FALSE)>250,\"BR\",\"BK\"))))","v":""},{"$f":"IF(A290=\"\",\"\",IFERROR(VLOOKUP(E290,'PDU Circuit'!$B$1:$F$199,IF(VLOOKUP(L290,Materials,3,FALSE)>250,$I$10+3,$I$10+1),FALSE),IF(VLOOKUP(L290,Materials,5,FALSE)>1,IF(VLOOKUP(L290,Materials,3,FALSE)>250,\"OR\",\"RED\"),\"\")))","v":""},{"$f":"IF(A290=\"\",\"\",IFERROR(VLOOKUP(F290,'PDU Circuit'!$B$1:$F$199,IF(VLOOKUP(L290,Materials,3,FALSE)>250,$I$10+3,$I$10+1),FALSE),IF(VLOOKUP(L290,Materials,5,FALSE)>2,IF(VLOOKUP(L290,Materials,3,FALSE)>250,\"YL\",\"BL\"),\"\")))","v":""},null,null,null,"","",null,null,null,null,"",null,"",null,"",null,{"$f":"IF(A290=\"\",\"\",'Voltage Drop'!N277)","v":""},"","",{"$error":"#N/A"},"","GY","G",{"$error":"#N/A"},8,0]
["",null,null,null,null,null,{"$f":"IF(A291=\"\",\"\",IFERROR(VLOOKUP(D291,'PDU Circuit'!$B$1:$F$199,IF(VLOOKUP(L291,Materials,3,FALSE)>250,$I$10+3,$I$10+1),FALSE),IF(VLOOKUP(L291,Materials,4,FALSE)>=1,IF(VLOOKUP(L291,Materials,3,FALSE)>250,\"BR\",\"BK\"))))","v":""},{"$f":"IF(A291=\"\",\"\",IFERROR(VLOOKUP(E291,'PDU Circuit'!$B$1:$F$199,IF(VLOOKUP(L291,Materials,3,FALSE)>250,$I$10+3,$I$10+1),FALSE),IF(VLOOKUP(L291,Materials,5,FALSE)>1,IF(VLOOKUP(L291,Materials,3,FALSE)>250,\"OR\",\"RED\"),\"\")))","v":""},{"$f":"IF(A291=\"\",\"\",IFERROR(VLOOKUP(F291,'PDU Circuit'!$B$1:$F$199,IF(VLOOKUP(L291,Materials,3,FALSE)>250,$I$10+3,$I$10+1),FALSE),IF(VLOOKUP(L291,Materials,5,FALSE)>2,IF(VLOOKUP(L291,Materials,3,FALSE)>250,\"YL\",\"BL\"),\"\")))","v":""},null,null,null,"","",null,null,null,null,"",null,"",null,"",null,{"$f":"IF(A291=\"\",\"\",'Voltage Drop'!N278)","v":""},"","",{"$error":"#N/A"},"","GY","G",{"$error":"#N/A"},8,0]
["",null,null,null,null,null,{"$f":"IF(A292=\"\",\"\",IFERROR(VLOOKUP(D292,'PDU Circuit'!$B$1:$F$199,IF(VLOOKUP(L292,Materials,3,FALSE)>250,$I$10+3,$I$10+1),FALSE),IF(VLOOKUP(L292,Materials,4,FALSE)>=1,IF(VLOOKUP(L292,Materials,3,FALSE)>250,\"BR\",\"BK\"))))","v":""},{"$f":"IF(A292=\"\",\"\",IFERROR(VLOOKUP(E292,'PDU Circuit'!$B$1:$F$199,IF(VLOOKUP(L292,Materials,3,FALSE)>250,$I$10+3,$I$10+1),FALSE),IF(VLOOKUP(L292,Materials,5,FALSE)>1,IF(VLOOKUP(L292,Materials,3,FALSE)>250,\"OR\",\"RED\"),\"\")))","v":""},{"$f":"IF(A292=\"\",\"\",IFERROR(VLOOKUP(F292,'PDU Circuit'!$B$1:$F$199,IF(VLOOKUP(L292,Materials,3,FALSE)>250,$I$10+3,$I$10+1),FALSE),IF(VLOOKUP(L292,Materials,5,FALSE)>2,IF(VLOOKUP(L292,Materials,3,FALSE)>250,\"YL\",\"BL\"),\"\")))","v":""},null,null,null,"","",null,null,null,null,"",null,"",null,"",null,{"$f":"IF(A292=\"\",\"\",'Voltage Drop'!N279)","v":""},"","",{"$error":"#N/A"},"","GY","G",{"$error":"#N/A"},8,0]
["",null,null,null,null,null,{"$f":"IF(A293=\"\",\"\",IFERROR(VLOOKUP(D293,'PDU Circuit'!$B$1:$F$199,IF(VLOOKUP(L293,Materials,3,FALSE)>250,$I$10+3,$I$10+1),FALSE),IF(VLOOKUP(L293,Materials,4,FALSE)>=1,IF(VLOOKUP(L293,Materials,3,FALSE)>250,\"BR\",\"BK\"))))","v":""},{"$f":"IF(A293=\"\",\"\",IFERROR(VLOOKUP(E293,'PDU Circuit'!$B$1:$F$199,IF(VLOOKUP(L293,Materials,3,FALSE)>250,$I$10+3,$I$10+1),FALSE),IF(VLOOKUP(L293,Materials,5,FALSE)>1,IF(VLOOKUP(L293,Materials,3,FALSE)>250,\"OR\",\"RED\"),\"\")))","v":""},{"$f":"IF(A293=\"\",\"\",IFERROR(VLOOKUP(F293,'PDU Circuit'!$B$1:$F$199,IF(VLOOKUP(L293,Materials,3,FALSE)>250,$I$10+3,$I$10+1),FALSE),IF(VLOOKUP(L293,Materials,5,FALSE)>2,IF(VLOOKUP(L293,Materials,3,FALSE)>250,\"YL\",\"BL\"),\"\")))","v":""},null,null,null,"","",null,null,null,null,"",null,"",null,"",null,{"$f":"IF(A293=\"\",\"\",'Voltage Drop'!N280)","v":""},"","",{"$error":"#N/A"},"","GY","G",{"$error":"#N/A"},8,0]
["",null,null,null,null,null,{"$f":"IF(A294=\"\",\"\",IFERROR(VLOOKUP(D294,'PDU Circuit'!$B$1:$F$199,IF(VLOOKUP(L294,Materials,3,FALSE)>250,$I$10+3,$I$10+1),FALSE),IF(VLOOKUP(L294,Materials,4,FALSE)>=1,IF(VLOOKUP(L294,Materials,3,FALSE)>250,\"BR\",\"BK\"))))","v":""},{"$f":"IF(A294=\"\",\"\",IFERROR(VLOOKUP(E294,'PDU Circuit'!$B$1:$F$199,IF(VLOOKUP(L294,Materials,3,FALSE)>250,$I$10+3,$I$10+1),FALSE),IF(VLOOKUP(L294,Materials,5,FALSE)>1,IF(VLOOKUP(L294,Materials,3,FALSE)>250,\"OR\",\"RED\"),\"\")))","v":""},{"$f":"IF(A294=\"\",\"\",IFERROR(VLOOKUP(F294,'PDU Circuit'!$B$1:$F$199,IF(VLOOKUP(L294,Materials,3,FALSE)>250,$I$10+3,$I$10+1),FALSE),IF(VLOOKUP(L294,Materials,5,FALSE)>2,IF(VLOOKUP(L294,Materials,3,FALSE)>250,\"YL\",\"BL\"),\"\")))","v":""},null,null,null,"","",null,null,null,null,"",null,"",null,"",null,{"$f":"IF(A294=\"\",\"\",'Voltage Drop'!N281)","v":""},"","",{"$error":"#N/A"},"","GY","G",{"$error":"#N/A"},8,0]
["",null,null,null,null,null,{"$f":"IF(A295=\"\",\"\",IFERROR(VLOOKUP(D295,'PDU Circuit'!$B$1:$F$199,IF(VLOOKUP(L295,Materials,3,FALSE)>250,$I$10+3,$I$10+1),FALSE),IF(VLOOKUP(L295,Materials,4,FALSE)>=1,IF(VLOOKUP(L295,Materials,3,FALSE)>250,\"BR\",\"BK\"))))","v":""},{"$f":"IF(A295=\"\",\"\",IFERROR(VLOOKUP(E295,'PDU Circuit'!$B$1:$F$199,IF(VLOOKUP(L295,Materials,3,FALSE)>250,$I$10+3,$I$10+1),FALSE),IF(VLOOKUP(L295,Materials,5,FALSE)>1,IF(VLOOKUP(L295,Materials,3,FALSE)>250,\"OR\",\"RED\"),\"\")))","v":""},{"$f":"IF(A295=\"\",\"\",IFERROR(VLOOKUP(F295,'PDU Circuit'!$B$1:$F$199,IF(VLOOKUP(L295,Materials,3,FALSE)>250,$I$10+3,$I$10+1),FALSE),IF(VLOOKUP(L295,Materials,5,FALSE)>2,IF(VLOOKUP(L295,Materials,3,FALSE)>250,\"YL\",\"BL\"),\"\")))","v":""},null,null,null,"","",null,null,null,null,"",null,"",null,"",null,{"$f":"IF(A295=\"\",\"\",'Voltage Drop'!N282)","v":""},"","",{"$error":"#N/A"},"","GY","G",{"$error":"#N/A"},8,0]
["",null,null,null,null,null,{"$f":"IF(A296=\"\",\"\",IFERROR(VLOOKUP(D296,'PDU Circuit'!$B$1:$F$199,IF(VLOOKUP(L296,Materials,3,FALSE)>250,$I$10+3,$I$10+1),FALSE),IF(VLOOKUP(L296,Materials,4,FALSE)>=1,IF(VLOOKUP(L296,Materials,3,FALSE)>250,\"BR\",\"BK\"))))","v":""},{"$f":"IF(A296=\"\",\"\",IFERROR(VLOOKUP(E296,'PDU Circuit'!$B$1:$F$199,IF(VLOOKUP(L296,Materials,3,FALSE)>250,$I$10+3,$I$10+1),FALSE),IF(VLOOKUP(L296,Materials,5,FALSE)>1,IF(VLOOKUP(L296,Materials,3,FALSE)>250,\"OR\",\"RED\"),\"\")))","v":""},{"$f":"IF(A296=\"\",\"\",IFERROR(VLOOKUP(F296,'PDU Circuit'!$B$1:$F$199,IF(VLOOKUP(L296,Materials,3,FALSE)>250,$I$10+3,$I$10+1),FALSE),IF(VLOOKUP(L296,Materials,5,FALSE)>2,IF(VLOOKUP(L296,Materials,3,FALSE)>250,\"YL\",\"BL\"),\"\")))","v":""},null,null,null,"","",null,null,null,null,"",null,"",null,"",null,{"$f":"IF(A296=\"\",\"\",'Voltage Drop'!N283)","v":""},"","",{"$error":"#N/A"},"","GY","G",{"$error":"#N/A"},8,0]
["",null,null,null,null,null,{"$f":"IF(A297=\"\",\"\",IFERROR(VLOOKUP(D297,'PDU Circuit'!$B$1:$F$199,IF(VLOOKUP(L297,Materials,3,FALSE)>250,$I$10+3,$I$10+1),FALSE),IF(VLOOKUP(L297,Materials,4,FALSE)>=1,IF(VLOOKUP(L297,Materials,3,FALSE)>250,\"BR\",\"BK\"))))","v":""},{"$f":"IF(A297=\"\",\"\",IFERROR(VLOOKUP(E297,'PDU Circuit'!$B$1:$F$199,IF(VLOOKUP(L297,Materials,3,FALSE)>250,$I$10+3,$I$10+1),FALSE),IF(VLOOKUP(L297,Materials,5,FALSE)>1,IF(VLOOKUP(L297,Materials,3,FALSE)>250,\"OR\",\"RED\"),\"\")))","v":""},{"$f":"IF(A297=\"\",\"\",IFERROR(VLOOKUP(F297,'PDU Circuit'!$B$1:$F$199,IF(VLOOKUP(L297,Materials,3,FALSE)>250,$I$10+3,$I$10+1),FALSE),IF(VLOOKUP(L297,Materials,5,FALSE)>2,IF(VLOOKUP(L297,Materials,3,FALSE)>250,\"YL\",\"BL\"),\"\")))","v":""},null,null,null,"","",null,null,null,null,"",null,"",null,"",null,{"$f":"IF(A297=\"\",\"\",'Voltage Drop'!N284)","v":""},"","",{"$error":"#N/A"},"","GY","G",{"$error":"#N/A"},8,0]
["",null,null,null,null,null,{"$f":"IF(A298=\"\",\"\",IFERROR(VLOOKUP(D298,'PDU Circuit'!$B$1:$F$199,IF(VLOOKUP(L298,Materials,3,FALSE)>250,$I$10+3,$I$10+1),FALSE),IF(VLOOKUP(L298,Materials,4,FALSE)>=1,IF(VLOOKUP(L298,Materials,3,FALSE)>250,\"BR\",\"BK\"))))","v":""},{"$f":"IF(A298=\"\",\"\",IFERROR(VLOOKUP(E298,'PDU Circuit'!$B$1:$F$199,IF(VLOOKUP(L298,Materials,3,FALSE)>250,$I$10+3,$I$10+1),FALSE),IF(VLOOKUP(L298,Materials,5,FALSE)>1,IF(VLOOKUP(L298,Materials,3,FALSE)>250,\"OR\",\"RED\"),\"\")))","v":""},{"$f":"IF(A298=\"\",\"\",IFERROR(VLOOKUP(F298,'PDU Circuit'!$B$1:$F$199,IF(VLOOKUP(L298,Materials,3,FALSE)>250,$I$10+3,$I$10+1),FALSE),IF(VLOOKUP(L298,Materials,5,FALSE)>2,IF(VLOOKUP(L298,Materials,3,FALSE)>250,\"YL\",\"BL\"),\"\")))","v":""},null,null,null,"","",null,null,null,null,"",null,"",null,"",null,{"$f":"IF(A298=\"\",\"\",'Voltage Drop'!N285)","v":""},"","",{"$error":"#N/A"},"","GY","G",{"$error":"#N/A"},8,0]
["",null,null,null,null,null,{"$f":"IF(A299=\"\",\"\",IFERROR(VLOOKUP(D299,'PDU Circuit'!$B$1:$F$199,IF(VLOOKUP(L299,Materials,3,FALSE)>250,$I$10+3,$I$10+1),FALSE),IF(VLOOKUP(L299,Materials,4,FALSE)>=1,IF(VLOOKUP(L299,Materials,3,FALSE)>250,\"BR\",\"BK\"))))","v":""},{"$f":"IF(A299=\"\",\"\",IFERROR(VLOOKUP(E299,'PDU Circuit'!$B$1:$F$199,IF(VLOOKUP(L299,Materials,3,FALSE)>250,$I$10+3,$I$10+1),FALSE),IF(VLOOKUP(L299,Materials,5,FALSE)>1,IF(VLOOKUP(L299,Materials,3,FALSE)>250,\"OR\",\"RED\"),\"\")))","v":""},{"$f":"IF(A299=\"\",\"\",IFERROR(VLOOKUP(F299,'PDU Circuit'!$B$1:$F$199,IF(VLOOKUP(L299,Materials,3,FALSE)>250,$I$10+3,$I$10+1),FALSE),IF(VLOOKUP(L299,Materials,5,FALSE)>2,IF(VLOOKUP(L299,Materials,3,FALSE)>250,\"YL\",\"BL\"),\"\")))","v":""},null,null,null,"","",null,null,null,null,"",null,"",null,"",null,{"$f":"IF(A299=\"\",\"\",'Voltage Drop'!N286)","v":""},"","",{"$error":"#N/A"},"","GY","G",{"$error":"#N/A"},8,0]
["",null,null,null,null,null,{"$f":"IF(A300=\"\",\"\",IFERROR(VLOOKUP(D300,'PDU Circuit'!$B$1:$F$199,IF(VLOOKUP(L300,Materials,3,FALSE)>250,$I$10+3,$I$10+1),FALSE),IF(VLOOKUP(L300,Materials,4,FALSE)>=1,IF(VLOOKUP(L300,Materials,3,FALSE)>250,\"BR\",\"BK\"))))","v":""},{"$f":"IF(A300=\"\",\"\",IFERROR(VLOOKUP(E300,'PDU Circuit'!$B$1:$F$199,IF(VLOOKUP(L300,Materials,3,FALSE)>250,$I$10+3,$I$10+1),FALSE),IF(VLOOKUP(L300,Materials,5,FALSE)>1,IF(VLOOKUP(L300,Materials,3,FALSE)>250,\"OR\",\"RED\"),\"\")))","v":""},{"$f":"IF(A300=\"\",\"\",IFERROR(VLOOKUP(F300,'PDU Circuit'!$B$1:$F$199,IF(VLOOKUP(L300,Materials,3,FALSE)>250,$I$10+3,$I$10+1),FALSE),IF(VLOOKUP(L300,Materials,5,FALSE)>2,IF(VLOOKUP(L300,Materials,3,FALSE)>250,\"YL\",\"BL\"),\"\")))","v":""},null,null,null,"","",null,null,null,null,"",null,"",null,"",null,{"$f":"IF(A300=\"\",\"\",'Voltage Drop'!N287)","v":""},"","",{"$error":"#N/A"},"","GY","G",{"$error":"#N/A"},8,0]
["",null,null,null,null,null,{"$f":"IF(A301=\"\",\"\",IFERROR(VLOOKUP(D301,'PDU Circuit'!$B$1:$F$199,IF(VLOOKUP(L301,Materials,3,FALSE)>250,$I$10+3,$I$10+1),FALSE),IF(VLOOKUP(L301,Materials,4,FALSE)>=1,IF(VLOOKUP(L301,Materials,3,FALSE)>250,\"BR\",\"BK\"))))","v":""},{"$f":"IF(A301=\"\",\"\",IFERROR(VLOOKUP(E301,'PDU Circuit'!$B$1:$F$199,IF(VLOOKUP(L301,Materials,3,FALSE)>250,$I$10+3,$I$10+1),FALSE),IF(VLOOKUP(L301,Materials,5,FALSE)>1,IF(VLOOKUP(L301,Materials,3,FALSE)>250,\"OR\",\"RED\"),\"\")))","v":""},{"$f":"IF(A301=\"\",\"\",IFERROR(VLOOKUP(F301,'PDU Circuit'!$B$1:$F$199,IF(VLOOKUP(L301,Materials,3,FALSE)>250,$I$10+3,$I$10+1),FALSE),IF(VLOOKUP(L301,Materials,5,FALSE)>2,IF(VLOOKUP(L301,Materials,3,FALSE)>250,\"YL\",\"BL\"),\"\")))","v":""},null,null,null,"","",null,null,null,null,"",null,"",null,"",null,{"$f":"IF(A301=\"\",\"\",'Voltage Drop'!N288)","v":""},"","",{"$error":"#N/A"},"","GY","G",{"$error":"#N/A"},8,0]
["",null,null,null,null,null,{"$f":"IF(A302=\"\",\"\",IFERROR(VLOOKUP(D302,'PDU Circuit'!$B$1:$F$199,IF(VLOOKUP(L302,Materials,3,FALSE)>250,$I$10+3,$I$10+1),FALSE),IF(VLOOKUP(L302,Materials,4,FALSE)>=1,IF(VLOOKUP(L302,Materials,3,FALSE)>250,\"BR\",\"BK\"))))","v":""},{"$f":"IF(A302=\"\",\"\",IFERROR(VLOOKUP(E302,'PDU Circuit'!$B$1:$F$199,IF(VLOOKUP(L302,Materials,3,FALSE)>250,$I$10+3,$I$10+1),FALSE),IF(VLOOKUP(L302,Materials,5,FALSE)>1,IF(VLOOKUP(L302,Materials,3,FALSE)>250,\"OR\",\"RED\"),\"\")))","v":""},{"$f":"IF(A302=\"\",\"\",IFERROR(VLOOKUP(F302,'PDU Circuit'!$B$1:$F$199,IF(VLOOKUP(L302,Materials,3,FALSE)>250,$I$10+3,$I$10+1),FALSE),IF(VLOOKUP(L302,Materials,5,FALSE)>2,IF(VLOOKUP(L302,Materials,3,FALSE)>250,\"YL\",\"BL\"),\"\")))","v":""},null,null,null,"","",null,null,null,null,"",null,"",null,"",null,{"$f":"IF(A302=\"\",\"\",'Voltage Drop'!N289)","v":""},"","",{"$error":"#N/A"},"","GY","G",{"$error":"#N/A"},8,0]
["",null,null,null,null,null,{"$f":"IF(A303=\"\",\"\",IFERROR(VLOOKUP(D303,'PDU Circuit'!$B$1:$F$199,IF(VLOOKUP(L303,Materials,3,FALSE)>250,$I$10+3,$I$10+1),FALSE),IF(VLOOKUP(L303,Materials,4,FALSE)>=1,IF(VLOOKUP(L303,Materials,3,FALSE)>250,\"BR\",\"BK\"))))","v":""},{"$f":"IF(A303=\"\",\"\",IFERROR(VLOOKUP(E303,'PDU Circuit'!$B$1:$F$199,IF(VLOOKUP(L303,Materials,3,FALSE)>250,$I$10+3,$I$10+1),FALSE),IF(VLOOKUP(L303,Materials,5,FALSE)>1,IF(VLOOKUP(L303,Materials,3,FALSE)>250,\"OR\",\"RED\"),\"\")))","v":""},{"$f":"IF(A303=\"\",\"\",IFERROR(VLOOKUP(F303,'PDU Circuit'!$B$1:$F$199,IF(VLOOKUP(L303,Materials,3,FALSE)>250,$I$10+3,$I$10+1),FALSE),IF(VLOOKUP(L303,Materials,5,FALSE)>2,IF(VLOOKUP(L303,Materials,3,FALSE)>250,\"YL\",\"BL\"),\"\")))","v":""},null,null,null,"","",null,null,null,null,"",null,"",null,"",null,{"$f":"IF(A303=\"\",\"\",'Voltage Drop'!N290)","v":""},"","",{"$error":"#N/A"},"","GY","G",{"$error":"#N/A"},8,0]
["",null,null,null,null,null,{"$f":"IF(A304=\"\",\"\",IFERROR(VLOOKUP(D304,'PDU Circuit'!$B$1:$F$199,IF(VLOOKUP(L304,Materials,3,FALSE)>250,$I$10+3,$I$10+1),FALSE),IF(VLOOKUP(L304,Materials,4,FALSE)>=1,IF(VLOOKUP(L304,Materials,3,FALSE)>250,\"BR\",\"BK\"))))","v":""},{"$f":"IF(A304=\"\",\"\",IFERROR(VLOOKUP(E304,'PDU Circuit'!$B$1:$F$199,IF(VLOOKUP(L304,Materials,3,FALSE)>250,$I$10+3,$I$10+1),FALSE),IF(VLOOKUP(L304,Materials,5,FALSE)>1,IF(VLOOKUP(L304,Materials,3,FALSE)>250,\"OR\",\"RED\"),\"\")))","v":""},{"$f":"IF(A304=\"\",\"\",IFERROR(VLOOKUP(F304,'PDU Circuit'!$B$1:$F$199,IF(VLOOKUP(L304,Materials,3,FALSE)>250,$I$10+3,$I$10+1),FALSE),IF(VLOOKUP(L304,Materials,5,FALSE)>2,IF(VLOOKUP(L304,Materials,3,FALSE)>250,\"YL\",\"BL\"),\"\")))","v":""},null,null,null,"","",null,null,null,null,"",null,"",null,"",null,{"$f":"IF(A304=\"\",\"\",'Voltage Drop'!N291)","v":""},"","",{"$error":"#N/A"},"","GY","G",{"$error":"#N/A"},8,0]
["",null,null,null,null,null,{"$f":"IF(A305=\"\",\"\",IFERROR(VLOOKUP(D305,'PDU Circuit'!$B$1:$F$199,IF(VLOOKUP(L305,Materials,3,FALSE)>250,$I$10+3,$I$10+1),FALSE),IF(VLOOKUP(L305,Materials,4,FALSE)>=1,IF(VLOOKUP(L305,Materials,3,FALSE)>250,\"BR\",\"BK\"))))","v":""},{"$f":"IF(A305=\"\",\"\",IFERROR(VLOOKUP(E305,'PDU Circuit'!$B$1:$F$199,IF(VLOOKUP(L305,Materials,3,FALSE)>250,$I$10+3,$I$10+1),FALSE),IF(VLOOKUP(L305,Materials,5,FALSE)>1,IF(VLOOKUP(L305,Materials,3,FALSE)>250,\"OR\",\"RED\"),\"\")))","v":""},{"$f":"IF(A305=\"\",\"\",IFERROR(VLOOKUP(F305,'PDU Circuit'!$B$1:$F$199,IF(VLOOKUP(L305,Materials,3,FALSE)>250,$I$10+3,$I$10+1),FALSE),IF(VLOOKUP(L305,Materials,5,FALSE)>2,IF(VLOOKUP(L305,Materials,3,FALSE)>250,\"YL\",\"BL\"),\"\")))","v":""},null,null,null,"","",null,null,null,null,"",null,"",null,"",null,{"$f":"IF(A305=\"\",\"\",'Voltage Drop'!N292)","v":""},"","",{"$error":"#N/A"},"","GY","G",{"$error":"#N/A"},8,0]
["",null,null,null,null,null,{"$f":"IF(A306=\"\",\"\",IFERROR(VLOOKUP(D306,'PDU Circuit'!$B$1:$F$199,IF(VLOOKUP(L306,Materials,3,FALSE)>250,$I$10+3,$I$10+1),FALSE),IF(VLOOKUP(L306,Materials,4,FALSE)>=1,IF(VLOOKUP(L306,Materials,3,FALSE)>250,\"BR\",\"BK\"))))","v":""},{"$f":"IF(A306=\"\",\"\",IFERROR(VLOOKUP(E306,'PDU Circuit'!$B$1:$F$199,IF(VLOOKUP(L306,Materials,3,FALSE)>250,$I$10+3,$I$10+1),FALSE),IF(VLOOKUP(L306,Materials,5,FALSE)>1,IF(VLOOKUP(L306,Materials,3,FALSE)>250,\"OR\",\"RED\"),\"\")))","v":""},{"$f":"IF(A306=\"\",\"\",IFERROR(VLOOKUP(F306,'PDU Circuit'!$B$1:$F$199,IF(VLOOKUP(L306,Materials,3,FALSE)>250,$I$10+3,$I$10+1),FALSE),IF(VLOOKUP(L306,Materials,5,FALSE)>2,IF(VLOOKUP(L306,Materials,3,FALSE)>250,\"YL\",\"BL\"),\"\")))","v":""},null,null,null,"","",null,null,null,null,"",null,"",null,"",null,{"$f":"IF(A306=\"\",\"\",'Voltage Drop'!N293)","v":""},"","",{"$error":"#N/A"},"","GY","G",{"$error":"#N/A"},8,0]
["",null,null,null,null,null,{"$f":"IF(A307=\"\",\"\",IFERROR(VLOOKUP(D307,'PDU Circuit'!$B$1:$F$199,IF(VLOOKUP(L307,Materials,3,FALSE)>250,$I$10+3,$I$10+1),FALSE),IF(VLOOKUP(L307,Materials,4,FALSE)>=1,IF(VLOOKUP(L307,Materials,3,FALSE)>250,\"BR\",\"BK\"))))","v":""},{"$f":"IF(A307=\"\",\"\",IFERROR(VLOOKUP(E307,'PDU Circuit'!$B$1:$F$199,IF(VLOOKUP(L307,Materials,3,FALSE)>250,$I$10+3,$I$10+1),FALSE),IF(VLOOKUP(L307,Materials,5,FALSE)>1,IF(VLOOKUP(L307,Materials,3,FALSE)>250,\"OR\",\"RED\"),\"\")))","v":""},{"$f":"IF(A307=\"\",\"\",IFERROR(VLOOKUP(F307,'PDU Circuit'!$B$1:$F$199,IF(VLOOKUP(L307,Materials,3,FALSE)>250,$I$10+3,$I$10+1),FALSE),IF(VLOOKUP(L307,Materials,5,FALSE)>2,IF(VLOOKUP(L307,Materials,3,FALSE)>250,\"YL\",\"BL\"),\"\")))","v":""},null,null,null,"","",null,null,null,null,"",null,"",null,"",null,{"$f":"IF(A307=\"\",\"\",'Voltage Drop'!N294)","v":""},"","",{"$error":"#N/A"},"","GY","G",{"$error":"#N/A"},8,0]
["",null,null,null,null,null,{"$f":"IF(A308=\"\",\"\",IFERROR(VLOOKUP(D308,'PDU Circuit'!$B$1:$F$199,IF(VLOOKUP(L308,Materials,3,FALSE)>250,$I$10+3,$I$10+1),FALSE),IF(VLOOKUP(L308,Materials,4,FALSE)>=1,IF(VLOOKUP(L308,Materials,3,FALSE)>250,\"BR\",\"BK\"))))","v":""},{"$f":"IF(A308=\"\",\"\",IFERROR(VLOOKUP(E308,'PDU Circuit'!$B$1:$F$199,IF(VLOOKUP(L308,Materials,3,FALSE)>250,$I$10+3,$I$10+1),FALSE),IF(VLOOKUP(L308,Materials,5,FALSE)>1,IF(VLOOKUP(L308,Materials,3,FALSE)>250,\"OR\",\"RED\"),\"\")))","v":""},{"$f":"IF(A308=\"\",\"\",IFERROR(VLOOKUP(F308,'PDU Circuit'!$B$1:$F$199,IF(VLOOKUP(L308,Materials,3,FALSE)>250,$I$10+3,$I$10+1),FALSE),IF(VLOOKUP(L308,Materials,5,FALSE)>2,IF(VLOOKUP(L308,Materials,3,FALSE)>250,\"YL\",\"BL\"),\"\")))","v":""},null,null,null,"","",null,null,null,null,"",null,"",null,"",null,{"$f":"IF(A308=\"\",\"\",'Voltage Drop'!N295)","v":""},"","",{"$error":"#N/A"},"","GY","G",{"$error":"#N/A"},8,0]
["",null,null,null,null,null,{"$f":"IF(A309=\"\",\"\",IFERROR(VLOOKUP(D309,'PDU Circuit'!$B$1:$F$199,IF(VLOOKUP(L309,Materials,3,FALSE)>250,$I$10+3,$I$10+1),FALSE),IF(VLOOKUP(L309,Materials,4,FALSE)>=1,IF(VLOOKUP(L309,Materials,3,FALSE)>250,\"BR\",\"BK\"))))","v":""},{"$f":"IF(A309=\"\",\"\",IFERROR(VLOOKUP(E309,'PDU Circuit'!$B$1:$F$199,IF(VLOOKUP(L309,Materials,3,FALSE)>250,$I$10+3,$I$10+1),FALSE),IF(VLOOKUP(L309,Materials,5,FALSE)>1,IF(VLOOKUP(L309,Materials,3,FALSE)>250,\"OR\",\"RED\"),\"\")))","v":""},{"$f":"IF(A309=\"\",\"\",IFERROR(VLOOKUP(F309,'PDU Circuit'!$B$1:$F$199,IF(VLOOKUP(L309,Materials,3,FALSE)>250,$I$10+3,$I$10+1),FALSE),IF(VLOOKUP(L309,Materials,5,FALSE)>2,IF(VLOOKUP(L309,Materials,3,FALSE)>250,\"YL\",\"BL\"),\"\")))","v":""},null,null,null,"","",null,null,null,null,"",null,"",null,"",null,{"$f":"IF(A309=\"\",\"\",'Voltage Drop'!N296)","v":""},"","",{"$error":"#N/A"},"","GY","G",{"$error":"#N/A"},8,0]
["",null,null,null,null,null,{"$f":"IF(A310=\"\",\"\",IFERROR(VLOOKUP(D310,'PDU Circuit'!$B$1:$F$199,IF(VLOOKUP(L310,Materials,3,FALSE)>250,$I$10+3,$I$10+1),FALSE),IF(VLOOKUP(L310,Materials,4,FALSE)>=1,IF(VLOOKUP(L310,Materials,3,FALSE)>250,\"BR\",\"BK\"))))","v":""},{"$f":"IF(A310=\"\",\"\",IFERROR(VLOOKUP(E310,'PDU Circuit'!$B$1:$F$199,IF(VLOOKUP(L310,Materials,3,FALSE)>250,$I$10+3,$I$10+1),FALSE),IF(VLOOKUP(L310,Materials,5,FALSE)>1,IF(VLOOKUP(L310,Materials,3,FALSE)>250,\"OR\",\"RED\"),\"\")))","v":""},{"$f":"IF(A310=\"\",\"\",IFERROR(VLOOKUP(F310,'PDU Circuit'!$B$1:$F$199,IF(VLOOKUP(L310,Materials,3,FALSE)>250,$I$10+3,$I$10+1),FALSE),IF(VLOOKUP(L310,Materials,5,FALSE)>2,IF(VLOOKUP(L310,Materials,3,FALSE)>250,\"YL\",\"BL\"),\"\")))","v":""},null,null,null,"","",null,null,null,null,"",null,"",null,"",null,{"$f":"IF(A310=\"\",\"\",'Voltage Drop'!N297)","v":""},"","",{"$error":"#N/A"},"","GY","G",{"$error":"#N/A"},8,0]
["",null,null,null,null,null,{"$f":"IF(A311=\"\",\"\",IFERROR(VLOOKUP(D311,'PDU Circuit'!$B$1:$F$199,IF(VLOOKUP(L311,Materials,3,FALSE)>250,$I$10+3,$I$10+1),FALSE),IF(VLOOKUP(L311,Materials,4,FALSE)>=1,IF(VLOOKUP(L311,Materials,3,FALSE)>250,\"BR\",\"BK\"))))","v":""},{"$f":"IF(A311=\"\",\"\",IFERROR(VLOOKUP(E311,'PDU Circuit'!$B$1:$F$199,IF(VLOOKUP(L311,Materials,3,FALSE)>250,$I$10+3,$I$10+1),FALSE),IF(VLOOKUP(L311,Materials,5,FALSE)>1,IF(VLOOKUP(L311,Materials,3,FALSE)>250,\"OR\",\"RED\"),\"\")))","v":""},{"$f":"IF(A311=\"\",\"\",IFERROR(VLOOKUP(F311,'PDU Circuit'!$B$1:$F$199,IF(VLOOKUP(L311,Materials,3,FALSE)>250,$I$10+3,$I$10+1),FALSE),IF(VLOOKUP(L311,Materials,5,FALSE)>2,IF(VLOOKUP(L311,Materials,3,FALSE)>250,\"YL\",\"BL\"),\"\")))","v":""},null,null,null,"","",null,null,null,null,"",null,"",null,"",null,{"$f":"IF(A311=\"\",\"\",'Voltage Drop'!N298)","v":""},"","",{"$error":"#N/A"},"","GY","G",{"$error":"#N/A"},8,0]
["",null,null,null,null,null,{"$f":"IF(A312=\"\",\"\",IFERROR(VLOOKUP(D312,'PDU Circuit'!$B$1:$F$199,IF(VLOOKUP(L312,Materials,3,FALSE)>250,$I$10+3,$I$10+1),FALSE),IF(VLOOKUP(L312,Materials,4,FALSE)>=1,IF(VLOOKUP(L312,Materials,3,FALSE)>250,\"BR\",\"BK\"))))","v":""},{"$f":"IF(A312=\"\",\"\",IFERROR(VLOOKUP(E312,'PDU Circuit'!$B$1:$F$199,IF(VLOOKUP(L312,Materials,3,FALSE)>250,$I$10+3,$I$10+1),FALSE),IF(VLOOKUP(L312,Materials,5,FALSE)>1,IF(VLOOKUP(L312,Materials,3,FALSE)>250,\"OR\",\"RED\"),\"\")))","v":""},{"$f":"IF(A312=\"\",\"\",IFERROR(VLOOKUP(F312,'PDU Circuit'!$B$1:$F$199,IF(VLOOKUP(L312,Materials,3,FALSE)>250,$I$10+3,$I$10+1),FALSE),IF(VLOOKUP(L312,Materials,5,FALSE)>2,IF(VLOOKUP(L312,Materials,3,FALSE)>250,\"YL\",\"BL\"),\"\")))","v":""},null,null,null,"","",null,null,null,null,"",null,"",null,"",null,{"$f":"IF(A312=\"\",\"\",'Voltage Drop'!N299)","v":""},"","",{"$error":"#N/A"},"","GY","G",{"$error":"#N/A"},8,0]
["",null,null,null,null,null,{"$f":"IF(A313=\"\",\"\",IFERROR(VLOOKUP(D313,'PDU Circuit'!$B$1:$F$199,IF(VLOOKUP(L313,Materials,3,FALSE)>250,$I$10+3,$I$10+1),FALSE),IF(VLOOKUP(L313,Materials,4,FALSE)>=1,IF(VLOOKUP(L313,Materials,3,FALSE)>250,\"BR\",\"BK\"))))","v":""},{"$f":"IF(A313=\"\",\"\",IFERROR(VLOOKUP(E313,'PDU Circuit'!$B$1:$F$199,IF(VLOOKUP(L313,Materials,3,FALSE)>250,$I$10+3,$I$10+1),FALSE),IF(VLOOKUP(L313,Materials,5,FALSE)>1,IF(VLOOKUP(L313,Materials,3,FALSE)>250,\"OR\",\"RED\"),\"\")))","v":""},{"$f":"IF(A313=\"\",\"\",IFERROR(VLOOKUP(F313,'PDU Circuit'!$B$1:$F$199,IF(VLOOKUP(L313,Materials,3,FALSE)>250,$I$10+3,$I$10+1),FALSE),IF(VLOOKUP(L313,Materials,5,FALSE)>2,IF(VLOOKUP(L313,Materials,3,FALSE)>250,\"YL\",\"BL\"),\"\")))","v":""},null,null,null,"","",null,null,null,null,"",null,"",null,"",null,{"$f":"IF(A313=\"\",\"\",'Voltage Drop'!N300)","v":""},"","",{"$error":"#N/A"},"","GY","G",{"$error":"#N/A"},8,0]
["",null,null,null,null,null,{"$f":"IF(A314=\"\",\"\",IFERROR(VLOOKUP(D314,'PDU Circuit'!$B$1:$F$199,IF(VLOOKUP(L314,Materials,3,FALSE)>250,$I$10+3,$I$10+1),FALSE),IF(VLOOKUP(L314,Materials,4,FALSE)>=1,IF(VLOOKUP(L314,Materials,3,FALSE)>250,\"BR\",\"BK\"))))","v":""},{"$f":"IF(A314=\"\",\"\",IFERROR(VLOOKUP(E314,'PDU Circuit'!$B$1:$F$199,IF(VLOOKUP(L314,Materials,3,FALSE)>250,$I$10+3,$I$10+1),FALSE),IF(VLOOKUP(L314,Materials,5,FALSE)>1,IF(VLOOKUP(L314,Materials,3,FALSE)>250,\"OR\",\"RED\"),\"\")))","v":""},{"$f":"IF(A314=\"\",\"\",IFERROR(VLOOKUP(F314,'PDU Circuit'!$B$1:$F$199,IF(VLOOKUP(L314,Materials,3,FALSE)>250,$I$10+3,$I$10+1),FALSE),IF(VLOOKUP(L314,Materials,5,FALSE)>2,IF(VLOOKUP(L314,Materials,3,FALSE)>250,\"YL\",\"BL\"),\"\")))","v":""},null,null,null,"","",null,null,null,null,"",null,"",null,"",null,{"$f":"IF(A314=\"\",\"\",'Voltage Drop'!N301)","v":""},"","",{"$error":"#N/A"},"","GY","G",{"$error":"#N/A"},8,0]
["",null,null,null,null,null,{"$f":"IF(A315=\"\",\"\",IFERROR(VLOOKUP(D315,'PDU Circuit'!$B$1:$F$199,IF(VLOOKUP(L315,Materials,3,FALSE)>250,$I$10+3,$I$10+1),FALSE),IF(VLOOKUP(L315,Materials,4,FALSE)>=1,IF(VLOOKUP(L315,Materials,3,FALSE)>250,\"BR\",\"BK\"))))","v":""},{"$f":"IF(A315=\"\",\"\",IFERROR(VLOOKUP(E315,'PDU Circuit'!$B$1:$F$199,IF(VLOOKUP(L315,Materials,3,FALSE)>250,$I$10+3,$I$10+1),FALSE),IF(VLOOKUP(L315,Materials,5,FALSE)>1,IF(VLOOKUP(L315,Materials,3,FALSE)>250,\"OR\",\"RED\"),\"\")))","v":""},{"$f":"IF(A315=\"\",\"\",IFERROR(VLOOKUP(F315,'PDU Circuit'!$B$1:$F$199,IF(VLOOKUP(L315,Materials,3,FALSE)>250,$I$10+3,$I$10+1),FALSE),IF(VLOOKUP(L315,Materials,5,FALSE)>2,IF(VLOOKUP(L315,Materials,3,FALSE)>250,\"YL\",\"BL\"),\"\")))","v":""},null,null,null,"","",null,null,null,null,"",null,"",null,"",null,{"$f":"IF(A315=\"\",\"\",'Voltage Drop'!N302)","v":""},"","",{"$error":"#N/A"},"","GY","G",{"$error":"#N/A"},8,0]
["",null,null,null,null,null,{"$f":"IF(A316=\"\",\"\",IFERROR(VLOOKUP(D316,'PDU Circuit'!$B$1:$F$199,IF(VLOOKUP(L316,Materials,3,FALSE)>250,$I$10+3,$I$10+1),FALSE),IF(VLOOKUP(L316,Materials,4,FALSE)>=1,IF(VLOOKUP(L316,Materials,3,FALSE)>250,\"BR\",\"BK\"))))","v":""},{"$f":"IF(A316=\"\",\"\",IFERROR(VLOOKUP(E316,'PDU Circuit'!$B$1:$F$199,IF(VLOOKUP(L316,Materials,3,FALSE)>250,$I$10+3,$I$10+1),FALSE),IF(VLOOKUP(L316,Materials,5,FALSE)>1,IF(VLOOKUP(L316,Materials,3,FALSE)>250,\"OR\",\"RED\"),\"\")))","v":""},{"$f":"IF(A316=\"\",\"\",IFERROR(VLOOKUP(F316,'PDU Circuit'!$B$1:$F$199,IF(VLOOKUP(L316,Materials,3,FALSE)>250,$I$10+3,$I$10+1),FALSE),IF(VLOOKUP(L316,Materials,5,FALSE)>2,IF(VLOOKUP(L316,Materials,3,FALSE)>250,\"YL\",\"BL\"),\"\")))","v":""},null,null,null,"","",null,null,null,null,"",null,"",null,"",null,{"$f":"IF(A316=\"\",\"\",'Voltage Drop'!N303)","v":""},"","",{"$error":"#N/A"},"","GY","G",{"$error":"#N/A"},8,0]
["",null,null,null,null,null,{"$f":"IF(A317=\"\",\"\",IFERROR(VLOOKUP(D317,'PDU Circuit'!$B$1:$F$199,IF(VLOOKUP(L317,Materials,3,FALSE)>250,$I$10+3,$I$10+1),FALSE),IF(VLOOKUP(L317,Materials,4,FALSE)>=1,IF(VLOOKUP(L317,Materials,3,FALSE)>250,\"BR\",\"BK\"))))","v":""},{"$f":"IF(A317=\"\",\"\",IFERROR(VLOOKUP(E317,'PDU Circuit'!$B$1:$F$199,IF(VLOOKUP(L317,Materials,3,FALSE)>250,$I$10+3,$I$10+1),FALSE),IF(VLOOKUP(L317,Materials,5,FALSE)>1,IF(VLOOKUP(L317,Materials,3,FALSE)>250,\"OR\",\"RED\"),\"\")))","v":""},{"$f":"IF(A317=\"\",\"\",IFERROR(VLOOKUP(F317,'PDU Circuit'!$B$1:$F$199,IF(VLOOKUP(L317,Materials,3,FALSE)>250,$I$10+3,$I$10+1),FALSE),IF(VLOOKUP(L317,Materials,5,FALSE)>2,IF(VLOOKUP(L317,Materials,3,FALSE)>250,\"YL\",\"BL\"),\"\")))","v":""},null,null,null,"","",null,null,null,null,"",null,"",null,"",null,{"$f":"IF(A317=\"\",\"\",'Voltage Drop'!N304)","v":""},"","",{"$error":"#N/A"},"","GY","G",{"$error":"#N/A"},8,0]
["",null,null,null,null,null,{"$f":"IF(A318=\"\",\"\",IFERROR(VLOOKUP(D318,'PDU Circuit'!$B$1:$F$199,IF(VLOOKUP(L318,Materials,3,FALSE)>250,$I$10+3,$I$10+1),FALSE),IF(VLOOKUP(L318,Materials,4,FALSE)>=1,IF(VLOOKUP(L318,Materials,3,FALSE)>250,\"BR\",\"BK\"))))","v":""},{"$f":"IF(A318=\"\",\"\",IFERROR(VLOOKUP(E318,'PDU Circuit'!$B$1:$F$199,IF(VLOOKUP(L318,Materials,3,FALSE)>250,$I$10+3,$I$10+1),FALSE),IF(VLOOKUP(L318,Materials,5,FALSE)>1,IF(VLOOKUP(L318,Materials,3,FALSE)>250,\"OR\",\"RED\"),\"\")))","v":""},{"$f":"IF(A318=\"\",\"\",IFERROR(VLOOKUP(F318,'PDU Circuit'!$B$1:$F$199,IF(VLOOKUP(L318,Materials,3,FALSE)>250,$I$10+3,$I$10+1),FALSE),IF(VLOOKUP(L318,Materials,5,FALSE)>2,IF(VLOOKUP(L318,Materials,3,FALSE)>250,\"YL\",\"BL\"),\"\")))","v":""},null,null,null,"","",null,null,null,null,"",null,"",null,"",null,{"$f":"IF(A318=\"\",\"\",'Voltage Drop'!N305)","v":""},"","",{"$error":"#N/A"},"","GY","G",{"$error":"#N/A"},8,0]
["",null,null,null,null,null,{"$f":"IF(A319=\"\",\"\",IFERROR(VLOOKUP(D319,'PDU Circuit'!$B$1:$F$199,IF(VLOOKUP(L319,Materials,3,FALSE)>250,$I$10+3,$I$10+1),FALSE),IF(VLOOKUP(L319,Materials,4,FALSE)>=1,IF(VLOOKUP(L319,Materials,3,FALSE)>250,\"BR\",\"BK\"))))","v":""},{"$f":"IF(A319=\"\",\"\",IFERROR(VLOOKUP(E319,'PDU Circuit'!$B$1:$F$199,IF(VLOOKUP(L319,Materials,3,FALSE)>250,$I$10+3,$I$10+1),FALSE),IF(VLOOKUP(L319,Materials,5,FALSE)>1,IF(VLOOKUP(L319,Materials,3,FALSE)>250,\"OR\",\"RED\"),\"\")))","v":""},{"$f":"IF(A319=\"\",\"\",IFERROR(VLOOKUP(F319,'PDU Circuit'!$B$1:$F$199,IF(VLOOKUP(L319,Materials,3,FALSE)>250,$I$10+3,$I$10+1),FALSE),IF(VLOOKUP(L319,Materials,5,FALSE)>2,IF(VLOOKUP(L319,Materials,3,FALSE)>250,\"YL\",\"BL\"),\"\")))","v":""},null,null,null,"","",null,null,null,null,"",null,"",null,"",null,{"$f":"IF(A319=\"\",\"\",'Voltage Drop'!N306)","v":""},"","",{"$error":"#N/A"},"","GY","G",{"$error":"#N/A"},8,0]
["",null,null,null,null,null,{"$f":"IF(A320=\"\",\"\",IFERROR(VLOOKUP(D320,'PDU Circuit'!$B$1:$F$199,IF(VLOOKUP(L320,Materials,3,FALSE)>250,$I$10+3,$I$10+1),FALSE),IF(VLOOKUP(L320,Materials,4,FALSE)>=1,IF(VLOOKUP(L320,Materials,3,FALSE)>250,\"BR\",\"BK\"))))","v":""},{"$f":"IF(A320=\"\",\"\",IFERROR(VLOOKUP(E320,'PDU Circuit'!$B$1:$F$199,IF(VLOOKUP(L320,Materials,3,FALSE)>250,$I$10+3,$I$10+1),FALSE),IF(VLOOKUP(L320,Materials,5,FALSE)>1,IF(VLOOKUP(L320,Materials,3,FALSE)>250,\"OR\",\"RED\"),\"\")))","v":""},{"$f":"IF(A320=\"\",\"\",IFERROR(VLOOKUP(F320,'PDU Circuit'!$B$1:$F$199,IF(VLOOKUP(L320,Materials,3,FALSE)>250,$I$10+3,$I$10+1),FALSE),IF(VLOOKUP(L320,Materials,5,FALSE)>2,IF(VLOOKUP(L320,Materials,3,FALSE)>250,\"YL\",\"BL\"),\"\")))","v":""},null,null,null,"","",null,null,null,null,"",null,"",null,"",null,{"$f":"IF(A320=\"\",\"\",'Voltage Drop'!N307)","v":""},"","",{"$error":"#N/A"},"","GY","G",{"$error":"#N/A"},8,0]
["",null,null,null,null,null,{"$f":"IF(A321=\"\",\"\",IFERROR(VLOOKUP(D321,'PDU Circuit'!$B$1:$F$199,IF(VLOOKUP(L321,Materials,3,FALSE)>250,$I$10+3,$I$10+1),FALSE),IF(VLOOKUP(L321,Materials,4,FALSE)>=1,IF(VLOOKUP(L321,Materials,3,FALSE)>250,\"BR\",\"BK\"))))","v":""},{"$f":"IF(A321=\"\",\"\",IFERROR(VLOOKUP(E321,'PDU Circuit'!$B$1:$F$199,IF(VLOOKUP(L321,Materials,3,FALSE)>250,$I$10+3,$I$10+1),FALSE),IF(VLOOKUP(L321,Materials,5,FALSE)>1,IF(VLOOKUP(L321,Materials,3,FALSE)>250,\"OR\",\"RED\"),\"\")))","v":""},{"$f":"IF(A321=\"\",\"\",IFERROR(VLOOKUP(F321,'PDU Circuit'!$B$1:$F$199,IF(VLOOKUP(L321,Materials,3,FALSE)>250,$I$10+3,$I$10+1),FALSE),IF(VLOOKUP(L321,Materials,5,FALSE)>2,IF(VLOOKUP(L321,Materials,3,FALSE)>250,\"YL\",\"BL\"),\"\")))","v":""},null,null,null,"","",null,null,null,null,"",null,"",null,"",null,{"$f":"IF(A321=\"\",\"\",'Voltage Drop'!N308)","v":""},"","",{"$error":"#N/A"},"","GY","G",{"$error":"#N/A"},8,0]
["",null,null,null,null,null,{"$f":"IF(A322=\"\",\"\",IFERROR(VLOOKUP(D322,'PDU Circuit'!$B$1:$F$199,IF(VLOOKUP(L322,Materials,3,FALSE)>250,$I$10+3,$I$10+1),FALSE),IF(VLOOKUP(L322,Materials,4,FALSE)>=1,IF(VLOOKUP(L322,Materials,3,FALSE)>250,\"BR\",\"BK\"))))","v":""},{"$f":"IF(A322=\"\",\"\",IFERROR(VLOOKUP(E322,'PDU Circuit'!$B$1:$F$199,IF(VLOOKUP(L322,Materials,3,FALSE)>250,$I$10+3,$I$10+1),FALSE),IF(VLOOKUP(L322,Materials,5,FALSE)>1,IF(VLOOKUP(L322,Materials,3,FALSE)>250,\"OR\",\"RED\"),\"\")))","v":""},{"$f":"IF(A322=\"\",\"\",IFERROR(VLOOKUP(F322,'PDU Circuit'!$B$1:$F$199,IF(VLOOKUP(L322,Materials,3,FALSE)>250,$I$10+3,$I$10+1),FALSE),IF(VLOOKUP(L322,Materials,5,FALSE)>2,IF(VLOOKUP(L322,Materials,3,FALSE)>250,\"YL\",\"BL\"),\"\")))","v":""},null,null,null,"","",null,null,null,null,"",null,"",null,"",null,{"$f":"IF(A322=\"\",\"\",'Voltage Drop'!N309)","v":""},"","",{"$error":"#N/A"},"","GY","G",{"$error":"#N/A"},8,0]
["",null,null,null,null,null,{"$f":"IF(A323=\"\",\"\",IFERROR(VLOOKUP(D323,'PDU Circuit'!$B$1:$F$199,IF(VLOOKUP(L323,Materials,3,FALSE)>250,$I$10+3,$I$10+1),FALSE),IF(VLOOKUP(L323,Materials,4,FALSE)>=1,IF(VLOOKUP(L323,Materials,3,FALSE)>250,\"BR\",\"BK\"))))","v":""},{"$f":"IF(A323=\"\",\"\",IFERROR(VLOOKUP(E323,'PDU Circuit'!$B$1:$F$199,IF(VLOOKUP(L323,Materials,3,FALSE)>250,$I$10+3,$I$10+1),FALSE),IF(VLOOKUP(L323,Materials,5,FALSE)>1,IF(VLOOKUP(L323,Materials,3,FALSE)>250,\"OR\",\"RED\"),\"\")))","v":""},{"$f":"IF(A323=\"\",\"\",IFERROR(VLOOKUP(F323,'PDU Circuit'!$B$1:$F$199,IF(VLOOKUP(L323,Materials,3,FALSE)>250,$I$10+3,$I$10+1),FALSE),IF(VLOOKUP(L323,Materials,5,FALSE)>2,IF(VLOOKUP(L323,Materials,3,FALSE)>250,\"YL\",\"BL\"),\"\")))","v":""},null,null,null,"","",null,null,null,null,"",null,"",null,"",null,{"$f":"IF(A323=\"\",\"\",'Voltage Drop'!N310)","v":""},"","",{"$error":"#N/A"},"","GY","G",{"$error":"#N/A"},8,0]
["",null,null,null,null,null,{"$f":"IF(A324=\"\",\"\",IFERROR(VLOOKUP(D324,'PDU Circuit'!$B$1:$F$199,IF(VLOOKUP(L324,Materials,3,FALSE)>250,$I$10+3,$I$10+1),FALSE),IF(VLOOKUP(L324,Materials,4,FALSE)>=1,IF(VLOOKUP(L324,Materials,3,FALSE)>250,\"BR\",\"BK\"))))","v":""},{"$f":"IF(A324=\"\",\"\",IFERROR(VLOOKUP(E324,'PDU Circuit'!$B$1:$F$199,IF(VLOOKUP(L324,Materials,3,FALSE)>250,$I$10+3,$I$10+1),FALSE),IF(VLOOKUP(L324,Materials,5,FALSE)>1,IF(VLOOKUP(L324,Materials,3,FALSE)>250,\"OR\",\"RED\"),\"\")))","v":""},{"$f":"IF(A324=\"\",\"\",IFERROR(VLOOKUP(F324,'PDU Circuit'!$B$1:$F$199,IF(VLOOKUP(L324,Materials,3,FALSE)>250,$I$10+3,$I$10+1),FALSE),IF(VLOOKUP(L324,Materials,5,FALSE)>2,IF(VLOOKUP(L324,Materials,3,FALSE)>250,\"YL\",\"BL\"),\"\")))","v":""},null,null,null,"","",null,null,null,null,"",null,"",null,"",null,{"$f":"IF(A324=\"\",\"\",'Voltage Drop'!N311)","v":""},"","",{"$error":"#N/A"},"","GY","G",{"$error":"#N/A"},8,0]
["",null,null,null,null,null,{"$f":"IF(A325=\"\",\"\",IFERROR(VLOOKUP(D325,'PDU Circuit'!$B$1:$F$199,IF(VLOOKUP(L325,Materials,3,FALSE)>250,$I$10+3,$I$10+1),FALSE),IF(VLOOKUP(L325,Materials,4,FALSE)>=1,IF(VLOOKUP(L325,Materials,3,FALSE)>250,\"BR\",\"BK\"))))","v":""},{"$f":"IF(A325=\"\",\"\",IFERROR(VLOOKUP(E325,'PDU Circuit'!$B$1:$F$199,IF(VLOOKUP(L325,Materials,3,FALSE)>250,$I$10+3,$I$10+1),FALSE),IF(VLOOKUP(L325,Materials,5,FALSE)>1,IF(VLOOKUP(L325,Materials,3,FALSE)>250,\"OR\",\"RED\"),\"\")))","v":""},{"$f":"IF(A325=\"\",\"\",IFERROR(VLOOKUP(F325,'PDU Circuit'!$B$1:$F$199,IF(VLOOKUP(L325,Materials,3,FALSE)>250,$I$10+3,$I$10+1),FALSE),IF(VLOOKUP(L325,Materials,5,FALSE)>2,IF(VLOOKUP(L325,Materials,3,FALSE)>250,\"YL\",\"BL\"),\"\")))","v":""},null,null,null,"","",null,null,null,null,"",null,"",null,"",null,{"$f":"IF(A325=\"\",\"\",'Voltage Drop'!N312)","v":""},"","",{"$error":"#N/A"},"","GY","G",{"$error":"#N/A"},8,0]
["",null,null,null,null,null,{"$f":"IF(A326=\"\",\"\",IFERROR(VLOOKUP(D326,'PDU Circuit'!$B$1:$F$199,IF(VLOOKUP(L326,Materials,3,FALSE)>250,$I$10+3,$I$10+1),FALSE),IF(VLOOKUP(L326,Materials,4,FALSE)>=1,IF(VLOOKUP(L326,Materials,3,FALSE)>250,\"BR\",\"BK\"))))","v":""},{"$f":"IF(A326=\"\",\"\",IFERROR(VLOOKUP(E326,'PDU Circuit'!$B$1:$F$199,IF(VLOOKUP(L326,Materials,3,FALSE)>250,$I$10+3,$I$10+1),FALSE),IF(VLOOKUP(L326,Materials,5,FALSE)>1,IF(VLOOKUP(L326,Materials,3,FALSE)>250,\"OR\",\"RED\"),\"\")))","v":""},{"$f":"IF(A326=\"\",\"\",IFERROR(VLOOKUP(F326,'PDU Circuit'!$B$1:$F$199,IF(VLOOKUP(L326,Materials,3,FALSE)>250,$I$10+3,$I$10+1),FALSE),IF(VLOOKUP(L326,Materials,5,FALSE)>2,IF(VLOOKUP(L326,Materials,3,FALSE)>250,\"YL\",\"BL\"),\"\")))","v":""},null,null,null,"","",null,null,null,null,"",null,"",null,"",null,{"$f":"IF(A326=\"\",\"\",'Voltage Drop'!N313)","v":""},"","",{"$error":"#N/A"},"","GY","G",{"$error":"#N/A"},8,0]
["",null,null,null,null,null,{"$f":"IF(A327=\"\",\"\",IFERROR(VLOOKUP(D327,'PDU Circuit'!$B$1:$F$199,IF(VLOOKUP(L327,Materials,3,FALSE)>250,$I$10+3,$I$10+1),FALSE),IF(VLOOKUP(L327,Materials,4,FALSE)>=1,IF(VLOOKUP(L327,Materials,3,FALSE)>250,\"BR\",\"BK\"))))","v":""},{"$f":"IF(A327=\"\",\"\",IFERROR(VLOOKUP(E327,'PDU Circuit'!$B$1:$F$199,IF(VLOOKUP(L327,Materials,3,FALSE)>250,$I$10+3,$I$10+1),FALSE),IF(VLOOKUP(L327,Materials,5,FALSE)>1,IF(VLOOKUP(L327,Materials,3,FALSE)>250,\"OR\",\"RED\"),\"\")))","v":""},{"$f":"IF(A327=\"\",\"\",IFERROR(VLOOKUP(F327,'PDU Circuit'!$B$1:$F$199,IF(VLOOKUP(L327,Materials,3,FALSE)>250,$I$10+3,$I$10+1),FALSE),IF(VLOOKUP(L327,Materials,5,FALSE)>2,IF(VLOOKUP(L327,Materials,3,FALSE)>250,\"YL\",\"BL\"),\"\")))","v":""},null,null,null,"","",null,null,null,null,"",null,"",null,"",null,{"$f":"IF(A327=\"\",\"\",'Voltage Drop'!N314)","v":""},"","",{"$error":"#N/A"},"","GY","G",{"$error":"#N/A"},8,0]
["",null,null,null,null,null,{"$f":"IF(A328=\"\",\"\",IFERROR(VLOOKUP(D328,'PDU Circuit'!$B$1:$F$199,IF(VLOOKUP(L328,Materials,3,FALSE)>250,$I$10+3,$I$10+1),FALSE),IF(VLOOKUP(L328,Materials,4,FALSE)>=1,IF(VLOOKUP(L328,Materials,3,FALSE)>250,\"BR\",\"BK\"))))","v":""},{"$f":"IF(A328=\"\",\"\",IFERROR(VLOOKUP(E328,'PDU Circuit'!$B$1:$F$199,IF(VLOOKUP(L328,Materials,3,FALSE)>250,$I$10+3,$I$10+1),FALSE),IF(VLOOKUP(L328,Materials,5,FALSE)>1,IF(VLOOKUP(L328,Materials,3,FALSE)>250,\"OR\",\"RED\"),\"\")))","v":""},{"$f":"IF(A328=\"\",\"\",IFERROR(VLOOKUP(F328,'PDU Circuit'!$B$1:$F$199,IF(VLOOKUP(L328,Materials,3,FALSE)>250,$I$10+3,$I$10+1),FALSE),IF(VLOOKUP(L328,Materials,5,FALSE)>2,IF(VLOOKUP(L328,Materials,3,FALSE)>250,\"YL\",\"BL\"),\"\")))","v":""},null,null,null,"","",null,null,null,null,"",null,"",null,"",null,{"$f":"IF(A328=\"\",\"\",'Voltage Drop'!N315)","v":""},"","",{"$error":"#N/A"},"","GY","G",{"$error":"#N/A"},8,0]
["",null,null,null,null,null,{"$f":"IF(A329=\"\",\"\",IFERROR(VLOOKUP(D329,'PDU Circuit'!$B$1:$F$199,IF(VLOOKUP(L329,Materials,3,FALSE)>250,$I$10+3,$I$10+1),FALSE),IF(VLOOKUP(L329,Materials,4,FALSE)>=1,IF(VLOOKUP(L329,Materials,3,FALSE)>250,\"BR\",\"BK\"))))","v":""},{"$f":"IF(A329=\"\",\"\",IFERROR(VLOOKUP(E329,'PDU Circuit'!$B$1:$F$199,IF(VLOOKUP(L329,Materials,3,FALSE)>250,$I$10+3,$I$10+1),FALSE),IF(VLOOKUP(L329,Materials,5,FALSE)>1,IF(VLOOKUP(L329,Materials,3,FALSE)>250,\"OR\",\"RED\"),\"\")))","v":""},{"$f":"IF(A329=\"\",\"\",IFERROR(VLOOKUP(F329,'PDU Circuit'!$B$1:$F$199,IF(VLOOKUP(L329,Materials,3,FALSE)>250,$I$10+3,$I$10+1),FALSE),IF(VLOOKUP(L329,Materials,5,FALSE)>2,IF(VLOOKUP(L329,Materials,3,FALSE)>250,\"YL\",\"BL\"),\"\")))","v":""},null,null,null,"","",null,null,null,null,"",null,"",null,"",null,{"$f":"IF(A329=\"\",\"\",'Voltage Drop'!N316)","v":""},"","",{"$error":"#N/A"},"","GY","G",{"$error":"#N/A"},8,0]
["",null,null,null,null,null,{"$f":"IF(A330=\"\",\"\",IFERROR(VLOOKUP(D330,'PDU Circuit'!$B$1:$F$199,IF(VLOOKUP(L330,Materials,3,FALSE)>250,$I$10+3,$I$10+1),FALSE),IF(VLOOKUP(L330,Materials,4,FALSE)>=1,IF(VLOOKUP(L330,Materials,3,FALSE)>250,\"BR\",\"BK\"))))","v":""},{"$f":"IF(A330=\"\",\"\",IFERROR(VLOOKUP(E330,'PDU Circuit'!$B$1:$F$199,IF(VLOOKUP(L330,Materials,3,FALSE)>250,$I$10+3,$I$10+1),FALSE),IF(VLOOKUP(L330,Materials,5,FALSE)>1,IF(VLOOKUP(L330,Materials,3,FALSE)>250,\"OR\",\"RED\"),\"\")))","v":""},{"$f":"IF(A330=\"\",\"\",IFERROR(VLOOKUP(F330,'PDU Circuit'!$B$1:$F$199,IF(VLOOKUP(L330,Materials,3,FALSE)>250,$I$10+3,$I$10+1),FALSE),IF(VLOOKUP(L330,Materials,5,FALSE)>2,IF(VLOOKUP(L330,Materials,3,FALSE)>250,\"YL\",\"BL\"),\"\")))","v":""},null,null,null,"","",null,null,null,null,"",null,"",null,"",null,{"$f":"IF(A330=\"\",\"\",'Voltage Drop'!N317)","v":""},"","",{"$error":"#N/A"},"","GY","G",{"$error":"#N/A"},8,0]
["",null,null,null,null,null,{"$f":"IF(A331=\"\",\"\",IFERROR(VLOOKUP(D331,'PDU Circuit'!$B$1:$F$199,IF(VLOOKUP(L331,Materials,3,FALSE)>250,$I$10+3,$I$10+1),FALSE),IF(VLOOKUP(L331,Materials,4,FALSE)>=1,IF(VLOOKUP(L331,Materials,3,FALSE)>250,\"BR\",\"BK\"))))","v":""},{"$f":"IF(A331=\"\",\"\",IFERROR(VLOOKUP(E331,'PDU Circuit'!$B$1:$F$199,IF(VLOOKUP(L331,Materials,3,FALSE)>250,$I$10+3,$I$10+1),FALSE),IF(VLOOKUP(L331,Materials,5,FALSE)>1,IF(VLOOKUP(L331,Materials,3,FALSE)>250,\"OR\",\"RED\"),\"\")))","v":""},{"$f":"IF(A331=\"\",\"\",IFERROR(VLOOKUP(F331,'PDU Circuit'!$B$1:$F$199,IF(VLOOKUP(L331,Materials,3,FALSE)>250,$I$10+3,$I$10+1),FALSE),IF(VLOOKUP(L331,Materials,5,FALSE)>2,IF(VLOOKUP(L331,Materials,3,FALSE)>250,\"YL\",\"BL\"),\"\")))","v":""},null,null,null,"","",null,null,null,null,"",null,"",null,"",null,{"$f":"IF(A331=\"\",\"\",'Voltage Drop'!N318)","v":""},"","",{"$error":"#N/A"},"","GY","G",{"$error":"#N/A"},8,0]
["",null,null,null,null,null,{"$f":"IF(A332=\"\",\"\",IFERROR(VLOOKUP(D332,'PDU Circuit'!$B$1:$F$199,IF(VLOOKUP(L332,Materials,3,FALSE)>250,$I$10+3,$I$10+1),FALSE),IF(VLOOKUP(L332,Materials,4,FALSE)>=1,IF(VLOOKUP(L332,Materials,3,FALSE)>250,\"BR\",\"BK\"))))","v":""},{"$f":"IF(A332=\"\",\"\",IFERROR(VLOOKUP(E332,'PDU Circuit'!$B$1:$F$199,IF(VLOOKUP(L332,Materials,3,FALSE)>250,$I$10+3,$I$10+1),FALSE),IF(VLOOKUP(L332,Materials,5,FALSE)>1,IF(VLOOKUP(L332,Materials,3,FALSE)>250,\"OR\",\"RED\"),\"\")))","v":""},{"$f":"IF(A332=\"\",\"\",IFERROR(VLOOKUP(F332,'PDU Circuit'!$B$1:$F$199,IF(VLOOKUP(L332,Materials,3,FALSE)>250,$I$10+3,$I$10+1),FALSE),IF(VLOOKUP(L332,Materials,5,FALSE)>2,IF(VLOOKUP(L332,Materials,3,FALSE)>250,\"YL\",\"BL\"),\"\")))","v":""},null,null,null,"","",null,null,null,null,"",null,"",null,"",null,{"$f":"IF(A332=\"\",\"\",'Voltage Drop'!N319)","v":""},"","",{"$error":"#N/A"},"","GY","G",{"$error":"#N/A"},8,0]
["",null,null,null,null,null,{"$f":"IF(A333=\"\",\"\",IFERROR(VLOOKUP(D333,'PDU Circuit'!$B$1:$F$199,IF(VLOOKUP(L333,Materials,3,FALSE)>250,$I$10+3,$I$10+1),FALSE),IF(VLOOKUP(L333,Materials,4,FALSE)>=1,IF(VLOOKUP(L333,Materials,3,FALSE)>250,\"BR\",\"BK\"))))","v":""},{"$f":"IF(A333=\"\",\"\",IFERROR(VLOOKUP(E333,'PDU Circuit'!$B$1:$F$199,IF(VLOOKUP(L333,Materials,3,FALSE)>250,$I$10+3,$I$10+1),FALSE),IF(VLOOKUP(L333,Materials,5,FALSE)>1,IF(VLOOKUP(L333,Materials,3,FALSE)>250,\"OR\",\"RED\"),\"\")))","v":""},{"$f":"IF(A333=\"\",\"\",IFERROR(VLOOKUP(F333,'PDU Circuit'!$B$1:$F$199,IF(VLOOKUP(L333,Materials,3,FALSE)>250,$I$10+3,$I$10+1),FALSE),IF(VLOOKUP(L333,Materials,5,FALSE)>2,IF(VLOOKUP(L333,Materials,3,FALSE)>250,\"YL\",\"BL\"),\"\")))","v":""},null,null,null,"","",null,null,null,null,"",null,"",null,"",null,{"$f":"IF(A333=\"\",\"\",'Voltage Drop'!N320)","v":""},"","",{"$error":"#N/A"},"","GY","G",{"$error":"#N/A"},8,0]
["",null,null,null,null,null,{"$f":"IF(A334=\"\",\"\",IFERROR(VLOOKUP(D334,'PDU Circuit'!$B$1:$F$199,IF(VLOOKUP(L334,Materials,3,FALSE)>250,$I$10+3,$I$10+1),FALSE),IF(VLOOKUP(L334,Materials,4,FALSE)>=1,IF(VLOOKUP(L334,Materials,3,FALSE)>250,\"BR\",\"BK\"))))","v":""},{"$f":"IF(A334=\"\",\"\",IFERROR(VLOOKUP(E334,'PDU Circuit'!$B$1:$F$199,IF(VLOOKUP(L334,Materials,3,FALSE)>250,$I$10+3,$I$10+1),FALSE),IF(VLOOKUP(L334,Materials,5,FALSE)>1,IF(VLOOKUP(L334,Materials,3,FALSE)>250,\"OR\",\"RED\"),\"\")))","v":""},{"$f":"IF(A334=\"\",\"\",IFERROR(VLOOKUP(F334,'PDU Circuit'!$B$1:$F$199,IF(VLOOKUP(L334,Materials,3,FALSE)>250,$I$10+3,$I$10+1),FALSE),IF(VLOOKUP(L334,Materials,5,FALSE)>2,IF(VLOOKUP(L334,Materials,3,FALSE)>250,\"YL\",\"BL\"),\"\")))","v":""},null,null,null,"","",null,null,null,null,"",null,"",null,"",null,{"$f":"IF(A334=\"\",\"\",'Voltage Drop'!N321)","v":""},"","",{"$error":"#N/A"},"","GY","G",{"$error":"#N/A"},8,0]
[{"$f":"IFERROR(IF($I$8>=A334+1,A334+1,\"\"),\"\")","v":""},null,null,null,null,null,{"$f":"IF(A335=\"\",\"\",IFERROR(VLOOKUP(D335,'PDU Circuit'!$B$1:$F$199,IF(VLOOKUP(L335,Materials,3,FALSE)>250,$I$10+3,$I$10+1),FALSE),IF(VLOOKUP(L335,Materials,4,FALSE)>=1,IF(VLOOKUP(L335,Materials,3,FALSE)>250,\"BR\",\"BK\"))))","v":""},{"$f":"IF(A335=\"\",\"\",IFERROR(VLOOKUP(E335,'PDU Circuit'!$B$1:$F$199,IF(VLOOKUP(L335,Materials,3,FALSE)>250,$I$10+3,$I$10+1),FALSE),IF(VLOOKUP(L335,Materials,5,FALSE)>1,IF(VLOOKUP(L335,Materials,3,FALSE)>250,\"OR\",\"RED\"),\"\")))","v":""},{"$f":"IF(A335=\"\",\"\",IFERROR(VLOOKUP(F335,'PDU Circuit'!$B$1:$F$199,IF(VLOOKUP(L335,Materials,3,FALSE)>250,$I$10+3,$I$10+1),FALSE),IF(VLOOKUP(L335,Materials,5,FALSE)>2,IF(VLOOKUP(L335,Materials,3,FALSE)>250,\"YL\",\"BL\"),\"\")))","v":""},null,null,null,"","",null,null,null,null,{"$f":"IFERROR(VLOOKUP($L335,Materials,10,FALSE),\"\")","v":""},null,{"$f":"IFERROR(VLOOKUP($L335,Materials,8,FALSE),\"\")","v":""},null,{"$f":"IFERROR(VLOOKUP($L335,Materials,9,FALSE),\"\")","v":""},null,{"$f":"IF(A335=\"\",\"\",'Voltage Drop'!N322)","v":""},"",{"$f":"IF(A335=\"\",\"\",\"CBL ASSY W/ PIGTAIL\")","v":""},{"$f":"\"CQ\"&VLOOKUP(L335,Materials,2,FALSE)&\"/\"&VLOOKUP(Q335,Breakers,2,FALSE)&\"/\"&O335&\"/\"&VLOOKUP(R335,Colors,2,FALSE)&\"/\"&AF335&AG335&AH335","v":{"$error":"#N/A"}},"","GY","G",{"$error":"#N/A"},8,0]
["",null,null,null,null,null,{"$f":"IF(A336=\"\",\"\",IFERROR(VLOOKUP(D336,'PDU Circuit'!$B$1:$F$199,IF(VLOOKUP(L336,Materials,3,FALSE)>250,$I$10+3,$I$10+1),FALSE),IF(VLOOKUP(L336,Materials,4,FALSE)>=1,IF(VLOOKUP(L336,Materials,3,FALSE)>250,\"BR\",\"BK\"))))","v":""},{"$f":"IF(A336=\"\",\"\",IFERROR(VLOOKUP(E336,'PDU Circuit'!$B$1:$F$199,IF(VLOOKUP(L336,Materials,3,FALSE)>250,$I$10+3,$I$10+1),FALSE),IF(VLOOKUP(L336,Materials,5,FALSE)>1,IF(VLOOKUP(L336,Materials,3,FALSE)>250,\"OR\",\"RED\"),\"\")))","v":""},{"$f":"IF(A336=\"\",\"\",IFERROR(VLOOKUP(F336,'PDU Circuit'!$B$1:$F$199,IF(VLOOKUP(L336,Materials,3,FALSE)>250,$I$10+3,$I$10+1),FALSE),IF(VLOOKUP(L336,Materials,5,FALSE)>2,IF(VLOOKUP(L336,Materials,3,FALSE)>250,\"YL\",\"BL\"),\"\")))","v":""},null,null,null,{"$f":"IFERROR(VLOOKUP(L336,Materials,3,FALSE)&\"V \"&VLOOKUP(L336,Materials,4,FALSE)&\"A\",\"\")","v":""},{"$f":"IFERROR(VLOOKUP(L336,Materials,6,FALSE),\"\")","v":""},null,null,null,null,"",null,"",null,"",null,{"$f":"IF(A336=\"\",\"\",'Voltage Drop'!N323)","v":""},{"$f":"IFERROR(AB336,\"\")","v":""},"",{"$error":"#N/A"},{"$f":"RIGHT(G336,2)","v":""},{"$f":"IF(H336=\"\",IF(G336=\"BK\",\"W\",\"GY\"),RIGHT(H336,2))","v":"GY"},{"$f":"IF(I336=\"\",IF(MID(N336,3,1)>=\"4\",IF(G336=\"BK\",\"W\",\"GY\"),\"G\"),RIGHT(I336,2))","v":"G"},{"$f":"VLOOKUP(AC336,$AI$15:$AJ$23,2,FALSE)","v":{"$error":"#N/A"}},{"$f":"VLOOKUP(AD336,$AI$15:$AJ$23,2,FALSE)","v":8},{"$f":"VLOOKUP(AE336,$AI$15:$AJ$23,2,FALSE)","v":0}]
["",null,null,null,null,null,{"$f":"IF(A337=\"\",\"\",IFERROR(VLOOKUP(D337,'PDU Circuit'!$B$1:$F$199,IF(VLOOKUP(L337,Materials,3,FALSE)>250,$I$10+3,$I$10+1),FALSE),IF(VLOOKUP(L337,Materials,4,FALSE)>=1,IF(VLOOKUP(L337,Materials,3,FALSE)>250,\"BR\",\"BK\"))))","v":""},{"$f":"IF(A337=\"\",\"\",IFERROR(VLOOKUP(E337,'PDU Circuit'!$B$1:$F$199,IF(VLOOKUP(L337,Materials,3,FALSE)>250,$I$10+3,$I$10+1),FALSE),IF(VLOOKUP(L337,Materials,5,FALSE)>1,IF(VLOOKUP(L337,Materials,3,FALSE)>250,\"OR\",\"RED\"),\"\")))","v":""},{"$f":"IF(A337=\"\",\"\",IFERROR(VLOOKUP(F337,'PDU Circuit'!$B$1:$F$199,IF(VLOOKUP(L337,Materials,3,FALSE)>250,$I$10+3,$I$10+1),FALSE),IF(VLOOKUP(L337,Materials,5,FALSE)>2,IF(VLOOKUP(L337,Materials,3,FALSE)>250,\"YL\",\"BL\"),\"\")))","v":""},null,null,null,"","",null,null,null,null,"",null,"",null,"",null,{"$f":"IF(A337=\"\",\"\",'Voltage Drop'!N324)","v":""},"","",{"$error":"#N/A"},"","GY","G",{"$error":"#N/A"},8,0]
["",null,null,null,null,null,{"$f":"IF(A338=\"\",\"\",IFERROR(VLOOKUP(D338,'PDU Circuit'!$B$1:$F$199,IF(VLOOKUP(L338,Materials,3,FALSE)>250,$I$10+3,$I$10+1),FALSE),IF(VLOOKUP(L338,Materials,4,FALSE)>=1,IF(VLOOKUP(L338,Materials,3,FALSE)>250,\"BR\",\"BK\"))))","v":""},{"$f":"IF(A338=\"\",\"\",IFERROR(VLOOKUP(E338,'PDU Circuit'!$B$1:$F$199,IF(VLOOKUP(L338,Materials,3,FALSE)>250,$I$10+3,$I$10+1),FALSE),IF(VLOOKUP(L338,Materials,5,FALSE)>1,IF(VLOOKUP(L338,Materials,3,FALSE)>250,\"OR\",\"RED\"),\"\")))","v":""},{"$f":"IF(A338=\"\",\"\",IFERROR(VLOOKUP(F338,'PDU Circuit'!$B$1:$F$199,IF(VLOOKUP(L338,Materials,3,FALSE)>250,$I$10+3,$I$10+1),FALSE),IF(VLOOKUP(L338,Materials,5,FALSE)>2,IF(VLOOKUP(L338,Materials,3,FALSE)>250,\"YL\",\"BL\"),\"\")))","v":""},null,null,null,"","",null,null,null,null,"",null,"",null,"",null,{"$f":"IF(A338=\"\",\"\",'Voltage Drop'!N325)","v":""},"","",{"$error":"#N/A"},"","GY","G",{"$error":"#N/A"},8,0]
["",null,null,null,null,null,{"$f":"IF(A339=\"\",\"\",IFERROR(VLOOKUP(D339,'PDU Circuit'!$B$1:$F$199,IF(VLOOKUP(L339,Materials,3,FALSE)>250,$I$10+3,$I$10+1),FALSE),IF(VLOOKUP(L339,Materials,4,FALSE)>=1,IF(VLOOKUP(L339,Materials,3,FALSE)>250,\"BR\",\"BK\"))))","v":""},{"$f":"IF(A339=\"\",\"\",IFERROR(VLOOKUP(E339,'PDU Circuit'!$B$1:$F$199,IF(VLOOKUP(L339,Materials,3,FALSE)>250,$I$10+3,$I$10+1),FALSE),IF(VLOOKUP(L339,Materials,5,FALSE)>1,IF(VLOOKUP(L339,Materials,3,FALSE)>250,\"OR\",\"RED\"),\"\")))","v":""},{"$f":"IF(A339=\"\",\"\",IFERROR(VLOOKUP(F339,'PDU Circuit'!$B$1:$F$199,IF(VLOOKUP(L339,Materials,3,FALSE)>250,$I$10+3,$I$10+1),FALSE),IF(VLOOKUP(L339,Materials,5,FALSE)>2,IF(VLOOKUP(L339,Materials,3,FALSE)>250,\"YL\",\"BL\"),\"\")))","v":""},null,null,null,"","",null,null,null,null,"",null,"",null,"",null,{"$f":"IF(A339=\"\",\"\",'Voltage Drop'!N326)","v":""},"","",{"$error":"#N/A"},"","GY","G",{"$error":"#N/A"},8,0]
["",null,null,null,null,null,{"$f":"IF(A340=\"\",\"\",IFERROR(VLOOKUP(D340,'PDU Circuit'!$B$1:$F$199,IF(VLOOKUP(L340,Materials,3,FALSE)>250,$I$10+3,$I$10+1),FALSE),IF(VLOOKUP(L340,Materials,4,FALSE)>=1,IF(VLOOKUP(L340,Materials,3,FALSE)>250,\"BR\",\"BK\"))))","v":""},{"$f":"IF(A340=\"\",\"\",IFERROR(VLOOKUP(E340,'PDU Circuit'!$B$1:$F$199,IF(VLOOKUP(L340,Materials,3,FALSE)>250,$I$10+3,$I$10+1),FALSE),IF(VLOOKUP(L340,Materials,5,FALSE)>1,IF(VLOOKUP(L340,Materials,3,FALSE)>250,\"OR\",\"RED\"),\"\")))","v":""},{"$f":"IF(A340=\"\",\"\",IFERROR(VLOOKUP(F340,'PDU Circuit'!$B$1:$F$199,IF(VLOOKUP(L340,Materials,3,FALSE)>250,$I$10+3,$I$10+1),FALSE),IF(VLOOKUP(L340,Materials,5,FALSE)>2,IF(VLOOKUP(L340,Materials,3,FALSE)>250,\"YL\",\"BL\"),\"\")))","v":""},null,null,null,"","",null,null,null,null,"",null,"",null,"",null,{"$f":"IF(A340=\"\",\"\",'Voltage Drop'!N327)","v":""},"","",{"$error":"#N/A"},"","GY","G",{"$error":"#N/A"},8,0]
["",null,null,null,null,null,{"$f":"IF(A341=\"\",\"\",IFERROR(VLOOKUP(D341,'PDU Circuit'!$B$1:$F$199,IF(VLOOKUP(L341,Materials,3,FALSE)>250,$I$10+3,$I$10+1),FALSE),IF(VLOOKUP(L341,Materials,4,FALSE)>=1,IF(VLOOKUP(L341,Materials,3,FALSE)>250,\"BR\",\"BK\"))))","v":""},{"$f":"IF(A341=\"\",\"\",IFERROR(VLOOKUP(E341,'PDU Circuit'!$B$1:$F$199,IF(VLOOKUP(L341,Materials,3,FALSE)>250,$I$10+3,$I$10+1),FALSE),IF(VLOOKUP(L341,Materials,5,FALSE)>1,IF(VLOOKUP(L341,Materials,3,FALSE)>250,\"OR\",\"RED\"),\"\")))","v":""},{"$f":"IF(A341=\"\",\"\",IFERROR(VLOOKUP(F341,'PDU Circuit'!$B$1:$F$199,IF(VLOOKUP(L341,Materials,3,FALSE)>250,$I$10+3,$I$10+1),FALSE),IF(VLOOKUP(L341,Materials,5,FALSE)>2,IF(VLOOKUP(L341,Materials,3,FALSE)>250,\"YL\",\"BL\"),\"\")))","v":""},null,null,null,"","",null,null,null,null,"",null,"",null,"",null,{"$f":"IF(A341=\"\",\"\",'Voltage Drop'!N328)","v":""},"","",{"$error":"#N/A"},"","GY","G",{"$error":"#N/A"},8,0]
["",null,null,null,null,null,{"$f":"IF(A342=\"\",\"\",IFERROR(VLOOKUP(D342,'PDU Circuit'!$B$1:$F$199,IF(VLOOKUP(L342,Materials,3,FALSE)>250,$I$10+3,$I$10+1),FALSE),IF(VLOOKUP(L342,Materials,4,FALSE)>=1,IF(VLOOKUP(L342,Materials,3,FALSE)>250,\"BR\",\"BK\"))))","v":""},{"$f":"IF(A342=\"\",\"\",IFERROR(VLOOKUP(E342,'PDU Circuit'!$B$1:$F$199,IF(VLOOKUP(L342,Materials,3,FALSE)>250,$I$10+3,$I$10+1),FALSE),IF(VLOOKUP(L342,Materials,5,FALSE)>1,IF(VLOOKUP(L342,Materials,3,FALSE)>250,\"OR\",\"RED\"),\"\")))","v":""},{"$f":"IF(A342=\"\",\"\",IFERROR(VLOOKUP(F342,'PDU Circuit'!$B$1:$F$199,IF(VLOOKUP(L342,Materials,3,FALSE)>250,$I$10+3,$I$10+1),FALSE),IF(VLOOKUP(L342,Materials,5,FALSE)>2,IF(VLOOKUP(L342,Materials,3,FALSE)>250,\"YL\",\"BL\"),\"\")))","v":""},null,null,null,"","",null,null,null,null,"",null,"",null,"",null,{"$f":"IF(A342=\"\",\"\",'Voltage Drop'!N329)","v":""},"","",{"$error":"#N/A"},"","GY","G",{"$error":"#N/A"},8,0]
["",null,null,null,null,null,{"$f":"IF(A343=\"\",\"\",IFERROR(VLOOKUP(D343,'PDU Circuit'!$B$1:$F$199,IF(VLOOKUP(L343,Materials,3,FALSE)>250,$I$10+3,$I$10+1),FALSE),IF(VLOOKUP(L343,Materials,4,FALSE)>=1,IF(VLOOKUP(L343,Materials,3,FALSE)>250,\"BR\",\"BK\"))))","v":""},{"$f":"IF(A343=\"\",\"\",IFERROR(VLOOKUP(E343,'PDU Circuit'!$B$1:$F$199,IF(VLOOKUP(L343,Materials,3,FALSE)>250,$I$10+3,$I$10+1),FALSE),IF(VLOOKUP(L343,Materials,5,FALSE)>1,IF(VLOOKUP(L343,Materials,3,FALSE)>250,\"OR\",\"RED\"),\"\")))","v":""},{"$f":"IF(A343=\"\",\"\",IFERROR(VLOOKUP(F343,'PDU Circuit'!$B$1:$F$199,IF(VLOOKUP(L343,Materials,3,FALSE)>250,$I$10+3,$I$10+1),FALSE),IF(VLOOKUP(L343,Materials,5,FALSE)>2,IF(VLOOKUP(L343,Materials,3,FALSE)>250,\"YL\",\"BL\"),\"\")))","v":""},null,null,null,"","",null,null,null,null,"",null,"",null,"",null,{"$f":"IF(A343=\"\",\"\",'Voltage Drop'!N330)","v":""},"","",{"$error":"#N/A"},"","GY","G",{"$error":"#N/A"},8,0]
["",null,null,null,null,null,{"$f":"IF(A344=\"\",\"\",IFERROR(VLOOKUP(D344,'PDU Circuit'!$B$1:$F$199,IF(VLOOKUP(L344,Materials,3,FALSE)>250,$I$10+3,$I$10+1),FALSE),IF(VLOOKUP(L344,Materials,4,FALSE)>=1,IF(VLOOKUP(L344,Materials,3,FALSE)>250,\"BR\",\"BK\"))))","v":""},{"$f":"IF(A344=\"\",\"\",IFERROR(VLOOKUP(E344,'PDU Circuit'!$B$1:$F$199,IF(VLOOKUP(L344,Materials,3,FALSE)>250,$I$10+3,$I$10+1),FALSE),IF(VLOOKUP(L344,Materials,5,FALSE)>1,IF(VLOOKUP(L344,Materials,3,FALSE)>250,\"OR\",\"RED\"),\"\")))","v":""},{"$f":"IF(A344=\"\",\"\",IFERROR(VLOOKUP(F344,'PDU Circuit'!$B$1:$F$199,IF(VLOOKUP(L344,Materials,3,FALSE)>250,$I$10+3,$I$10+1),FALSE),IF(VLOOKUP(L344,Materials,5,FALSE)>2,IF(VLOOKUP(L344,Materials,3,FALSE)>250,\"YL\",\"BL\"),\"\")))","v":""},null,null,null,"","",null,null,null,null,"",null,"",null,"",null,{"$f":"IF(A344=\"\",\"\",'Voltage Drop'!N331)","v":""},"","",{"$error":"#N/A"},"","GY","G",{"$error":"#N/A"},8,0]
["",null,null,null,null,null,{"$f":"IF(A345=\"\",\"\",IFERROR(VLOOKUP(D345,'PDU Circuit'!$B$1:$F$199,IF(VLOOKUP(L345,Materials,3,FALSE)>250,$I$10+3,$I$10+1),FALSE),IF(VLOOKUP(L345,Materials,4,FALSE)>=1,IF(VLOOKUP(L345,Materials,3,FALSE)>250,\"BR\",\"BK\"))))","v":""},{"$f":"IF(A345=\"\",\"\",IFERROR(VLOOKUP(E345,'PDU Circuit'!$B$1:$F$199,IF(VLOOKUP(L345,Materials,3,FALSE)>250,$I$10+3,$I$10+1),FALSE),IF(VLOOKUP(L345,Materials,5,FALSE)>1,IF(VLOOKUP(L345,Materials,3,FALSE)>250,\"OR\",\"RED\"),\"\")))","v":""},{"$f":"IF(A345=\"\",\"\",IFERROR(VLOOKUP(F345,'PDU Circuit'!$B$1:$F$199,IF(VLOOKUP(L345,Materials,3,FALSE)>250,$I$10+3,$I$10+1),FALSE),IF(VLOOKUP(L345,Materials,5,FALSE)>2,IF(VLOOKUP(L345,Materials,3,FALSE)>250,\"YL\",\"BL\"),\"\")))","v":""},null,null,null,"","",null,null,null,null,"",null,"",null,"",null,{"$f":"IF(A345=\"\",\"\",'Voltage Drop'!N332)","v":""},"","",{"$error":"#N/A"},"","GY","G",{"$error":"#N/A"},8,0]
["",null,null,null,null,null,{"$f":"IF(A346=\"\",\"\",IFERROR(VLOOKUP(D346,'PDU Circuit'!$B$1:$F$199,IF(VLOOKUP(L346,Materials,3,FALSE)>250,$I$10+3,$I$10+1),FALSE),IF(VLOOKUP(L346,Materials,4,FALSE)>=1,IF(VLOOKUP(L346,Materials,3,FALSE)>250,\"BR\",\"BK\"))))","v":""},{"$f":"IF(A346=\"\",\"\",IFERROR(VLOOKUP(E346,'PDU Circuit'!$B$1:$F$199,IF(VLOOKUP(L346,Materials,3,FALSE)>250,$I$10+3,$I$10+1),FALSE),IF(VLOOKUP(L346,Materials,5,FALSE)>1,IF(VLOOKUP(L346,Materials,3,FALSE)>250,\"OR\",\"RED\"),\"\")))","v":""},{"$f":"IF(A346=\"\",\"\",IFERROR(VLOOKUP(F346,'PDU Circuit'!$B$1:$F$199,IF(VLOOKUP(L346,Materials,3,FALSE)>250,$I$10+3,$I$10+1),FALSE),IF(VLOOKUP(L346,Materials,5,FALSE)>2,IF(VLOOKUP(L346,Materials,3,FALSE)>250,\"YL\",\"BL\"),\"\")))","v":""},null,null,null,"","",null,null,null,null,"",null,"",null,"",null,{"$f":"IF(A346=\"\",\"\",'Voltage Drop'!N333)","v":""},"","",{"$error":"#N/A"},"","GY","G",{"$error":"#N/A"},8,0]
["",null,null,null,null,null,{"$f":"IF(A347=\"\",\"\",IFERROR(VLOOKUP(D347,'PDU Circuit'!$B$1:$F$199,IF(VLOOKUP(L347,Materials,3,FALSE)>250,$I$10+3,$I$10+1),FALSE),IF(VLOOKUP(L347,Materials,4,FALSE)>=1,IF(VLOOKUP(L347,Materials,3,FALSE)>250,\"BR\",\"BK\"))))","v":""},{"$f":"IF(A347=\"\",\"\",IFERROR(VLOOKUP(E347,'PDU Circuit'!$B$1:$F$199,IF(VLOOKUP(L347,Materials,3,FALSE)>250,$I$10+3,$I$10+1),FALSE),IF(VLOOKUP(L347,Materials,5,FALSE)>1,IF(VLOOKUP(L347,Materials,3,FALSE)>250,\"OR\",\"RED\"),\"\")))","v":""},{"$f":"IF(A347=\"\",\"\",IFERROR(VLOOKUP(F347,'PDU Circuit'!$B$1:$F$199,IF(VLOOKUP(L347,Materials,3,FALSE)>250,$I$10+3,$I$10+1),FALSE),IF(VLOOKUP(L347,Materials,5,FALSE)>2,IF(VLOOKUP(L347,Materials,3,FALSE)>250,\"YL\",\"BL\"),\"\")))","v":""},null,null,null,"","",null,null,null,null,"",null,"",null,"",null,{"$f":"IF(A347=\"\",\"\",'Voltage Drop'!N334)","v":""},"","",{"$error":"#N/A"},"","GY","G",{"$error":"#N/A"},8,0]
["",null,null,null,null,null,{"$f":"IF(A348=\"\",\"\",IFERROR(VLOOKUP(D348,'PDU Circuit'!$B$1:$F$199,IF(VLOOKUP(L348,Materials,3,FALSE)>250,$I$10+3,$I$10+1),FALSE),IF(VLOOKUP(L348,Materials,4,FALSE)>=1,IF(VLOOKUP(L348,Materials,3,FALSE)>250,\"BR\",\"BK\"))))","v":""},{"$f":"IF(A348=\"\",\"\",IFERROR(VLOOKUP(E348,'PDU Circuit'!$B$1:$F$199,IF(VLOOKUP(L348,Materials,3,FALSE)>250,$I$10+3,$I$10+1),FALSE),IF(VLOOKUP(L348,Materials,5,FALSE)>1,IF(VLOOKUP(L348,Materials,3,FALSE)>250,\"OR\",\"RED\"),\"\")))","v":""},{"$f":"IF(A348=\"\",\"\",IFERROR(VLOOKUP(F348,'PDU Circuit'!$B$1:$F$199,IF(VLOOKUP(L348,Materials,3,FALSE)>250,$I$10+3,$I$10+1),FALSE),IF(VLOOKUP(L348,Materials,5,FALSE)>2,IF(VLOOKUP(L348,Materials,3,FALSE)>250,\"YL\",\"BL\"),\"\")))","v":""},null,null,null,"","",null,null,null,null,"",null,"",null,"",null,{"$f":"IF(A348=\"\",\"\",'Voltage Drop'!N335)","v":""},"","",{"$error":"#N/A"},"","GY","G",{"$error":"#N/A"},8,0]
["",null,null,null,null,null,{"$f":"IF(A349=\"\",\"\",IFERROR(VLOOKUP(D349,'PDU Circuit'!$B$1:$F$199,IF(VLOOKUP(L349,Materials,3,FALSE)>250,$I$10+3,$I$10+1),FALSE),IF(VLOOKUP(L349,Materials,4,FALSE)>=1,IF(VLOOKUP(L349,Materials,3,FALSE)>250,\"BR\",\"BK\"))))","v":""},{"$f":"IF(A349=\"\",\"\",IFERROR(VLOOKUP(E349,'PDU Circuit'!$B$1:$F$199,IF(VLOOKUP(L349,Materials,3,FALSE)>250,$I$10+3,$I$10+1),FALSE),IF(VLOOKUP(L349,Materials,5,FALSE)>1,IF(VLOOKUP(L349,Materials,3,FALSE)>250,\"OR\",\"RED\"),\"\")))","v":""},{"$f":"IF(A349=\"\",\"\",IFERROR(VLOOKUP(F349,'PDU Circuit'!$B$1:$F$199,IF(VLOOKUP(L349,Materials,3,FALSE)>250,$I$10+3,$I$10+1),FALSE),IF(VLOOKUP(L349,Materials,5,FALSE)>2,IF(VLOOKUP(L349,Materials,3,FALSE)>250,\"YL\",\"BL\"),\"\")))","v":""},null,null,null,"","",null,null,null,null,"",null,"",null,"",null,{"$f":"IF(A349=\"\",\"\",'Voltage Drop'!N336)","v":""},"","",{"$error":"#N/A"},"","GY","G",{"$error":"#N/A"},8,0]
["",null,null,null,null,null,{"$f":"IF(A350=\"\",\"\",IFERROR(VLOOKUP(D350,'PDU Circuit'!$B$1:$F$199,IF(VLOOKUP(L350,Materials,3,FALSE)>250,$I$10+3,$I$10+1),FALSE),IF(VLOOKUP(L350,Materials,4,FALSE)>=1,IF(VLOOKUP(L350,Materials,3,FALSE)>250,\"BR\",\"BK\"))))","v":""},{"$f":"IF(A350=\"\",\"\",IFERROR(VLOOKUP(E350,'PDU Circuit'!$B$1:$F$199,IF(VLOOKUP(L350,Materials,3,FALSE)>250,$I$10+3,$I$10+1),FALSE),IF(VLOOKUP(L350,Materials,5,FALSE)>1,IF(VLOOKUP(L350,Materials,3,FALSE)>250,\"OR\",\"RED\"),\"\")))","v":""},{"$f":"IF(A350=\"\",\"\",IFERROR(VLOOKUP(F350,'PDU Circuit'!$B$1:$F$199,IF(VLOOKUP(L350,Materials,3,FALSE)>250,$I$10+3,$I$10+1),FALSE),IF(VLOOKUP(L350,Materials,5,FALSE)>2,IF(VLOOKUP(L350,Materials,3,FALSE)>250,\"YL\",\"BL\"),\"\")))","v":""},null,null,null,"","",null,null,null,null,"",null,"",null,"",null,{"$f":"IF(A350=\"\",\"\",'Voltage Drop'!N337)","v":""},"","",{"$error":"#N/A"},"","GY","G",{"$error":"#N/A"},8,0]
["",null,null,null,null,null,{"$f":"IF(A351=\"\",\"\",IFERROR(VLOOKUP(D351,'PDU Circuit'!$B$1:$F$199,IF(VLOOKUP(L351,Materials,3,FALSE)>250,$I$10+3,$I$10+1),FALSE),IF(VLOOKUP(L351,Materials,4,FALSE)>=1,IF(VLOOKUP(L351,Materials,3,FALSE)>250,\"BR\",\"BK\"))))","v":""},{"$f":"IF(A351=\"\",\"\",IFERROR(VLOOKUP(E351,'PDU Circuit'!$B$1:$F$199,IF(VLOOKUP(L351,Materials,3,FALSE)>250,$I$10+3,$I$10+1),FALSE),IF(VLOOKUP(L351,Materials,5,FALSE)>1,IF(VLOOKUP(L351,Materials,3,FALSE)>250,\"OR\",\"RED\"),\"\")))","v":""},{"$f":"IF(A351=\"\",\"\",IFERROR(VLOOKUP(F351,'PDU Circuit'!$B$1:$F$199,IF(VLOOKUP(L351,Materials,3,FALSE)>250,$I$10+3,$I$10+1),FALSE),IF(VLOOKUP(L351,Materials,5,FALSE)>2,IF(VLOOKUP(L351,Materials,3,FALSE)>250,\"YL\",\"BL\"),\"\")))","v":""},null,null,null,"","",null,null,null,null,"",null,"",null,"",null,{"$f":"IF(A351=\"\",\"\",'Voltage Drop'!N338)","v":""},"","",{"$error":"#N/A"},"","GY","G",{"$error":"#N/A"},8,0]
["",null,null,null,null,null,{"$f":"IF(A352=\"\",\"\",IFERROR(VLOOKUP(D352,'PDU Circuit'!$B$1:$F$199,IF(VLOOKUP(L352,Materials,3,FALSE)>250,$I$10+3,$I$10+1),FALSE),IF(VLOOKUP(L352,Materials,4,FALSE)>=1,IF(VLOOKUP(L352,Materials,3,FALSE)>250,\"BR\",\"BK\"))))","v":""},{"$f":"IF(A352=\"\",\"\",IFERROR(VLOOKUP(E352,'PDU Circuit'!$B$1:$F$199,IF(VLOOKUP(L352,Materials,3,FALSE)>250,$I$10+3,$I$10+1),FALSE),IF(VLOOKUP(L352,Materials,5,FALSE)>1,IF(VLOOKUP(L352,Materials,3,FALSE)>250,\"OR\",\"RED\"),\"\")))","v":""},{"$f":"IF(A352=\"\",\"\",IFERROR(VLOOKUP(F352,'PDU Circuit'!$B$1:$F$199,IF(VLOOKUP(L352,Materials,3,FALSE)>250,$I$10+3,$I$10+1),FALSE),IF(VLOOKUP(L352,Materials,5,FALSE)>2,IF(VLOOKUP(L352,Materials,3,FALSE)>250,\"YL\",\"BL\"),\"\")))","v":""},null,null,null,"","",null,null,null,null,"",null,"",null,"",null,{"$f":"IF(A352=\"\",\"\",'Voltage Drop'!N339)","v":""},"","",{"$error":"#N/A"},"","GY","G",{"$error":"#N/A"},8,0]
["",null,null,null,null,null,{"$f":"IF(A353=\"\",\"\",IFERROR(VLOOKUP(D353,'PDU Circuit'!$B$1:$F$199,IF(VLOOKUP(L353,Materials,3,FALSE)>250,$I$10+3,$I$10+1),FALSE),IF(VLOOKUP(L353,Materials,4,FALSE)>=1,IF(VLOOKUP(L353,Materials,3,FALSE)>250,\"BR\",\"BK\"))))","v":""},{"$f":"IF(A353=\"\",\"\",IFERROR(VLOOKUP(E353,'PDU Circuit'!$B$1:$F$199,IF(VLOOKUP(L353,Materials,3,FALSE)>250,$I$10+3,$I$10+1),FALSE),IF(VLOOKUP(L353,Materials,5,FALSE)>1,IF(VLOOKUP(L353,Materials,3,FALSE)>250,\"OR\",\"RED\"),\"\")))","v":""},{"$f":"IF(A353=\"\",\"\",IFERROR(VLOOKUP(F353,'PDU Circuit'!$B$1:$F$199,IF(VLOOKUP(L353,Materials,3,FALSE)>250,$I$10+3,$I$10+1),FALSE),IF(VLOOKUP(L353,Materials,5,FALSE)>2,IF(VLOOKUP(L353,Materials,3,FALSE)>250,\"YL\",\"BL\"),\"\")))","v":""},null,null,null,"","",null,null,null,null,"",null,"",null,"",null,{"$f":"IF(A353=\"\",\"\",'Voltage Drop'!N340)","v":""},"","",{"$error":"#N/A"},"","GY","G",{"$error":"#N/A"},8,0]
["",null,null,null,null,null,{"$f":"IF(A354=\"\",\"\",IFERROR(VLOOKUP(D354,'PDU Circuit'!$B$1:$F$199,IF(VLOOKUP(L354,Materials,3,FALSE)>250,$I$10+3,$I$10+1),FALSE),IF(VLOOKUP(L354,Materials,4,FALSE)>=1,IF(VLOOKUP(L354,Materials,3,FALSE)>250,\"BR\",\"BK\"))))","v":""},{"$f":"IF(A354=\"\",\"\",IFERROR(VLOOKUP(E354,'PDU Circuit'!$B$1:$F$199,IF(VLOOKUP(L354,Materials,3,FALSE)>250,$I$10+3,$I$10+1),FALSE),IF(VLOOKUP(L354,Materials,5,FALSE)>1,IF(VLOOKUP(L354,Materials,3,FALSE)>250,\"OR\",\"RED\"),\"\")))","v":""},{"$f":"IF(A354=\"\",\"\",IFERROR(VLOOKUP(F354,'PDU Circuit'!$B$1:$F$199,IF(VLOOKUP(L354,Materials,3,FALSE)>250,$I$10+3,$I$10+1),FALSE),IF(VLOOKUP(L354,Materials,5,FALSE)>2,IF(VLOOKUP(L354,Materials,3,FALSE)>250,\"YL\",\"BL\"),\"\")))","v":""},null,null,null,"","",null,null,null,null,"",null,"",null,"",null,{"$f":"IF(A354=\"\",\"\",'Voltage Drop'!N341)","v":""},"","",{"$error":"#N/A"},"","GY","G",{"$error":"#N/A"},8,0]
["",null,null,null,null,null,{"$f":"IF(A355=\"\",\"\",IFERROR(VLOOKUP(D355,'PDU Circuit'!$B$1:$F$199,IF(VLOOKUP(L355,Materials,3,FALSE)>250,$I$10+3,$I$10+1),FALSE),IF(VLOOKUP(L355,Materials,4,FALSE)>=1,IF(VLOOKUP(L355,Materials,3,FALSE)>250,\"BR\",\"BK\"))))","v":""},{"$f":"IF(A355=\"\",\"\",IFERROR(VLOOKUP(E355,'PDU Circuit'!$B$1:$F$199,IF(VLOOKUP(L355,Materials,3,FALSE)>250,$I$10+3,$I$10+1),FALSE),IF(VLOOKUP(L355,Materials,5,FALSE)>1,IF(VLOOKUP(L355,Materials,3,FALSE)>250,\"OR\",\"RED\"),\"\")))","v":""},{"$f":"IF(A355=\"\",\"\",IFERROR(VLOOKUP(F355,'PDU Circuit'!$B$1:$F$199,IF(VLOOKUP(L355,Materials,3,FALSE)>250,$I$10+3,$I$10+1),FALSE),IF(VLOOKUP(L355,Materials,5,FALSE)>2,IF(VLOOKUP(L355,Materials,3,FALSE)>250,\"YL\",\"BL\"),\"\")))","v":""},null,null,null,"","",null,null,null,null,"",null,"",null,"",null,{"$f":"IF(A355=\"\",\"\",'Voltage Drop'!N342)","v":""},"","",{"$error":"#N/A"},"","GY","G",{"$error":"#N/A"},8,0]
["",null,null,null,null,null,{"$f":"IF(A356=\"\",\"\",IFERROR(VLOOKUP(D356,'PDU Circuit'!$B$1:$F$199,IF(VLOOKUP(L356,Materials,3,FALSE)>250,$I$10+3,$I$10+1),FALSE),IF(VLOOKUP(L356,Materials,4,FALSE)>=1,IF(VLOOKUP(L356,Materials,3,FALSE)>250,\"BR\",\"BK\"))))","v":""},{"$f":"IF(A356=\"\",\"\",IFERROR(VLOOKUP(E356,'PDU Circuit'!$B$1:$F$199,IF(VLOOKUP(L356,Materials,3,FALSE)>250,$I$10+3,$I$10+1),FALSE),IF(VLOOKUP(L356,Materials,5,FALSE)>1,IF(VLOOKUP(L356,Materials,3,FALSE)>250,\"OR\",\"RED\"),\"\")))","v":""},{"$f":"IF(A356=\"\",\"\",IFERROR(VLOOKUP(F356,'PDU Circuit'!$B$1:$F$199,IF(VLOOKUP(L356,Materials,3,FALSE)>250,$I$10+3,$I$10+1),FALSE),IF(VLOOKUP(L356,Materials,5,FALSE)>2,IF(VLOOKUP(L356,Materials,3,FALSE)>250,\"YL\",\"BL\"),\"\")))","v":""},null,null,null,"","",null,null,null,null,"",null,"",null,"",null,{"$f":"IF(A356=\"\",\"\",'Voltage Drop'!N343)","v":""},"","",{"$error":"#N/A"},"","GY","G",{"$error":"#N/A"},8,0]
["",null,null,null,null,null,{"$f":"IF(A357=\"\",\"\",IFERROR(VLOOKUP(D357,'PDU Circuit'!$B$1:$F$199,IF(VLOOKUP(L357,Materials,3,FALSE)>250,$I$10+3,$I$10+1),FALSE),IF(VLOOKUP(L357,Materials,4,FALSE)>=1,IF(VLOOKUP(L357,Materials,3,FALSE)>250,\"BR\",\"BK\"))))","v":""},{"$f":"IF(A357=\"\",\"\",IFERROR(VLOOKUP(E357,'PDU Circuit'!$B$1:$F$199,IF(VLOOKUP(L357,Materials,3,FALSE)>250,$I$10+3,$I$10+1),FALSE),IF(VLOOKUP(L357,Materials,5,FALSE)>1,IF(VLOOKUP(L357,Materials,3,FALSE)>250,\"OR\",\"RED\"),\"\")))","v":""},{"$f":"IF(A357=\"\",\"\",IFERROR(VLOOKUP(F357,'PDU Circuit'!$B$1:$F$199,IF(VLOOKUP(L357,Materials,3,FALSE)>250,$I$10+3,$I$10+1),FALSE),IF(VLOOKUP(L357,Materials,5,FALSE)>2,IF(VLOOKUP(L357,Materials,3,FALSE)>250,\"YL\",\"BL\"),\"\")))","v":""},null,null,null,"","",null,null,null,null,"",null,"",null,"",null,{"$f":"IF(A357=\"\",\"\",'Voltage Drop'!N344)","v":""},"","",{"$error":"#N/A"},"","GY","G",{"$error":"#N/A"},8,0]
["",null,null,null,null,null,{"$f":"IF(A358=\"\",\"\",IFERROR(VLOOKUP(D358,'PDU Circuit'!$B$1:$F$199,IF(VLOOKUP(L358,Materials,3,FALSE)>250,$I$10+3,$I$10+1),FALSE),IF(VLOOKUP(L358,Materials,4,FALSE)>=1,IF(VLOOKUP(L358,Materials,3,FALSE)>250,\"BR\",\"BK\"))))","v":""},{"$f":"IF(A358=\"\",\"\",IFERROR(VLOOKUP(E358,'PDU Circuit'!$B$1:$F$199,IF(VLOOKUP(L358,Materials,3,FALSE)>250,$I$10+3,$I$10+1),FALSE),IF(VLOOKUP(L358,Materials,5,FALSE)>1,IF(VLOOKUP(L358,Materials,3,FALSE)>250,\"OR\",\"RED\"),\"\")))","v":""},{"$f":"IF(A358=\"\",\"\",IFERROR(VLOOKUP(F358,'PDU Circuit'!$B$1:$F$199,IF(VLOOKUP(L358,Materials,3,FALSE)>250,$I$10+3,$I$10+1),FALSE),IF(VLOOKUP(L358,Materials,5,FALSE)>2,IF(VLOOKUP(L358,Materials,3,FALSE)>250,\"YL\",\"BL\"),\"\")))","v":""},null,null,null,"","",null,null,null,null,"",null,"",null,"",null,{"$f":"IF(A358=\"\",\"\",'Voltage Drop'!N345)","v":""},"","",{"$error":"#N/A"},"","GY","G",{"$error":"#N/A"},8,0]
["",null,null,null,null,null,{"$f":"IF(A359=\"\",\"\",IFERROR(VLOOKUP(D359,'PDU Circuit'!$B$1:$F$199,IF(VLOOKUP(L359,Materials,3,FALSE)>250,$I$10+3,$I$10+1),FALSE),IF(VLOOKUP(L359,Materials,4,FALSE)>=1,IF(VLOOKUP(L359,Materials,3,FALSE)>250,\"BR\",\"BK\"))))","v":""},{"$f":"IF(A359=\"\",\"\",IFERROR(VLOOKUP(E359,'PDU Circuit'!$B$1:$F$199,IF(VLOOKUP(L359,Materials,3,FALSE)>250,$I$10+3,$I$10+1),FALSE),IF(VLOOKUP(L359,Materials,5,FALSE)>1,IF(VLOOKUP(L359,Materials,3,FALSE)>250,\"OR\",\"RED\"),\"\")))","v":""},{"$f":"IF(A359=\"\",\"\",IFERROR(VLOOKUP(F359,'PDU Circuit'!$B$1:$F$199,IF(VLOOKUP(L359,Materials,3,FALSE)>250,$I$10+3,$I$10+1),FALSE),IF(VLOOKUP(L359,Materials,5,FALSE)>2,IF(VLOOKUP(L359,Materials,3,FALSE)>250,\"YL\",\"BL\"),\"\")))","v":""},null,null,null,"","",null,null,null,null,"",null,"",null,"",null,{"$f":"IF(A359=\"\",\"\",'Voltage Drop'!N346)","v":""},"","",{"$error":"#N/A"},"","GY","G",{"$error":"#N/A"},8,0]
["",null,null,null,null,null,{"$f":"IF(A360=\"\",\"\",IFERROR(VLOOKUP(D360,'PDU Circuit'!$B$1:$F$199,IF(VLOOKUP(L360,Materials,3,FALSE)>250,$I$10+3,$I$10+1),FALSE),IF(VLOOKUP(L360,Materials,4,FALSE)>=1,IF(VLOOKUP(L360,Materials,3,FALSE)>250,\"BR\",\"BK\"))))","v":""},{"$f":"IF(A360=\"\",\"\",IFERROR(VLOOKUP(E360,'PDU Circuit'!$B$1:$F$199,IF(VLOOKUP(L360,Materials,3,FALSE)>250,$I$10+3,$I$10+1),FALSE),IF(VLOOKUP(L360,Materials,5,FALSE)>1,IF(VLOOKUP(L360,Materials,3,FALSE)>250,\"OR\",\"RED\"),\"\")))","v":""},{"$f":"IF(A360=\"\",\"\",IFERROR(VLOOKUP(F360,'PDU Circuit'!$B$1:$F$199,IF(VLOOKUP(L360,Materials,3,FALSE)>250,$I$10+3,$I$10+1),FALSE),IF(VLOOKUP(L360,Materials,5,FALSE)>2,IF(VLOOKUP(L360,Materials,3,FALSE)>250,\"YL\",\"BL\"),\"\")))","v":""},null,null,null,"","",null,null,null,null,"",null,"",null,"",null,{"$f":"IF(A360=\"\",\"\",'Voltage Drop'!N347)","v":""},"","",{"$error":"#N/A"},"","GY","G",{"$error":"#N/A"},8,0]
["",null,null,null,null,null,{"$f":"IF(A361=\"\",\"\",IFERROR(VLOOKUP(D361,'PDU Circuit'!$B$1:$F$199,IF(VLOOKUP(L361,Materials,3,FALSE)>250,$I$10+3,$I$10+1),FALSE),IF(VLOOKUP(L361,Materials,4,FALSE)>=1,IF(VLOOKUP(L361,Materials,3,FALSE)>250,\"BR\",\"BK\"))))","v":""},{"$f":"IF(A361=\"\",\"\",IFERROR(VLOOKUP(E361,'PDU Circuit'!$B$1:$F$199,IF(VLOOKUP(L361,Materials,3,FALSE)>250,$I$10+3,$I$10+1),FALSE),IF(VLOOKUP(L361,Materials,5,FALSE)>1,IF(VLOOKUP(L361,Materials,3,FALSE)>250,\"OR\",\"RED\"),\"\")))","v":""},{"$f":"IF(A361=\"\",\"\",IFERROR(VLOOKUP(F361,'PDU Circuit'!$B$1:$F$199,IF(VLOOKUP(L361,Materials,3,FALSE)>250,$I$10+3,$I$10+1),FALSE),IF(VLOOKUP(L361,Materials,5,FALSE)>2,IF(VLOOKUP(L361,Materials,3,FALSE)>250,\"YL\",\"BL\"),\"\")))","v":""},null,null,null,"","",null,null,null,null,"",null,"",null,"",null,{"$f":"IF(A361=\"\",\"\",'Voltage Drop'!N348)","v":""},"","",{"$error":"#N/A"},"","GY","G",{"$error":"#N/A"},8,0]
["",null,null,null,null,null,{"$f":"IF(A362=\"\",\"\",IFERROR(VLOOKUP(D362,'PDU Circuit'!$B$1:$F$199,IF(VLOOKUP(L362,Materials,3,FALSE)>250,$I$10+3,$I$10+1),FALSE),IF(VLOOKUP(L362,Materials,4,FALSE)>=1,IF(VLOOKUP(L362,Materials,3,FALSE)>250,\"BR\",\"BK\"))))","v":""},{"$f":"IF(A362=\"\",\"\",IFERROR(VLOOKUP(E362,'PDU Circuit'!$B$1:$F$199,IF(VLOOKUP(L362,Materials,3,FALSE)>250,$I$10+3,$I$10+1),FALSE),IF(VLOOKUP(L362,Materials,5,FALSE)>1,IF(VLOOKUP(L362,Materials,3,FALSE)>250,\"OR\",\"RED\"),\"\")))","v":""},{"$f":"IF(A362=\"\",\"\",IFERROR(VLOOKUP(F362,'PDU Circuit'!$B$1:$F$199,IF(VLOOKUP(L362,Materials,3,FALSE)>250,$I$10+3,$I$10+1),FALSE),IF(VLOOKUP(L362,Materials,5,FALSE)>2,IF(VLOOKUP(L362,Materials,3,FALSE)>250,\"YL\",\"BL\"),\"\")))","v":""},null,null,null,"","",null,null,null,null,"",null,"",null,"",null,{"$f":"IF(A362=\"\",\"\",'Voltage Drop'!N349)","v":""},"","",{"$error":"#N/A"},"","GY","G",{"$error":"#N/A"},8,0]
["",null,null,null,null,null,{"$f":"IF(A363=\"\",\"\",IFERROR(VLOOKUP(D363,'PDU Circuit'!$B$1:$F$199,IF(VLOOKUP(L363,Materials,3,FALSE)>250,$I$10+3,$I$10+1),FALSE),IF(VLOOKUP(L363,Materials,4,FALSE)>=1,IF(VLOOKUP(L363,Materials,3,FALSE)>250,\"BR\",\"BK\"))))","v":""},{"$f":"IF(A363=\"\",\"\",IFERROR(VLOOKUP(E363,'PDU Circuit'!$B$1:$F$199,IF(VLOOKUP(L363,Materials,3,FALSE)>250,$I$10+3,$I$10+1),FALSE),IF(VLOOKUP(L363,Materials,5,FALSE)>1,IF(VLOOKUP(L363,Materials,3,FALSE)>250,\"OR\",\"RED\"),\"\")))","v":""},{"$f":"IF(A363=\"\",\"\",IFERROR(VLOOKUP(F363,'PDU Circuit'!$B$1:$F$199,IF(VLOOKUP(L363,Materials,3,FALSE)>250,$I$10+3,$I$10+1),FALSE),IF(VLOOKUP(L363,Materials,5,FALSE)>2,IF(VLOOKUP(L363,Materials,3,FALSE)>250,\"YL\",\"BL\"),\"\")))","v":""},null,null,null,"","",null,null,null,null,"",null,"",null,"",null,{"$f":"IF(A363=\"\",\"\",'Voltage Drop'!N350)","v":""},"","",{"$error":"#N/A"},"","GY","G",{"$error":"#N/A"},8,0]
["",null,null,null,null,null,{"$f":"IF(A364=\"\",\"\",IFERROR(VLOOKUP(D364,'PDU Circuit'!$B$1:$F$199,IF(VLOOKUP(L364,Materials,3,FALSE)>250,$I$10+3,$I$10+1),FALSE),IF(VLOOKUP(L364,Materials,4,FALSE)>=1,IF(VLOOKUP(L364,Materials,3,FALSE)>250,\"BR\",\"BK\"))))","v":""},{"$f":"IF(A364=\"\",\"\",IFERROR(VLOOKUP(E364,'PDU Circuit'!$B$1:$F$199,IF(VLOOKUP(L364,Materials,3,FALSE)>250,$I$10+3,$I$10+1),FALSE),IF(VLOOKUP(L364,Materials,5,FALSE)>1,IF(VLOOKUP(L364,Materials,3,FALSE)>250,\"OR\",\"RED\"),\"\")))","v":""},{"$f":"IF(A364=\"\",\"\",IFERROR(VLOOKUP(F364,'PDU Circuit'!$B$1:$F$199,IF(VLOOKUP(L364,Materials,3,FALSE)>250,$I$10+3,$I$10+1),FALSE),IF(VLOOKUP(L364,Materials,5,FALSE)>2,IF(VLOOKUP(L364,Materials,3,FALSE)>250,\"YL\",\"BL\"),\"\")))","v":""},null,null,null,"","",null,null,null,null,"",null,"",null,"",null,{"$f":"IF(A364=\"\",\"\",'Voltage Drop'!N351)","v":""},"","",{"$error":"#N/A"},"","GY","G",{"$error":"#N/A"},8,0]
["",null,null,null,null,null,{"$f":"IF(A365=\"\",\"\",IFERROR(VLOOKUP(D365,'PDU Circuit'!$B$1:$F$199,IF(VLOOKUP(L365,Materials,3,FALSE)>250,$I$10+3,$I$10+1),FALSE),IF(VLOOKUP(L365,Materials,4,FALSE)>=1,IF(VLOOKUP(L365,Materials,3,FALSE)>250,\"BR\",\"BK\"))))","v":""},{"$f":"IF(A365=\"\",\"\",IFERROR(VLOOKUP(E365,'PDU Circuit'!$B$1:$F$199,IF(VLOOKUP(L365,Materials,3,FALSE)>250,$I$10+3,$I$10+1),FALSE),IF(VLOOKUP(L365,Materials,5,FALSE)>1,IF(VLOOKUP(L365,Materials,3,FALSE)>250,\"OR\",\"RED\"),\"\")))","v":""},{"$f":"IF(A365=\"\",\"\",IFERROR(VLOOKUP(F365,'PDU Circuit'!$B$1:$F$199,IF(VLOOKUP(L365,Materials,3,FALSE)>250,$I$10+3,$I$10+1),FALSE),IF(VLOOKUP(L365,Materials,5,FALSE)>2,IF(VLOOKUP(L365,Materials,3,FALSE)>250,\"YL\",\"BL\"),\"\")))","v":""},null,null,null,"","",null,null,null,null,"",null,"",null,"",null,{"$f":"IF(A365=\"\",\"\",'Voltage Drop'!N352)","v":""},"","",{"$error":"#N/A"},"","GY","G",{"$error":"#N/A"},8,0]
["",null,null,null,null,null,{"$f":"IF(A366=\"\",\"\",IFERROR(VLOOKUP(D366,'PDU Circuit'!$B$1:$F$199,IF(VLOOKUP(L366,Materials,3,FALSE)>250,$I$10+3,$I$10+1),FALSE),IF(VLOOKUP(L366,Materials,4,FALSE)>=1,IF(VLOOKUP(L366,Materials,3,FALSE)>250,\"BR\",\"BK\"))))","v":""},{"$f":"IF(A366=\"\",\"\",IFERROR(VLOOKUP(E366,'PDU Circuit'!$B$1:$F$199,IF(VLOOKUP(L366,Materials,3,FALSE)>250,$I$10+3,$I$10+1),FALSE),IF(VLOOKUP(L366,Materials,5,FALSE)>1,IF(VLOOKUP(L366,Materials,3,FALSE)>250,\"OR\",\"RED\"),\"\")))","v":""},{"$f":"IF(A366=\"\",\"\",IFERROR(VLOOKUP(F366,'PDU Circuit'!$B$1:$F$199,IF(VLOOKUP(L366,Materials,3,FALSE)>250,$I$10+3,$I$10+1),FALSE),IF(VLOOKUP(L366,Materials,5,FALSE)>2,IF(VLOOKUP(L366,Materials,3,FALSE)>250,\"YL\",\"BL\"),\"\")))","v":""},null,null,null,"","",null,null,null,null,"",null,"",null,"",null,{"$f":"IF(A366=\"\",\"\",'Voltage Drop'!N353)","v":""},"","",{"$error":"#N/A"},"","GY","G",{"$error":"#N/A"},8,0]
["",null,null,null,null,null,{"$f":"IF(A367=\"\",\"\",IFERROR(VLOOKUP(D367,'PDU Circuit'!$B$1:$F$199,IF(VLOOKUP(L367,Materials,3,FALSE)>250,$I$10+3,$I$10+1),FALSE),IF(VLOOKUP(L367,Materials,4,FALSE)>=1,IF(VLOOKUP(L367,Materials,3,FALSE)>250,\"BR\",\"BK\"))))","v":""},{"$f":"IF(A367=\"\",\"\",IFERROR(VLOOKUP(E367,'PDU Circuit'!$B$1:$F$199,IF(VLOOKUP(L367,Materials,3,FALSE)>250,$I$10+3,$I$10+1),FALSE),IF(VLOOKUP(L367,Materials,5,FALSE)>1,IF(VLOOKUP(L367,Materials,3,FALSE)>250,\"OR\",\"RED\"),\"\")))","v":""},{"$f":"IF(A367=\"\",\"\",IFERROR(VLOOKUP(F367,'PDU Circuit'!$B$1:$F$199,IF(VLOOKUP(L367,Materials,3,FALSE)>250,$I$10+3,$I$10+1),FALSE),IF(VLOOKUP(L367,Materials,5,FALSE)>2,IF(VLOOKUP(L367,Materials,3,FALSE)>250,\"YL\",\"BL\"),\"\")))","v":""},null,null,null,"","",null,null,null,null,"",null,"",null,"",null,{"$f":"IF(A367=\"\",\"\",'Voltage Drop'!N354)","v":""},"","",{"$error":"#N/A"},"","GY","G",{"$error":"#N/A"},8,0]
["",null,null,null,null,null,{"$f":"IF(A368=\"\",\"\",IFERROR(VLOOKUP(D368,'PDU Circuit'!$B$1:$F$199,IF(VLOOKUP(L368,Materials,3,FALSE)>250,$I$10+3,$I$10+1),FALSE),IF(VLOOKUP(L368,Materials,4,FALSE)>=1,IF(VLOOKUP(L368,Materials,3,FALSE)>250,\"BR\",\"BK\"))))","v":""},{"$f":"IF(A368=\"\",\"\",IFERROR(VLOOKUP(E368,'PDU Circuit'!$B$1:$F$199,IF(VLOOKUP(L368,Materials,3,FALSE)>250,$I$10+3,$I$10+1),FALSE),IF(VLOOKUP(L368,Materials,5,FALSE)>1,IF(VLOOKUP(L368,Materials,3,FALSE)>250,\"OR\",\"RED\"),\"\")))","v":""},{"$f":"IF(A368=\"\",\"\",IFERROR(VLOOKUP(F368,'PDU Circuit'!$B$1:$F$199,IF(VLOOKUP(L368,Materials,3,FALSE)>250,$I$10+3,$I$10+1),FALSE),IF(VLOOKUP(L368,Materials,5,FALSE)>2,IF(VLOOKUP(L368,Materials,3,FALSE)>250,\"YL\",\"BL\"),\"\")))","v":""},null,null,null,"","",null,null,null,null,"",null,"",null,"",null,{"$f":"IF(A368=\"\",\"\",'Voltage Drop'!N355)","v":""},"","",{"$error":"#N/A"},"","GY","G",{"$error":"#N/A"},8,0]
["",null,null,null,null,null,{"$f":"IF(A369=\"\",\"\",IFERROR(VLOOKUP(D369,'PDU Circuit'!$B$1:$F$199,IF(VLOOKUP(L369,Materials,3,FALSE)>250,$I$10+3,$I$10+1),FALSE),IF(VLOOKUP(L369,Materials,4,FALSE)>=1,IF(VLOOKUP(L369,Materials,3,FALSE)>250,\"BR\",\"BK\"))))","v":""},{"$f":"IF(A369=\"\",\"\",IFERROR(VLOOKUP(E369,'PDU Circuit'!$B$1:$F$199,IF(VLOOKUP(L369,Materials,3,FALSE)>250,$I$10+3,$I$10+1),FALSE),IF(VLOOKUP(L369,Materials,5,FALSE)>1,IF(VLOOKUP(L369,Materials,3,FALSE)>250,\"OR\",\"RED\"),\"\")))","v":""},{"$f":"IF(A369=\"\",\"\",IFERROR(VLOOKUP(F369,'PDU Circuit'!$B$1:$F$199,IF(VLOOKUP(L369,Materials,3,FALSE)>250,$I$10+3,$I$10+1),FALSE),IF(VLOOKUP(L369,Materials,5,FALSE)>2,IF(VLOOKUP(L369,Materials,3,FALSE)>250,\"YL\",\"BL\"),\"\")))","v":""},null,null,null,"","",null,null,null,null,"",null,"",null,"",null,{"$f":"IF(A369=\"\",\"\",'Voltage Drop'!N356)","v":""},"","",{"$error":"#N/A"},"","GY","G",{"$error":"#N/A"},8,0]
["",null,null,null,null,null,{"$f":"IF(A370=\"\",\"\",IFERROR(VLOOKUP(D370,'PDU Circuit'!$B$1:$F$199,IF(VLOOKUP(L370,Materials,3,FALSE)>250,$I$10+3,$I$10+1),FALSE),IF(VLOOKUP(L370,Materials,4,FALSE)>=1,IF(VLOOKUP(L370,Materials,3,FALSE)>250,\"BR\",\"BK\"))))","v":""},{"$f":"IF(A370=\"\",\"\",IFERROR(VLOOKUP(E370,'PDU Circuit'!$B$1:$F$199,IF(VLOOKUP(L370,Materials,3,FALSE)>250,$I$10+3,$I$10+1),FALSE),IF(VLOOKUP(L370,Materials,5,FALSE)>1,IF(VLOOKUP(L370,Materials,3,FALSE)>250,\"OR\",\"RED\"),\"\")))","v":""},{"$f":"IF(A370=\"\",\"\",IFERROR(VLOOKUP(F370,'PDU Circuit'!$B$1:$F$199,IF(VLOOKUP(L370,Materials,3,FALSE)>250,$I$10+3,$I$10+1),FALSE),IF(VLOOKUP(L370,Materials,5,FALSE)>2,IF(VLOOKUP(L370,Materials,3,FALSE)>250,\"YL\",\"BL\"),\"\")))","v":""},null,null,null,"","",null,null,null,null,"",null,"",null,"",null,{"$f":"IF(A370=\"\",\"\",'Voltage Drop'!N357)","v":""},"","",{"$error":"#N/A"},"","GY","G",{"$error":"#N/A"},8,0]
["",null,null,null,null,null,{"$f":"IF(A371=\"\",\"\",IFERROR(VLOOKUP(D371,'PDU Circuit'!$B$1:$F$199,IF(VLOOKUP(L371,Materials,3,FALSE)>250,$I$10+3,$I$10+1),FALSE),IF(VLOOKUP(L371,Materials,4,FALSE)>=1,IF(VLOOKUP(L371,Materials,3,FALSE)>250,\"BR\",\"BK\"))))","v":""},{"$f":"IF(A371=\"\",\"\",IFERROR(VLOOKUP(E371,'PDU Circuit'!$B$1:$F$199,IF(VLOOKUP(L371,Materials,3,FALSE)>250,$I$10+3,$I$10+1),FALSE),IF(VLOOKUP(L371,Materials,5,FALSE)>1,IF(VLOOKUP(L371,Materials,3,FALSE)>250,\"OR\",\"RED\"),\"\")))","v":""},{"$f":"IF(A371=\"\",\"\",IFERROR(VLOOKUP(F371,'PDU Circuit'!$B$1:$F$199,IF(VLOOKUP(L371,Materials,3,FALSE)>250,$I$10+3,$I$10+1),FALSE),IF(VLOOKUP(L371,Materials,5,FALSE)>2,IF(VLOOKUP(L371,Materials,3,FALSE)>250,\"YL\",\"BL\"),\"\")))","v":""},null,null,null,"","",null,null,null,null,"",null,"",null,"",null,{"$f":"IF(A371=\"\",\"\",'Voltage Drop'!N358)","v":""},"","",{"$error":"#N/A"},"","GY","G",{"$error":"#N/A"},8,0]
["",null,null,null,null,null,{"$f":"IF(A372=\"\",\"\",IFERROR(VLOOKUP(D372,'PDU Circuit'!$B$1:$F$199,IF(VLOOKUP(L372,Materials,3,FALSE)>250,$I$10+3,$I$10+1),FALSE),IF(VLOOKUP(L372,Materials,4,FALSE)>=1,IF(VLOOKUP(L372,Materials,3,FALSE)>250,\"BR\",\"BK\"))))","v":""},{"$f":"IF(A372=\"\",\"\",IFERROR(VLOOKUP(E372,'PDU Circuit'!$B$1:$F$199,IF(VLOOKUP(L372,Materials,3,FALSE)>250,$I$10+3,$I$10+1),FALSE),IF(VLOOKUP(L372,Materials,5,FALSE)>1,IF(VLOOKUP(L372,Materials,3,FALSE)>250,\"OR\",\"RED\"),\"\")))","v":""},{"$f":"IF(A372=\"\",\"\",IFERROR(VLOOKUP(F372,'PDU Circuit'!$B$1:$F$199,IF(VLOOKUP(L372,Materials,3,FALSE)>250,$I$10+3,$I$10+1),FALSE),IF(VLOOKUP(L372,Materials,5,FALSE)>2,IF(VLOOKUP(L372,Materials,3,FALSE)>250,\"YL\",\"BL\"),\"\")))","v":""},null,null,null,"","",null,null,null,null,"",null,"",null,"",null,{"$f":"IF(A372=\"\",\"\",'Voltage Drop'!N359)","v":""},"","",{"$error":"#N/A"},"","GY","G",{"$error":"#N/A"},8,0]
["",null,null,null,null,null,{"$f":"IF(A373=\"\",\"\",IFERROR(VLOOKUP(D373,'PDU Circuit'!$B$1:$F$199,IF(VLOOKUP(L373,Materials,3,FALSE)>250,$I$10+3,$I$10+1),FALSE),IF(VLOOKUP(L373,Materials,4,FALSE)>=1,IF(VLOOKUP(L373,Materials,3,FALSE)>250,\"BR\",\"BK\"))))","v":""},{"$f":"IF(A373=\"\",\"\",IFERROR(VLOOKUP(E373,'PDU Circuit'!$B$1:$F$199,IF(VLOOKUP(L373,Materials,3,FALSE)>250,$I$10+3,$I$10+1),FALSE),IF(VLOOKUP(L373,Materials,5,FALSE)>1,IF(VLOOKUP(L373,Materials,3,FALSE)>250,\"OR\",\"RED\"),\"\")))","v":""},{"$f":"IF(A373=\"\",\"\",IFERROR(VLOOKUP(F373,'PDU Circuit'!$B$1:$F$199,IF(VLOOKUP(L373,Materials,3,FALSE)>250,$I$10+3,$I$10+1),FALSE),IF(VLOOKUP(L373,Materials,5,FALSE)>2,IF(VLOOKUP(L373,Materials,3,FALSE)>250,\"YL\",\"BL\"),\"\")))","v":""},null,null,null,"","",null,null,null,null,"",null,"",null,"",null,{"$f":"IF(A373=\"\",\"\",'Voltage Drop'!N360)","v":""},"","",{"$error":"#N/A"},"","GY","G",{"$error":"#N/A"},8,0]
["",null,null,null,null,null,{"$f":"IF(A374=\"\",\"\",IFERROR(VLOOKUP(D374,'PDU Circuit'!$B$1:$F$199,IF(VLOOKUP(L374,Materials,3,FALSE)>250,$I$10+3,$I$10+1),FALSE),IF(VLOOKUP(L374,Materials,4,FALSE)>=1,IF(VLOOKUP(L374,Materials,3,FALSE)>250,\"BR\",\"BK\"))))","v":""},{"$f":"IF(A374=\"\",\"\",IFERROR(VLOOKUP(E374,'PDU Circuit'!$B$1:$F$199,IF(VLOOKUP(L374,Materials,3,FALSE)>250,$I$10+3,$I$10+1),FALSE),IF(VLOOKUP(L374,Materials,5,FALSE)>1,IF(VLOOKUP(L374,Materials,3,FALSE)>250,\"OR\",\"RED\"),\"\")))","v":""},{"$f":"IF(A374=\"\",\"\",IFERROR(VLOOKUP(F374,'PDU Circuit'!$B$1:$F$199,IF(VLOOKUP(L374,Materials,3,FALSE)>250,$I$10+3,$I$10+1),FALSE),IF(VLOOKUP(L374,Materials,5,FALSE)>2,IF(VLOOKUP(L374,Materials,3,FALSE)>250,\"YL\",\"BL\"),\"\")))","v":""},null,null,null,"","",null,null,null,null,"",null,"",null,"",null,{"$f":"IF(A374=\"\",\"\",'Voltage Drop'!N361)","v":""},"","",{"$error":"#N/A"},"","GY","G",{"$error":"#N/A"},8,0]
["",null,null,null,null,null,{"$f":"IF(A375=\"\",\"\",IFERROR(VLOOKUP(D375,'PDU Circuit'!$B$1:$F$199,IF(VLOOKUP(L375,Materials,3,FALSE)>250,$I$10+3,$I$10+1),FALSE),IF(VLOOKUP(L375,Materials,4,FALSE)>=1,IF(VLOOKUP(L375,Materials,3,FALSE)>250,\"BR\",\"BK\"))))","v":""},{"$f":"IF(A375=\"\",\"\",IFERROR(VLOOKUP(E375,'PDU Circuit'!$B$1:$F$199,IF(VLOOKUP(L375,Materials,3,FALSE)>250,$I$10+3,$I$10+1),FALSE),IF(VLOOKUP(L375,Materials,5,FALSE)>1,IF(VLOOKUP(L375,Materials,3,FALSE)>250,\"OR\",\"RED\"),\"\")))","v":""},{"$f":"IF(A375=\"\",\"\",IFERROR(VLOOKUP(F375,'PDU Circuit'!$B$1:$F$199,IF(VLOOKUP(L375,Materials,3,FALSE)>250,$I$10+3,$I$10+1),FALSE),IF(VLOOKUP(L375,Materials,5,FALSE)>2,IF(VLOOKUP(L375,Materials,3,FALSE)>250,\"YL\",\"BL\"),\"\")))","v":""},null,null,null,"","",null,null,null,null,"",null,"",null,"",null,{"$f":"IF(A375=\"\",\"\",'Voltage Drop'!N362)","v":""},"","",{"$error":"#N/A"},"","GY","G",{"$error":"#N/A"},8,0]
["",null,null,null,null,null,{"$f":"IF(A376=\"\",\"\",IFERROR(VLOOKUP(D376,'PDU Circuit'!$B$1:$F$199,IF(VLOOKUP(L376,Materials,3,FALSE)>250,$I$10+3,$I$10+1),FALSE),IF(VLOOKUP(L376,Materials,4,FALSE)>=1,IF(VLOOKUP(L376,Materials,3,FALSE)>250,\"BR\",\"BK\"))))","v":""},{"$f":"IF(A376=\"\",\"\",IFERROR(VLOOKUP(E376,'PDU Circuit'!$B$1:$F$199,IF(VLOOKUP(L376,Materials,3,FALSE)>250,$I$10+3,$I$10+1),FALSE),IF(VLOOKUP(L376,Materials,5,FALSE)>1,IF(VLOOKUP(L376,Materials,3,FALSE)>250,\"OR\",\"RED\"),\"\")))","v":""},{"$f":"IF(A376=\"\",\"\",IFERROR(VLOOKUP(F376,'PDU Circuit'!$B$1:$F$199,IF(VLOOKUP(L376,Materials,3,FALSE)>250,$I$10+3,$I$10+1),FALSE),IF(VLOOKUP(L376,Materials,5,FALSE)>2,IF(VLOOKUP(L376,Materials,3,FALSE)>250,\"YL\",\"BL\"),\"\")))","v":""},null,null,null,"","",null,null,null,null,"",null,"",null,"",null,{"$f":"IF(A376=\"\",\"\",'Voltage Drop'!N363)","v":""},"","",{"$error":"#N/A"},"","GY","G",{"$error":"#N/A"},8,0]
["",null,null,null,null,null,{"$f":"IF(A377=\"\",\"\",IFERROR(VLOOKUP(D377,'PDU Circuit'!$B$1:$F$199,IF(VLOOKUP(L377,Materials,3,FALSE)>250,$I$10+3,$I$10+1),FALSE),IF(VLOOKUP(L377,Materials,4,FALSE)>=1,IF(VLOOKUP(L377,Materials,3,FALSE)>250,\"BR\",\"BK\"))))","v":""},{"$f":"IF(A377=\"\",\"\",IFERROR(VLOOKUP(E377,'PDU Circuit'!$B$1:$F$199,IF(VLOOKUP(L377,Materials,3,FALSE)>250,$I$10+3,$I$10+1),FALSE),IF(VLOOKUP(L377,Materials,5,FALSE)>1,IF(VLOOKUP(L377,Materials,3,FALSE)>250,\"OR\",\"RED\"),\"\")))","v":""},{"$f":"IF(A377=\"\",\"\",IFERROR(VLOOKUP(F377,'PDU Circuit'!$B$1:$F$199,IF(VLOOKUP(L377,Materials,3,FALSE)>250,$I$10+3,$I$10+1),FALSE),IF(VLOOKUP(L377,Materials,5,FALSE)>2,IF(VLOOKUP(L377,Materials,3,FALSE)>250,\"YL\",\"BL\"),\"\")))","v":""},null,null,null,"","",null,null,null,null,"",null,"",null,"",null,{"$f":"IF(A377=\"\",\"\",'Voltage Drop'!N364)","v":""},"","",{"$error":"#N/A"},"","GY","G",{"$error":"#N/A"},8,0]
["",null,null,null,null,null,{"$f":"IF(A378=\"\",\"\",IFERROR(VLOOKUP(D378,'PDU Circuit'!$B$1:$F$199,IF(VLOOKUP(L378,Materials,3,FALSE)>250,$I$10+3,$I$10+1),FALSE),IF(VLOOKUP(L378,Materials,4,FALSE)>=1,IF(VLOOKUP(L378,Materials,3,FALSE)>250,\"BR\",\"BK\"))))","v":""},{"$f":"IF(A378=\"\",\"\",IFERROR(VLOOKUP(E378,'PDU Circuit'!$B$1:$F$199,IF(VLOOKUP(L378,Materials,3,FALSE)>250,$I$10+3,$I$10+1),FALSE),IF(VLOOKUP(L378,Materials,5,FALSE)>1,IF(VLOOKUP(L378,Materials,3,FALSE)>250,\"OR\",\"RED\"),\"\")))","v":""},{"$f":"IF(A378=\"\",\"\",IFERROR(VLOOKUP(F378,'PDU Circuit'!$B$1:$F$199,IF(VLOOKUP(L378,Materials,3,FALSE)>250,$I$10+3,$I$10+1),FALSE),IF(VLOOKUP(L378,Materials,5,FALSE)>2,IF(VLOOKUP(L378,Materials,3,FALSE)>250,\"YL\",\"BL\"),\"\")))","v":""},null,null,null,"","",null,null,null,null,"",null,"",null,"",null,{"$f":"IF(A378=\"\",\"\",'Voltage Drop'!N365)","v":""},"","",{"$error":"#N/A"},"","GY","G",{"$error":"#N/A"},8,0]
["",null,null,null,null,null,{"$f":"IF(A379=\"\",\"\",IFERROR(VLOOKUP(D379,'PDU Circuit'!$B$1:$F$199,IF(VLOOKUP(L379,Materials,3,FALSE)>250,$I$10+3,$I$10+1),FALSE),IF(VLOOKUP(L379,Materials,4,FALSE)>=1,IF(VLOOKUP(L379,Materials,3,FALSE)>250,\"BR\",\"BK\"))))","v":""},{"$f":"IF(A379=\"\",\"\",IFERROR(VLOOKUP(E379,'PDU Circuit'!$B$1:$F$199,IF(VLOOKUP(L379,Materials,3,FALSE)>250,$I$10+3,$I$10+1),FALSE),IF(VLOOKUP(L379,Materials,5,FALSE)>1,IF(VLOOKUP(L379,Materials,3,FALSE)>250,\"OR\",\"RED\"),\"\")))","v":""},{"$f":"IF(A379=\"\",\"\",IFERROR(VLOOKUP(F379,'PDU Circuit'!$B$1:$F$199,IF(VLOOKUP(L379,Materials,3,FALSE)>250,$I$10+3,$I$10+1),FALSE),IF(VLOOKUP(L379,Materials,5,FALSE)>2,IF(VLOOKUP(L379,Materials,3,FALSE)>250,\"YL\",\"BL\"),\"\")))","v":""},null,null,null,"","",null,null,null,null,"",null,"",null,"",null,{"$f":"IF(A379=\"\",\"\",'Voltage Drop'!N366)","v":""},"","",{"$error":"#N/A"},"","GY","G",{"$error":"#N/A"},8,0]
["",null,null,null,null,null,{"$f":"IF(A380=\"\",\"\",IFERROR(VLOOKUP(D380,'PDU Circuit'!$B$1:$F$199,IF(VLOOKUP(L380,Materials,3,FALSE)>250,$I$10+3,$I$10+1),FALSE),IF(VLOOKUP(L380,Materials,4,FALSE)>=1,IF(VLOOKUP(L380,Materials,3,FALSE)>250,\"BR\",\"BK\"))))","v":""},{"$f":"IF(A380=\"\",\"\",IFERROR(VLOOKUP(E380,'PDU Circuit'!$B$1:$F$199,IF(VLOOKUP(L380,Materials,3,FALSE)>250,$I$10+3,$I$10+1),FALSE),IF(VLOOKUP(L380,Materials,5,FALSE)>1,IF(VLOOKUP(L380,Materials,3,FALSE)>250,\"OR\",\"RED\"),\"\")))","v":""},{"$f":"IF(A380=\"\",\"\",IFERROR(VLOOKUP(F380,'PDU Circuit'!$B$1:$F$199,IF(VLOOKUP(L380,Materials,3,FALSE)>250,$I$10+3,$I$10+1),FALSE),IF(VLOOKUP(L380,Materials,5,FALSE)>2,IF(VLOOKUP(L380,Materials,3,FALSE)>250,\"YL\",\"BL\"),\"\")))","v":""},null,null,null,"","",null,null,null,null,"",null,"",null,"",null,{"$f":"IF(A380=\"\",\"\",'Voltage Drop'!N367)","v":""},"","",{"$error":"#N/A"},"","GY","G",{"$error":"#N/A"},8,0]
["",null,null,null,null,null,{"$f":"IF(A381=\"\",\"\",IFERROR(VLOOKUP(D381,'PDU Circuit'!$B$1:$F$199,IF(VLOOKUP(L381,Materials,3,FALSE)>250,$I$10+3,$I$10+1),FALSE),IF(VLOOKUP(L381,Materials,4,FALSE)>=1,IF(VLOOKUP(L381,Materials,3,FALSE)>250,\"BR\",\"BK\"))))","v":""},{"$f":"IF(A381=\"\",\"\",IFERROR(VLOOKUP(E381,'PDU Circuit'!$B$1:$F$199,IF(VLOOKUP(L381,Materials,3,FALSE)>250,$I$10+3,$I$10+1),FALSE),IF(VLOOKUP(L381,Materials,5,FALSE)>1,IF(VLOOKUP(L381,Materials,3,FALSE)>250,\"OR\",\"RED\"),\"\")))","v":""},{"$f":"IF(A381=\"\",\"\",IFERROR(VLOOKUP(F381,'PDU Circuit'!$B$1:$F$199,IF(VLOOKUP(L381,Materials,3,FALSE)>250,$I$10+3,$I$10+1),FALSE),IF(VLOOKUP(L381,Materials,5,FALSE)>2,IF(VLOOKUP(L381,Materials,3,FALSE)>250,\"YL\",\"BL\"),\"\")))","v":""},null,null,null,"","",null,null,null,null,"",null,"",null,"",null,{"$f":"IF(A381=\"\",\"\",'Voltage Drop'!N368)","v":""},"","",{"$error":"#N/A"},"","GY","G",{"$error":"#N/A"},8,0]
["",null,null,null,null,null,{"$f":"IF(A382=\"\",\"\",IFERROR(VLOOKUP(D382,'PDU Circuit'!$B$1:$F$199,IF(VLOOKUP(L382,Materials,3,FALSE)>250,$I$10+3,$I$10+1),FALSE),IF(VLOOKUP(L382,Materials,4,FALSE)>=1,IF(VLOOKUP(L382,Materials,3,FALSE)>250,\"BR\",\"BK\"))))","v":""},{"$f":"IF(A382=\"\",\"\",IFERROR(VLOOKUP(E382,'PDU Circuit'!$B$1:$F$199,IF(VLOOKUP(L382,Materials,3,FALSE)>250,$I$10+3,$I$10+1),FALSE),IF(VLOOKUP(L382,Materials,5,FALSE)>1,IF(VLOOKUP(L382,Materials,3,FALSE)>250,\"OR\",\"RED\"),\"\")))","v":""},{"$f":"IF(A382=\"\",\"\",IFERROR(VLOOKUP(F382,'PDU Circuit'!$B$1:$F$199,IF(VLOOKUP(L382,Materials,3,FALSE)>250,$I$10+3,$I$10+1),FALSE),IF(VLOOKUP(L382,Materials,5,FALSE)>2,IF(VLOOKUP(L382,Materials,3,FALSE)>250,\"YL\",\"BL\"),\"\")))","v":""},null,null,null,"","",null,null,null,null,"",null,"",null,"",null,{"$f":"IF(A382=\"\",\"\",'Voltage Drop'!N369)","v":""},"","",{"$error":"#N/A"},"","GY","G",{"$error":"#N/A"},8,0]
["",null,null,null,null,null,{"$f":"IF(A383=\"\",\"\",IFERROR(VLOOKUP(D383,'PDU Circuit'!$B$1:$F$199,IF(VLOOKUP(L383,Materials,3,FALSE)>250,$I$10+3,$I$10+1),FALSE),IF(VLOOKUP(L383,Materials,4,FALSE)>=1,IF(VLOOKUP(L383,Materials,3,FALSE)>250,\"BR\",\"BK\"))))","v":""},{"$f":"IF(A383=\"\",\"\",IFERROR(VLOOKUP(E383,'PDU Circuit'!$B$1:$F$199,IF(VLOOKUP(L383,Materials,3,FALSE)>250,$I$10+3,$I$10+1),FALSE),IF(VLOOKUP(L383,Materials,5,FALSE)>1,IF(VLOOKUP(L383,Materials,3,FALSE)>250,\"OR\",\"RED\"),\"\")))","v":""},{"$f":"IF(A383=\"\",\"\",IFERROR(VLOOKUP(F383,'PDU Circuit'!$B$1:$F$199,IF(VLOOKUP(L383,Materials,3,FALSE)>250,$I$10+3,$I$10+1),FALSE),IF(VLOOKUP(L383,Materials,5,FALSE)>2,IF(VLOOKUP(L383,Materials,3,FALSE)>250,\"YL\",\"BL\"),\"\")))","v":""},null,null,null,"","",null,null,null,null,"",null,"",null,"",null,{"$f":"IF(A383=\"\",\"\",'Voltage Drop'!N370)","v":""},"","",{"$error":"#N/A"},"","GY","G",{"$error":"#N/A"},8,0]
["",null,null,null,null,null,{"$f":"IF(A384=\"\",\"\",IFERROR(VLOOKUP(D384,'PDU Circuit'!$B$1:$F$199,IF(VLOOKUP(L384,Materials,3,FALSE)>250,$I$10+3,$I$10+1),FALSE),IF(VLOOKUP(L384,Materials,4,FALSE)>=1,IF(VLOOKUP(L384,Materials,3,FALSE)>250,\"BR\",\"BK\"))))","v":""},{"$f":"IF(A384=\"\",\"\",IFERROR(VLOOKUP(E384,'PDU Circuit'!$B$1:$F$199,IF(VLOOKUP(L384,Materials,3,FALSE)>250,$I$10+3,$I$10+1),FALSE),IF(VLOOKUP(L384,Materials,5,FALSE)>1,IF(VLOOKUP(L384,Materials,3,FALSE)>250,\"OR\",\"RED\"),\"\")))","v":""},{"$f":"IF(A384=\"\",\"\",IFERROR(VLOOKUP(F384,'PDU Circuit'!$B$1:$F$199,IF(VLOOKUP(L384,Materials,3,FALSE)>250,$I$10+3,$I$10+1),FALSE),IF(VLOOKUP(L384,Materials,5,FALSE)>2,IF(VLOOKUP(L384,Materials,3,FALSE)>250,\"YL\",\"BL\"),\"\")))","v":""},null,null,null,"","",null,null,null,null,"",null,"",null,"",null,{"$f":"IF(A384=\"\",\"\",'Voltage Drop'!N371)","v":""},"","",{"$error":"#N/A"},"","GY","G",{"$error":"#N/A"},8,0]
["",null,null,null,null,null,{"$f":"IF(A385=\"\",\"\",IFERROR(VLOOKUP(D385,'PDU Circuit'!$B$1:$F$199,IF(VLOOKUP(L385,Materials,3,FALSE)>250,$I$10+3,$I$10+1),FALSE),IF(VLOOKUP(L385,Materials,4,FALSE)>=1,IF(VLOOKUP(L385,Materials,3,FALSE)>250,\"BR\",\"BK\"))))","v":""},{"$f":"IF(A385=\"\",\"\",IFERROR(VLOOKUP(E385,'PDU Circuit'!$B$1:$F$199,IF(VLOOKUP(L385,Materials,3,FALSE)>250,$I$10+3,$I$10+1),FALSE),IF(VLOOKUP(L385,Materials,5,FALSE)>1,IF(VLOOKUP(L385,Materials,3,FALSE)>250,\"OR\",\"RED\"),\"\")))","v":""},{"$f":"IF(A385=\"\",\"\",IFERROR(VLOOKUP(F385,'PDU Circuit'!$B$1:$F$199,IF(VLOOKUP(L385,Materials,3,FALSE)>250,$I$10+3,$I$10+1),FALSE),IF(VLOOKUP(L385,Materials,5,FALSE)>2,IF(VLOOKUP(L385,Materials,3,FALSE)>250,\"YL\",\"BL\"),\"\")))","v":""},null,null,null,"","",null,null,null,null,"",null,"",null,"",null,{"$f":"IF(A385=\"\",\"\",'Voltage Drop'!N372)","v":""},"","",{"$error":"#N/A"},"","GY","G",{"$error":"#N/A"},8,0]
["",null,null,null,null,null,{"$f":"IF(A386=\"\",\"\",IFERROR(VLOOKUP(D386,'PDU Circuit'!$B$1:$F$199,IF(VLOOKUP(L386,Materials,3,FALSE)>250,$I$10+3,$I$10+1),FALSE),IF(VLOOKUP(L386,Materials,4,FALSE)>=1,IF(VLOOKUP(L386,Materials,3,FALSE)>250,\"BR\",\"BK\"))))","v":""},{"$f":"IF(A386=\"\",\"\",IFERROR(VLOOKUP(E386,'PDU Circuit'!$B$1:$F$199,IF(VLOOKUP(L386,Materials,3,FALSE)>250,$I$10+3,$I$10+1),FALSE),IF(VLOOKUP(L386,Materials,5,FALSE)>1,IF(VLOOKUP(L386,Materials,3,FALSE)>250,\"OR\",\"RED\"),\"\")))","v":""},{"$f":"IF(A386=\"\",\"\",IFERROR(VLOOKUP(F386,'PDU Circuit'!$B$1:$F$199,IF(VLOOKUP(L386,Materials,3,FALSE)>250,$I$10+3,$I$10+1),FALSE),IF(VLOOKUP(L386,Materials,5,FALSE)>2,IF(VLOOKUP(L386,Materials,3,FALSE)>250,\"YL\",\"BL\"),\"\")))","v":""},null,null,null,"","",null,null,null,null,"",null,"",null,"",null,{"$f":"IF(A386=\"\",\"\",'Voltage Drop'!N373)","v":""},"","",{"$error":"#N/A"},"","GY","G",{"$error":"#N/A"},8,0]
["",null,null,null,null,null,{"$f":"IF(A387=\"\",\"\",IFERROR(VLOOKUP(D387,'PDU Circuit'!$B$1:$F$199,IF(VLOOKUP(L387,Materials,3,FALSE)>250,$I$10+3,$I$10+1),FALSE),IF(VLOOKUP(L387,Materials,4,FALSE)>=1,IF(VLOOKUP(L387,Materials,3,FALSE)>250,\"BR\",\"BK\"))))","v":""},{"$f":"IF(A387=\"\",\"\",IFERROR(VLOOKUP(E387,'PDU Circuit'!$B$1:$F$199,IF(VLOOKUP(L387,Materials,3,FALSE)>250,$I$10+3,$I$10+1),FALSE),IF(VLOOKUP(L387,Materials,5,FALSE)>1,IF(VLOOKUP(L387,Materials,3,FALSE)>250,\"OR\",\"RED\"),\"\")))","v":""},{"$f":"IF(A387=\"\",\"\",IFERROR(VLOOKUP(F387,'PDU Circuit'!$B$1:$F$199,IF(VLOOKUP(L387,Materials,3,FALSE)>250,$I$10+3,$I$10+1),FALSE),IF(VLOOKUP(L387,Materials,5,FALSE)>2,IF(VLOOKUP(L387,Materials,3,FALSE)>250,\"YL\",\"BL\"),\"\")))","v":""},null,null,null,"","",null,null,null,null,"",null,"",null,"",null,{"$f":"IF(A387=\"\",\"\",'Voltage Drop'!N374)","v":""},"","",{"$error":"#N/A"},"","GY","G",{"$error":"#N/A"},8,0]
["",null,null,null,null,null,{"$f":"IF(A388=\"\",\"\",IFERROR(VLOOKUP(D388,'PDU Circuit'!$B$1:$F$199,IF(VLOOKUP(L388,Materials,3,FALSE)>250,$I$10+3,$I$10+1),FALSE),IF(VLOOKUP(L388,Materials,4,FALSE)>=1,IF(VLOOKUP(L388,Materials,3,FALSE)>250,\"BR\",\"BK\"))))","v":""},{"$f":"IF(A388=\"\",\"\",IFERROR(VLOOKUP(E388,'PDU Circuit'!$B$1:$F$199,IF(VLOOKUP(L388,Materials,3,FALSE)>250,$I$10+3,$I$10+1),FALSE),IF(VLOOKUP(L388,Materials,5,FALSE)>1,IF(VLOOKUP(L388,Materials,3,FALSE)>250,\"OR\",\"RED\"),\"\")))","v":""},{"$f":"IF(A388=\"\",\"\",IFERROR(VLOOKUP(F388,'PDU Circuit'!$B$1:$F$199,IF(VLOOKUP(L388,Materials,3,FALSE)>250,$I$10+3,$I$10+1),FALSE),IF(VLOOKUP(L388,Materials,5,FALSE)>2,IF(VLOOKUP(L388,Materials,3,FALSE)>250,\"YL\",\"BL\"),\"\")))","v":""},null,null,null,"","",null,null,null,null,"",null,"",null,"",null,{"$f":"IF(A388=\"\",\"\",'Voltage Drop'!N375)","v":""},"","",{"$error":"#N/A"},"","GY","G",{"$error":"#N/A"},8,0]
["",null,null,null,null,null,{"$f":"IF(A389=\"\",\"\",IFERROR(VLOOKUP(D389,'PDU Circuit'!$B$1:$F$199,IF(VLOOKUP(L389,Materials,3,FALSE)>250,$I$10+3,$I$10+1),FALSE),IF(VLOOKUP(L389,Materials,4,FALSE)>=1,IF(VLOOKUP(L389,Materials,3,FALSE)>250,\"BR\",\"BK\"))))","v":""},{"$f":"IF(A389=\"\",\"\",IFERROR(VLOOKUP(E389,'PDU Circuit'!$B$1:$F$199,IF(VLOOKUP(L389,Materials,3,FALSE)>250,$I$10+3,$I$10+1),FALSE),IF(VLOOKUP(L389,Materials,5,FALSE)>1,IF(VLOOKUP(L389,Materials,3,FALSE)>250,\"OR\",\"RED\"),\"\")))","v":""},{"$f":"IF(A389=\"\",\"\",IFERROR(VLOOKUP(F389,'PDU Circuit'!$B$1:$F$199,IF(VLOOKUP(L389,Materials,3,FALSE)>250,$I$10+3,$I$10+1),FALSE),IF(VLOOKUP(L389,Materials,5,FALSE)>2,IF(VLOOKUP(L389,Materials,3,FALSE)>250,\"YL\",\"BL\"),\"\")))","v":""},null,null,null,"","",null,null,null,null,"",null,"",null,"",null,{"$f":"IF(A389=\"\",\"\",'Voltage Drop'!N376)","v":""},"","",{"$error":"#N/A"},"","GY","G",{"$error":"#N/A"},8,0]
["",null,null,null,null,null,{"$f":"IF(A390=\"\",\"\",IFERROR(VLOOKUP(D390,'PDU Circuit'!$B$1:$F$199,IF(VLOOKUP(L390,Materials,3,FALSE)>250,$I$10+3,$I$10+1),FALSE),IF(VLOOKUP(L390,Materials,4,FALSE)>=1,IF(VLOOKUP(L390,Materials,3,FALSE)>250,\"BR\",\"BK\"))))","v":""},{"$f":"IF(A390=\"\",\"\",IFERROR(VLOOKUP(E390,'PDU Circuit'!$B$1:$F$199,IF(VLOOKUP(L390,Materials,3,FALSE)>250,$I$10+3,$I$10+1),FALSE),IF(VLOOKUP(L390,Materials,5,FALSE)>1,IF(VLOOKUP(L390,Materials,3,FALSE)>250,\"OR\",\"RED\"),\"\")))","v":""},{"$f":"IF(A390=\"\",\"\",IFERROR(VLOOKUP(F390,'PDU Circuit'!$B$1:$F$199,IF(VLOOKUP(L390,Materials,3,FALSE)>250,$I$10+3,$I$10+1),FALSE),IF(VLOOKUP(L390,Materials,5,FALSE)>2,IF(VLOOKUP(L390,Materials,3,FALSE)>250,\"YL\",\"BL\"),\"\")))","v":""},null,null,null,"","",null,null,null,null,"",null,"",null,"",null,{"$f":"IF(A390=\"\",\"\",'Voltage Drop'!N377)","v":""},"","",{"$error":"#N/A"},"","GY","G",{"$error":"#N/A"},8,0]
["",null,null,null,null,null,{"$f":"IF(A391=\"\",\"\",IFERROR(VLOOKUP(D391,'PDU Circuit'!$B$1:$F$199,IF(VLOOKUP(L391,Materials,3,FALSE)>250,$I$10+3,$I$10+1),FALSE),IF(VLOOKUP(L391,Materials,4,FALSE)>=1,IF(VLOOKUP(L391,Materials,3,FALSE)>250,\"BR\",\"BK\"))))","v":""},{"$f":"IF(A391=\"\",\"\",IFERROR(VLOOKUP(E391,'PDU Circuit'!$B$1:$F$199,IF(VLOOKUP(L391,Materials,3,FALSE)>250,$I$10+3,$I$10+1),FALSE),IF(VLOOKUP(L391,Materials,5,FALSE)>1,IF(VLOOKUP(L391,Materials,3,FALSE)>250,\"OR\",\"RED\"),\"\")))","v":""},{"$f":"IF(A391=\"\",\"\",IFERROR(VLOOKUP(F391,'PDU Circuit'!$B$1:$F$199,IF(VLOOKUP(L391,Materials,3,FALSE)>250,$I$10+3,$I$10+1),FALSE),IF(VLOOKUP(L391,Materials,5,FALSE)>2,IF(VLOOKUP(L391,Materials,3,FALSE)>250,\"YL\",\"BL\"),\"\")))","v":""},null,null,null,"","",null,null,null,null,"",null,"",null,"",null,{"$f":"IF(A391=\"\",\"\",'Voltage Drop'!N378)","v":""},"","",{"$error":"#N/A"},"","GY","G",{"$error":"#N/A"},8,0]
["",null,null,null,null,null,{"$f":"IF(A392=\"\",\"\",IFERROR(VLOOKUP(D392,'PDU Circuit'!$B$1:$F$199,IF(VLOOKUP(L392,Materials,3,FALSE)>250,$I$10+3,$I$10+1),FALSE),IF(VLOOKUP(L392,Materials,4,FALSE)>=1,IF(VLOOKUP(L392,Materials,3,FALSE)>250,\"BR\",\"BK\"))))","v":""},{"$f":"IF(A392=\"\",\"\",IFERROR(VLOOKUP(E392,'PDU Circuit'!$B$1:$F$199,IF(VLOOKUP(L392,Materials,3,FALSE)>250,$I$10+3,$I$10+1),FALSE),IF(VLOOKUP(L392,Materials,5,FALSE)>1,IF(VLOOKUP(L392,Materials,3,FALSE)>250,\"OR\",\"RED\"),\"\")))","v":""},{"$f":"IF(A392=\"\",\"\",IFERROR(VLOOKUP(F392,'PDU Circuit'!$B$1:$F$199,IF(VLOOKUP(L392,Materials,3,FALSE)>250,$I$10+3,$I$10+1),FALSE),IF(VLOOKUP(L392,Materials,5,FALSE)>2,IF(VLOOKUP(L392,Materials,3,FALSE)>250,\"YL\",\"BL\"),\"\")))","v":""},null,null,null,"","",null,null,null,null,"",null,"",null,"",null,{"$f":"IF(A392=\"\",\"\",'Voltage Drop'!N379)","v":""},"","",{"$error":"#N/A"},"","GY","G",{"$error":"#N/A"},8,0]
["",null,null,null,null,null,{"$f":"IF(A393=\"\",\"\",IFERROR(VLOOKUP(D393,'PDU Circuit'!$B$1:$F$199,IF(VLOOKUP(L393,Materials,3,FALSE)>250,$I$10+3,$I$10+1),FALSE),IF(VLOOKUP(L393,Materials,4,FALSE)>=1,IF(VLOOKUP(L393,Materials,3,FALSE)>250,\"BR\",\"BK\"))))","v":""},{"$f":"IF(A393=\"\",\"\",IFERROR(VLOOKUP(E393,'PDU Circuit'!$B$1:$F$199,IF(VLOOKUP(L393,Materials,3,FALSE)>250,$I$10+3,$I$10+1),FALSE),IF(VLOOKUP(L393,Materials,5,FALSE)>1,IF(VLOOKUP(L393,Materials,3,FALSE)>250,\"OR\",\"RED\"),\"\")))","v":""},{"$f":"IF(A393=\"\",\"\",IFERROR(VLOOKUP(F393,'PDU Circuit'!$B$1:$F$199,IF(VLOOKUP(L393,Materials,3,FALSE)>250,$I$10+3,$I$10+1),FALSE),IF(VLOOKUP(L393,Materials,5,FALSE)>2,IF(VLOOKUP(L393,Materials,3,FALSE)>250,\"YL\",\"BL\"),\"\")))","v":""},null,null,null,"","",null,null,null,null,"",null,"",null,"",null,{"$f":"IF(A393=\"\",\"\",'Voltage Drop'!N380)","v":""},"","",{"$error":"#N/A"},"","GY","G",{"$error":"#N/A"},8,0]
["",null,null,null,null,null,{"$f":"IF(A394=\"\",\"\",IFERROR(VLOOKUP(D394,'PDU Circuit'!$B$1:$F$199,IF(VLOOKUP(L394,Materials,3,FALSE)>250,$I$10+3,$I$10+1),FALSE),IF(VLOOKUP(L394,Materials,4,FALSE)>=1,IF(VLOOKUP(L394,Materials,3,FALSE)>250,\"BR\",\"BK\"))))","v":""},{"$f":"IF(A394=\"\",\"\",IFERROR(VLOOKUP(E394,'PDU Circuit'!$B$1:$F$199,IF(VLOOKUP(L394,Materials,3,FALSE)>250,$I$10+3,$I$10+1),FALSE),IF(VLOOKUP(L394,Materials,5,FALSE)>1,IF(VLOOKUP(L394,Materials,3,FALSE)>250,\"OR\",\"RED\"),\"\")))","v":""},{"$f":"IF(A394=\"\",\"\",IFERROR(VLOOKUP(F394,'PDU Circuit'!$B$1:$F$199,IF(VLOOKUP(L394,Materials,3,FALSE)>250,$I$10+3,$I$10+1),FALSE),IF(VLOOKUP(L394,Materials,5,FALSE)>2,IF(VLOOKUP(L394,Materials,3,FALSE)>250,\"YL\",\"BL\"),\"\")))","v":""},null,null,null,"","",null,null,null,null,"",null,"",null,"",null,{"$f":"IF(A394=\"\",\"\",'Voltage Drop'!N381)","v":""},"","",{"$error":"#N/A"},"","GY","G",{"$error":"#N/A"},8,0]
["",null,null,null,null,null,{"$f":"IF(A395=\"\",\"\",IFERROR(VLOOKUP(D395,'PDU Circuit'!$B$1:$F$199,IF(VLOOKUP(L395,Materials,3,FALSE)>250,$I$10+3,$I$10+1),FALSE),IF(VLOOKUP(L395,Materials,4,FALSE)>=1,IF(VLOOKUP(L395,Materials,3,FALSE)>250,\"BR\",\"BK\"))))","v":""},{"$f":"IF(A395=\"\",\"\",IFERROR(VLOOKUP(E395,'PDU Circuit'!$B$1:$F$199,IF(VLOOKUP(L395,Materials,3,FALSE)>250,$I$10+3,$I$10+1),FALSE),IF(VLOOKUP(L395,Materials,5,FALSE)>1,IF(VLOOKUP(L395,Materials,3,FALSE)>250,\"OR\",\"RED\"),\"\")))","v":""},{"$f":"IF(A395=\"\",\"\",IFERROR(VLOOKUP(F395,'PDU Circuit'!$B$1:$F$199,IF(VLOOKUP(L395,Materials,3,FALSE)>250,$I$10+3,$I$10+1),FALSE),IF(VLOOKUP(L395,Materials,5,FALSE)>2,IF(VLOOKUP(L395,Materials,3,FALSE)>250,\"YL\",\"BL\"),\"\")))","v":""},null,null,null,"","",null,null,null,null,"",null,"",null,"",null,{"$f":"IF(A395=\"\",\"\",'Voltage Drop'!N382)","v":""},"","",{"$error":"#N/A"},"","GY","G",{"$error":"#N/A"},8,0]
["",null,null,null,null,null,{"$f":"IF(A396=\"\",\"\",IFERROR(VLOOKUP(D396,'PDU Circuit'!$B$1:$F$199,IF(VLOOKUP(L396,Materials,3,FALSE)>250,$I$10+3,$I$10+1),FALSE),IF(VLOOKUP(L396,Materials,4,FALSE)>=1,IF(VLOOKUP(L396,Materials,3,FALSE)>250,\"BR\",\"BK\"))))","v":""},{"$f":"IF(A396=\"\",\"\",IFERROR(VLOOKUP(E396,'PDU Circuit'!$B$1:$F$199,IF(VLOOKUP(L396,Materials,3,FALSE)>250,$I$10+3,$I$10+1),FALSE),IF(VLOOKUP(L396,Materials,5,FALSE)>1,IF(VLOOKUP(L396,Materials,3,FALSE)>250,\"OR\",\"RED\"),\"\")))","v":""},{"$f":"IF(A396=\"\",\"\",IFERROR(VLOOKUP(F396,'PDU Circuit'!$B$1:$F$199,IF(VLOOKUP(L396,Materials,3,FALSE)>250,$I$10+3,$I$10+1),FALSE),IF(VLOOKUP(L396,Materials,5,FALSE)>2,IF(VLOOKUP(L396,Materials,3,FALSE)>250,\"YL\",\"BL\"),\"\")))","v":""},null,null,null,"","",null,null,null,null,"",null,"",null,"",null,{"$f":"IF(A396=\"\",\"\",'Voltage Drop'!N383)","v":""},"","",{"$error":"#N/A"},"","GY","G",{"$error":"#N/A"},8,0]
["",null,null,null,null,null,{"$f":"IF(A397=\"\",\"\",IFERROR(VLOOKUP(D397,'PDU Circuit'!$B$1:$F$199,IF(VLOOKUP(L397,Materials,3,FALSE)>250,$I$10+3,$I$10+1),FALSE),IF(VLOOKUP(L397,Materials,4,FALSE)>=1,IF(VLOOKUP(L397,Materials,3,FALSE)>250,\"BR\",\"BK\"))))","v":""},{"$f":"IF(A397=\"\",\"\",IFERROR(VLOOKUP(E397,'PDU Circuit'!$B$1:$F$199,IF(VLOOKUP(L397,Materials,3,FALSE)>250,$I$10+3,$I$10+1),FALSE),IF(VLOOKUP(L397,Materials,5,FALSE)>1,IF(VLOOKUP(L397,Materials,3,FALSE)>250,\"OR\",\"RED\"),\"\")))","v":""},{"$f":"IF(A397=\"\",\"\",IFERROR(VLOOKUP(F397,'PDU Circuit'!$B$1:$F$199,IF(VLOOKUP(L397,Materials,3,FALSE)>250,$I$10+3,$I$10+1),FALSE),IF(VLOOKUP(L397,Materials,5,FALSE)>2,IF(VLOOKUP(L397,Materials,3,FALSE)>250,\"YL\",\"BL\"),\"\")))","v":""},null,null,null,"","",null,null,null,null,"",null,"",null,"",null,{"$f":"IF(A397=\"\",\"\",'Voltage Drop'!N384)","v":""},"","",{"$error":"#N/A"},"","GY","G",{"$error":"#N/A"},8,0]
["",null,null,null,null,null,{"$f":"IF(A398=\"\",\"\",IFERROR(VLOOKUP(D398,'PDU Circuit'!$B$1:$F$199,IF(VLOOKUP(L398,Materials,3,FALSE)>250,$I$10+3,$I$10+1),FALSE),IF(VLOOKUP(L398,Materials,4,FALSE)>=1,IF(VLOOKUP(L398,Materials,3,FALSE)>250,\"BR\",\"BK\"))))","v":""},{"$f":"IF(A398=\"\",\"\",IFERROR(VLOOKUP(E398,'PDU Circuit'!$B$1:$F$199,IF(VLOOKUP(L398,Materials,3,FALSE)>250,$I$10+3,$I$10+1),FALSE),IF(VLOOKUP(L398,Materials,5,FALSE)>1,IF(VLOOKUP(L398,Materials,3,FALSE)>250,\"OR\",\"RED\"),\"\")))","v":""},{"$f":"IF(A398=\"\",\"\",IFERROR(VLOOKUP(F398,'PDU Circuit'!$B$1:$F$199,IF(VLOOKUP(L398,Materials,3,FALSE)>250,$I$10+3,$I$10+1),FALSE),IF(VLOOKUP(L398,Materials,5,FALSE)>2,IF(VLOOKUP(L398,Materials,3,FALSE)>250,\"YL\",\"BL\"),\"\")))","v":""},null,null,null,"","",null,null,null,null,"",null,"",null,"",null,{"$f":"IF(A398=\"\",\"\",'Voltage Drop'!N385)","v":""},"","",{"$error":"#N/A"},"","GY","G",{"$error":"#N/A"},8,0]
[{"$f":"IFERROR(IF($I$8>=A398+1,A398+1,\"\"),\"\")","v":""},null,null,null,null,null,{"$f":"IF(A399=\"\",\"\",IFERROR(VLOOKUP(D399,'PDU Circuit'!$B$1:$F$199,IF(VLOOKUP(L399,Materials,3,FALSE)>250,$I$10+3,$I$10+1),FALSE),IF(VLOOKUP(L399,Materials,4,FALSE)>=1,IF(VLOOKUP(L399,Materials,3,FALSE)>250,\"BR\",\"BK\"))))","v":""},{"$f":"IF(A399=\"\",\"\",IFERROR(VLOOKUP(E399,'PDU Circuit'!$B$1:$F$199,IF(VLOOKUP(L399,Materials,3,FALSE)>250,$I$10+3,$I$10+1),FALSE),IF(VLOOKUP(L399,Materials,5,FALSE)>1,IF(VLOOKUP(L399,Materials,3,FALSE)>250,\"OR\",\"RED\"),\"\")))","v":""},{"$f":"IF(A399=\"\",\"\",IFERROR(VLOOKUP(F399,'PDU Circuit'!$B$1:$F$199,IF(VLOOKUP(L399,Materials,3,FALSE)>250,$I$10+3,$I$10+1),FALSE),IF(VLOOKUP(L399,Materials,5,FALSE)>2,IF(VLOOKUP(L399,Materials,3,FALSE)>250,\"YL\",\"BL\"),\"\")))","v":""},null,null,null,"","",null,null,null,null,{"$f":"IFERROR(VLOOKUP($L399,Materials,10,FALSE),\"\")","v":""},null,{"$f":"IFERROR(VLOOKUP($L399,Materials,8,FALSE),\"\")","v":""},null,{"$f":"IFERROR(VLOOKUP($L399,Materials,9,FALSE),\"\")","v":""},null,{"$f":"IF(A399=\"\",\"\",'Voltage Drop'!N386)","v":""},"",{"$f":"IF(A399=\"\",\"\",\"CBL ASSY W/ PIGTAIL\")","v":""},{"$f":"\"CQ\"&VLOOKUP(L399,Materials,2,FALSE)&\"/\"&VLOOKUP(Q399,Breakers,2,FALSE)&\"/\"&O399&\"/\"&VLOOKUP(R399,Colors,2,FALSE)&\"/\"&AF399&AG399&AH399","v":{"$error":"#N/A"}},"","GY","G",{"$error":"#N/A"},8,0]
["",null,null,null,null,null,{"$f":"IF(A400=\"\",\"\",IFERROR(VLOOKUP(D400,'PDU Circuit'!$B$1:$F$199,IF(VLOOKUP(L400,Materials,3,FALSE)>250,$I$10+3,$I$10+1),FALSE),IF(VLOOKUP(L400,Materials,4,FALSE)>=1,IF(VLOOKUP(L400,Materials,3,FALSE)>250,\"BR\",\"BK\"))))","v":""},{"$f":"IF(A400=\"\",\"\",IFERROR(VLOOKUP(E400,'PDU Circuit'!$B$1:$F$199,IF(VLOOKUP(L400,Materials,3,FALSE)>250,$I$10+3,$I$10+1),FALSE),IF(VLOOKUP(L400,Materials,5,FALSE)>1,IF(VLOOKUP(L400,Materials,3,FALSE)>250,\"OR\",\"RED\"),\"\")))","v":""},{"$f":"IF(A400=\"\",\"\",IFERROR(VLOOKUP(F400,'PDU Circuit'!$B$1:$F$199,IF(VLOOKUP(L400,Materials,3,FALSE)>250,$I$10+3,$I$10+1),FALSE),IF(VLOOKUP(L400,Materials,5,FALSE)>2,IF(VLOOKUP(L400,Materials,3,FALSE)>250,\"YL\",\"BL\"),\"\")))","v":""},null,null,null,{"$f":"IFERROR(VLOOKUP(L400,Materials,3,FALSE)&\"V \"&VLOOKUP(L400,Materials,4,FALSE)&\"A\",\"\")","v":""},{"$f":"IFERROR(VLOOKUP(L400,Materials,6,FALSE),\"\")","v":""},null,null,null,null,"",null,"",null,"",null,{"$f":"IF(A400=\"\",\"\",'Voltage Drop'!N387)","v":""},{"$f":"IFERROR(AB400,\"\")","v":""},"",{"$error":"#N/A"},{"$f":"RIGHT(G400,2)","v":""},{"$f":"IF(H400=\"\",IF(G400=\"BK\",\"W\",\"GY\"),RIGHT(H400,2))","v":"GY"},{"$f":"IF(I400=\"\",IF(MID(N400,3,1)>=\"4\",IF(G400=\"BK\",\"W\",\"GY\"),\"G\"),RIGHT(I400,2))","v":"G"},{"$f":"VLOOKUP(AC400,$AI$15:$AJ$23,2,FALSE)","v":{"$error":"#N/A"}},{"$f":"VLOOKUP(AD400,$AI$15:$AJ$23,2,FALSE)","v":8},{"$f":"VLOOKUP(AE400,$AI$15:$AJ$23,2,FALSE)","v":0}]
["",null,null,null,null,null,{"$f":"IF(A401=\"\",\"\",IFERROR(VLOOKUP(D401,'PDU Circuit'!$B$1:$F$199,IF(VLOOKUP(L401,Materials,3,FALSE)>250,$I$10+3,$I$10+1),FALSE),IF(VLOOKUP(L401,Materials,4,FALSE)>=1,IF(VLOOKUP(L401,Materials,3,FALSE)>250,\"BR\",\"BK\"))))","v":""},{"$f":"IF(A401=\"\",\"\",IFERROR(VLOOKUP(E401,'PDU Circuit'!$B$1:$F$199,IF(VLOOKUP(L401,Materials,3,FALSE)>250,$I$10+3,$I$10+1),FALSE),IF(VLOOKUP(L401,Materials,5,FALSE)>1,IF(VLOOKUP(L401,Materials,3,FALSE)>250,\"OR\",\"RED\"),\"\")))","v":""},{"$f":"IF(A401=\"\",\"\",IFERROR(VLOOKUP(F401,'PDU Circuit'!$B$1:$F$199,IF(VLOOKUP(L401,Materials,3,FALSE)>250,$I$10+3,$I$10+1),FALSE),IF(VLOOKUP(L401,Materials,5,FALSE)>2,IF(VLOOKUP(L401,Materials,3,FALSE)>250,\"YL\",\"BL\"),\"\")))","v":""},null,null,null,"","",null,null,null,null,"",null,"",null,"",null,{"$f":"IF(A401=\"\",\"\",'Voltage Drop'!N388)","v":""},"","",{"$error":"#N/A"},"","GY","G",{"$error":"#N/A"},8,0]
["",null,null,null,null,null,{"$f":"IF(A402=\"\",\"\",IFERROR(VLOOKUP(D402,'PDU Circuit'!$B$1:$F$199,IF(VLOOKUP(L402,Materials,3,FALSE)>250,$I$10+3,$I$10+1),FALSE),IF(VLOOKUP(L402,Materials,4,FALSE)>=1,IF(VLOOKUP(L402,Materials,3,FALSE)>250,\"BR\",\"BK\"))))","v":""},{"$f":"IF(A402=\"\",\"\",IFERROR(VLOOKUP(E402,'PDU Circuit'!$B$1:$F$199,IF(VLOOKUP(L402,Materials,3,FALSE)>250,$I$10+3,$I$10+1),FALSE),IF(VLOOKUP(L402,Materials,5,FALSE)>1,IF(VLOOKUP(L402,Materials,3,FALSE)>250,\"OR\",\"RED\"),\"\")))","v":""},{"$f":"IF(A402=\"\",\"\",IFERROR(VLOOKUP(F402,'PDU Circuit'!$B$1:$F$199,IF(VLOOKUP(L402,Materials,3,FALSE)>250,$I$10+3,$I$10+1),FALSE),IF(VLOOKUP(L402,Materials,5,FALSE)>2,IF(VLOOKUP(L402,Materials,3,FALSE)>250,\"YL\",\"BL\"),\"\")))","v":""},null,null,null,"","",null,null,null,null,"",null,"",null,"",null,{"$f":"IF(A402=\"\",\"\",'Voltage Drop'!N389)","v":""},"","",{"$error":"#N/A"},"","GY","G",{"$error":"#N/A"},8,0]
["",null,null,null,null,null,{"$f":"IF(A403=\"\",\"\",IFERROR(VLOOKUP(D403,'PDU Circuit'!$B$1:$F$199,IF(VLOOKUP(L403,Materials,3,FALSE)>250,$I$10+3,$I$10+1),FALSE),IF(VLOOKUP(L403,Materials,4,FALSE)>=1,IF(VLOOKUP(L403,Materials,3,FALSE)>250,\"BR\",\"BK\"))))","v":""},{"$f":"IF(A403=\"\",\"\",IFERROR(VLOOKUP(E403,'PDU Circuit'!$B$1:$F$199,IF(VLOOKUP(L403,Materials,3,FALSE)>250,$I$10+3,$I$10+1),FALSE),IF(VLOOKUP(L403,Materials,5,FALSE)>1,IF(VLOOKUP(L403,Materials,3,FALSE)>250,\"OR\",\"RED\"),\"\")))","v":""},{"$f":"IF(A403=\"\",\"\",IFERROR(VLOOKUP(F403,'PDU Circuit'!$B$1:$F$199,IF(VLOOKUP(L403,Materials,3,FALSE)>250,$I$10+3,$I$10+1),FALSE),IF(VLOOKUP(L403,Materials,5,FALSE)>2,IF(VLOOKUP(L403,Materials,3,FALSE)>250,\"YL\",\"BL\"),\"\")))","v":""},null,null,null,"","",null,null,null,null,"",null,"",null,"",null,{"$f":"IF(A403=\"\",\"\",'Voltage Drop'!N390)","v":""},"","",{"$error":"#N/A"},"","GY","G",{"$error":"#N/A"},8,0]
["",null,null,null,null,null,{"$f":"IF(A404=\"\",\"\",IFERROR(VLOOKUP(D404,'PDU Circuit'!$B$1:$F$199,IF(VLOOKUP(L404,Materials,3,FALSE)>250,$I$10+3,$I$10+1),FALSE),IF(VLOOKUP(L404,Materials,4,FALSE)>=1,IF(VLOOKUP(L404,Materials,3,FALSE)>250,\"BR\",\"BK\"))))","v":""},{"$f":"IF(A404=\"\",\"\",IFERROR(VLOOKUP(E404,'PDU Circuit'!$B$1:$F$199,IF(VLOOKUP(L404,Materials,3,FALSE)>250,$I$10+3,$I$10+1),FALSE),IF(VLOOKUP(L404,Materials,5,FALSE)>1,IF(VLOOKUP(L404,Materials,3,FALSE)>250,\"OR\",\"RED\"),\"\")))","v":""},{"$f":"IF(A404=\"\",\"\",IFERROR(VLOOKUP(F404,'PDU Circuit'!$B$1:$F$199,IF(VLOOKUP(L404,Materials,3,FALSE)>250,$I$10+3,$I$10+1),FALSE),IF(VLOOKUP(L404,Materials,5,FALSE)>2,IF(VLOOKUP(L404,Materials,3,FALSE)>250,\"YL\",\"BL\"),\"\")))","v":""},null,null,null,"","",null,null,null,null,"",null,"",null,"",null,{"$f":"IF(A404=\"\",\"\",'Voltage Drop'!N391)","v":""},"","",{"$error":"#N/A"},"","GY","G",{"$error":"#N/A"},8,0]
["",null,null,null,null,null,{"$f":"IF(A405=\"\",\"\",IFERROR(VLOOKUP(D405,'PDU Circuit'!$B$1:$F$199,IF(VLOOKUP(L405,Materials,3,FALSE)>250,$I$10+3,$I$10+1),FALSE),IF(VLOOKUP(L405,Materials,4,FALSE)>=1,IF(VLOOKUP(L405,Materials,3,FALSE)>250,\"BR\",\"BK\"))))","v":""},{"$f":"IF(A405=\"\",\"\",IFERROR(VLOOKUP(E405,'PDU Circuit'!$B$1:$F$199,IF(VLOOKUP(L405,Materials,3,FALSE)>250,$I$10+3,$I$10+1),FALSE),IF(VLOOKUP(L405,Materials,5,FALSE)>1,IF(VLOOKUP(L405,Materials,3,FALSE)>250,\"OR\",\"RED\"),\"\")))","v":""},{"$f":"IF(A405=\"\",\"\",IFERROR(VLOOKUP(F405,'PDU Circuit'!$B$1:$F$199,IF(VLOOKUP(L405,Materials,3,FALSE)>250,$I$10+3,$I$10+1),FALSE),IF(VLOOKUP(L405,Materials,5,FALSE)>2,IF(VLOOKUP(L405,Materials,3,FALSE)>250,\"YL\",\"BL\"),\"\")))","v":""},null,null,null,"","",null,null,null,null,"",null,"",null,"",null,{"$f":"IF(A405=\"\",\"\",'Voltage Drop'!N392)","v":""},"","",{"$error":"#N/A"},"","GY","G",{"$error":"#N/A"},8,0]
["",null,null,null,null,null,{"$f":"IF(A406=\"\",\"\",IFERROR(VLOOKUP(D406,'PDU Circuit'!$B$1:$F$199,IF(VLOOKUP(L406,Materials,3,FALSE)>250,$I$10+3,$I$10+1),FALSE),IF(VLOOKUP(L406,Materials,4,FALSE)>=1,IF(VLOOKUP(L406,Materials,3,FALSE)>250,\"BR\",\"BK\"))))","v":""},{"$f":"IF(A406=\"\",\"\",IFERROR(VLOOKUP(E406,'PDU Circuit'!$B$1:$F$199,IF(VLOOKUP(L406,Materials,3,FALSE)>250,$I$10+3,$I$10+1),FALSE),IF(VLOOKUP(L406,Materials,5,FALSE)>1,IF(VLOOKUP(L406,Materials,3,FALSE)>250,\"OR\",\"RED\"),\"\")))","v":""},{"$f":"IF(A406=\"\",\"\",IFERROR(VLOOKUP(F406,'PDU Circuit'!$B$1:$F$199,IF(VLOOKUP(L406,Materials,3,FALSE)>250,$I$10+3,$I$10+1),FALSE),IF(VLOOKUP(L406,Materials,5,FALSE)>2,IF(VLOOKUP(L406,Materials,3,FALSE)>250,\"YL\",\"BL\"),\"\")))","v":""},null,null,null,"","",null,null,null,null,"",null,"",null,"",null,{"$f":"IF(A406=\"\",\"\",'Voltage Drop'!N393)","v":""},"","",{"$error":"#N/A"},"","GY","G",{"$error":"#N/A"},8,0]
["",null,null,null,null,null,{"$f":"IF(A407=\"\",\"\",IFERROR(VLOOKUP(D407,'PDU Circuit'!$B$1:$F$199,IF(VLOOKUP(L407,Materials,3,FALSE)>250,$I$10+3,$I$10+1),FALSE),IF(VLOOKUP(L407,Materials,4,FALSE)>=1,IF(VLOOKUP(L407,Materials,3,FALSE)>250,\"BR\",\"BK\"))))","v":""},{"$f":"IF(A407=\"\",\"\",IFERROR(VLOOKUP(E407,'PDU Circuit'!$B$1:$F$199,IF(VLOOKUP(L407,Materials,3,FALSE)>250,$I$10+3,$I$10+1),FALSE),IF(VLOOKUP(L407,Materials,5,FALSE)>1,IF(VLOOKUP(L407,Materials,3,FALSE)>250,\"OR\",\"RED\"),\"\")))","v":""},{"$f":"IF(A407=\"\",\"\",IFERROR(VLOOKUP(F407,'PDU Circuit'!$B$1:$F$199,IF(VLOOKUP(L407,Materials,3,FALSE)>250,$I$10+3,$I$10+1),FALSE),IF(VLOOKUP(L407,Materials,5,FALSE)>2,IF(VLOOKUP(L407,Materials,3,FALSE)>250,\"YL\",\"BL\"),\"\")))","v":""},null,null,null,"","",null,null,null,null,"",null,"",null,"",null,{"$f":"IF(A407=\"\",\"\",'Voltage Drop'!N394)","v":""},"","",{"$error":"#N/A"},"","GY","G",{"$error":"#N/A"},8,0]
["",null,null,null,null,null,{"$f":"IF(A408=\"\",\"\",IFERROR(VLOOKUP(D408,'PDU Circuit'!$B$1:$F$199,IF(VLOOKUP(L408,Materials,3,FALSE)>250,$I$10+3,$I$10+1),FALSE),IF(VLOOKUP(L408,Materials,4,FALSE)>=1,IF(VLOOKUP(L408,Materials,3,FALSE)>250,\"BR\",\"BK\"))))","v":""},{"$f":"IF(A408=\"\",\"\",IFERROR(VLOOKUP(E408,'PDU Circuit'!$B$1:$F$199,IF(VLOOKUP(L408,Materials,3,FALSE)>250,$I$10+3,$I$10+1),FALSE),IF(VLOOKUP(L408,Materials,5,FALSE)>1,IF(VLOOKUP(L408,Materials,3,FALSE)>250,\"OR\",\"RED\"),\"\")))","v":""},{"$f":"IF(A408=\"\",\"\",IFERROR(VLOOKUP(F408,'PDU Circuit'!$B$1:$F$199,IF(VLOOKUP(L408,Materials,3,FALSE)>250,$I$10+3,$I$10+1),FALSE),IF(VLOOKUP(L408,Materials,5,FALSE)>2,IF(VLOOKUP(L408,Materials,3,FALSE)>250,\"YL\",\"BL\"),\"\")))","v":""},null,null,null,"","",null,null,null,null,"",null,"",null,"",null,{"$f":"IF(A408=\"\",\"\",'Voltage Drop'!N395)","v":""},"","",{"$error":"#N/A"},"","GY","G",{"$error":"#N/A"},8,0]
["",null,null,null,null,null,{"$f":"IF(A409=\"\",\"\",IFERROR(VLOOKUP(D409,'PDU Circuit'!$B$1:$F$199,IF(VLOOKUP(L409,Materials,3,FALSE)>250,$I$10+3,$I$10+1),FALSE),IF(VLOOKUP(L409,Materials,4,FALSE)>=1,IF(VLOOKUP(L409,Materials,3,FALSE)>250,\"BR\",\"BK\"))))","v":""},{"$f":"IF(A409=\"\",\"\",IFERROR(VLOOKUP(E409,'PDU Circuit'!$B$1:$F$199,IF(VLOOKUP(L409,Materials,3,FALSE)>250,$I$10+3,$I$10+1),FALSE),IF(VLOOKUP(L409,Materials,5,FALSE)>1,IF(VLOOKUP(L409,Materials,3,FALSE)>250,\"OR\",\"RED\"),\"\")))","v":""},{"$f":"IF(A409=\"\",\"\",IFERROR(VLOOKUP(F409,'PDU Circuit'!$B$1:$F$199,IF(VLOOKUP(L409,Materials,3,FALSE)>250,$I$10+3,$I$10+1),FALSE),IF(VLOOKUP(L409,Materials,5,FALSE)>2,IF(VLOOKUP(L409,Materials,3,FALSE)>250,\"YL\",\"BL\"),\"\")))","v":""},null,null,null,"","",null,null,null,null,"",null,"",null,"",null,{"$f":"IF(A409=\"\",\"\",'Voltage Drop'!N396)","v":""},"","",{"$error":"#N/A"},"","GY","G",{"$error":"#N/A"},8,0]
["",null,null,null,null,null,{"$f":"IF(A410=\"\",\"\",IFERROR(VLOOKUP(D410,'PDU Circuit'!$B$1:$F$199,IF(VLOOKUP(L410,Materials,3,FALSE)>250,$I$10+3,$I$10+1),FALSE),IF(VLOOKUP(L410,Materials,4,FALSE)>=1,IF(VLOOKUP(L410,Materials,3,FALSE)>250,\"BR\",\"BK\"))))","v":""},{"$f":"IF(A410=\"\",\"\",IFERROR(VLOOKUP(E410,'PDU Circuit'!$B$1:$F$199,IF(VLOOKUP(L410,Materials,3,FALSE)>250,$I$10+3,$I$10+1),FALSE),IF(VLOOKUP(L410,Materials,5,FALSE)>1,IF(VLOOKUP(L410,Materials,3,FALSE)>250,\"OR\",\"RED\"),\"\")))","v":""},{"$f":"IF(A410=\"\",\"\",IFERROR(VLOOKUP(F410,'PDU Circuit'!$B$1:$F$199,IF(VLOOKUP(L410,Materials,3,FALSE)>250,$I$10+3,$I$10+1),FALSE),IF(VLOOKUP(L410,Materials,5,FALSE)>2,IF(VLOOKUP(L410,Materials,3,FALSE)>250,\"YL\",\"BL\"),\"\")))","v":""},null,null,null,"","",null,null,null,null,"",null,"",null,"",null,{"$f":"IF(A410=\"\",\"\",'Voltage Drop'!N397)","v":""},"","",{"$error":"#N/A"},"","GY","G",{"$error":"#N/A"},8,0]
["",null,null,null,null,null,{"$f":"IF(A411=\"\",\"\",IFERROR(VLOOKUP(D411,'PDU Circuit'!$B$1:$F$199,IF(VLOOKUP(L411,Materials,3,FALSE)>250,$I$10+3,$I$10+1),FALSE),IF(VLOOKUP(L411,Materials,4,FALSE)>=1,IF(VLOOKUP(L411,Materials,3,FALSE)>250,\"BR\",\"BK\"))))","v":""},{"$f":"IF(A411=\"\",\"\",IFERROR(VLOOKUP(E411,'PDU Circuit'!$B$1:$F$199,IF(VLOOKUP(L411,Materials,3,FALSE)>250,$I$10+3,$I$10+1),FALSE),IF(VLOOKUP(L411,Materials,5,FALSE)>1,IF(VLOOKUP(L411,Materials,3,FALSE)>250,\"OR\",\"RED\"),\"\")))","v":""},{"$f":"IF(A411=\"\",\"\",IFERROR(VLOOKUP(F411,'PDU Circuit'!$B$1:$F$199,IF(VLOOKUP(L411,Materials,3,FALSE)>250,$I$10+3,$I$10+1),FALSE),IF(VLOOKUP(L411,Materials,5,FALSE)>2,IF(VLOOKUP(L411,Materials,3,FALSE)>250,\"YL\",\"BL\"),\"\")))","v":""},null,null,null,"","",null,null,null,null,"",null,"",null,"",null,{"$f":"IF(A411=\"\",\"\",'Voltage Drop'!N398)","v":""},"","",{"$error":"#N/A"},"","GY","G",{"$error":"#N/A"},8,0]
["",null,null,null,null,null,{"$f":"IF(A412=\"\",\"\",IFERROR(VLOOKUP(D412,'PDU Circuit'!$B$1:$F$199,IF(VLOOKUP(L412,Materials,3,FALSE)>250,$I$10+3,$I$10+1),FALSE),IF(VLOOKUP(L412,Materials,4,FALSE)>=1,IF(VLOOKUP(L412,Materials,3,FALSE)>250,\"BR\",\"BK\"))))","v":""},{"$f":"IF(A412=\"\",\"\",IFERROR(VLOOKUP(E412,'PDU Circuit'!$B$1:$F$199,IF(VLOOKUP(L412,Materials,3,FALSE)>250,$I$10+3,$I$10+1),FALSE),IF(VLOOKUP(L412,Materials,5,FALSE)>1,IF(VLOOKUP(L412,Materials,3,FALSE)>250,\"OR\",\"RED\"),\"\")))","v":""},{"$f":"IF(A412=\"\",\"\",IFERROR(VLOOKUP(F412,'PDU Circuit'!$B$1:$F$199,IF(VLOOKUP(L412,Materials,3,FALSE)>250,$I$10+3,$I$10+1),FALSE),IF(VLOOKUP(L412,Materials,5,FALSE)>2,IF(VLOOKUP(L412,Materials,3,FALSE)>250,\"YL\",\"BL\"),\"\")))","v":""},null,null,null,"","",null,null,null,null,"",null,"",null,"",null,{"$f":"IF(A412=\"\",\"\",'Voltage Drop'!N399)","v":""},"","",{"$error":"#N/A"},"","GY","G",{"$error":"#N/A"},8,0]
["",null,null,null,null,null,{"$f":"IF(A413=\"\",\"\",IFERROR(VLOOKUP(D413,'PDU Circuit'!$B$1:$F$199,IF(VLOOKUP(L413,Materials,3,FALSE)>250,$I$10+3,$I$10+1),FALSE),IF(VLOOKUP(L413,Materials,4,FALSE)>=1,IF(VLOOKUP(L413,Materials,3,FALSE)>250,\"BR\",\"BK\"))))","v":""},{"$f":"IF(A413=\"\",\"\",IFERROR(VLOOKUP(E413,'PDU Circuit'!$B$1:$F$199,IF(VLOOKUP(L413,Materials,3,FALSE)>250,$I$10+3,$I$10+1),FALSE),IF(VLOOKUP(L413,Materials,5,FALSE)>1,IF(VLOOKUP(L413,Materials,3,FALSE)>250,\"OR\",\"RED\"),\"\")))","v":""},{"$f":"IF(A413=\"\",\"\",IFERROR(VLOOKUP(F413,'PDU Circuit'!$B$1:$F$199,IF(VLOOKUP(L413,Materials,3,FALSE)>250,$I$10+3,$I$10+1),FALSE),IF(VLOOKUP(L413,Materials,5,FALSE)>2,IF(VLOOKUP(L413,Materials,3,FALSE)>250,\"YL\",\"BL\"),\"\")))","v":""},null,null,null,"","",null,null,null,null,"",null,"",null,"",null,{"$f":"IF(A413=\"\",\"\",'Voltage Drop'!N400)","v":""},"","",{"$error":"#N/A"},"","GY","G",{"$error":"#N/A"},8,0]
["",null,null,null,null,null,{"$f":"IF(A414=\"\",\"\",IFERROR(VLOOKUP(D414,'PDU Circuit'!$B$1:$F$199,IF(VLOOKUP(L414,Materials,3,FALSE)>250,$I$10+3,$I$10+1),FALSE),IF(VLOOKUP(L414,Materials,4,FALSE)>=1,IF(VLOOKUP(L414,Materials,3,FALSE)>250,\"BR\",\"BK\"))))","v":""},{"$f":"IF(A414=\"\",\"\",IFERROR(VLOOKUP(E414,'PDU Circuit'!$B$1:$F$199,IF(VLOOKUP(L414,Materials,3,FALSE)>250,$I$10+3,$I$10+1),FALSE),IF(VLOOKUP(L414,Materials,5,FALSE)>1,IF(VLOOKUP(L414,Materials,3,FALSE)>250,\"OR\",\"RED\"),\"\")))","v":""},{"$f":"IF(A414=\"\",\"\",IFERROR(VLOOKUP(F414,'PDU Circuit'!$B$1:$F$199,IF(VLOOKUP(L414,Materials,3,FALSE)>250,$I$10+3,$I$10+1),FALSE),IF(VLOOKUP(L414,Materials,5,FALSE)>2,IF(VLOOKUP(L414,Materials,3,FALSE)>250,\"YL\",\"BL\"),\"\")))","v":""},null,null,null,"","",null,null,null,null,"",null,"",null,"",null,{"$f":"IF(A414=\"\",\"\",'Voltage Drop'!N401)","v":""},"","",{"$error":"#N/A"},"","GY","G",{"$error":"#N/A"},8,0]
["",null,null,null,null,null,{"$f":"IF(A415=\"\",\"\",IFERROR(VLOOKUP(D415,'PDU Circuit'!$B$1:$F$199,IF(VLOOKUP(L415,Materials,3,FALSE)>250,$I$10+3,$I$10+1),FALSE),IF(VLOOKUP(L415,Materials,4,FALSE)>=1,IF(VLOOKUP(L415,Materials,3,FALSE)>250,\"BR\",\"BK\"))))","v":""},{"$f":"IF(A415=\"\",\"\",IFERROR(VLOOKUP(E415,'PDU Circuit'!$B$1:$F$199,IF(VLOOKUP(L415,Materials,3,FALSE)>250,$I$10+3,$I$10+1),FALSE),IF(VLOOKUP(L415,Materials,5,FALSE)>1,IF(VLOOKUP(L415,Materials,3,FALSE)>250,\"OR\",\"RED\"),\"\")))","v":""},{"$f":"IF(A415=\"\",\"\",IFERROR(VLOOKUP(F415,'PDU Circuit'!$B$1:$F$199,IF(VLOOKUP(L415,Materials,3,FALSE)>250,$I$10+3,$I$10+1),FALSE),IF(VLOOKUP(L415,Materials,5,FALSE)>2,IF(VLOOKUP(L415,Materials,3,FALSE)>250,\"YL\",\"BL\"),\"\")))","v":""},null,null,null,"","",null,null,null,null,"",null,"",null,"",null,{"$f":"IF(A415=\"\",\"\",'Voltage Drop'!N402)","v":""},"","",{"$error":"#N/A"},"","GY","G",{"$error":"#N/A"},8,0]
["",null,null,null,null,null,{"$f":"IF(A416=\"\",\"\",IFERROR(VLOOKUP(D416,'PDU Circuit'!$B$1:$F$199,IF(VLOOKUP(L416,Materials,3,FALSE)>250,$I$10+3,$I$10+1),FALSE),IF(VLOOKUP(L416,Materials,4,FALSE)>=1,IF(VLOOKUP(L416,Materials,3,FALSE)>250,\"BR\",\"BK\"))))","v":""},{"$f":"IF(A416=\"\",\"\",IFERROR(VLOOKUP(E416,'PDU Circuit'!$B$1:$F$199,IF(VLOOKUP(L416,Materials,3,FALSE)>250,$I$10+3,$I$10+1),FALSE),IF(VLOOKUP(L416,Materials,5,FALSE)>1,IF(VLOOKUP(L416,Materials,3,FALSE)>250,\"OR\",\"RED\"),\"\")))","v":""},{"$f":"IF(A416=\"\",\"\",IFERROR(VLOOKUP(F416,'PDU Circuit'!$B$1:$F$199,IF(VLOOKUP(L416,Materials,3,FALSE)>250,$I$10+3,$I$10+1),FALSE),IF(VLOOKUP(L416,Materials,5,FALSE)>2,IF(VLOOKUP(L416,Materials,3,FALSE)>250,\"YL\",\"BL\"),\"\")))","v":""},null,null,null,"","",null,null,null,null,"",null,"",null,"",null,{"$f":"IF(A416=\"\",\"\",'Voltage Drop'!N403)","v":""},"","",{"$error":"#N/A"},"","GY","G",{"$error":"#N/A"},8,0]
["",null,null,null,null,null,{"$f":"IF(A417=\"\",\"\",IFERROR(VLOOKUP(D417,'PDU Circuit'!$B$1:$F$199,IF(VLOOKUP(L417,Materials,3,FALSE)>250,$I$10+3,$I$10+1),FALSE),IF(VLOOKUP(L417,Materials,4,FALSE)>=1,IF(VLOOKUP(L417,Materials,3,FALSE)>250,\"BR\",\"BK\"))))","v":""},{"$f":"IF(A417=\"\",\"\",IFERROR(VLOOKUP(E417,'PDU Circuit'!$B$1:$F$199,IF(VLOOKUP(L417,Materials,3,FALSE)>250,$I$10+3,$I$10+1),FALSE),IF(VLOOKUP(L417,Materials,5,FALSE)>1,IF(VLOOKUP(L417,Materials,3,FALSE)>250,\"OR\",\"RED\"),\"\")))","v":""},{"$f":"IF(A417=\"\",\"\",IFERROR(VLOOKUP(F417,'PDU Circuit'!$B$1:$F$199,IF(VLOOKUP(L417,Materials,3,FALSE)>250,$I$10+3,$I$10+1),FALSE),IF(VLOOKUP(L417,Materials,5,FALSE)>2,IF(VLOOKUP(L417,Materials,3,FALSE)>250,\"YL\",\"BL\"),\"\")))","v":""},null,null,null,"","",null,null,null,null,"",null,"",null,"",null,{"$f":"IF(A417=\"\",\"\",'Voltage Drop'!N404)","v":""},"","",{"$error":"#N/A"},"","GY","G",{"$error":"#N/A"},8,0]
["",null,null,null,null,null,{"$f":"IF(A418=\"\",\"\",IFERROR(VLOOKUP(D418,'PDU Circuit'!$B$1:$F$199,IF(VLOOKUP(L418,Materials,3,FALSE)>250,$I$10+3,$I$10+1),FALSE),IF(VLOOKUP(L418,Materials,4,FALSE)>=1,IF(VLOOKUP(L418,Materials,3,FALSE)>250,\"BR\",\"BK\"))))","v":""},{"$f":"IF(A418=\"\",\"\",IFERROR(VLOOKUP(E418,'PDU Circuit'!$B$1:$F$199,IF(VLOOKUP(L418,Materials,3,FALSE)>250,$I$10+3,$I$10+1),FALSE),IF(VLOOKUP(L418,Materials,5,FALSE)>1,IF(VLOOKUP(L418,Materials,3,FALSE)>250,\"OR\",\"RED\"),\"\")))","v":""},{"$f":"IF(A418=\"\",\"\",IFERROR(VLOOKUP(F418,'PDU Circuit'!$B$1:$F$199,IF(VLOOKUP(L418,Materials,3,FALSE)>250,$I$10+3,$I$10+1),FALSE),IF(VLOOKUP(L418,Materials,5,FALSE)>2,IF(VLOOKUP(L418,Materials,3,FALSE)>250,\"YL\",\"BL\"),\"\")))","v":""},null,null,null,"","",null,null,null,null,"",null,"",null,"",null,{"$f":"IF(A418=\"\",\"\",'Voltage Drop'!N405)","v":""},"","",{"$error":"#N/A"},"","GY","G",{"$error":"#N/A"},8,0]
["",null,null,null,null,null,{"$f":"IF(A419=\"\",\"\",IFERROR(VLOOKUP(D419,'PDU Circuit'!$B$1:$F$199,IF(VLOOKUP(L419,Materials,3,FALSE)>250,$I$10+3,$I$10+1),FALSE),IF(VLOOKUP(L419,Materials,4,FALSE)>=1,IF(VLOOKUP(L419,Materials,3,FALSE)>250,\"BR\",\"BK\"))))","v":""},{"$f":"IF(A419=\"\",\"\",IFERROR(VLOOKUP(E419,'PDU Circuit'!$B$1:$F$199,IF(VLOOKUP(L419,Materials,3,FALSE)>250,$I$10+3,$I$10+1),FALSE),IF(VLOOKUP(L419,Materials,5,FALSE)>1,IF(VLOOKUP(L419,Materials,3,FALSE)>250,\"OR\",\"RED\"),\"\")))","v":""},{"$f":"IF(A419=\"\",\"\",IFERROR(VLOOKUP(F419,'PDU Circuit'!$B$1:$F$199,IF(VLOOKUP(L419,Materials,3,FALSE)>250,$I$10+3,$I$10+1),FALSE),IF(VLOOKUP(L419,Materials,5,FALSE)>2,IF(VLOOKUP(L419,Materials,3,FALSE)>250,\"YL\",\"BL\"),\"\")))","v":""},null,null,null,"","",null,null,null,null,"",null,"",null,"",null,{"$f":"IF(A419=\"\",\"\",'Voltage Drop'!N406)","v":""},"","",{"$error":"#N/A"},"","GY","G",{"$error":"#N/A"},8,0]
["",null,null,null,null,null,{"$f":"IF(A420=\"\",\"\",IFERROR(VLOOKUP(D420,'PDU Circuit'!$B$1:$F$199,IF(VLOOKUP(L420,Materials,3,FALSE)>250,$I$10+3,$I$10+1),FALSE),IF(VLOOKUP(L420,Materials,4,FALSE)>=1,IF(VLOOKUP(L420,Materials,3,FALSE)>250,\"BR\",\"BK\"))))","v":""},{"$f":"IF(A420=\"\",\"\",IFERROR(VLOOKUP(E420,'PDU Circuit'!$B$1:$F$199,IF(VLOOKUP(L420,Materials,3,FALSE)>250,$I$10+3,$I$10+1),FALSE),IF(VLOOKUP(L420,Materials,5,FALSE)>1,IF(VLOOKUP(L420,Materials,3,FALSE)>250,\"OR\",\"RED\"),\"\")))","v":""},{"$f":"IF(A420=\"\",\"\",IFERROR(VLOOKUP(F420,'PDU Circuit'!$B$1:$F$199,IF(VLOOKUP(L420,Materials,3,FALSE)>250,$I$10+3,$I$10+1),FALSE),IF(VLOOKUP(L420,Materials,5,FALSE)>2,IF(VLOOKUP(L420,Materials,3,FALSE)>250,\"YL\",\"BL\"),\"\")))","v":""},null,null,null,"","",null,null,null,null,"",null,"",null,"",null,{"$f":"IF(A420=\"\",\"\",'Voltage Drop'!N407)","v":""},"","",{"$error":"#N/A"},"","GY","G",{"$error":"#N/A"},8,0]
["",null,null,null,null,null,{"$f":"IF(A421=\"\",\"\",IFERROR(VLOOKUP(D421,'PDU Circuit'!$B$1:$F$199,IF(VLOOKUP(L421,Materials,3,FALSE)>250,$I$10+3,$I$10+1),FALSE),IF(VLOOKUP(L421,Materials,4,FALSE)>=1,IF(VLOOKUP(L421,Materials,3,FALSE)>250,\"BR\",\"BK\"))))","v":""},{"$f":"IF(A421=\"\",\"\",IFERROR(VLOOKUP(E421,'PDU Circuit'!$B$1:$F$199,IF(VLOOKUP(L421,Materials,3,FALSE)>250,$I$10+3,$I$10+1),FALSE),IF(VLOOKUP(L421,Materials,5,FALSE)>1,IF(VLOOKUP(L421,Materials,3,FALSE)>250,\"OR\",\"RED\"),\"\")))","v":""},{"$f":"IF(A421=\"\",\"\",IFERROR(VLOOKUP(F421,'PDU Circuit'!$B$1:$F$199,IF(VLOOKUP(L421,Materials,3,FALSE)>250,$I$10+3,$I$10+1),FALSE),IF(VLOOKUP(L421,Materials,5,FALSE)>2,IF(VLOOKUP(L421,Materials,3,FALSE)>250,\"YL\",\"BL\"),\"\")))","v":""},null,null,null,"","",null,null,null,null,"",null,"",null,"",null,{"$f":"IF(A421=\"\",\"\",'Voltage Drop'!N408)","v":""},"","",{"$error":"#N/A"},"","GY","G",{"$error":"#N/A"},8,0]
["",null,null,null,null,null,{"$f":"IF(A422=\"\",\"\",IFERROR(VLOOKUP(D422,'PDU Circuit'!$B$1:$F$199,IF(VLOOKUP(L422,Materials,3,FALSE)>250,$I$10+3,$I$10+1),FALSE),IF(VLOOKUP(L422,Materials,4,FALSE)>=1,IF(VLOOKUP(L422,Materials,3,FALSE)>250,\"BR\",\"BK\"))))","v":""},{"$f":"IF(A422=\"\",\"\",IFERROR(VLOOKUP(E422,'PDU Circuit'!$B$1:$F$199,IF(VLOOKUP(L422,Materials,3,FALSE)>250,$I$10+3,$I$10+1),FALSE),IF(VLOOKUP(L422,Materials,5,FALSE)>1,IF(VLOOKUP(L422,Materials,3,FALSE)>250,\"OR\",\"RED\"),\"\")))","v":""},{"$f":"IF(A422=\"\",\"\",IFERROR(VLOOKUP(F422,'PDU Circuit'!$B$1:$F$199,IF(VLOOKUP(L422,Materials,3,FALSE)>250,$I$10+3,$I$10+1),FALSE),IF(VLOOKUP(L422,Materials,5,FALSE)>2,IF(VLOOKUP(L422,Materials,3,FALSE)>250,\"YL\",\"BL\"),\"\")))","v":""},null,null,null,"","",null,null,null,null,"",null,"",null,"",null,{"$f":"IF(A422=\"\",\"\",'Voltage Drop'!N409)","v":""},"","",{"$error":"#N/A"},"","GY","G",{"$error":"#N/A"},8,0]
["",null,null,null,null,null,{"$f":"IF(A423=\"\",\"\",IFERROR(VLOOKUP(D423,'PDU Circuit'!$B$1:$F$199,IF(VLOOKUP(L423,Materials,3,FALSE)>250,$I$10+3,$I$10+1),FALSE),IF(VLOOKUP(L423,Materials,4,FALSE)>=1,IF(VLOOKUP(L423,Materials,3,FALSE)>250,\"BR\",\"BK\"))))","v":""},{"$f":"IF(A423=\"\",\"\",IFERROR(VLOOKUP(E423,'PDU Circuit'!$B$1:$F$199,IF(VLOOKUP(L423,Materials,3,FALSE)>250,$I$10+3,$I$10+1),FALSE),IF(VLOOKUP(L423,Materials,5,FALSE)>1,IF(VLOOKUP(L423,Materials,3,FALSE)>250,\"OR\",\"RED\"),\"\")))","v":""},{"$f":"IF(A423=\"\",\"\",IFERROR(VLOOKUP(F423,'PDU Circuit'!$B$1:$F$199,IF(VLOOKUP(L423,Materials,3,FALSE)>250,$I$10+3,$I$10+1),FALSE),IF(VLOOKUP(L423,Materials,5,FALSE)>2,IF(VLOOKUP(L423,Materials,3,FALSE)>250,\"YL\",\"BL\"),\"\")))","v":""},null,null,null,"","",null,null,null,null,"",null,"",null,"",null,{"$f":"IF(A423=\"\",\"\",'Voltage Drop'!N410)","v":""},"","",{"$error":"#N/A"},"","GY","G",{"$error":"#N/A"},8,0]
["",null,null,null,null,null,{"$f":"IF(A424=\"\",\"\",IFERROR(VLOOKUP(D424,'PDU Circuit'!$B$1:$F$199,IF(VLOOKUP(L424,Materials,3,FALSE)>250,$I$10+3,$I$10+1),FALSE),IF(VLOOKUP(L424,Materials,4,FALSE)>=1,IF(VLOOKUP(L424,Materials,3,FALSE)>250,\"BR\",\"BK\"))))","v":""},{"$f":"IF(A424=\"\",\"\",IFERROR(VLOOKUP(E424,'PDU Circuit'!$B$1:$F$199,IF(VLOOKUP(L424,Materials,3,FALSE)>250,$I$10+3,$I$10+1),FALSE),IF(VLOOKUP(L424,Materials,5,FALSE)>1,IF(VLOOKUP(L424,Materials,3,FALSE)>250,\"OR\",\"RED\"),\"\")))","v":""},{"$f":"IF(A424=\"\",\"\",IFERROR(VLOOKUP(F424,'PDU Circuit'!$B$1:$F$199,IF(VLOOKUP(L424,Materials,3,FALSE)>250,$I$10+3,$I$10+1),FALSE),IF(VLOOKUP(L424,Materials,5,FALSE)>2,IF(VLOOKUP(L424,Materials,3,FALSE)>250,\"YL\",\"BL\"),\"\")))","v":""},null,null,null,"","",null,null,null,null,"",null,"",null,"",null,{"$f":"IF(A424=\"\",\"\",'Voltage Drop'!N411)","v":""},"","",{"$error":"#N/A"},"","GY","G",{"$error":"#N/A"},8,0]
["",null,null,null,null,null,{"$f":"IF(A425=\"\",\"\",IFERROR(VLOOKUP(D425,'PDU Circuit'!$B$1:$F$199,IF(VLOOKUP(L425,Materials,3,FALSE)>250,$I$10+3,$I$10+1),FALSE),IF(VLOOKUP(L425,Materials,4,FALSE)>=1,IF(VLOOKUP(L425,Materials,3,FALSE)>250,\"BR\",\"BK\"))))","v":""},{"$f":"IF(A425=\"\",\"\",IFERROR(VLOOKUP(E425,'PDU Circuit'!$B$1:$F$199,IF(VLOOKUP(L425,Materials,3,FALSE)>250,$I$10+3,$I$10+1),FALSE),IF(VLOOKUP(L425,Materials,5,FALSE)>1,IF(VLOOKUP(L425,Materials,3,FALSE)>250,\"OR\",\"RED\"),\"\")))","v":""},{"$f":"IF(A425=\"\",\"\",IFERROR(VLOOKUP(F425,'PDU Circuit'!$B$1:$F$199,IF(VLOOKUP(L425,Materials,3,FALSE)>250,$I$10+3,$I$10+1),FALSE),IF(VLOOKUP(L425,Materials,5,FALSE)>2,IF(VLOOKUP(L425,Materials,3,FALSE)>250,\"YL\",\"BL\"),\"\")))","v":""},null,null,null,"","",null,null,null,null,"",null,"",null,"",null,{"$f":"IF(A425=\"\",\"\",'Voltage Drop'!N412)","v":""},"","",{"$error":"#N/A"},"","GY","G",{"$error":"#N/A"},8,0]
["",null,null,null,null,null,{"$f":"IF(A426=\"\",\"\",IFERROR(VLOOKUP(D426,'PDU Circuit'!$B$1:$F$199,IF(VLOOKUP(L426,Materials,3,FALSE)>250,$I$10+3,$I$10+1),FALSE),IF(VLOOKUP(L426,Materials,4,FALSE)>=1,IF(VLOOKUP(L426,Materials,3,FALSE)>250,\"BR\",\"BK\"))))","v":""},{"$f":"IF(A426=\"\",\"\",IFERROR(VLOOKUP(E426,'PDU Circuit'!$B$1:$F$199,IF(VLOOKUP(L426,Materials,3,FALSE)>250,$I$10+3,$I$10+1),FALSE),IF(VLOOKUP(L426,Materials,5,FALSE)>1,IF(VLOOKUP(L426,Materials,3,FALSE)>250,\"OR\",\"RED\"),\"\")))","v":""},{"$f":"IF(A426=\"\",\"\",IFERROR(VLOOKUP(F426,'PDU Circuit'!$B$1:$F$199,IF(VLOOKUP(L426,Materials,3,FALSE)>250,$I$10+3,$I$10+1),FALSE),IF(VLOOKUP(L426,Materials,5,FALSE)>2,IF(VLOOKUP(L426,Materials,3,FALSE)>250,\"YL\",\"BL\"),\"\")))","v":""},null,null,null,"","",null,null,null,null,"",null,"",null,"",null,{"$f":"IF(A426=\"\",\"\",'Voltage Drop'!N413)","v":""},"","",{"$error":"#N/A"},"","GY","G",{"$error":"#N/A"},8,0]
["",null,null,null,null,null,{"$f":"IF(A427=\"\",\"\",IFERROR(VLOOKUP(D427,'PDU Circuit'!$B$1:$F$199,IF(VLOOKUP(L427,Materials,3,FALSE)>250,$I$10+3,$I$10+1),FALSE),IF(VLOOKUP(L427,Materials,4,FALSE)>=1,IF(VLOOKUP(L427,Materials,3,FALSE)>250,\"BR\",\"BK\"))))","v":""},{"$f":"IF(A427=\"\",\"\",IFERROR(VLOOKUP(E427,'PDU Circuit'!$B$1:$F$199,IF(VLOOKUP(L427,Materials,3,FALSE)>250,$I$10+3,$I$10+1),FALSE),IF(VLOOKUP(L427,Materials,5,FALSE)>1,IF(VLOOKUP(L427,Materials,3,FALSE)>250,\"OR\",\"RED\"),\"\")))","v":""},{"$f":"IF(A427=\"\",\"\",IFERROR(VLOOKUP(F427,'PDU Circuit'!$B$1:$F$199,IF(VLOOKUP(L427,Materials,3,FALSE)>250,$I$10+3,$I$10+1),FALSE),IF(VLOOKUP(L427,Materials,5,FALSE)>2,IF(VLOOKUP(L427,Materials,3,FALSE)>250,\"YL\",\"BL\"),\"\")))","v":""},null,null,null,"","",null,null,null,null,"",null,"",null,"",null,{"$f":"IF(A427=\"\",\"\",'Voltage Drop'!N414)","v":""},"","",{"$error":"#N/A"},"","GY","G",{"$error":"#N/A"},8,0]
["",null,null,null,null,null,{"$f":"IF(A428=\"\",\"\",IFERROR(VLOOKUP(D428,'PDU Circuit'!$B$1:$F$199,IF(VLOOKUP(L428,Materials,3,FALSE)>250,$I$10+3,$I$10+1),FALSE),IF(VLOOKUP(L428,Materials,4,FALSE)>=1,IF(VLOOKUP(L428,Materials,3,FALSE)>250,\"BR\",\"BK\"))))","v":""},{"$f":"IF(A428=\"\",\"\",IFERROR(VLOOKUP(E428,'PDU Circuit'!$B$1:$F$199,IF(VLOOKUP(L428,Materials,3,FALSE)>250,$I$10+3,$I$10+1),FALSE),IF(VLOOKUP(L428,Materials,5,FALSE)>1,IF(VLOOKUP(L428,Materials,3,FALSE)>250,\"OR\",\"RED\"),\"\")))","v":""},{"$f":"IF(A428=\"\",\"\",IFERROR(VLOOKUP(F428,'PDU Circuit'!$B$1:$F$199,IF(VLOOKUP(L428,Materials,3,FALSE)>250,$I$10+3,$I$10+1),FALSE),IF(VLOOKUP(L428,Materials,5,FALSE)>2,IF(VLOOKUP(L428,Materials,3,FALSE)>250,\"YL\",\"BL\"),\"\")))","v":""},null,null,null,"","",null,null,null,null,"",null,"",null,"",null,{"$f":"IF(A428=\"\",\"\",'Voltage Drop'!N415)","v":""},"","",{"$error":"#N/A"},"","GY","G",{"$error":"#N/A"},8,0]
["",null,null,null,null,null,{"$f":"IF(A429=\"\",\"\",IFERROR(VLOOKUP(D429,'PDU Circuit'!$B$1:$F$199,IF(VLOOKUP(L429,Materials,3,FALSE)>250,$I$10+3,$I$10+1),FALSE),IF(VLOOKUP(L429,Materials,4,FALSE)>=1,IF(VLOOKUP(L429,Materials,3,FALSE)>250,\"BR\",\"BK\"))))","v":""},{"$f":"IF(A429=\"\",\"\",IFERROR(VLOOKUP(E429,'PDU Circuit'!$B$1:$F$199,IF(VLOOKUP(L429,Materials,3,FALSE)>250,$I$10+3,$I$10+1),FALSE),IF(VLOOKUP(L429,Materials,5,FALSE)>1,IF(VLOOKUP(L429,Materials,3,FALSE)>250,\"OR\",\"RED\"),\"\")))","v":""},{"$f":"IF(A429=\"\",\"\",IFERROR(VLOOKUP(F429,'PDU Circuit'!$B$1:$F$199,IF(VLOOKUP(L429,Materials,3,FALSE)>250,$I$10+3,$I$10+1),FALSE),IF(VLOOKUP(L429,Materials,5,FALSE)>2,IF(VLOOKUP(L429,Materials,3,FALSE)>250,\"YL\",\"BL\"),\"\")))","v":""},null,null,null,"","",null,null,null,null,"",null,"",null,"",null,{"$f":"IF(A429=\"\",\"\",'Voltage Drop'!N416)","v":""},"","",{"$error":"#N/A"},"","GY","G",{"$error":"#N/A"},8,0]
["",null,null,null,null,null,{"$f":"IF(A430=\"\",\"\",IFERROR(VLOOKUP(D430,'PDU Circuit'!$B$1:$F$199,IF(VLOOKUP(L430,Materials,3,FALSE)>250,$I$10+3,$I$10+1),FALSE),IF(VLOOKUP(L430,Materials,4,FALSE)>=1,IF(VLOOKUP(L430,Materials,3,FALSE)>250,\"BR\",\"BK\"))))","v":""},{"$f":"IF(A430=\"\",\"\",IFERROR(VLOOKUP(E430,'PDU Circuit'!$B$1:$F$199,IF(VLOOKUP(L430,Materials,3,FALSE)>250,$I$10+3,$I$10+1),FALSE),IF(VLOOKUP(L430,Materials,5,FALSE)>1,IF(VLOOKUP(L430,Materials,3,FALSE)>250,\"OR\",\"RED\"),\"\")))","v":""},{"$f":"IF(A430=\"\",\"\",IFERROR(VLOOKUP(F430,'PDU Circuit'!$B$1:$F$199,IF(VLOOKUP(L430,Materials,3,FALSE)>250,$I$10+3,$I$10+1),FALSE),IF(VLOOKUP(L430,Materials,5,FALSE)>2,IF(VLOOKUP(L430,Materials,3,FALSE)>250,\"YL\",\"BL\"),\"\")))","v":""},null,null,null,"","",null,null,null,null,"",null,"",null,"",null,{"$f":"IF(A430=\"\",\"\",'Voltage Drop'!N417)","v":""},"","",{"$error":"#N/A"},"","GY","G",{"$error":"#N/A"},8,0]
["",null,null,null,null,null,{"$f":"IF(A431=\"\",\"\",IFERROR(VLOOKUP(D431,'PDU Circuit'!$B$1:$F$199,IF(VLOOKUP(L431,Materials,3,FALSE)>250,$I$10+3,$I$10+1),FALSE),IF(VLOOKUP(L431,Materials,4,FALSE)>=1,IF(VLOOKUP(L431,Materials,3,FALSE)>250,\"BR\",\"BK\"))))","v":""},{"$f":"IF(A431=\"\",\"\",IFERROR(VLOOKUP(E431,'PDU Circuit'!$B$1:$F$199,IF(VLOOKUP(L431,Materials,3,FALSE)>250,$I$10+3,$I$10+1),FALSE),IF(VLOOKUP(L431,Materials,5,FALSE)>1,IF(VLOOKUP(L431,Materials,3,FALSE)>250,\"OR\",\"RED\"),\"\")))","v":""},{"$f":"IF(A431=\"\",\"\",IFERROR(VLOOKUP(F431,'PDU Circuit'!$B$1:$F$199,IF(VLOOKUP(L431,Materials,3,FALSE)>250,$I$10+3,$I$10+1),FALSE),IF(VLOOKUP(L431,Materials,5,FALSE)>2,IF(VLOOKUP(L431,Materials,3,FALSE)>250,\"YL\",\"BL\"),\"\")))","v":""},null,null,null,"","",null,null,null,null,"",null,"",null,"",null,{"$f":"IF(A431=\"\",\"\",'Voltage Drop'!N418)","v":""},"","",{"$error":"#N/A"},"","GY","G",{"$error":"#N/A"},8,0]
["",null,null,null,null,null,{"$f":"IF(A432=\"\",\"\",IFERROR(VLOOKUP(D432,'PDU Circuit'!$B$1:$F$199,IF(VLOOKUP(L432,Materials,3,FALSE)>250,$I$10+3,$I$10+1),FALSE),IF(VLOOKUP(L432,Materials,4,FALSE)>=1,IF(VLOOKUP(L432,Materials,3,FALSE)>250,\"BR\",\"BK\"))))","v":""},{"$f":"IF(A432=\"\",\"\",IFERROR(VLOOKUP(E432,'PDU Circuit'!$B$1:$F$199,IF(VLOOKUP(L432,Materials,3,FALSE)>250,$I$10+3,$I$10+1),FALSE),IF(VLOOKUP(L432,Materials,5,FALSE)>1,IF(VLOOKUP(L432,Materials,3,FALSE)>250,\"OR\",\"RED\"),\"\")))","v":""},{"$f":"IF(A432=\"\",\"\",IFERROR(VLOOKUP(F432,'PDU Circuit'!$B$1:$F$199,IF(VLOOKUP(L432,Materials,3,FALSE)>250,$I$10+3,$I$10+1),FALSE),IF(VLOOKUP(L432,Materials,5,FALSE)>2,IF(VLOOKUP(L432,Materials,3,FALSE)>250,\"YL\",\"BL\"),\"\")))","v":""},null,null,null,"","",null,null,null,null,"",null,"",null,"",null,{"$f":"IF(A432=\"\",\"\",'Voltage Drop'!N419)","v":""},"","",{"$error":"#N/A"},"","GY","G",{"$error":"#N/A"},8,0]
["",null,null,null,null,null,{"$f":"IF(A433=\"\",\"\",IFERROR(VLOOKUP(D433,'PDU Circuit'!$B$1:$F$199,IF(VLOOKUP(L433,Materials,3,FALSE)>250,$I$10+3,$I$10+1),FALSE),IF(VLOOKUP(L433,Materials,4,FALSE)>=1,IF(VLOOKUP(L433,Materials,3,FALSE)>250,\"BR\",\"BK\"))))","v":""},{"$f":"IF(A433=\"\",\"\",IFERROR(VLOOKUP(E433,'PDU Circuit'!$B$1:$F$199,IF(VLOOKUP(L433,Materials,3,FALSE)>250,$I$10+3,$I$10+1),FALSE),IF(VLOOKUP(L433,Materials,5,FALSE)>1,IF(VLOOKUP(L433,Materials,3,FALSE)>250,\"OR\",\"RED\"),\"\")))","v":""},{"$f":"IF(A433=\"\",\"\",IFERROR(VLOOKUP(F433,'PDU Circuit'!$B$1:$F$199,IF(VLOOKUP(L433,Materials,3,FALSE)>250,$I$10+3,$I$10+1),FALSE),IF(VLOOKUP(L433,Materials,5,FALSE)>2,IF(VLOOKUP(L433,Materials,3,FALSE)>250,\"YL\",\"BL\"),\"\")))","v":""},null,null,null,"","",null,null,null,null,"",null,"",null,"",null,{"$f":"IF(A433=\"\",\"\",'Voltage Drop'!N420)","v":""},"","",{"$error":"#N/A"},"","GY","G",{"$error":"#N/A"},8,0]
["",null,null,null,null,null,{"$f":"IF(A434=\"\",\"\",IFERROR(VLOOKUP(D434,'PDU Circuit'!$B$1:$F$199,IF(VLOOKUP(L434,Materials,3,FALSE)>250,$I$10+3,$I$10+1),FALSE),IF(VLOOKUP(L434,Materials,4,FALSE)>=1,IF(VLOOKUP(L434,Materials,3,FALSE)>250,\"BR\",\"BK\"))))","v":""},{"$f":"IF(A434=\"\",\"\",IFERROR(VLOOKUP(E434,'PDU Circuit'!$B$1:$F$199,IF(VLOOKUP(L434,Materials,3,FALSE)>250,$I$10+3,$I$10+1),FALSE),IF(VLOOKUP(L434,Materials,5,FALSE)>1,IF(VLOOKUP(L434,Materials,3,FALSE)>250,\"OR\",\"RED\"),\"\")))","v":""},{"$f":"IF(A434=\"\",\"\",IFERROR(VLOOKUP(F434,'PDU Circuit'!$B$1:$F$199,IF(VLOOKUP(L434,Materials,3,FALSE)>250,$I$10+3,$I$10+1),FALSE),IF(VLOOKUP(L434,Materials,5,FALSE)>2,IF(VLOOKUP(L434,Materials,3,FALSE)>250,\"YL\",\"BL\"),\"\")))","v":""},null,null,null,"","",null,null,null,null,"",null,"",null,"",null,{"$f":"IF(A434=\"\",\"\",'Voltage Drop'!N421)","v":""},"","",{"$error":"#N/A"},"","GY","G",{"$error":"#N/A"},8,0]
["",null,null,null,null,null,{"$f":"IF(A435=\"\",\"\",IFERROR(VLOOKUP(D435,'PDU Circuit'!$B$1:$F$199,IF(VLOOKUP(L435,Materials,3,FALSE)>250,$I$10+3,$I$10+1),FALSE),IF(VLOOKUP(L435,Materials,4,FALSE)>=1,IF(VLOOKUP(L435,Materials,3,FALSE)>250,\"BR\",\"BK\"))))","v":""},{"$f":"IF(A435=\"\",\"\",IFERROR(VLOOKUP(E435,'PDU Circuit'!$B$1:$F$199,IF(VLOOKUP(L435,Materials,3,FALSE)>250,$I$10+3,$I$10+1),FALSE),IF(VLOOKUP(L435,Materials,5,FALSE)>1,IF(VLOOKUP(L435,Materials,3,FALSE)>250,\"OR\",\"RED\"),\"\")))","v":""},{"$f":"IF(A435=\"\",\"\",IFERROR(VLOOKUP(F435,'PDU Circuit'!$B$1:$F$199,IF(VLOOKUP(L435,Materials,3,FALSE)>250,$I$10+3,$I$10+1),FALSE),IF(VLOOKUP(L435,Materials,5,FALSE)>2,IF(VLOOKUP(L435,Materials,3,FALSE)>250,\"YL\",\"BL\"),\"\")))","v":""},null,null,null,"","",null,null,null,null,"",null,"",null,"",null,{"$f":"IF(A435=\"\",\"\",'Voltage Drop'!N422)","v":""},"","",{"$error":"#N/A"},"","GY","G",{"$error":"#N/A"},8,0]
["",null,null,null,null,null,{"$f":"IF(A436=\"\",\"\",IFERROR(VLOOKUP(D436,'PDU Circuit'!$B$1:$F$199,IF(VLOOKUP(L436,Materials,3,FALSE)>250,$I$10+3,$I$10+1),FALSE),IF(VLOOKUP(L436,Materials,4,FALSE)>=1,IF(VLOOKUP(L436,Materials,3,FALSE)>250,\"BR\",\"BK\"))))","v":""},{"$f":"IF(A436=\"\",\"\",IFERROR(VLOOKUP(E436,'PDU Circuit'!$B$1:$F$199,IF(VLOOKUP(L436,Materials,3,FALSE)>250,$I$10+3,$I$10+1),FALSE),IF(VLOOKUP(L436,Materials,5,FALSE)>1,IF(VLOOKUP(L436,Materials,3,FALSE)>250,\"OR\",\"RED\"),\"\")))","v":""},{"$f":"IF(A436=\"\",\"\",IFERROR(VLOOKUP(F436,'PDU Circuit'!$B$1:$F$199,IF(VLOOKUP(L436,Materials,3,FALSE)>250,$I$10+3,$I$10+1),FALSE),IF(VLOOKUP(L436,Materials,5,FALSE)>2,IF(VLOOKUP(L436,Materials,3,FALSE)>250,\"YL\",\"BL\"),\"\")))","v":""},null,null,null,"","",null,null,null,null,"",null,"",null,"",null,{"$f":"IF(A436=\"\",\"\",'Voltage Drop'!N423)","v":""},"","",{"$error":"#N/A"},"","GY","G",{"$error":"#N/A"},8,0]
["",null,null,null,null,null,{"$f":"IF(A437=\"\",\"\",IFERROR(VLOOKUP(D437,'PDU Circuit'!$B$1:$F$199,IF(VLOOKUP(L437,Materials,3,FALSE)>250,$I$10+3,$I$10+1),FALSE),IF(VLOOKUP(L437,Materials,4,FALSE)>=1,IF(VLOOKUP(L437,Materials,3,FALSE)>250,\"BR\",\"BK\"))))","v":""},{"$f":"IF(A437=\"\",\"\",IFERROR(VLOOKUP(E437,'PDU Circuit'!$B$1:$F$199,IF(VLOOKUP(L437,Materials,3,FALSE)>250,$I$10+3,$I$10+1),FALSE),IF(VLOOKUP(L437,Materials,5,FALSE)>1,IF(VLOOKUP(L437,Materials,3,FALSE)>250,\"OR\",\"RED\"),\"\")))","v":""},{"$f":"IF(A437=\"\",\"\",IFERROR(VLOOKUP(F437,'PDU Circuit'!$B$1:$F$199,IF(VLOOKUP(L437,Materials,3,FALSE)>250,$I$10+3,$I$10+1),FALSE),IF(VLOOKUP(L437,Materials,5,FALSE)>2,IF(VLOOKUP(L437,Materials,3,FALSE)>250,\"YL\",\"BL\"),\"\")))","v":""},null,null,null,"","",null,null,null,null,"",null,"",null,"",null,{"$f":"IF(A437=\"\",\"\",'Voltage Drop'!N424)","v":""},"","",{"$error":"#N/A"},"","GY","G",{"$error":"#N/A"},8,0]
["",null,null,null,null,null,{"$f":"IF(A438=\"\",\"\",IFERROR(VLOOKUP(D438,'PDU Circuit'!$B$1:$F$199,IF(VLOOKUP(L438,Materials,3,FALSE)>250,$I$10+3,$I$10+1),FALSE),IF(VLOOKUP(L438,Materials,4,FALSE)>=1,IF(VLOOKUP(L438,Materials,3,FALSE)>250,\"BR\",\"BK\"))))","v":""},{"$f":"IF(A438=\"\",\"\",IFERROR(VLOOKUP(E438,'PDU Circuit'!$B$1:$F$199,IF(VLOOKUP(L438,Materials,3,FALSE)>250,$I$10+3,$I$10+1),FALSE),IF(VLOOKUP(L438,Materials,5,FALSE)>1,IF(VLOOKUP(L438,Materials,3,FALSE)>250,\"OR\",\"RED\"),\"\")))","v":""},{"$f":"IF(A438=\"\",\"\",IFERROR(VLOOKUP(F438,'PDU Circuit'!$B$1:$F$199,IF(VLOOKUP(L438,Materials,3,FALSE)>250,$I$10+3,$I$10+1),FALSE),IF(VLOOKUP(L438,Materials,5,FALSE)>2,IF(VLOOKUP(L438,Materials,3,FALSE)>250,\"YL\",\"BL\"),\"\")))","v":""},null,null,null,"","",null,null,null,null,"",null,"",null,"",null,{"$f":"IF(A438=\"\",\"\",'Voltage Drop'!N425)","v":""},"","",{"$error":"#N/A"},"","GY","G",{"$error":"#N/A"},8,0]
["",null,null,null,null,null,{"$f":"IF(A439=\"\",\"\",IFERROR(VLOOKUP(D439,'PDU Circuit'!$B$1:$F$199,IF(VLOOKUP(L439,Materials,3,FALSE)>250,$I$10+3,$I$10+1),FALSE),IF(VLOOKUP(L439,Materials,4,FALSE)>=1,IF(VLOOKUP(L439,Materials,3,FALSE)>250,\"BR\",\"BK\"))))","v":""},{"$f":"IF(A439=\"\",\"\",IFERROR(VLOOKUP(E439,'PDU Circuit'!$B$1:$F$199,IF(VLOOKUP(L439,Materials,3,FALSE)>250,$I$10+3,$I$10+1),FALSE),IF(VLOOKUP(L439,Materials,5,FALSE)>1,IF(VLOOKUP(L439,Materials,3,FALSE)>250,\"OR\",\"RED\"),\"\")))","v":""},{"$f":"IF(A439=\"\",\"\",IFERROR(VLOOKUP(F439,'PDU Circuit'!$B$1:$F$199,IF(VLOOKUP(L439,Materials,3,FALSE)>250,$I$10+3,$I$10+1),FALSE),IF(VLOOKUP(L439,Materials,5,FALSE)>2,IF(VLOOKUP(L439,Materials,3,FALSE)>250,\"YL\",\"BL\"),\"\")))","v":""},null,null,null,"","",null,null,null,null,"",null,"",null,"",null,{"$f":"IF(A439=\"\",\"\",'Voltage Drop'!N426)","v":""},"","",{"$error":"#N/A"},"","GY","G",{"$error":"#N/A"},8,0]
["",null,null,null,null,null,{"$f":"IF(A440=\"\",\"\",IFERROR(VLOOKUP(D440,'PDU Circuit'!$B$1:$F$199,IF(VLOOKUP(L440,Materials,3,FALSE)>250,$I$10+3,$I$10+1),FALSE),IF(VLOOKUP(L440,Materials,4,FALSE)>=1,IF(VLOOKUP(L440,Materials,3,FALSE)>250,\"BR\",\"BK\"))))","v":""},{"$f":"IF(A440=\"\",\"\",IFERROR(VLOOKUP(E440,'PDU Circuit'!$B$1:$F$199,IF(VLOOKUP(L440,Materials,3,FALSE)>250,$I$10+3,$I$10+1),FALSE),IF(VLOOKUP(L440,Materials,5,FALSE)>1,IF(VLOOKUP(L440,Materials,3,FALSE)>250,\"OR\",\"RED\"),\"\")))","v":""},{"$f":"IF(A440=\"\",\"\",IFERROR(VLOOKUP(F440,'PDU Circuit'!$B$1:$F$199,IF(VLOOKUP(L440,Materials,3,FALSE)>250,$I$10+3,$I$10+1),FALSE),IF(VLOOKUP(L440,Materials,5,FALSE)>2,IF(VLOOKUP(L440,Materials,3,FALSE)>250,\"YL\",\"BL\"),\"\")))","v":""},null,null,null,"","",null,null,null,null,"",null,"",null,"",null,{"$f":"IF(A440=\"\",\"\",'Voltage Drop'!N427)","v":""},"","",{"$error":"#N/A"},"","GY","G",{"$error":"#N/A"},8,0]
["",null,null,null,null,null,{"$f":"IF(A441=\"\",\"\",IFERROR(VLOOKUP(D441,'PDU Circuit'!$B$1:$F$199,IF(VLOOKUP(L441,Materials,3,FALSE)>250,$I$10+3,$I$10+1),FALSE),IF(VLOOKUP(L441,Materials,4,FALSE)>=1,IF(VLOOKUP(L441,Materials,3,FALSE)>250,\"BR\",\"BK\"))))","v":""},{"$f":"IF(A441=\"\",\"\",IFERROR(VLOOKUP(E441,'PDU Circuit'!$B$1:$F$199,IF(VLOOKUP(L441,Materials,3,FALSE)>250,$I$10+3,$I$10+1),FALSE),IF(VLOOKUP(L441,Materials,5,FALSE)>1,IF(VLOOKUP(L441,Materials,3,FALSE)>250,\"OR\",\"RED\"),\"\")))","v":""},{"$f":"IF(A441=\"\",\"\",IFERROR(VLOOKUP(F441,'PDU Circuit'!$B$1:$F$199,IF(VLOOKUP(L441,Materials,3,FALSE)>250,$I$10+3,$I$10+1),FALSE),IF(VLOOKUP(L441,Materials,5,FALSE)>2,IF(VLOOKUP(L441,Materials,3,FALSE)>250,\"YL\",\"BL\"),\"\")))","v":""},null,null,null,"","",null,null,null,null,"",null,"",null,"",null,{"$f":"IF(A441=\"\",\"\",'Voltage Drop'!N428)","v":""},"","",{"$error":"#N/A"},"","GY","G",{"$error":"#N/A"},8,0]
["",null,null,null,null,null,{"$f":"IF(A442=\"\",\"\",IFERROR(VLOOKUP(D442,'PDU Circuit'!$B$1:$F$199,IF(VLOOKUP(L442,Materials,3,FALSE)>250,$I$10+3,$I$10+1),FALSE),IF(VLOOKUP(L442,Materials,4,FALSE)>=1,IF(VLOOKUP(L442,Materials,3,FALSE)>250,\"BR\",\"BK\"))))","v":""},{"$f":"IF(A442=\"\",\"\",IFERROR(VLOOKUP(E442,'PDU Circuit'!$B$1:$F$199,IF(VLOOKUP(L442,Materials,3,FALSE)>250,$I$10+3,$I$10+1),FALSE),IF(VLOOKUP(L442,Materials,5,FALSE)>1,IF(VLOOKUP(L442,Materials,3,FALSE)>250,\"OR\",\"RED\"),\"\")))","v":""},{"$f":"IF(A442=\"\",\"\",IFERROR(VLOOKUP(F442,'PDU Circuit'!$B$1:$F$199,IF(VLOOKUP(L442,Materials,3,FALSE)>250,$I$10+3,$I$10+1),FALSE),IF(VLOOKUP(L442,Materials,5,FALSE)>2,IF(VLOOKUP(L442,Materials,3,FALSE)>250,\"YL\",\"BL\"),\"\")))","v":""},null,null,null,"","",null,null,null,null,"",null,"",null,"",null,{"$f":"IF(A442=\"\",\"\",'Voltage Drop'!N429)","v":""},"","",{"$error":"#N/A"},"","GY","G",{"$error":"#N/A"},8,0]
["",null,null,null,null,null,{"$f":"IF(A443=\"\",\"\",IFERROR(VLOOKUP(D443,'PDU Circuit'!$B$1:$F$199,IF(VLOOKUP(L443,Materials,3,FALSE)>250,$I$10+3,$I$10+1),FALSE),IF(VLOOKUP(L443,Materials,4,FALSE)>=1,IF(VLOOKUP(L443,Materials,3,FALSE)>250,\"BR\",\"BK\"))))","v":""},{"$f":"IF(A443=\"\",\"\",IFERROR(VLOOKUP(E443,'PDU Circuit'!$B$1:$F$199,IF(VLOOKUP(L443,Materials,3,FALSE)>250,$I$10+3,$I$10+1),FALSE),IF(VLOOKUP(L443,Materials,5,FALSE)>1,IF(VLOOKUP(L443,Materials,3,FALSE)>250,\"OR\",\"RED\"),\"\")))","v":""},{"$f":"IF(A443=\"\",\"\",IFERROR(VLOOKUP(F443,'PDU Circuit'!$B$1:$F$199,IF(VLOOKUP(L443,Materials,3,FALSE)>250,$I$10+3,$I$10+1),FALSE),IF(VLOOKUP(L443,Materials,5,FALSE)>2,IF(VLOOKUP(L443,Materials,3,FALSE)>250,\"YL\",\"BL\"),\"\")))","v":""},null,null,null,"","",null,null,null,null,"",null,"",null,"",null,{"$f":"IF(A443=\"\",\"\",'Voltage Drop'!N430)","v":""},"","",{"$error":"#N/A"},"","GY","G",{"$error":"#N/A"},8,0]
["",null,null,null,null,null,{"$f":"IF(A444=\"\",\"\",IFERROR(VLOOKUP(D444,'PDU Circuit'!$B$1:$F$199,IF(VLOOKUP(L444,Materials,3,FALSE)>250,$I$10+3,$I$10+1),FALSE),IF(VLOOKUP(L444,Materials,4,FALSE)>=1,IF(VLOOKUP(L444,Materials,3,FALSE)>250,\"BR\",\"BK\"))))","v":""},{"$f":"IF(A444=\"\",\"\",IFERROR(VLOOKUP(E444,'PDU Circuit'!$B$1:$F$199,IF(VLOOKUP(L444,Materials,3,FALSE)>250,$I$10+3,$I$10+1),FALSE),IF(VLOOKUP(L444,Materials,5,FALSE)>1,IF(VLOOKUP(L444,Materials,3,FALSE)>250,\"OR\",\"RED\"),\"\")))","v":""},{"$f":"IF(A444=\"\",\"\",IFERROR(VLOOKUP(F444,'PDU Circuit'!$B$1:$F$199,IF(VLOOKUP(L444,Materials,3,FALSE)>250,$I$10+3,$I$10+1),FALSE),IF(VLOOKUP(L444,Materials,5,FALSE)>2,IF(VLOOKUP(L444,Materials,3,FALSE)>250,\"YL\",\"BL\"),\"\")))","v":""},null,null,null,"","",null,null,null,null,"",null,"",null,"",null,{"$f":"IF(A444=\"\",\"\",'Voltage Drop'!N431)","v":""},"","",{"$error":"#N/A"},"","GY","G",{"$error":"#N/A"},8,0]
["",null,null,null,null,null,{"$f":"IF(A445=\"\",\"\",IFERROR(VLOOKUP(D445,'PDU Circuit'!$B$1:$F$199,IF(VLOOKUP(L445,Materials,3,FALSE)>250,$I$10+3,$I$10+1),FALSE),IF(VLOOKUP(L445,Materials,4,FALSE)>=1,IF(VLOOKUP(L445,Materials,3,FALSE)>250,\"BR\",\"BK\"))))","v":""},{"$f":"IF(A445=\"\",\"\",IFERROR(VLOOKUP(E445,'PDU Circuit'!$B$1:$F$199,IF(VLOOKUP(L445,Materials,3,FALSE)>250,$I$10+3,$I$10+1),FALSE),IF(VLOOKUP(L445,Materials,5,FALSE)>1,IF(VLOOKUP(L445,Materials,3,FALSE)>250,\"OR\",\"RED\"),\"\")))","v":""},{"$f":"IF(A445=\"\",\"\",IFERROR(VLOOKUP(F445,'PDU Circuit'!$B$1:$F$199,IF(VLOOKUP(L445,Materials,3,FALSE)>250,$I$10+3,$I$10+1),FALSE),IF(VLOOKUP(L445,Materials,5,FALSE)>2,IF(VLOOKUP(L445,Materials,3,FALSE)>250,\"YL\",\"BL\"),\"\")))","v":""},null,null,null,"","",null,null,null,null,"",null,"",null,"",null,{"$f":"IF(A445=\"\",\"\",'Voltage Drop'!N432)","v":""},"","",{"$error":"#N/A"},"","GY","G",{"$error":"#N/A"},8,0]
["",null,null,null,null,null,{"$f":"IF(A446=\"\",\"\",IFERROR(VLOOKUP(D446,'PDU Circuit'!$B$1:$F$199,IF(VLOOKUP(L446,Materials,3,FALSE)>250,$I$10+3,$I$10+1),FALSE),IF(VLOOKUP(L446,Materials,4,FALSE)>=1,IF(VLOOKUP(L446,Materials,3,FALSE)>250,\"BR\",\"BK\"))))","v":""},{"$f":"IF(A446=\"\",\"\",IFERROR(VLOOKUP(E446,'PDU Circuit'!$B$1:$F$199,IF(VLOOKUP(L446,Materials,3,FALSE)>250,$I$10+3,$I$10+1),FALSE),IF(VLOOKUP(L446,Materials,5,FALSE)>1,IF(VLOOKUP(L446,Materials,3,FALSE)>250,\"OR\",\"RED\"),\"\")))","v":""},{"$f":"IF(A446=\"\",\"\",IFERROR(VLOOKUP(F446,'PDU Circuit'!$B$1:$F$199,IF(VLOOKUP(L446,Materials,3,FALSE)>250,$I$10+3,$I$10+1),FALSE),IF(VLOOKUP(L446,Materials,5,FALSE)>2,IF(VLOOKUP(L446,Materials,3,FALSE)>250,\"YL\",\"BL\"),\"\")))","v":""},null,null,null,"","",null,null,null,null,"",null,"",null,"",null,{"$f":"IF(A446=\"\",\"\",'Voltage Drop'!N433)","v":""},"","",{"$error":"#N/A"},"","GY","G",{"$error":"#N/A"},8,0]
["",null,null,null,null,null,{"$f":"IF(A447=\"\",\"\",IFERROR(VLOOKUP(D447,'PDU Circuit'!$B$1:$F$199,IF(VLOOKUP(L447,Materials,3,FALSE)>250,$I$10+3,$I$10+1),FALSE),IF(VLOOKUP(L447,Materials,4,FALSE)>=1,IF(VLOOKUP(L447,Materials,3,FALSE)>250,\"BR\",\"BK\"))))","v":""},{"$f":"IF(A447=\"\",\"\",IFERROR(VLOOKUP(E447,'PDU Circuit'!$B$1:$F$199,IF(VLOOKUP(L447,Materials,3,FALSE)>250,$I$10+3,$I$10+1),FALSE),IF(VLOOKUP(L447,Materials,5,FALSE)>1,IF(VLOOKUP(L447,Materials,3,FALSE)>250,\"OR\",\"RED\"),\"\")))","v":""},{"$f":"IF(A447=\"\",\"\",IFERROR(VLOOKUP(F447,'PDU Circuit'!$B$1:$F$199,IF(VLOOKUP(L447,Materials,3,FALSE)>250,$I$10+3,$I$10+1),FALSE),IF(VLOOKUP(L447,Materials,5,FALSE)>2,IF(VLOOKUP(L447,Materials,3,FALSE)>250,\"YL\",\"BL\"),\"\")))","v":""},null,null,null,"","",null,null,null,null,"",null,"",null,"",null,{"$f":"IF(A447=\"\",\"\",'Voltage Drop'!N434)","v":""},"","",{"$error":"#N/A"},"","GY","G",{"$error":"#N/A"},8,0]
["",null,null,null,null,null,{"$f":"IF(A448=\"\",\"\",IFERROR(VLOOKUP(D448,'PDU Circuit'!$B$1:$F$199,IF(VLOOKUP(L448,Materials,3,FALSE)>250,$I$10+3,$I$10+1),FALSE),IF(VLOOKUP(L448,Materials,4,FALSE)>=1,IF(VLOOKUP(L448,Materials,3,FALSE)>250,\"BR\",\"BK\"))))","v":""},{"$f":"IF(A448=\"\",\"\",IFERROR(VLOOKUP(E448,'PDU Circuit'!$B$1:$F$199,IF(VLOOKUP(L448,Materials,3,FALSE)>250,$I$10+3,$I$10+1),FALSE),IF(VLOOKUP(L448,Materials,5,FALSE)>1,IF(VLOOKUP(L448,Materials,3,FALSE)>250,\"OR\",\"RED\"),\"\")))","v":""},{"$f":"IF(A448=\"\",\"\",IFERROR(VLOOKUP(F448,'PDU Circuit'!$B$1:$F$199,IF(VLOOKUP(L448,Materials,3,FALSE)>250,$I$10+3,$I$10+1),FALSE),IF(VLOOKUP(L448,Materials,5,FALSE)>2,IF(VLOOKUP(L448,Materials,3,FALSE)>250,\"YL\",\"BL\"),\"\")))","v":""},null,null,null,"","",null,null,null,null,"",null,"",null,"",null,{"$f":"IF(A448=\"\",\"\",'Voltage Drop'!N435)","v":""},"","",{"$error":"#N/A"},"","GY","G",{"$error":"#N/A"},8,0]
["",null,null,null,null,null,{"$f":"IF(A449=\"\",\"\",IFERROR(VLOOKUP(D449,'PDU Circuit'!$B$1:$F$199,IF(VLOOKUP(L449,Materials,3,FALSE)>250,$I$10+3,$I$10+1),FALSE),IF(VLOOKUP(L449,Materials,4,FALSE)>=1,IF(VLOOKUP(L449,Materials,3,FALSE)>250,\"BR\",\"BK\"))))","v":""},{"$f":"IF(A449=\"\",\"\",IFERROR(VLOOKUP(E449,'PDU Circuit'!$B$1:$F$199,IF(VLOOKUP(L449,Materials,3,FALSE)>250,$I$10+3,$I$10+1),FALSE),IF(VLOOKUP(L449,Materials,5,FALSE)>1,IF(VLOOKUP(L449,Materials,3,FALSE)>250,\"OR\",\"RED\"),\"\")))","v":""},{"$f":"IF(A449=\"\",\"\",IFERROR(VLOOKUP(F449,'PDU Circuit'!$B$1:$F$199,IF(VLOOKUP(L449,Materials,3,FALSE)>250,$I$10+3,$I$10+1),FALSE),IF(VLOOKUP(L449,Materials,5,FALSE)>2,IF(VLOOKUP(L449,Materials,3,FALSE)>250,\"YL\",\"BL\"),\"\")))","v":""},null,null,null,"","",null,null,null,null,"",null,"",null,"",null,{"$f":"IF(A449=\"\",\"\",'Voltage Drop'!N436)","v":""},"","",{"$error":"#N/A"},"","GY","G",{"$error":"#N/A"},8,0]
["",null,null,null,null,null,{"$f":"IF(A450=\"\",\"\",IFERROR(VLOOKUP(D450,'PDU Circuit'!$B$1:$F$199,IF(VLOOKUP(L450,Materials,3,FALSE)>250,$I$10+3,$I$10+1),FALSE),IF(VLOOKUP(L450,Materials,4,FALSE)>=1,IF(VLOOKUP(L450,Materials,3,FALSE)>250,\"BR\",\"BK\"))))","v":""},{"$f":"IF(A450=\"\",\"\",IFERROR(VLOOKUP(E450,'PDU Circuit'!$B$1:$F$199,IF(VLOOKUP(L450,Materials,3,FALSE)>250,$I$10+3,$I$10+1),FALSE),IF(VLOOKUP(L450,Materials,5,FALSE)>1,IF(VLOOKUP(L450,Materials,3,FALSE)>250,\"OR\",\"RED\"),\"\")))","v":""},{"$f":"IF(A450=\"\",\"\",IFERROR(VLOOKUP(F450,'PDU Circuit'!$B$1:$F$199,IF(VLOOKUP(L450,Materials,3,FALSE)>250,$I$10+3,$I$10+1),FALSE),IF(VLOOKUP(L450,Materials,5,FALSE)>2,IF(VLOOKUP(L450,Materials,3,FALSE)>250,\"YL\",\"BL\"),\"\")))","v":""},null,null,null,"","",null,null,null,null,"",null,"",null,"",null,{"$f":"IF(A450=\"\",\"\",'Voltage Drop'!N437)","v":""},"","",{"$error":"#N/A"},"","GY","G",{"$error":"#N/A"},8,0]
["",null,null,null,null,null,{"$f":"IF(A451=\"\",\"\",IFERROR(VLOOKUP(D451,'PDU Circuit'!$B$1:$F$199,IF(VLOOKUP(L451,Materials,3,FALSE)>250,$I$10+3,$I$10+1),FALSE),IF(VLOOKUP(L451,Materials,4,FALSE)>=1,IF(VLOOKUP(L451,Materials,3,FALSE)>250,\"BR\",\"BK\"))))","v":""},{"$f":"IF(A451=\"\",\"\",IFERROR(VLOOKUP(E451,'PDU Circuit'!$B$1:$F$199,IF(VLOOKUP(L451,Materials,3,FALSE)>250,$I$10+3,$I$10+1),FALSE),IF(VLOOKUP(L451,Materials,5,FALSE)>1,IF(VLOOKUP(L451,Materials,3,FALSE)>250,\"OR\",\"RED\"),\"\")))","v":""},{"$f":"IF(A451=\"\",\"\",IFERROR(VLOOKUP(F451,'PDU Circuit'!$B$1:$F$199,IF(VLOOKUP(L451,Materials,3,FALSE)>250,$I$10+3,$I$10+1),FALSE),IF(VLOOKUP(L451,Materials,5,FALSE)>2,IF(VLOOKUP(L451,Materials,3,FALSE)>250,\"YL\",\"BL\"),\"\")))","v":""},null,null,null,"","",null,null,null,null,"",null,"",null,"",null,{"$f":"IF(A451=\"\",\"\",'Voltage Drop'!N438)","v":""},"","",{"$error":"#N/A"},"","GY","G",{"$error":"#N/A"},8,0]
["",null,null,null,null,null,{"$f":"IF(A452=\"\",\"\",IFERROR(VLOOKUP(D452,'PDU Circuit'!$B$1:$F$199,IF(VLOOKUP(L452,Materials,3,FALSE)>250,$I$10+3,$I$10+1),FALSE),IF(VLOOKUP(L452,Materials,4,FALSE)>=1,IF(VLOOKUP(L452,Materials,3,FALSE)>250,\"BR\",\"BK\"))))","v":""},{"$f":"IF(A452=\"\",\"\",IFERROR(VLOOKUP(E452,'PDU Circuit'!$B$1:$F$199,IF(VLOOKUP(L452,Materials,3,FALSE)>250,$I$10+3,$I$10+1),FALSE),IF(VLOOKUP(L452,Materials,5,FALSE)>1,IF(VLOOKUP(L452,Materials,3,FALSE)>250,\"OR\",\"RED\"),\"\")))","v":""},{"$f":"IF(A452=\"\",\"\",IFERROR(VLOOKUP(F452,'PDU Circuit'!$B$1:$F$199,IF(VLOOKUP(L452,Materials,3,FALSE)>250,$I$10+3,$I$10+1),FALSE),IF(VLOOKUP(L452,Materials,5,FALSE)>2,IF(VLOOKUP(L452,Materials,3,FALSE)>250,\"YL\",\"BL\"),\"\")))","v":""},null,null,null,"","",null,null,null,null,"",null,"",null,"",null,{"$f":"IF(A452=\"\",\"\",'Voltage Drop'!N439)","v":""},"","",{"$error":"#N/A"},"","GY","G",{"$error":"#N/A"},8,0]
["",null,null,null,null,null,{"$f":"IF(A453=\"\",\"\",IFERROR(VLOOKUP(D453,'PDU Circuit'!$B$1:$F$199,IF(VLOOKUP(L453,Materials,3,FALSE)>250,$I$10+3,$I$10+1),FALSE),IF(VLOOKUP(L453,Materials,4,FALSE)>=1,IF(VLOOKUP(L453,Materials,3,FALSE)>250,\"BR\",\"BK\"))))","v":""},{"$f":"IF(A453=\"\",\"\",IFERROR(VLOOKUP(E453,'PDU Circuit'!$B$1:$F$199,IF(VLOOKUP(L453,Materials,3,FALSE)>250,$I$10+3,$I$10+1),FALSE),IF(VLOOKUP(L453,Materials,5,FALSE)>1,IF(VLOOKUP(L453,Materials,3,FALSE)>250,\"OR\",\"RED\"),\"\")))","v":""},{"$f":"IF(A453=\"\",\"\",IFERROR(VLOOKUP(F453,'PDU Circuit'!$B$1:$F$199,IF(VLOOKUP(L453,Materials,3,FALSE)>250,$I$10+3,$I$10+1),FALSE),IF(VLOOKUP(L453,Materials,5,FALSE)>2,IF(VLOOKUP(L453,Materials,3,FALSE)>250,\"YL\",\"BL\"),\"\")))","v":""},null,null,null,"","",null,null,null,null,"",null,"",null,"",null,{"$f":"IF(A453=\"\",\"\",'Voltage Drop'!N440)","v":""},"","",{"$error":"#N/A"},"","GY","G",{"$error":"#N/A"},8,0]
["",null,null,null,null,null,{"$f":"IF(A454=\"\",\"\",IFERROR(VLOOKUP(D454,'PDU Circuit'!$B$1:$F$199,IF(VLOOKUP(L454,Materials,3,FALSE)>250,$I$10+3,$I$10+1),FALSE),IF(VLOOKUP(L454,Materials,4,FALSE)>=1,IF(VLOOKUP(L454,Materials,3,FALSE)>250,\"BR\",\"BK\"))))","v":""},{"$f":"IF(A454=\"\",\"\",IFERROR(VLOOKUP(E454,'PDU Circuit'!$B$1:$F$199,IF(VLOOKUP(L454,Materials,3,FALSE)>250,$I$10+3,$I$10+1),FALSE),IF(VLOOKUP(L454,Materials,5,FALSE)>1,IF(VLOOKUP(L454,Materials,3,FALSE)>250,\"OR\",\"RED\"),\"\")))","v":""},{"$f":"IF(A454=\"\",\"\",IFERROR(VLOOKUP(F454,'PDU Circuit'!$B$1:$F$199,IF(VLOOKUP(L454,Materials,3,FALSE)>250,$I$10+3,$I$10+1),FALSE),IF(VLOOKUP(L454,Materials,5,FALSE)>2,IF(VLOOKUP(L454,Materials,3,FALSE)>250,\"YL\",\"BL\"),\"\")))","v":""},null,null,null,"","",null,null,null,null,"",null,"",null,"",null,{"$f":"IF(A454=\"\",\"\",'Voltage Drop'!N441)","v":""},"","",{"$error":"#N/A"},"","GY","G",{"$error":"#N/A"},8,0]
["",null,null,null,null,null,{"$f":"IF(A455=\"\",\"\",IFERROR(VLOOKUP(D455,'PDU Circuit'!$B$1:$F$199,IF(VLOOKUP(L455,Materials,3,FALSE)>250,$I$10+3,$I$10+1),FALSE),IF(VLOOKUP(L455,Materials,4,FALSE)>=1,IF(VLOOKUP(L455,Materials,3,FALSE)>250,\"BR\",\"BK\"))))","v":""},{"$f":"IF(A455=\"\",\"\",IFERROR(VLOOKUP(E455,'PDU Circuit'!$B$1:$F$199,IF(VLOOKUP(L455,Materials,3,FALSE)>250,$I$10+3,$I$10+1),FALSE),IF(VLOOKUP(L455,Materials,5,FALSE)>1,IF(VLOOKUP(L455,Materials,3,FALSE)>250,\"OR\",\"RED\"),\"\")))","v":""},{"$f":"IF(A455=\"\",\"\",IFERROR(VLOOKUP(F455,'PDU Circuit'!$B$1:$F$199,IF(VLOOKUP(L455,Materials,3,FALSE)>250,$I$10+3,$I$10+1),FALSE),IF(VLOOKUP(L455,Materials,5,FALSE)>2,IF(VLOOKUP(L455,Materials,3,FALSE)>250,\"YL\",\"BL\"),\"\")))","v":""},null,null,null,"","",null,null,null,null,"",null,"",null,"",null,{"$f":"IF(A455=\"\",\"\",'Voltage Drop'!N442)","v":""},"","",{"$error":"#N/A"},"","GY","G",{"$error":"#N/A"},8,0]
["",null,null,null,null,null,{"$f":"IF(A456=\"\",\"\",IFERROR(VLOOKUP(D456,'PDU Circuit'!$B$1:$F$199,IF(VLOOKUP(L456,Materials,3,FALSE)>250,$I$10+3,$I$10+1),FALSE),IF(VLOOKUP(L456,Materials,4,FALSE)>=1,IF(VLOOKUP(L456,Materials,3,FALSE)>250,\"BR\",\"BK\"))))","v":""},{"$f":"IF(A456=\"\",\"\",IFERROR(VLOOKUP(E456,'PDU Circuit'!$B$1:$F$199,IF(VLOOKUP(L456,Materials,3,FALSE)>250,$I$10+3,$I$10+1),FALSE),IF(VLOOKUP(L456,Materials,5,FALSE)>1,IF(VLOOKUP(L456,Materials,3,FALSE)>250,\"OR\",\"RED\"),\"\")))","v":""},{"$f":"IF(A456=\"\",\"\",IFERROR(VLOOKUP(F456,'PDU Circuit'!$B$1:$F$199,IF(VLOOKUP(L456,Materials,3,FALSE)>250,$I$10+3,$I$10+1),FALSE),IF(VLOOKUP(L456,Materials,5,FALSE)>2,IF(VLOOKUP(L456,Materials,3,FALSE)>250,\"YL\",\"BL\"),\"\")))","v":""},null,null,null,"","",null,null,null,null,"",null,"",null,"",null,{"$f":"IF(A456=\"\",\"\",'Voltage Drop'!N443)","v":""},"","",{"$error":"#N/A"},"","GY","G",{"$error":"#N/A"},8,0]
["",null,null,null,null,null,{"$f":"IF(A457=\"\",\"\",IFERROR(VLOOKUP(D457,'PDU Circuit'!$B$1:$F$199,IF(VLOOKUP(L457,Materials,3,FALSE)>250,$I$10+3,$I$10+1),FALSE),IF(VLOOKUP(L457,Materials,4,FALSE)>=1,IF(VLOOKUP(L457,Materials,3,FALSE)>250,\"BR\",\"BK\"))))","v":""},{"$f":"IF(A457=\"\",\"\",IFERROR(VLOOKUP(E457,'PDU Circuit'!$B$1:$F$199,IF(VLOOKUP(L457,Materials,3,FALSE)>250,$I$10+3,$I$10+1),FALSE),IF(VLOOKUP(L457,Materials,5,FALSE)>1,IF(VLOOKUP(L457,Materials,3,FALSE)>250,\"OR\",\"RED\"),\"\")))","v":""},{"$f":"IF(A457=\"\",\"\",IFERROR(VLOOKUP(F457,'PDU Circuit'!$B$1:$F$199,IF(VLOOKUP(L457,Materials,3,FALSE)>250,$I$10+3,$I$10+1),FALSE),IF(VLOOKUP(L457,Materials,5,FALSE)>2,IF(VLOOKUP(L457,Materials,3,FALSE)>250,\"YL\",\"BL\"),\"\")))","v":""},null,null,null,"","",null,null,null,null,"",null,"",null,"",null,{"$f":"IF(A457=\"\",\"\",'Voltage Drop'!N444)","v":""},"","",{"$error":"#N/A"},"","GY","G",{"$error":"#N/A"},8,0]
["",null,null,null,null,null,{"$f":"IF(A458=\"\",\"\",IFERROR(VLOOKUP(D458,'PDU Circuit'!$B$1:$F$199,IF(VLOOKUP(L458,Materials,3,FALSE)>250,$I$10+3,$I$10+1),FALSE),IF(VLOOKUP(L458,Materials,4,FALSE)>=1,IF(VLOOKUP(L458,Materials,3,FALSE)>250,\"BR\",\"BK\"))))","v":""},{"$f":"IF(A458=\"\",\"\",IFERROR(VLOOKUP(E458,'PDU Circuit'!$B$1:$F$199,IF(VLOOKUP(L458,Materials,3,FALSE)>250,$I$10+3,$I$10+1),FALSE),IF(VLOOKUP(L458,Materials,5,FALSE)>1,IF(VLOOKUP(L458,Materials,3,FALSE)>250,\"OR\",\"RED\"),\"\")))","v":""},{"$f":"IF(A458=\"\",\"\",IFERROR(VLOOKUP(F458,'PDU Circuit'!$B$1:$F$199,IF(VLOOKUP(L458,Materials,3,FALSE)>250,$I$10+3,$I$10+1),FALSE),IF(VLOOKUP(L458,Materials,5,FALSE)>2,IF(VLOOKUP(L458,Materials,3,FALSE)>250,\"YL\",\"BL\"),\"\")))","v":""},null,null,null,"","",null,null,null,null,"",null,"",null,"",null,{"$f":"IF(A458=\"\",\"\",'Voltage Drop'!N445)","v":""},"","",{"$error":"#N/A"},"","GY","G",{"$error":"#N/A"},8,0]
["",null,null,null,null,null,{"$f":"IF(A459=\"\",\"\",IFERROR(VLOOKUP(D459,'PDU Circuit'!$B$1:$F$199,IF(VLOOKUP(L459,Materials,3,FALSE)>250,$I$10+3,$I$10+1),FALSE),IF(VLOOKUP(L459,Materials,4,FALSE)>=1,IF(VLOOKUP(L459,Materials,3,FALSE)>250,\"BR\",\"BK\"))))","v":""},{"$f":"IF(A459=\"\",\"\",IFERROR(VLOOKUP(E459,'PDU Circuit'!$B$1:$F$199,IF(VLOOKUP(L459,Materials,3,FALSE)>250,$I$10+3,$I$10+1),FALSE),IF(VLOOKUP(L459,Materials,5,FALSE)>1,IF(VLOOKUP(L459,Materials,3,FALSE)>250,\"OR\",\"RED\"),\"\")))","v":""},{"$f":"IF(A459=\"\",\"\",IFERROR(VLOOKUP(F459,'PDU Circuit'!$B$1:$F$199,IF(VLOOKUP(L459,Materials,3,FALSE)>250,$I$10+3,$I$10+1),FALSE),IF(VLOOKUP(L459,Materials,5,FALSE)>2,IF(VLOOKUP(L459,Materials,3,FALSE)>250,\"YL\",\"BL\"),\"\")))","v":""},null,null,null,"","",null,null,null,null,"",null,"",null,"",null,{"$f":"IF(A459=\"\",\"\",'Voltage Drop'!N446)","v":""},"","",{"$error":"#N/A"},"","GY","G",{"$error":"#N/A"},8,0]
["",null,null,null,null,null,{"$f":"IF(A460=\"\",\"\",IFERROR(VLOOKUP(D460,'PDU Circuit'!$B$1:$F$199,IF(VLOOKUP(L460,Materials,3,FALSE)>250,$I$10+3,$I$10+1),FALSE),IF(VLOOKUP(L460,Materials,4,FALSE)>=1,IF(VLOOKUP(L460,Materials,3,FALSE)>250,\"BR\",\"BK\"))))","v":""},{"$f":"IF(A460=\"\",\"\",IFERROR(VLOOKUP(E460,'PDU Circuit'!$B$1:$F$199,IF(VLOOKUP(L460,Materials,3,FALSE)>250,$I$10+3,$I$10+1),FALSE),IF(VLOOKUP(L460,Materials,5,FALSE)>1,IF(VLOOKUP(L460,Materials,3,FALSE)>250,\"OR\",\"RED\"),\"\")))","v":""},{"$f":"IF(A460=\"\",\"\",IFERROR(VLOOKUP(F460,'PDU Circuit'!$B$1:$F$199,IF(VLOOKUP(L460,Materials,3,FALSE)>250,$I$10+3,$I$10+1),FALSE),IF(VLOOKUP(L460,Materials,5,FALSE)>2,IF(VLOOKUP(L460,Materials,3,FALSE)>250,\"YL\",\"BL\"),\"\")))","v":""},null,null,null,"","",null,null,null,null,"",null,"",null,"",null,{"$f":"IF(A460=\"\",\"\",'Voltage Drop'!N447)","v":""},"","",{"$error":"#N/A"},"","GY","G",{"$error":"#N/A"},8,0]
["",null,null,null,null,null,{"$f":"IF(A461=\"\",\"\",IFERROR(VLOOKUP(D461,'PDU Circuit'!$B$1:$F$199,IF(VLOOKUP(L461,Materials,3,FALSE)>250,$I$10+3,$I$10+1),FALSE),IF(VLOOKUP(L461,Materials,4,FALSE)>=1,IF(VLOOKUP(L461,Materials,3,FALSE)>250,\"BR\",\"BK\"))))","v":""},{"$f":"IF(A461=\"\",\"\",IFERROR(VLOOKUP(E461,'PDU Circuit'!$B$1:$F$199,IF(VLOOKUP(L461,Materials,3,FALSE)>250,$I$10+3,$I$10+1),FALSE),IF(VLOOKUP(L461,Materials,5,FALSE)>1,IF(VLOOKUP(L461,Materials,3,FALSE)>250,\"OR\",\"RED\"),\"\")))","v":""},{"$f":"IF(A461=\"\",\"\",IFERROR(VLOOKUP(F461,'PDU Circuit'!$B$1:$F$199,IF(VLOOKUP(L461,Materials,3,FALSE)>250,$I$10+3,$I$10+1),FALSE),IF(VLOOKUP(L461,Materials,5,FALSE)>2,IF(VLOOKUP(L461,Materials,3,FALSE)>250,\"YL\",\"BL\"),\"\")))","v":""},null,null,null,"","",null,null,null,null,"",null,"",null,"",null,{"$f":"IF(A461=\"\",\"\",'Voltage Drop'!N448)","v":""},"","",{"$error":"#N/A"},"","GY","G",{"$error":"#N/A"},8,0]
["",null,null,null,null,null,{"$f":"IF(A462=\"\",\"\",IFERROR(VLOOKUP(D462,'PDU Circuit'!$B$1:$F$199,IF(VLOOKUP(L462,Materials,3,FALSE)>250,$I$10+3,$I$10+1),FALSE),IF(VLOOKUP(L462,Materials,4,FALSE)>=1,IF(VLOOKUP(L462,Materials,3,FALSE)>250,\"BR\",\"BK\"))))","v":""},{"$f":"IF(A462=\"\",\"\",IFERROR(VLOOKUP(E462,'PDU Circuit'!$B$1:$F$199,IF(VLOOKUP(L462,Materials,3,FALSE)>250,$I$10+3,$I$10+1),FALSE),IF(VLOOKUP(L462,Materials,5,FALSE)>1,IF(VLOOKUP(L462,Materials,3,FALSE)>250,\"OR\",\"RED\"),\"\")))","v":""},{"$f":"IF(A462=\"\",\"\",IFERROR(VLOOKUP(F462,'PDU Circuit'!$B$1:$F$199,IF(VLOOKUP(L462,Materials,3,FALSE)>250,$I$10+3,$I$10+1),FALSE),IF(VLOOKUP(L462,Materials,5,FALSE)>2,IF(VLOOKUP(L462,Materials,3,FALSE)>250,\"YL\",\"BL\"),\"\")))","v":""},null,null,null,"","",null,null,null,null,"",null,"",null,"",null,{"$f":"IF(A462=\"\",\"\",'Voltage Drop'!N449)","v":""},"","",{"$error":"#N/A"},"","GY","G",{"$error":"#N/A"},8,0]
[{"$f":"IFERROR(IF($I$8>=A462+1,A462+1,\"\"),\"\")","v":""},null,null,null,null,null,{"$f":"IF(A463=\"\",\"\",IFERROR(VLOOKUP(D463,'PDU Circuit'!$B$1:$F$199,IF(VLOOKUP(L463,Materials,3,FALSE)>250,$I$10+3,$I$10+1),FALSE),IF(VLOOKUP(L463,Materials,4,FALSE)>=1,IF(VLOOKUP(L463,Materials,3,FALSE)>250,\"BR\",\"BK\"))))","v":""},{"$f":"IF(A463=\"\",\"\",IFERROR(VLOOKUP(E463,'PDU Circuit'!$B$1:$F$199,IF(VLOOKUP(L463,Materials,3,FALSE)>250,$I$10+3,$I$10+1),FALSE),IF(VLOOKUP(L463,Materials,5,FALSE)>1,IF(VLOOKUP(L463,Materials,3,FALSE)>250,\"OR\",\"RED\"),\"\")))","v":""},{"$f":"IF(A463=\"\",\"\",IFERROR(VLOOKUP(F463,'PDU Circuit'!$B$1:$F$199,IF(VLOOKUP(L463,Materials,3,FALSE)>250,$I$10+3,$I$10+1),FALSE),IF(VLOOKUP(L463,Materials,5,FALSE)>2,IF(VLOOKUP(L463,Materials,3,FALSE)>250,\"YL\",\"BL\"),\"\")))","v":""},null,null,null,"","",null,null,null,null,{"$f":"IFERROR(VLOOKUP($L463,Materials,10,FALSE),\"\")","v":""},null,{"$f":"IFERROR(VLOOKUP($L463,Materials,8,FALSE),\"\")","v":""},null,{"$f":"IFERROR(VLOOKUP($L463,Materials,9,FALSE),\"\")","v":""},null,{"$f":"IF(A463=\"\",\"\",'Voltage Drop'!N450)","v":""},"","",{"$f":"\"CQ\"&VLOOKUP(L463,Materials,2,FALSE)&\"/\"&VLOOKUP(Q463,Breakers,2,FALSE)&\"/\"&O463&\"/\"&VLOOKUP(R463,Colors,2,FALSE)&\"/\"&AF463&AG463&AH463","v":{"$error":"#N/A"}},"","GY","G",{"$error":"#N/A"},8,0]
["",null,null,null,null,null,{"$f":"IF(A464=\"\",\"\",IFERROR(VLOOKUP(D464,'PDU Circuit'!$B$1:$F$199,IF(VLOOKUP(L464,Materials,3,FALSE)>250,$I$10+3,$I$10+1),FALSE),IF(VLOOKUP(L464,Materials,4,FALSE)>=1,IF(VLOOKUP(L464,Materials,3,FALSE)>250,\"BR\",\"BK\"))))","v":""},{"$f":"IF(A464=\"\",\"\",IFERROR(VLOOKUP(E464,'PDU Circuit'!$B$1:$F$199,IF(VLOOKUP(L464,Materials,3,FALSE)>250,$I$10+3,$I$10+1),FALSE),IF(VLOOKUP(L464,Materials,5,FALSE)>1,IF(VLOOKUP(L464,Materials,3,FALSE)>250,\"OR\",\"RED\"),\"\")))","v":""},{"$f":"IF(A464=\"\",\"\",IFERROR(VLOOKUP(F464,'PDU Circuit'!$B$1:$F$199,IF(VLOOKUP(L464,Materials,3,FALSE)>250,$I$10+3,$I$10+1),FALSE),IF(VLOOKUP(L464,Materials,5,FALSE)>2,IF(VLOOKUP(L464,Materials,3,FALSE)>250,\"YL\",\"BL\"),\"\")))","v":""},null,null,null,{"$f":"IFERROR(VLOOKUP(L464,Materials,3,FALSE)&\"V \"&VLOOKUP(L464,Materials,4,FALSE)&\"A\",\"\")","v":""},{"$f":"IFERROR(VLOOKUP(L464,Materials,6,FALSE),\"\")","v":""},null,null,null,null,"",null,"",null,"",null,{"$f":"IF(A464=\"\",\"\",'Voltage Drop'!N451)","v":""},{"$f":"IFERROR(AB464,\"\")","v":""},{"$f":"IF(A464=\"\",\"\",\"CBL ASSY W/ PIGTAIL\")","v":""},{"$error":"#N/A"},{"$f":"RIGHT(G464,2)","v":""},{"$f":"IF(H464=\"\",IF(G464=\"BK\",\"W\",\"GY\"),RIGHT(H464,2))","v":"GY"},{"$f":"IF(I464=\"\",IF(MID(N464,3,1)>=\"4\",IF(G464=\"BK\",\"W\",\"GY\"),\"G\"),RIGHT(I464,2))","v":"G"},{"$f":"VLOOKUP(AC464,$AI$15:$AJ$23,2,FALSE)","v":{"$error":"#N/A"}},{"$f":"VLOOKUP(AD464,$AI$15:$AJ$23,2,FALSE)","v":8},{"$f":"VLOOKUP(AE464,$AI$15:$AJ$23,2,FALSE)","v":0}]
["",null,null,null,null,null,{"$f":"IF(A465=\"\",\"\",IFERROR(VLOOKUP(D465,'PDU Circuit'!$B$1:$F$199,IF(VLOOKUP(L465,Materials,3,FALSE)>250,$I$10+3,$I$10+1),FALSE),IF(VLOOKUP(L465,Materials,4,FALSE)>=1,IF(VLOOKUP(L465,Materials,3,FALSE)>250,\"BR\",\"BK\"))))","v":""},{"$f":"IF(A465=\"\",\"\",IFERROR(VLOOKUP(E465,'PDU Circuit'!$B$1:$F$199,IF(VLOOKUP(L465,Materials,3,FALSE)>250,$I$10+3,$I$10+1),FALSE),IF(VLOOKUP(L465,Materials,5,FALSE)>1,IF(VLOOKUP(L465,Materials,3,FALSE)>250,\"OR\",\"RED\"),\"\")))","v":""},{"$f":"IF(A465=\"\",\"\",IFERROR(VLOOKUP(F465,'PDU Circuit'!$B$1:$F$199,IF(VLOOKUP(L465,Materials,3,FALSE)>250,$I$10+3,$I$10+1),FALSE),IF(VLOOKUP(L465,Materials,5,FALSE)>2,IF(VLOOKUP(L465,Materials,3,FALSE)>250,\"YL\",\"BL\"),\"\")))","v":""},null,null,null,"","",null,null,null,null,"",null,"",null,"",null,{"$f":"IF(A465=\"\",\"\",'Voltage Drop'!N452)","v":""},"","",{"$error":"#N/A"},"","GY","G",{"$error":"#N/A"},8,0]
["",null,null,null,null,null,{"$f":"IF(A466=\"\",\"\",IFERROR(VLOOKUP(D466,'PDU Circuit'!$B$1:$F$199,IF(VLOOKUP(L466,Materials,3,FALSE)>250,$I$10+3,$I$10+1),FALSE),IF(VLOOKUP(L466,Materials,4,FALSE)>=1,IF(VLOOKUP(L466,Materials,3,FALSE)>250,\"BR\",\"BK\"))))","v":""},{"$f":"IF(A466=\"\",\"\",IFERROR(VLOOKUP(E466,'PDU Circuit'!$B$1:$F$199,IF(VLOOKUP(L466,Materials,3,FALSE)>250,$I$10+3,$I$10+1),FALSE),IF(VLOOKUP(L466,Materials,5,FALSE)>1,IF(VLOOKUP(L466,Materials,3,FALSE)>250,\"OR\",\"RED\"),\"\")))","v":""},{"$f":"IF(A466=\"\",\"\",IFERROR(VLOOKUP(F466,'PDU Circuit'!$B$1:$F$199,IF(VLOOKUP(L466,Materials,3,FALSE)>250,$I$10+3,$I$10+1),FALSE),IF(VLOOKUP(L466,Materials,5,FALSE)>2,IF(VLOOKUP(L466,Materials,3,FALSE)>250,\"YL\",\"BL\"),\"\")))","v":""},null,null,null,"","",null,null,null,null,"",null,"",null,"",null,{"$f":"IF(A466=\"\",\"\",'Voltage Drop'!N453)","v":""},"","",{"$error":"#N/A"},"","GY","G",{"$error":"#N/A"},8,0]
["",null,null,null,null,null,{"$f":"IF(A467=\"\",\"\",IFERROR(VLOOKUP(D467,'PDU Circuit'!$B$1:$F$199,IF(VLOOKUP(L467,Materials,3,FALSE)>250,$I$10+3,$I$10+1),FALSE),IF(VLOOKUP(L467,Materials,4,FALSE)>=1,IF(VLOOKUP(L467,Materials,3,FALSE)>250,\"BR\",\"BK\"))))","v":""},{"$f":"IF(A467=\"\",\"\",IFERROR(VLOOKUP(E467,'PDU Circuit'!$B$1:$F$199,IF(VLOOKUP(L467,Materials,3,FALSE)>250,$I$10+3,$I$10+1),FALSE),IF(VLOOKUP(L467,Materials,5,FALSE)>1,IF(VLOOKUP(L467,Materials,3,FALSE)>250,\"OR\",\"RED\"),\"\")))","v":""},{"$f":"IF(A467=\"\",\"\",IFERROR(VLOOKUP(F467,'PDU Circuit'!$B$1:$F$199,IF(VLOOKUP(L467,Materials,3,FALSE)>250,$I$10+3,$I$10+1),FALSE),IF(VLOOKUP(L467,Materials,5,FALSE)>2,IF(VLOOKUP(L467,Materials,3,FALSE)>250,\"YL\",\"BL\"),\"\")))","v":""},null,null,null,"","",null,null,null,null,"",null,"",null,"",null,{"$f":"IF(A467=\"\",\"\",'Voltage Drop'!N454)","v":""},"","",{"$error":"#N/A"},"","GY","G",{"$error":"#N/A"},8,0]
["",null,null,null,null,null,{"$f":"IF(A468=\"\",\"\",IFERROR(VLOOKUP(D468,'PDU Circuit'!$B$1:$F$199,IF(VLOOKUP(L468,Materials,3,FALSE)>250,$I$10+3,$I$10+1),FALSE),IF(VLOOKUP(L468,Materials,4,FALSE)>=1,IF(VLOOKUP(L468,Materials,3,FALSE)>250,\"BR\",\"BK\"))))","v":""},{"$f":"IF(A468=\"\",\"\",IFERROR(VLOOKUP(E468,'PDU Circuit'!$B$1:$F$199,IF(VLOOKUP(L468,Materials,3,FALSE)>250,$I$10+3,$I$10+1),FALSE),IF(VLOOKUP(L468,Materials,5,FALSE)>1,IF(VLOOKUP(L468,Materials,3,FALSE)>250,\"OR\",\"RED\"),\"\")))","v":""},{"$f":"IF(A468=\"\",\"\",IFERROR(VLOOKUP(F468,'PDU Circuit'!$B$1:$F$199,IF(VLOOKUP(L468,Materials,3,FALSE)>250,$I$10+3,$I$10+1),FALSE),IF(VLOOKUP(L468,Materials,5,FALSE)>2,IF(VLOOKUP(L468,Materials,3,FALSE)>250,\"YL\",\"BL\"),\"\")))","v":""},null,null,null,"","",null,null,null,null,"",null,"",null,"",null,{"$f":"IF(A468=\"\",\"\",'Voltage Drop'!N455)","v":""},"","",{"$error":"#N/A"},"","GY","G",{"$error":"#N/A"},8,0]
["",null,null,null,null,null,{"$f":"IF(A469=\"\",\"\",IFERROR(VLOOKUP(D469,'PDU Circuit'!$B$1:$F$199,IF(VLOOKUP(L469,Materials,3,FALSE)>250,$I$10+3,$I$10+1),FALSE),IF(VLOOKUP(L469,Materials,4,FALSE)>=1,IF(VLOOKUP(L469,Materials,3,FALSE)>250,\"BR\",\"BK\"))))","v":""},{"$f":"IF(A469=\"\",\"\",IFERROR(VLOOKUP(E469,'PDU Circuit'!$B$1:$F$199,IF(VLOOKUP(L469,Materials,3,FALSE)>250,$I$10+3,$I$10+1),FALSE),IF(VLOOKUP(L469,Materials,5,FALSE)>1,IF(VLOOKUP(L469,Materials,3,FALSE)>250,\"OR\",\"RED\"),\"\")))","v":""},{"$f":"IF(A469=\"\",\"\",IFERROR(VLOOKUP(F469,'PDU Circuit'!$B$1:$F$199,IF(VLOOKUP(L469,Materials,3,FALSE)>250,$I$10+3,$I$10+1),FALSE),IF(VLOOKUP(L469,Materials,5,FALSE)>2,IF(VLOOKUP(L469,Materials,3,FALSE)>250,\"YL\",\"BL\"),\"\")))","v":""},null,null,null,"","",null,null,null,null,"",null,"",null,"",null,{"$f":"IF(A469=\"\",\"\",'Voltage Drop'!N456)","v":""},"","",{"$error":"#N/A"},"","GY","G",{"$error":"#N/A"},8,0]
["",null,null,null,null,null,{"$f":"IF(A470=\"\",\"\",IFERROR(VLOOKUP(D470,'PDU Circuit'!$B$1:$F$199,IF(VLOOKUP(L470,Materials,3,FALSE)>250,$I$10+3,$I$10+1),FALSE),IF(VLOOKUP(L470,Materials,4,FALSE)>=1,IF(VLOOKUP(L470,Materials,3,FALSE)>250,\"BR\",\"BK\"))))","v":""},{"$f":"IF(A470=\"\",\"\",IFERROR(VLOOKUP(E470,'PDU Circuit'!$B$1:$F$199,IF(VLOOKUP(L470,Materials,3,FALSE)>250,$I$10+3,$I$10+1),FALSE),IF(VLOOKUP(L470,Materials,5,FALSE)>1,IF(VLOOKUP(L470,Materials,3,FALSE)>250,\"OR\",\"RED\"),\"\")))","v":""},{"$f":"IF(A470=\"\",\"\",IFERROR(VLOOKUP(F470,'PDU Circuit'!$B$1:$F$199,IF(VLOOKUP(L470,Materials,3,FALSE)>250,$I$10+3,$I$10+1),FALSE),IF(VLOOKUP(L470,Materials,5,FALSE)>2,IF(VLOOKUP(L470,Materials,3,FALSE)>250,\"YL\",\"BL\"),\"\")))","v":""},null,null,null,"","",null,null,null,null,"",null,"",null,"",null,{"$f":"IF(A470=\"\",\"\",'Voltage Drop'!N457)","v":""},"","",{"$error":"#N/A"},"","GY","G",{"$error":"#N/A"},8,0]
["",null,null,null,null,null,{"$f":"IF(A471=\"\",\"\",IFERROR(VLOOKUP(D471,'PDU Circuit'!$B$1:$F$199,IF(VLOOKUP(L471,Materials,3,FALSE)>250,$I$10+3,$I$10+1),FALSE),IF(VLOOKUP(L471,Materials,4,FALSE)>=1,IF(VLOOKUP(L471,Materials,3,FALSE)>250,\"BR\",\"BK\"))))","v":""},{"$f":"IF(A471=\"\",\"\",IFERROR(VLOOKUP(E471,'PDU Circuit'!$B$1:$F$199,IF(VLOOKUP(L471,Materials,3,FALSE)>250,$I$10+3,$I$10+1),FALSE),IF(VLOOKUP(L471,Materials,5,FALSE)>1,IF(VLOOKUP(L471,Materials,3,FALSE)>250,\"OR\",\"RED\"),\"\")))","v":""},{"$f":"IF(A471=\"\",\"\",IFERROR(VLOOKUP(F471,'PDU Circuit'!$B$1:$F$199,IF(VLOOKUP(L471,Materials,3,FALSE)>250,$I$10+3,$I$10+1),FALSE),IF(VLOOKUP(L471,Materials,5,FALSE)>2,IF(VLOOKUP(L471,Materials,3,FALSE)>250,\"YL\",\"BL\"),\"\")))","v":""},null,null,null,"","",null,null,null,null,"",null,"",null,"",null,{"$f":"IF(A471=\"\",\"\",'Voltage Drop'!N458)","v":""},"","",{"$error":"#N/A"},"","GY","G",{"$error":"#N/A"},8,0]
["",null,null,null,null,null,{"$f":"IF(A472=\"\",\"\",IFERROR(VLOOKUP(D472,'PDU Circuit'!$B$1:$F$199,IF(VLOOKUP(L472,Materials,3,FALSE)>250,$I$10+3,$I$10+1),FALSE),IF(VLOOKUP(L472,Materials,4,FALSE)>=1,IF(VLOOKUP(L472,Materials,3,FALSE)>250,\"BR\",\"BK\"))))","v":""},{"$f":"IF(A472=\"\",\"\",IFERROR(VLOOKUP(E472,'PDU Circuit'!$B$1:$F$199,IF(VLOOKUP(L472,Materials,3,FALSE)>250,$I$10+3,$I$10+1),FALSE),IF(VLOOKUP(L472,Materials,5,FALSE)>1,IF(VLOOKUP(L472,Materials,3,FALSE)>250,\"OR\",\"RED\"),\"\")))","v":""},{"$f":"IF(A472=\"\",\"\",IFERROR(VLOOKUP(F472,'PDU Circuit'!$B$1:$F$199,IF(VLOOKUP(L472,Materials,3,FALSE)>250,$I$10+3,$I$10+1),FALSE),IF(VLOOKUP(L472,Materials,5,FALSE)>2,IF(VLOOKUP(L472,Materials,3,FALSE)>250,\"YL\",\"BL\"),\"\")))","v":""},null,null,null,"","",null,null,null,null,"",null,"",null,"",null,{"$f":"IF(A472=\"\",\"\",'Voltage Drop'!N459)","v":""},"","",{"$error":"#N/A"},"","GY","G",{"$error":"#N/A"},8,0]
["",null,null,null,null,null,{"$f":"IF(A473=\"\",\"\",IFERROR(VLOOKUP(D473,'PDU Circuit'!$B$1:$F$199,IF(VLOOKUP(L473,Materials,3,FALSE)>250,$I$10+3,$I$10+1),FALSE),IF(VLOOKUP(L473,Materials,4,FALSE)>=1,IF(VLOOKUP(L473,Materials,3,FALSE)>250,\"BR\",\"BK\"))))","v":""},{"$f":"IF(A473=\"\",\"\",IFERROR(VLOOKUP(E473,'PDU Circuit'!$B$1:$F$199,IF(VLOOKUP(L473,Materials,3,FALSE)>250,$I$10+3,$I$10+1),FALSE),IF(VLOOKUP(L473,Materials,5,FALSE)>1,IF(VLOOKUP(L473,Materials,3,FALSE)>250,\"OR\",\"RED\"),\"\")))","v":""},{"$f":"IF(A473=\"\",\"\",IFERROR(VLOOKUP(F473,'PDU Circuit'!$B$1:$F$199,IF(VLOOKUP(L473,Materials,3,FALSE)>250,$I$10+3,$I$10+1),FALSE),IF(VLOOKUP(L473,Materials,5,FALSE)>2,IF(VLOOKUP(L473,Materials,3,FALSE)>250,\"YL\",\"BL\"),\"\")))","v":""},null,null,null,"","",null,null,null,null,"",null,"",null,"",null,{"$f":"IF(A473=\"\",\"\",'Voltage Drop'!N460)","v":""},"","",{"$error":"#N/A"},"","GY","G",{"$error":"#N/A"},8,0]
["",null,null,null,null,null,{"$f":"IF(A474=\"\",\"\",IFERROR(VLOOKUP(D474,'PDU Circuit'!$B$1:$F$199,IF(VLOOKUP(L474,Materials,3,FALSE)>250,$I$10+3,$I$10+1),FALSE),IF(VLOOKUP(L474,Materials,4,FALSE)>=1,IF(VLOOKUP(L474,Materials,3,FALSE)>250,\"BR\",\"BK\"))))","v":""},{"$f":"IF(A474=\"\",\"\",IFERROR(VLOOKUP(E474,'PDU Circuit'!$B$1:$F$199,IF(VLOOKUP(L474,Materials,3,FALSE)>250,$I$10+3,$I$10+1),FALSE),IF(VLOOKUP(L474,Materials,5,FALSE)>1,IF(VLOOKUP(L474,Materials,3,FALSE)>250,\"OR\",\"RED\"),\"\")))","v":""},{"$f":"IF(A474=\"\",\"\",IFERROR(VLOOKUP(F474,'PDU Circuit'!$B$1:$F$199,IF(VLOOKUP(L474,Materials,3,FALSE)>250,$I$10+3,$I$10+1),FALSE),IF(VLOOKUP(L474,Materials,5,FALSE)>2,IF(VLOOKUP(L474,Materials,3,FALSE)>250,\"YL\",\"BL\"),\"\")))","v":""},null,null,null,"","",null,null,null,null,"",null,"",null,"",null,{"$f":"IF(A474=\"\",\"\",'Voltage Drop'!N461)","v":""},"","",{"$error":"#N/A"},"","GY","G",{"$error":"#N/A"},8,0]
["",null,null,null,null,null,{"$f":"IF(A475=\"\",\"\",IFERROR(VLOOKUP(D475,'PDU Circuit'!$B$1:$F$199,IF(VLOOKUP(L475,Materials,3,FALSE)>250,$I$10+3,$I$10+1),FALSE),IF(VLOOKUP(L475,Materials,4,FALSE)>=1,IF(VLOOKUP(L475,Materials,3,FALSE)>250,\"BR\",\"BK\"))))","v":""},{"$f":"IF(A475=\"\",\"\",IFERROR(VLOOKUP(E475,'PDU Circuit'!$B$1:$F$199,IF(VLOOKUP(L475,Materials,3,FALSE)>250,$I$10+3,$I$10+1),FALSE),IF(VLOOKUP(L475,Materials,5,FALSE)>1,IF(VLOOKUP(L475,Materials,3,FALSE)>250,\"OR\",\"RED\"),\"\")))","v":""},{"$f":"IF(A475=\"\",\"\",IFERROR(VLOOKUP(F475,'PDU Circuit'!$B$1:$F$199,IF(VLOOKUP(L475,Materials,3,FALSE)>250,$I$10+3,$I$10+1),FALSE),IF(VLOOKUP(L475,Materials,5,FALSE)>2,IF(VLOOKUP(L475,Materials,3,FALSE)>250,\"YL\",\"BL\"),\"\")))","v":""},null,null,null,"","",null,null,null,null,"",null,"",null,"",null,{"$f":"IF(A475=\"\",\"\",'Voltage Drop'!N462)","v":""},"","",{"$error":"#N/A"},"","GY","G",{"$error":"#N/A"},8,0]
["",null,null,null,null,null,{"$f":"IF(A476=\"\",\"\",IFERROR(VLOOKUP(D476,'PDU Circuit'!$B$1:$F$199,IF(VLOOKUP(L476,Materials,3,FALSE)>250,$I$10+3,$I$10+1),FALSE),IF(VLOOKUP(L476,Materials,4,FALSE)>=1,IF(VLOOKUP(L476,Materials,3,FALSE)>250,\"BR\",\"BK\"))))","v":""},{"$f":"IF(A476=\"\",\"\",IFERROR(VLOOKUP(E476,'PDU Circuit'!$B$1:$F$199,IF(VLOOKUP(L476,Materials,3,FALSE)>250,$I$10+3,$I$10+1),FALSE),IF(VLOOKUP(L476,Materials,5,FALSE)>1,IF(VLOOKUP(L476,Materials,3,FALSE)>250,\"OR\",\"RED\"),\"\")))","v":""},{"$f":"IF(A476=\"\",\"\",IFERROR(VLOOKUP(F476,'PDU Circuit'!$B$1:$F$199,IF(VLOOKUP(L476,Materials,3,FALSE)>250,$I$10+3,$I$10+1),FALSE),IF(VLOOKUP(L476,Materials,5,FALSE)>2,IF(VLOOKUP(L476,Materials,3,FALSE)>250,\"YL\",\"BL\"),\"\")))","v":""},null,null,null,"","",null,null,null,null,"",null,"",null,"",null,{"$f":"IF(A476=\"\",\"\",'Voltage Drop'!N463)","v":""},"","",{"$error":"#N/A"},"","GY","G",{"$error":"#N/A"},8,0]
["",null,null,null,null,null,{"$f":"IF(A477=\"\",\"\",IFERROR(VLOOKUP(D477,'PDU Circuit'!$B$1:$F$199,IF(VLOOKUP(L477,Materials,3,FALSE)>250,$I$10+3,$I$10+1),FALSE),IF(VLOOKUP(L477,Materials,4,FALSE)>=1,IF(VLOOKUP(L477,Materials,3,FALSE)>250,\"BR\",\"BK\"))))","v":""},{"$f":"IF(A477=\"\",\"\",IFERROR(VLOOKUP(E477,'PDU Circuit'!$B$1:$F$199,IF(VLOOKUP(L477,Materials,3,FALSE)>250,$I$10+3,$I$10+1),FALSE),IF(VLOOKUP(L477,Materials,5,FALSE)>1,IF(VLOOKUP(L477,Materials,3,FALSE)>250,\"OR\",\"RED\"),\"\")))","v":""},{"$f":"IF(A477=\"\",\"\",IFERROR(VLOOKUP(F477,'PDU Circuit'!$B$1:$F$199,IF(VLOOKUP(L477,Materials,3,FALSE)>250,$I$10+3,$I$10+1),FALSE),IF(VLOOKUP(L477,Materials,5,FALSE)>2,IF(VLOOKUP(L477,Materials,3,FALSE)>250,\"YL\",\"BL\"),\"\")))","v":""},null,null,null,"","",null,null,null,null,"",null,"",null,"",null,{"$f":"IF(A477=\"\",\"\",'Voltage Drop'!N464)","v":""},"","",{"$error":"#N/A"},"","GY","G",{"$error":"#N/A"},8,0]
["",null,null,null,null,null,{"$f":"IF(A478=\"\",\"\",IFERROR(VLOOKUP(D478,'PDU Circuit'!$B$1:$F$199,IF(VLOOKUP(L478,Materials,3,FALSE)>250,$I$10+3,$I$10+1),FALSE),IF(VLOOKUP(L478,Materials,4,FALSE)>=1,IF(VLOOKUP(L478,Materials,3,FALSE)>250,\"BR\",\"BK\"))))","v":""},{"$f":"IF(A478=\"\",\"\",IFERROR(VLOOKUP(E478,'PDU Circuit'!$B$1:$F$199,IF(VLOOKUP(L478,Materials,3,FALSE)>250,$I$10+3,$I$10+1),FALSE),IF(VLOOKUP(L478,Materials,5,FALSE)>1,IF(VLOOKUP(L478,Materials,3,FALSE)>250,\"OR\",\"RED\"),\"\")))","v":""},{"$f":"IF(A478=\"\",\"\",IFERROR(VLOOKUP(F478,'PDU Circuit'!$B$1:$F$199,IF(VLOOKUP(L478,Materials,3,FALSE)>250,$I$10+3,$I$10+1),FALSE),IF(VLOOKUP(L478,Materials,5,FALSE)>2,IF(VLOOKUP(L478,Materials,3,FALSE)>250,\"YL\",\"BL\"),\"\")))","v":""},null,null,null,"","",null,null,null,null,"",null,"",null,"",null,{"$f":"IF(A478=\"\",\"\",'Voltage Drop'!N465)","v":""},"","",{"$error":"#N/A"},"","GY","G",{"$error":"#N/A"},8,0]
["",null,null,null,null,null,{"$f":"IF(A479=\"\",\"\",IFERROR(VLOOKUP(D479,'PDU Circuit'!$B$1:$F$199,IF(VLOOKUP(L479,Materials,3,FALSE)>250,$I$10+3,$I$10+1),FALSE),IF(VLOOKUP(L479,Materials,4,FALSE)>=1,IF(VLOOKUP(L479,Materials,3,FALSE)>250,\"BR\",\"BK\"))))","v":""},{"$f":"IF(A479=\"\",\"\",IFERROR(VLOOKUP(E479,'PDU Circuit'!$B$1:$F$199,IF(VLOOKUP(L479,Materials,3,FALSE)>250,$I$10+3,$I$10+1),FALSE),IF(VLOOKUP(L479,Materials,5,FALSE)>1,IF(VLOOKUP(L479,Materials,3,FALSE)>250,\"OR\",\"RED\"),\"\")))","v":""},{"$f":"IF(A479=\"\",\"\",IFERROR(VLOOKUP(F479,'PDU Circuit'!$B$1:$F$199,IF(VLOOKUP(L479,Materials,3,FALSE)>250,$I$10+3,$I$10+1),FALSE),IF(VLOOKUP(L479,Materials,5,FALSE)>2,IF(VLOOKUP(L479,Materials,3,FALSE)>250,\"YL\",\"BL\"),\"\")))","v":""},null,null,null,"","",null,null,null,null,"",null,"",null,"",null,{"$f":"IF(A479=\"\",\"\",'Voltage Drop'!N466)","v":""},"","",{"$error":"#N/A"},"","GY","G",{"$error":"#N/A"},8,0]
["",null,null,null,null,null,{"$f":"IF(A480=\"\",\"\",IFERROR(VLOOKUP(D480,'PDU Circuit'!$B$1:$F$199,IF(VLOOKUP(L480,Materials,3,FALSE)>250,$I$10+3,$I$10+1),FALSE),IF(VLOOKUP(L480,Materials,4,FALSE)>=1,IF(VLOOKUP(L480,Materials,3,FALSE)>250,\"BR\",\"BK\"))))","v":""},{"$f":"IF(A480=\"\",\"\",IFERROR(VLOOKUP(E480,'PDU Circuit'!$B$1:$F$199,IF(VLOOKUP(L480,Materials,3,FALSE)>250,$I$10+3,$I$10+1),FALSE),IF(VLOOKUP(L480,Materials,5,FALSE)>1,IF(VLOOKUP(L480,Materials,3,FALSE)>250,\"OR\",\"RED\"),\"\")))","v":""},{"$f":"IF(A480=\"\",\"\",IFERROR(VLOOKUP(F480,'PDU Circuit'!$B$1:$F$199,IF(VLOOKUP(L480,Materials,3,FALSE)>250,$I$10+3,$I$10+1),FALSE),IF(VLOOKUP(L480,Materials,5,FALSE)>2,IF(VLOOKUP(L480,Materials,3,FALSE)>250,\"YL\",\"BL\"),\"\")))","v":""},null,null,null,"","",null,null,null,null,"",null,"",null,"",null,{"$f":"IF(A480=\"\",\"\",'Voltage Drop'!N467)","v":""},"","",{"$error":"#N/A"},"","GY","G",{"$error":"#N/A"},8,0]
["",null,null,null,null,null,{"$f":"IF(A481=\"\",\"\",IFERROR(VLOOKUP(D481,'PDU Circuit'!$B$1:$F$199,IF(VLOOKUP(L481,Materials,3,FALSE)>250,$I$10+3,$I$10+1),FALSE),IF(VLOOKUP(L481,Materials,4,FALSE)>=1,IF(VLOOKUP(L481,Materials,3,FALSE)>250,\"BR\",\"BK\"))))","v":""},{"$f":"IF(A481=\"\",\"\",IFERROR(VLOOKUP(E481,'PDU Circuit'!$B$1:$F$199,IF(VLOOKUP(L481,Materials,3,FALSE)>250,$I$10+3,$I$10+1),FALSE),IF(VLOOKUP(L481,Materials,5,FALSE)>1,IF(VLOOKUP(L481,Materials,3,FALSE)>250,\"OR\",\"RED\"),\"\")))","v":""},{"$f":"IF(A481=\"\",\"\",IFERROR(VLOOKUP(F481,'PDU Circuit'!$B$1:$F$199,IF(VLOOKUP(L481,Materials,3,FALSE)>250,$I$10+3,$I$10+1),FALSE),IF(VLOOKUP(L481,Materials,5,FALSE)>2,IF(VLOOKUP(L481,Materials,3,FALSE)>250,\"YL\",\"BL\"),\"\")))","v":""},null,null,null,"","",null,null,null,null,"",null,"",null,"",null,{"$f":"IF(A481=\"\",\"\",'Voltage Drop'!N468)","v":""},"","",{"$error":"#N/A"},"","GY","G",{"$error":"#N/A"},8,0]
["",null,null,null,null,null,{"$f":"IF(A482=\"\",\"\",IFERROR(VLOOKUP(D482,'PDU Circuit'!$B$1:$F$199,IF(VLOOKUP(L482,Materials,3,FALSE)>250,$I$10+3,$I$10+1),FALSE),IF(VLOOKUP(L482,Materials,4,FALSE)>=1,IF(VLOOKUP(L482,Materials,3,FALSE)>250,\"BR\",\"BK\"))))","v":""},{"$f":"IF(A482=\"\",\"\",IFERROR(VLOOKUP(E482,'PDU Circuit'!$B$1:$F$199,IF(VLOOKUP(L482,Materials,3,FALSE)>250,$I$10+3,$I$10+1),FALSE),IF(VLOOKUP(L482,Materials,5,FALSE)>1,IF(VLOOKUP(L482,Materials,3,FALSE)>250,\"OR\",\"RED\"),\"\")))","v":""},{"$f":"IF(A482=\"\",\"\",IFERROR(VLOOKUP(F482,'PDU Circuit'!$B$1:$F$199,IF(VLOOKUP(L482,Materials,3,FALSE)>250,$I$10+3,$I$10+1),FALSE),IF(VLOOKUP(L482,Materials,5,FALSE)>2,IF(VLOOKUP(L482,Materials,3,FALSE)>250,\"YL\",\"BL\"),\"\")))","v":""},null,null,null,"","",null,null,null,null,"",null,"",null,"",null,{"$f":"IF(A482=\"\",\"\",'Voltage Drop'!N469)","v":""},"","",{"$error":"#N/A"},"","GY","G",{"$error":"#N/A"},8,0]
["",null,null,null,null,null,{"$f":"IF(A483=\"\",\"\",IFERROR(VLOOKUP(D483,'PDU Circuit'!$B$1:$F$199,IF(VLOOKUP(L483,Materials,3,FALSE)>250,$I$10+3,$I$10+1),FALSE),IF(VLOOKUP(L483,Materials,4,FALSE)>=1,IF(VLOOKUP(L483,Materials,3,FALSE)>250,\"BR\",\"BK\"))))","v":""},{"$f":"IF(A483=\"\",\"\",IFERROR(VLOOKUP(E483,'PDU Circuit'!$B$1:$F$199,IF(VLOOKUP(L483,Materials,3,FALSE)>250,$I$10+3,$I$10+1),FALSE),IF(VLOOKUP(L483,Materials,5,FALSE)>1,IF(VLOOKUP(L483,Materials,3,FALSE)>250,\"OR\",\"RED\"),\"\")))","v":""},{"$f":"IF(A483=\"\",\"\",IFERROR(VLOOKUP(F483,'PDU Circuit'!$B$1:$F$199,IF(VLOOKUP(L483,Materials,3,FALSE)>250,$I$10+3,$I$10+1),FALSE),IF(VLOOKUP(L483,Materials,5,FALSE)>2,IF(VLOOKUP(L483,Materials,3,FALSE)>250,\"YL\",\"BL\"),\"\")))","v":""},null,null,null,"","",null,null,null,null,"",null,"",null,"",null,{"$f":"IF(A483=\"\",\"\",'Voltage Drop'!N470)","v":""},"","",{"$error":"#N/A"},"","GY","G",{"$error":"#N/A"},8,0]
["",null,null,null,null,null,{"$f":"IF(A484=\"\",\"\",IFERROR(VLOOKUP(D484,'PDU Circuit'!$B$1:$F$199,IF(VLOOKUP(L484,Materials,3,FALSE)>250,$I$10+3,$I$10+1),FALSE),IF(VLOOKUP(L484,Materials,4,FALSE)>=1,IF(VLOOKUP(L484,Materials,3,FALSE)>250,\"BR\",\"BK\"))))","v":""},{"$f":"IF(A484=\"\",\"\",IFERROR(VLOOKUP(E484,'PDU Circuit'!$B$1:$F$199,IF(VLOOKUP(L484,Materials,3,FALSE)>250,$I$10+3,$I$10+1),FALSE),IF(VLOOKUP(L484,Materials,5,FALSE)>1,IF(VLOOKUP(L484,Materials,3,FALSE)>250,\"OR\",\"RED\"),\"\")))","v":""},{"$f":"IF(A484=\"\",\"\",IFERROR(VLOOKUP(F484,'PDU Circuit'!$B$1:$F$199,IF(VLOOKUP(L484,Materials,3,FALSE)>250,$I$10+3,$I$10+1),FALSE),IF(VLOOKUP(L484,Materials,5,FALSE)>2,IF(VLOOKUP(L484,Materials,3,FALSE)>250,\"YL\",\"BL\"),\"\")))","v":""},null,null,null,"","",null,null,null,null,"",null,"",null,"",null,{"$f":"IF(A484=\"\",\"\",'Voltage Drop'!N471)","v":""},"","",{"$error":"#N/A"},"","GY","G",{"$error":"#N/A"},8,0]
["",null,null,null,null,null,{"$f":"IF(A485=\"\",\"\",IFERROR(VLOOKUP(D485,'PDU Circuit'!$B$1:$F$199,IF(VLOOKUP(L485,Materials,3,FALSE)>250,$I$10+3,$I$10+1),FALSE),IF(VLOOKUP(L485,Materials,4,FALSE)>=1,IF(VLOOKUP(L485,Materials,3,FALSE)>250,\"BR\",\"BK\"))))","v":""},{"$f":"IF(A485=\"\",\"\",IFERROR(VLOOKUP(E485,'PDU Circuit'!$B$1:$F$199,IF(VLOOKUP(L485,Materials,3,FALSE)>250,$I$10+3,$I$10+1),FALSE),IF(VLOOKUP(L485,Materials,5,FALSE)>1,IF(VLOOKUP(L485,Materials,3,FALSE)>250,\"OR\",\"RED\"),\"\")))","v":""},{"$f":"IF(A485=\"\",\"\",IFERROR(VLOOKUP(F485,'PDU Circuit'!$B$1:$F$199,IF(VLOOKUP(L485,Materials,3,FALSE)>250,$I$10+3,$I$10+1),FALSE),IF(VLOOKUP(L485,Materials,5,FALSE)>2,IF(VLOOKUP(L485,Materials,3,FALSE)>250,\"YL\",\"BL\"),\"\")))","v":""},null,null,null,"","",null,null,null,null,"",null,"",null,"",null,{"$f":"IF(A485=\"\",\"\",'Voltage Drop'!N472)","v":""},"","",{"$error":"#N/A"},"","GY","G",{"$error":"#N/A"},8,0]
["",null,null,null,null,null,{"$f":"IF(A486=\"\",\"\",IFERROR(VLOOKUP(D486,'PDU Circuit'!$B$1:$F$199,IF(VLOOKUP(L486,Materials,3,FALSE)>250,$I$10+3,$I$10+1),FALSE),IF(VLOOKUP(L486,Materials,4,FALSE)>=1,IF(VLOOKUP(L486,Materials,3,FALSE)>250,\"BR\",\"BK\"))))","v":""},{"$f":"IF(A486=\"\",\"\",IFERROR(VLOOKUP(E486,'PDU Circuit'!$B$1:$F$199,IF(VLOOKUP(L486,Materials,3,FALSE)>250,$I$10+3,$I$10+1),FALSE),IF(VLOOKUP(L486,Materials,5,FALSE)>1,IF(VLOOKUP(L486,Materials,3,FALSE)>250,\"OR\",\"RED\"),\"\")))","v":""},{"$f":"IF(A486=\"\",\"\",IFERROR(VLOOKUP(F486,'PDU Circuit'!$B$1:$F$199,IF(VLOOKUP(L486,Materials,3,FALSE)>250,$I$10+3,$I$10+1),FALSE),IF(VLOOKUP(L486,Materials,5,FALSE)>2,IF(VLOOKUP(L486,Materials,3,FALSE)>250,\"YL\",\"BL\"),\"\")))","v":""},null,null,null,"","",null,null,null,null,"",null,"",null,"",null,{"$f":"IF(A486=\"\",\"\",'Voltage Drop'!N473)","v":""},"","",{"$error":"#N/A"},"","GY","G",{"$error":"#N/A"},8,0]
["",null,null,null,null,null,{"$f":"IF(A487=\"\",\"\",IFERROR(VLOOKUP(D487,'PDU Circuit'!$B$1:$F$199,IF(VLOOKUP(L487,Materials,3,FALSE)>250,$I$10+3,$I$10+1),FALSE),IF(VLOOKUP(L487,Materials,4,FALSE)>=1,IF(VLOOKUP(L487,Materials,3,FALSE)>250,\"BR\",\"BK\"))))","v":""},{"$f":"IF(A487=\"\",\"\",IFERROR(VLOOKUP(E487,'PDU Circuit'!$B$1:$F$199,IF(VLOOKUP(L487,Materials,3,FALSE)>250,$I$10+3,$I$10+1),FALSE),IF(VLOOKUP(L487,Materials,5,FALSE)>1,IF(VLOOKUP(L487,Materials,3,FALSE)>250,\"OR\",\"RED\"),\"\")))","v":""},{"$f":"IF(A487=\"\",\"\",IFERROR(VLOOKUP(F487,'PDU Circuit'!$B$1:$F$199,IF(VLOOKUP(L487,Materials,3,FALSE)>250,$I$10+3,$I$10+1),FALSE),IF(VLOOKUP(L487,Materials,5,FALSE)>2,IF(VLOOKUP(L487,Materials,3,FALSE)>250,\"YL\",\"BL\"),\"\")))","v":""},null,null,null,"","",null,null,null,null,"",null,"",null,"",null,{"$f":"IF(A487=\"\",\"\",'Voltage Drop'!N474)","v":""},"","",{"$error":"#N/A"},"","GY","G",{"$error":"#N/A"},8,0]
["",null,null,null,null,null,{"$f":"IF(A488=\"\",\"\",IFERROR(VLOOKUP(D488,'PDU Circuit'!$B$1:$F$199,IF(VLOOKUP(L488,Materials,3,FALSE)>250,$I$10+3,$I$10+1),FALSE),IF(VLOOKUP(L488,Materials,4,FALSE)>=1,IF(VLOOKUP(L488,Materials,3,FALSE)>250,\"BR\",\"BK\"))))","v":""},{"$f":"IF(A488=\"\",\"\",IFERROR(VLOOKUP(E488,'PDU Circuit'!$B$1:$F$199,IF(VLOOKUP(L488,Materials,3,FALSE)>250,$I$10+3,$I$10+1),FALSE),IF(VLOOKUP(L488,Materials,5,FALSE)>1,IF(VLOOKUP(L488,Materials,3,FALSE)>250,\"OR\",\"RED\"),\"\")))","v":""},{"$f":"IF(A488=\"\",\"\",IFERROR(VLOOKUP(F488,'PDU Circuit'!$B$1:$F$199,IF(VLOOKUP(L488,Materials,3,FALSE)>250,$I$10+3,$I$10+1),FALSE),IF(VLOOKUP(L488,Materials,5,FALSE)>2,IF(VLOOKUP(L488,Materials,3,FALSE)>250,\"YL\",\"BL\"),\"\")))","v":""},null,null,null,"","",null,null,null,null,"",null,"",null,"",null,{"$f":"IF(A488=\"\",\"\",'Voltage Drop'!N475)","v":""},"","",{"$error":"#N/A"},"","GY","G",{"$error":"#N/A"},8,0]
["",null,null,null,null,null,{"$f":"IF(A489=\"\",\"\",IFERROR(VLOOKUP(D489,'PDU Circuit'!$B$1:$F$199,IF(VLOOKUP(L489,Materials,3,FALSE)>250,$I$10+3,$I$10+1),FALSE),IF(VLOOKUP(L489,Materials,4,FALSE)>=1,IF(VLOOKUP(L489,Materials,3,FALSE)>250,\"BR\",\"BK\"))))","v":""},{"$f":"IF(A489=\"\",\"\",IFERROR(VLOOKUP(E489,'PDU Circuit'!$B$1:$F$199,IF(VLOOKUP(L489,Materials,3,FALSE)>250,$I$10+3,$I$10+1),FALSE),IF(VLOOKUP(L489,Materials,5,FALSE)>1,IF(VLOOKUP(L489,Materials,3,FALSE)>250,\"OR\",\"RED\"),\"\")))","v":""},{"$f":"IF(A489=\"\",\"\",IFERROR(VLOOKUP(F489,'PDU Circuit'!$B$1:$F$199,IF(VLOOKUP(L489,Materials,3,FALSE)>250,$I$10+3,$I$10+1),FALSE),IF(VLOOKUP(L489,Materials,5,FALSE)>2,IF(VLOOKUP(L489,Materials,3,FALSE)>250,\"YL\",\"BL\"),\"\")))","v":""},null,null,null,"","",null,null,null,null,"",null,"",null,"",null,{"$f":"IF(A489=\"\",\"\",'Voltage Drop'!N476)","v":""},"","",{"$error":"#N/A"},"","GY","G",{"$error":"#N/A"},8,0]
["",null,null,null,null,null,{"$f":"IF(A490=\"\",\"\",IFERROR(VLOOKUP(D490,'PDU Circuit'!$B$1:$F$199,IF(VLOOKUP(L490,Materials,3,FALSE)>250,$I$10+3,$I$10+1),FALSE),IF(VLOOKUP(L490,Materials,4,FALSE)>=1,IF(VLOOKUP(L490,Materials,3,FALSE)>250,\"BR\",\"BK\"))))","v":""},{"$f":"IF(A490=\"\",\"\",IFERROR(VLOOKUP(E490,'PDU Circuit'!$B$1:$F$199,IF(VLOOKUP(L490,Materials,3,FALSE)>250,$I$10+3,$I$10+1),FALSE),IF(VLOOKUP(L490,Materials,5,FALSE)>1,IF(VLOOKUP(L490,Materials,3,FALSE)>250,\"OR\",\"RED\"),\"\")))","v":""},{"$f":"IF(A490=\"\",\"\",IFERROR(VLOOKUP(F490,'PDU Circuit'!$B$1:$F$199,IF(VLOOKUP(L490,Materials,3,FALSE)>250,$I$10+3,$I$10+1),FALSE),IF(VLOOKUP(L490,Materials,5,FALSE)>2,IF(VLOOKUP(L490,Materials,3,FALSE)>250,\"YL\",\"BL\"),\"\")))","v":""},null,null,null,"","",null,null,null,null,"",null,"",null,"",null,{"$f":"IF(A490=\"\",\"\",'Voltage Drop'!N477)","v":""},"","",{"$error":"#N/A"},"","GY","G",{"$error":"#N/A"},8,0]
["",null,null,null,null,null,{"$f":"IF(A491=\"\",\"\",IFERROR(VLOOKUP(D491,'PDU Circuit'!$B$1:$F$199,IF(VLOOKUP(L491,Materials,3,FALSE)>250,$I$10+3,$I$10+1),FALSE),IF(VLOOKUP(L491,Materials,4,FALSE)>=1,IF(VLOOKUP(L491,Materials,3,FALSE)>250,\"BR\",\"BK\"))))","v":""},{"$f":"IF(A491=\"\",\"\",IFERROR(VLOOKUP(E491,'PDU Circuit'!$B$1:$F$199,IF(VLOOKUP(L491,Materials,3,FALSE)>250,$I$10+3,$I$10+1),FALSE),IF(VLOOKUP(L491,Materials,5,FALSE)>1,IF(VLOOKUP(L491,Materials,3,FALSE)>250,\"OR\",\"RED\"),\"\")))","v":""},{"$f":"IF(A491=\"\",\"\",IFERROR(VLOOKUP(F491,'PDU Circuit'!$B$1:$F$199,IF(VLOOKUP(L491,Materials,3,FALSE)>250,$I$10+3,$I$10+1),FALSE),IF(VLOOKUP(L491,Materials,5,FALSE)>2,IF(VLOOKUP(L491,Materials,3,FALSE)>250,\"YL\",\"BL\"),\"\")))","v":""},null,null,null,"","",null,null,null,null,"",null,"",null,"",null,{"$f":"IF(A491=\"\",\"\",'Voltage Drop'!N478)","v":""},"","",{"$error":"#N/A"},"","GY","G",{"$error":"#N/A"},8,0]
["",null,null,null,null,null,{"$f":"IF(A492=\"\",\"\",IFERROR(VLOOKUP(D492,'PDU Circuit'!$B$1:$F$199,IF(VLOOKUP(L492,Materials,3,FALSE)>250,$I$10+3,$I$10+1),FALSE),IF(VLOOKUP(L492,Materials,4,FALSE)>=1,IF(VLOOKUP(L492,Materials,3,FALSE)>250,\"BR\",\"BK\"))))","v":""},{"$f":"IF(A492=\"\",\"\",IFERROR(VLOOKUP(E492,'PDU Circuit'!$B$1:$F$199,IF(VLOOKUP(L492,Materials,3,FALSE)>250,$I$10+3,$I$10+1),FALSE),IF(VLOOKUP(L492,Materials,5,FALSE)>1,IF(VLOOKUP(L492,Materials,3,FALSE)>250,\"OR\",\"RED\"),\"\")))","v":""},{"$f":"IF(A492=\"\",\"\",IFERROR(VLOOKUP(F492,'PDU Circuit'!$B$1:$F$199,IF(VLOOKUP(L492,Materials,3,FALSE)>250,$I$10+3,$I$10+1),FALSE),IF(VLOOKUP(L492,Materials,5,FALSE)>2,IF(VLOOKUP(L492,Materials,3,FALSE)>250,\"YL\",\"BL\"),\"\")))","v":""},null,null,null,"","",null,null,null,null,"",null,"",null,"",null,{"$f":"IF(A492=\"\",\"\",'Voltage Drop'!N479)","v":""},"","",{"$error":"#N/A"},"","GY","G",{"$error":"#N/A"},8,0]
["",null,null,null,null,null,{"$f":"IF(A493=\"\",\"\",IFERROR(VLOOKUP(D493,'PDU Circuit'!$B$1:$F$199,IF(VLOOKUP(L493,Materials,3,FALSE)>250,$I$10+3,$I$10+1),FALSE),IF(VLOOKUP(L493,Materials,4,FALSE)>=1,IF(VLOOKUP(L493,Materials,3,FALSE)>250,\"BR\",\"BK\"))))","v":""},{"$f":"IF(A493=\"\",\"\",IFERROR(VLOOKUP(E493,'PDU Circuit'!$B$1:$F$199,IF(VLOOKUP(L493,Materials,3,FALSE)>250,$I$10+3,$I$10+1),FALSE),IF(VLOOKUP(L493,Materials,5,FALSE)>1,IF(VLOOKUP(L493,Materials,3,FALSE)>250,\"OR\",\"RED\"),\"\")))","v":""},{"$f":"IF(A493=\"\",\"\",IFERROR(VLOOKUP(F493,'PDU Circuit'!$B$1:$F$199,IF(VLOOKUP(L493,Materials,3,FALSE)>250,$I$10+3,$I$10+1),FALSE),IF(VLOOKUP(L493,Materials,5,FALSE)>2,IF(VLOOKUP(L493,Materials,3,FALSE)>250,\"YL\",\"BL\"),\"\")))","v":""},null,null,null,"","",null,null,null,null,"",null,"",null,"",null,{"$f":"IF(A493=\"\",\"\",'Voltage Drop'!N480)","v":""},"","",{"$error":"#N/A"},"","GY","G",{"$error":"#N/A"},8,0]
["",null,null,null,null,null,{"$f":"IF(A494=\"\",\"\",IFERROR(VLOOKUP(D494,'PDU Circuit'!$B$1:$F$199,IF(VLOOKUP(L494,Materials,3,FALSE)>250,$I$10+3,$I$10+1),FALSE),IF(VLOOKUP(L494,Materials,4,FALSE)>=1,IF(VLOOKUP(L494,Materials,3,FALSE)>250,\"BR\",\"BK\"))))","v":""},{"$f":"IF(A494=\"\",\"\",IFERROR(VLOOKUP(E494,'PDU Circuit'!$B$1:$F$199,IF(VLOOKUP(L494,Materials,3,FALSE)>250,$I$10+3,$I$10+1),FALSE),IF(VLOOKUP(L494,Materials,5,FALSE)>1,IF(VLOOKUP(L494,Materials,3,FALSE)>250,\"OR\",\"RED\"),\"\")))","v":""},{"$f":"IF(A494=\"\",\"\",IFERROR(VLOOKUP(F494,'PDU Circuit'!$B$1:$F$199,IF(VLOOKUP(L494,Materials,3,FALSE)>250,$I$10+3,$I$10+1),FALSE),IF(VLOOKUP(L494,Materials,5,FALSE)>2,IF(VLOOKUP(L494,Materials,3,FALSE)>250,\"YL\",\"BL\"),\"\")))","v":""},null,null,null,"","",null,null,null,null,"",null,"",null,"",null,{"$f":"IF(A494=\"\",\"\",'Voltage Drop'!N481)","v":""},"","",{"$error":"#N/A"},"","GY","G",{"$error":"#N/A"},8,0]
["",null,null,null,null,null,{"$f":"IF(A495=\"\",\"\",IFERROR(VLOOKUP(D495,'PDU Circuit'!$B$1:$F$199,IF(VLOOKUP(L495,Materials,3,FALSE)>250,$I$10+3,$I$10+1),FALSE),IF(VLOOKUP(L495,Materials,4,FALSE)>=1,IF(VLOOKUP(L495,Materials,3,FALSE)>250,\"BR\",\"BK\"))))","v":""},{"$f":"IF(A495=\"\",\"\",IFERROR(VLOOKUP(E495,'PDU Circuit'!$B$1:$F$199,IF(VLOOKUP(L495,Materials,3,FALSE)>250,$I$10+3,$I$10+1),FALSE),IF(VLOOKUP(L495,Materials,5,FALSE)>1,IF(VLOOKUP(L495,Materials,3,FALSE)>250,\"OR\",\"RED\"),\"\")))","v":""},{"$f":"IF(A495=\"\",\"\",IFERROR(VLOOKUP(F495,'PDU Circuit'!$B$1:$F$199,IF(VLOOKUP(L495,Materials,3,FALSE)>250,$I$10+3,$I$10+1),FALSE),IF(VLOOKUP(L495,Materials,5,FALSE)>2,IF(VLOOKUP(L495,Materials,3,FALSE)>250,\"YL\",\"BL\"),\"\")))","v":""},null,null,null,"","",null,null,null,null,"",null,"",null,"",null,{"$f":"IF(A495=\"\",\"\",'Voltage Drop'!N482)","v":""},"","",{"$error":"#N/A"},"","GY","G",{"$error":"#N/A"},8,0]
["",null,null,null,null,null,{"$f":"IF(A496=\"\",\"\",IFERROR(VLOOKUP(D496,'PDU Circuit'!$B$1:$F$199,IF(VLOOKUP(L496,Materials,3,FALSE)>250,$I$10+3,$I$10+1),FALSE),IF(VLOOKUP(L496,Materials,4,FALSE)>=1,IF(VLOOKUP(L496,Materials,3,FALSE)>250,\"BR\",\"BK\"))))","v":""},{"$f":"IF(A496=\"\",\"\",IFERROR(VLOOKUP(E496,'PDU Circuit'!$B$1:$F$199,IF(VLOOKUP(L496,Materials,3,FALSE)>250,$I$10+3,$I$10+1),FALSE),IF(VLOOKUP(L496,Materials,5,FALSE)>1,IF(VLOOKUP(L496,Materials,3,FALSE)>250,\"OR\",\"RED\"),\"\")))","v":""},{"$f":"IF(A496=\"\",\"\",IFERROR(VLOOKUP(F496,'PDU Circuit'!$B$1:$F$199,IF(VLOOKUP(L496,Materials,3,FALSE)>250,$I$10+3,$I$10+1),FALSE),IF(VLOOKUP(L496,Materials,5,FALSE)>2,IF(VLOOKUP(L496,Materials,3,FALSE)>250,\"YL\",\"BL\"),\"\")))","v":""},null,null,null,"","",null,null,null,null,"",null,"",null,"",null,{"$f":"IF(A496=\"\",\"\",'Voltage Drop'!N483)","v":""},"","",{"$error":"#N/A"},"","GY","G",{"$error":"#N/A"},8,0]
["",null,null,null,null,null,{"$f":"IF(A497=\"\",\"\",IFERROR(VLOOKUP(D497,'PDU Circuit'!$B$1:$F$199,IF(VLOOKUP(L497,Materials,3,FALSE)>250,$I$10+3,$I$10+1),FALSE),IF(VLOOKUP(L497,Materials,4,FALSE)>=1,IF(VLOOKUP(L497,Materials,3,FALSE)>250,\"BR\",\"BK\"))))","v":""},{"$f":"IF(A497=\"\",\"\",IFERROR(VLOOKUP(E497,'PDU Circuit'!$B$1:$F$199,IF(VLOOKUP(L497,Materials,3,FALSE)>250,$I$10+3,$I$10+1),FALSE),IF(VLOOKUP(L497,Materials,5,FALSE)>1,IF(VLOOKUP(L497,Materials,3,FALSE)>250,\"OR\",\"RED\"),\"\")))","v":""},{"$f":"IF(A497=\"\",\"\",IFERROR(VLOOKUP(F497,'PDU Circuit'!$B$1:$F$199,IF(VLOOKUP(L497,Materials,3,FALSE)>250,$I$10+3,$I$10+1),FALSE),IF(VLOOKUP(L497,Materials,5,FALSE)>2,IF(VLOOKUP(L497,Materials,3,FALSE)>250,\"YL\",\"BL\"),\"\")))","v":""},null,null,null,"","",null,null,null,null,"",null,"",null,"",null,{"$f":"IF(A497=\"\",\"\",'Voltage Drop'!N484)","v":""},"","",{"$error":"#N/A"},"","GY","G",{"$error":"#N/A"},8,0]
["",null,null,null,null,null,{"$f":"IF(A498=\"\",\"\",IFERROR(VLOOKUP(D498,'PDU Circuit'!$B$1:$F$199,IF(VLOOKUP(L498,Materials,3,FALSE)>250,$I$10+3,$I$10+1),FALSE),IF(VLOOKUP(L498,Materials,4,FALSE)>=1,IF(VLOOKUP(L498,Materials,3,FALSE)>250,\"BR\",\"BK\"))))","v":""},{"$f":"IF(A498=\"\",\"\",IFERROR(VLOOKUP(E498,'PDU Circuit'!$B$1:$F$199,IF(VLOOKUP(L498,Materials,3,FALSE)>250,$I$10+3,$I$10+1),FALSE),IF(VLOOKUP(L498,Materials,5,FALSE)>1,IF(VLOOKUP(L498,Materials,3,FALSE)>250,\"OR\",\"RED\"),\"\")))","v":""},{"$f":"IF(A498=\"\",\"\",IFERROR(VLOOKUP(F498,'PDU Circuit'!$B$1:$F$199,IF(VLOOKUP(L498,Materials,3,FALSE)>250,$I$10+3,$I$10+1),FALSE),IF(VLOOKUP(L498,Materials,5,FALSE)>2,IF(VLOOKUP(L498,Materials,3,FALSE)>250,\"YL\",\"BL\"),\"\")))","v":""},null,null,null,"","",null,null,null,null,"",null,"",null,"",null,{"$f":"IF(A498=\"\",\"\",'Voltage Drop'!N485)","v":""},"","",{"$error":"#N/A"},"","GY","G",{"$error":"#N/A"},8,0]
["",null,null,null,null,null,{"$f":"IF(A499=\"\",\"\",IFERROR(VLOOKUP(D499,'PDU Circuit'!$B$1:$F$199,IF(VLOOKUP(L499,Materials,3,FALSE)>250,$I$10+3,$I$10+1),FALSE),IF(VLOOKUP(L499,Materials,4,FALSE)>=1,IF(VLOOKUP(L499,Materials,3,FALSE)>250,\"BR\",\"BK\"))))","v":""},{"$f":"IF(A499=\"\",\"\",IFERROR(VLOOKUP(E499,'PDU Circuit'!$B$1:$F$199,IF(VLOOKUP(L499,Materials,3,FALSE)>250,$I$10+3,$I$10+1),FALSE),IF(VLOOKUP(L499,Materials,5,FALSE)>1,IF(VLOOKUP(L499,Materials,3,FALSE)>250,\"OR\",\"RED\"),\"\")))","v":""},{"$f":"IF(A499=\"\",\"\",IFERROR(VLOOKUP(F499,'PDU Circuit'!$B$1:$F$199,IF(VLOOKUP(L499,Materials,3,FALSE)>250,$I$10+3,$I$10+1),FALSE),IF(VLOOKUP(L499,Materials,5,FALSE)>2,IF(VLOOKUP(L499,Materials,3,FALSE)>250,\"YL\",\"BL\"),\"\")))","v":""},null,null,null,"","",null,null,null,null,"",null,"",null,"",null,{"$f":"IF(A499=\"\",\"\",'Voltage Drop'!N486)","v":""},"","",{"$error":"#N/A"},"","GY","G",{"$error":"#N/A"},8,0]
["",null,null,null,null,null,{"$f":"IF(A500=\"\",\"\",IFERROR(VLOOKUP(D500,'PDU Circuit'!$B$1:$F$199,IF(VLOOKUP(L500,Materials,3,FALSE)>250,$I$10+3,$I$10+1),FALSE),IF(VLOOKUP(L500,Materials,4,FALSE)>=1,IF(VLOOKUP(L500,Materials,3,FALSE)>250,\"BR\",\"BK\"))))","v":""},{"$f":"IF(A500=\"\",\"\",IFERROR(VLOOKUP(E500,'PDU Circuit'!$B$1:$F$199,IF(VLOOKUP(L500,Materials,3,FALSE)>250,$I$10+3,$I$10+1),FALSE),IF(VLOOKUP(L500,Materials,5,FALSE)>1,IF(VLOOKUP(L500,Materials,3,FALSE)>250,\"OR\",\"RED\"),\"\")))","v":""},{"$f":"IF(A500=\"\",\"\",IFERROR(VLOOKUP(F500,'PDU Circuit'!$B$1:$F$199,IF(VLOOKUP(L500,Materials,3,FALSE)>250,$I$10+3,$I$10+1),FALSE),IF(VLOOKUP(L500,Materials,5,FALSE)>2,IF(VLOOKUP(L500,Materials,3,FALSE)>250,\"YL\",\"BL\"),\"\")))","v":""},null,null,null,"","",null,null,null,null,"",null,"",null,"",null,{"$f":"IF(A500=\"\",\"\",'Voltage Drop'!N487)","v":""},"","",{"$error":"#N/A"},"","GY","G",{"$error":"#N/A"},8,0]

{"sheet":"Conduit Fill Chart","index":1,"n_rows":14,"n_cols":23,"rows_kept":14,"cut":false,"hidden":false,"merged":[[2,1,3,1],[2,2,2,22],[0,1,0,22],[1,1,1,22]]}
[null,"Liquidtight Flexible Metallic Conduit Fill Table"]
[null,"Liquidtight Flexible Metal Conduit (LFMC) based on the  2020 NEC"]
[null,"Trade Size in Inches","Wire Size (THWN, THHN) Conductor Size AWG/kcmil"]
[null,null,14,12,10,8,6,4,3,2,1,"1/0~","2/0~","3/0~","4/0~",250,300,350,400,500,600,700,750]
[null,"1/2\"",13,9,6,3,2,1,1,1,1,1,"---","---","---","---","---","---","---","---","---","---","---"]
[null,"3/4\"",22,16,10,6,4,2,1,1,1,1,1,1,1,"---","---","---","---","---","---","---","---"]
[null,1,33,24,15,9,6,4,3,3,1,1,1,1,1,1,1,1,"---","---","---","---","---"]
[null,"1/1/4\"",52,38,24,14,10,6,5,4,3,2,1,1,1,1,1,1,1,1,"---","---","---"]
[null,"1/1/2\"",76,56,35,20,14,9,7,6,4,4,3,2,1,1,1,1,1,1,1,1,1]
[null,2,135,98,62,35,25,16,13,11,8,7,6,5,4,3,3,2,1,1,1,1,1]
[null,"2/1/2\"",202,147,93,53,38,24,20,17,12,10,9,7,6,5,4,3,3,2,1,1,1]
[null,3,291,212,134,77,55,34,29,24,18,15,12,10,8,7,6,5,5,4,3,3,2]
[null,"3/1/2\"",396,289,182,105,76,46,39,33,24,20,17,14,12,9,8,7,6,5,4,4,3]
[null,4,518,378,238,137,99,61,51,43,32,27,22,18,15,12,11,9,8,7,5,5,4]

{"sheet":"Revision History","index":2,"n_rows":2,"n_cols":4,"rows_kept":2,"cut":false,"hidden":true,"merged":[]}
["REV","ENG","Date","Description"]
["12.1.2","J.Shuster","2025-05-05","Correction to wire color grid. Corrected locked cells. Correctd drop down list zoom option."]

{"sheet":"BOM","index":3,"n_rows":502,"n_cols":17,"rows_kept":502,"cut":false,"hidden":true,"merged":[]}
["Part Number","Cable #","Receptacle","Adapter","Box","Box Cover","Conduit","Fitting","Whip Length","Pigtail","Wire Type","Ground Wire","Wire Length","Wire Total","Brkr Style","Brkr Part Number","Heat Shrink"]
[{"$f":"IF($B2=\"\",\"\",'Whip Data'!$Z15)","v":""},{"$f":"IFERROR('Whip Data'!A15,\"\")","v":""},{"$f":"IF(B2=\"\",\"\",'Whip Data'!L15)","v":""},{"$f":"IF(B2=\"\",\"\",VLOOKUP(C2,Materials,11,FALSE))","v":""},{"$f":"IF($B2=\"\",\"\",VLOOKUP($C2,Materials,'Whip Data'!$M$10+11,FALSE))","v":""},{"$f":"IF($B2=\"\",\"\",VLOOKUP($C2,Materials,'Whip Data'!$M$10+13,FALSE))","v":""},{"$f":"IFERROR(\"LTUA-\"&IF(ISTEXT('Whip Data'!$T15),VLOOKUP('Whip Data'!$T15,Conduit,2,FALSE),VLOOKUP('Whip Data'!$S15,Conduit,2,FALSE))&\"-\"&'Whip Data'!$R15,\"\")","v":""},{"$f":"IF($B2=\"\",\"\",IFERROR(VLOOKUP('Whip Data'!$T15,Conduit,3,FALSE),VLOOKUP('Whip Data'!$S15,Conduit,3,FALSE)))","v":""},{"$f":"IF(B2=\"\",\"\",'Whip Data'!O15)","v":""},{"$f":"IF(C2=\"\",\"\",'Whip Data'!P15)","v":""},{"$f":"IF($B2=\"\",\"\",IF(ISTEXT('Whip Data'!V15),'Whip Data'!V15,'Whip Data'!U15))","v":""},{"$f":"IF(B2=\"\",\"\",IF(ISBLANK('Whip Data'!X15),'Whip Data'!W15,'Whip Data'!X15))","v":""},{"$f":"IF(B2=\"\",\"\",SUM(I2:J2))","v":""},{"$f":"IF(B2=\"\",\"\",LEFT(K2,1)*M2)","v":""},{"$f":"IF($B2=\"\",\"\",IF('Whip Data'!Q15=\"\",\"None\",'Whip Data'!Q15))","v":""},{"$f":"IF(O2=\"\",\"\",IF($O2=\"None\",\"NA\",INDEX(Breakers!$A$1:$I$75,MATCH(BOM!C2,Breakers!$A$1:$A$75,0),MATCH(BOM!O2,Breakers!$A$1:$I$1,0))))","v":""},{"$f":"IF(B2=\"\",\"\",VLOOKUP(H2,Standards!$X$3:$Y$6,2,FALSE))","v":""}]
[{"$f":"IF($B3=\"\",\"\",'Whip Data'!$Z16)","v":""},{"$f":"IFERROR('Whip Data'!A16,\"\")","v":""},{"$f":"IF(B3=\"\",\"\",'Whip Data'!L16)","v":""},"",{"$f":"IF($B3=\"\",\"\",VLOOKUP($C3,Materials,'Whip Data'!$M$10+11,FALSE))","v":""},{"$f":"IF($B3=\"\",\"\",VLOOKUP($C3,Materials,'Whip Data'!$M$10+13,FALSE))","v":""},{"$f":"IFERROR(\"LTUA-\"&IF(ISTEXT('Whip Data'!$T16),VLOOKUP('Whip Data'!$T16,Conduit,2,FALSE),VLOOKUP('Whip Data'!$S16,Conduit,2,FALSE))&\"-\"&'Whip Data'!$R16,\"\")","v":""},{"$f":"IF($B3=\"\",\"\",IFERROR(VLOOKUP('Whip Data'!$T16,Conduit,3,FALSE),VLOOKUP('Whip Data'!$S16,Conduit,3,FALSE)))","v":""},{"$f":"IF(B3=\"\",\"\",'Whip Data'!O16)","v":""},{"$f":"IF(C3=\"\",\"\",'Whip Data'!P16)","v":""},{"$f":"IF($B3=\"\",\"\",IF(ISTEXT('Whip Data'!V16),'Whip Data'!V16,'Whip Data'!U16))","v":""},{"$f":"IF(B3=\"\",\"\",IF(ISBLANK('Whip Data'!X16),'Whip Data'!W16,'Whip Data'!X16))","v":""},{"$f":"IF(B3=\"\",\"\",SUM(I3:J3))","v":""},{"$f":"IF(B3=\"\",\"\",LEFT(K3,1)*M3)","v":""},{"$f":"IF($B3=\"\",\"\",IF('Whip Data'!Q16=\"\",\"None\",'Whip Data'!Q16))","v":""},{"$f":"IF(O3=\"\",\"\",IF($O3=\"None\",\"NA\",INDEX(Breakers!$A$1:$I$75,MATCH(BOM!C3,Breakers!$A$1:$A$75,0),MATCH(BOM!O3,Breakers!$A$1:$I$1,0))))","v":""},{"$f":"IF(B3=\"\",\"\",VLOOKUP(H3,Standards!$X$3:$Y$6,2,FALSE))","v":""}]
[{"$f":"IF($B4=\"\",\"\",'Whip Data'!$Z17)","v":""},{"$f":"IFERROR('Whip Data'!A17,\"\")","v":""},{"$f":"IF(B4=\"\",\"\",'Whip Data'!L17)","v":""},"",{"$f":"IF($B4=\"\",\"\",VLOOKUP($C4,Materials,'Whip Data'!$M$10+11,FALSE))","v":""},{"$f":"IF($B4=\"\",\"\",VLOOKUP($C4,Materials,'Whip Data'!$M$10+13,FALSE))","v":""},{"$f":"IFERROR(\"LTUA-\"&IF(ISTEXT('Whip Data'!$T17),VLOOKUP('Whip Data'!$T17,Conduit,2,FALSE),VLOOKUP('Whip Data'!$S17,Conduit,2,FALSE))&\"-\"&'Whip Data'!$R17,\"\")","v":""},{"$f":"IF($B4=\"\",\"\",IFERROR(VLOOKUP('Whip Data'!$T17,Conduit,3,FALSE),VLOOKUP('Whip Data'!$S17,Conduit,3,FALSE)))","v":""},{"$f":"IF(B4=\"\",\"\",'Whip Data'!O17)","v":""},{"$f":"IF(C4=\"\",\"\",'Whip Data'!P17)","v":""},{"$f":"IF($B4=\"\",\"\",IF(ISTEXT('Whip Data'!V17),'Whip Data'!V17,'Whip Data'!U17))","v":""},{"$f":"IF(B4=\"\",\"\",IF(ISBLANK('Whip Data'!X17),'Whip Data'!W17,'Whip Data'!X17))","v":""},"","",{"$f":"IF($B4=\"\",\"\",IF('Whip Data'!Q17=\"\",\"None\",'Whip Data'!Q17))","v":""},{"$f":"IF(O4=\"\",\"\",IF($O4=\"None\",\"NA\",INDEX(Breakers!$A$1:$I$75,MATCH(BOM!C4,Breakers!$A$1:$A$75,0),MATCH(BOM!O4,Breakers!$A$1:$I$1,0))))","v":""},{"$f":"IF(B4=\"\",\"\",VLOOKUP(H4,Standards!$X$3:$Y$6,2,FALSE))","v":""}]
[{"$f":"IF($B5=\"\",\"\",'Whip Data'!$Z18)","v":""},{"$f":"IFERROR('Whip Data'!A18,\"\")","v":""},{"$f":"IF(B5=\"\",\"\",'Whip Data'!L18)","v":""},"",{"$f":"IF($B5=\"\",\"\",VLOOKUP($C5,Materials,'Whip Data'!$M$10+11,FALSE))","v":""},{"$f":"IF($B5=\"\",\"\",VLOOKUP($C5,Materials,'Whip Data'!$M$10+13,FALSE))","v":""},{"$f":"IFERROR(\"LTUA-\"&IF(ISTEXT('Whip Data'!$T18),VLOOKUP('Whip Data'!$T18,Conduit,2,FALSE),VLOOKUP('Whip Data'!$S18,Conduit,2,FALSE))&\"-\"&'Whip Data'!$R18,\"\")","v":""},{"$f":"IF($B5=\"\",\"\",IFERROR(VLOOKUP('Whip Data'!$T18,Conduit,3,FALSE),VLOOKUP('Whip Data'!$S18,Conduit,3,FALSE)))","v":""},{"$f":"IF(B5=\"\",\"\",'Whip Data'!O18)","v":""},{"$f":"IF(C5=\"\",\"\",'Whip Data'!P18)","v":""},{"$f":"IF($B5=\"\",\"\",IF(ISTEXT('Whip Data'!V18),'Whip Data'!V18,'Whip Data'!U18))","v":""},{"$f":"IF(B5=\"\",\"\",IF(ISBLANK('Whip Data'!X18),'Whip Data'!W18,'Whip Data'!X18))","v":""},"","",{"$f":"IF($B5=\"\",\"\",IF('Whip Data'!Q18=\"\",\"None\",'Whip Data'!Q18))","v":""},{"$f":"IF(O5=\"\",\"\",IF($O5=\"None\",\"NA\",INDEX(Breakers!$A$1:$I$75,MATCH(BOM!C5,Breakers!$A$1:$A$75,0),MATCH(BOM!O5,Breakers!$A$1:$I$1,0))))","v":""},{"$f":"IF(B5=\"\",\"\",VLOOKUP(H5,Standards!$X$3:$Y$6,2,FALSE))","v":""}]
[{"$f":"IF($B6=\"\",\"\",'Whip Data'!$Z19)","v":""},{"$f":"IFERROR('Whip Data'!A19,\"\")","v":""},{"$f":"IF(B6=\"\",\"\",'Whip Data'!L19)","v":""},"",{"$f":"IF($B6=\"\",\"\",VLOOKUP($C6,Materials,'Whip Data'!$M$10+11,FALSE))","v":""},{"$f":"IF($B6=\"\",\"\",VLOOKUP($C6,Materials,'Whip Data'!$M$10+13,FALSE))","v":""},{"$f":"IFERROR(\"LTUA-\"&IF(ISTEXT('Whip Data'!$T19),VLOOKUP('Whip Data'!$T19,Conduit,2,FALSE),VLOOKUP('Whip Data'!$S19,Conduit,2,FALSE))&\"-\"&'Whip Data'!$R19,\"\")","v":""},{"$f":"IF($B6=\"\",\"\",IFERROR(VLOOKUP('Whip Data'!$T19,Conduit,3,FALSE),VLOOKUP('Whip Data'!$S19,Conduit,3,FALSE)))","v":""},{"$f":"IF(B6=\"\",\"\",'Whip Data'!O19)","v":""},{"$f":"IF(C6=\"\",\"\",'Whip Data'!P19)","v":""},{"$f":"IF($B6=\"\",\"\",IF(ISTEXT('Whip Data'!V19),'Whip Data'!V19,'Whip Data'!U19))","v":""},{"$f":"IF(B6=\"\",\"\",IF(ISBLANK('Whip Data'!X19),'Whip Data'!W19,'Whip Data'!X19))","v":""},"","",{"$f":"IF($B6=\"\",\"\",IF('Whip Data'!Q19=\"\",\"None\",'Whip Data'!Q19))","v":""},{"$f":"IF(O6=\"\",\"\",IF($O6=\"None\",\"NA\",INDEX(Breakers!$A$1:$I$75,MATCH(BOM!C6,Breakers!$A$1:$A$75,0),MATCH(BOM!O6,Breakers!$A$1:$I$1,0))))","v":""},{"$f":"IF(B6=\"\",\"\",VLOOKUP(H6,Standards!$X$3:$Y$6,2,FALSE))","v":""}]
[{"$f":"IF($B7=\"\",\"\",'Whip Data'!$Z20)","v":""},{"$f":"IFERROR('Whip Data'!A20,\"\")","v":""},{"$f":"IF(B7=\"\",\"\",'Whip Data'!L20)","v":""},"",{"$f":"IF($B7=\"\",\"\",VLOOKUP($C7,Materials,'Whip Data'!$M$10+11,FALSE))","v":""},{"$f":"IF($B7=\"\",\"\",VLOOKUP($C7,Materials,'Whip Data'!$M$10+13,FALSE))","v":""},{"$f":"IFERROR(\"LTUA-\"&IF(ISTEXT('Whip Data'!$T20),VLOOKUP('Whip Data'!$T20,Conduit,2,FALSE),VLOOKUP('Whip Data'!$S20,Conduit,2,FALSE))&\"-\"&'Whip Data'!$R20,\"\")","v":""},{"$f":"IF($B7=\"\",\"\",IFERROR(VLOOKUP('Whip Data'!$T20,Conduit,3,FALSE),VLOOKUP('Whip Data'!$S20,Conduit,3,FALSE)))","v":""},{"$f":"IF(B7=\"\",\"\",'Whip Data'!O20)","v":""},{"$f":"IF(C7=\"\",\"\",'Whip Data'!P20)","v":""},{"$f":"IF($B7=\"\",\"\",IF(ISTEXT('Whip Data'!V20),'Whip Data'!V20,'Whip Data'!U20))","v":""},{"$f":"IF(B7=\"\",\"\",IF(ISBLANK('Whip Data'!X20),'Whip Data'!W20,'Whip Data'!X20))","v":""},"","",{"$f":"IF($B7=\"\",\"\",IF('Whip Data'!Q20=\"\",\"None\",'Whip Data'!Q20))","v":""},{"$f":"IF(O7=\"\",\"\",IF($O7=\"None\",\"NA\",INDEX(Breakers!$A$1:$I$75,MATCH(BOM!C7,Breakers!$A$1:$A$75,0),MATCH(BOM!O7,Breakers!$A$1:$I$1,0))))","v":""},{"$f":"IF(B7=\"\",\"\",VLOOKUP(H7,Standards!$X$3:$Y$6,2,FALSE))","v":""}]
[{"$f":"IF($B8=\"\",\"\",'Whip Data'!$Z21)","v":""},{"$f":"IFERROR('Whip Data'!A21,\"\")","v":""},{"$f":"IF(B8=\"\",\"\",'Whip Data'!L21)","v":""},"",{"$f":"IF($B8=\"\",\"\",VLOOKUP($C8,Materials,'Whip Data'!$M$10+11,FALSE))","v":""},{"$f":"IF($B8=\"\",\"\",VLOOKUP($C8,Materials,'Whip Data'!$M$10+13,FALSE))","v":""},{"$f":"IFERROR(\"LTUA-\"&IF(ISTEXT('Whip Data'!$T21),VLOOKUP('Whip Data'!$T21,Conduit,2,FALSE),VLOOKUP('Whip Data'!$S21,Conduit,2,FALSE))&\"-\"&'Whip Data'!$R21,\"\")","v":""},{"$f":"IF($B8=\"\",\"\",IFERROR(VLOOKUP('Whip Data'!$T21,Conduit,3,FALSE),VLOOKUP('Whip Data'!$S21,Conduit,3,FALSE)))","v":""},{"$f":"IF(B8=\"\",\"\",'Whip Data'!O21)","v":""},{"$f":"IF(C8=\"\",\"\",'Whip Data'!P21)","v":""},{"$f":"IF($B8=\"\",\"\",IF(ISTEXT('Whip Data'!V21),'Whip Data'!V21,'Whip Data'!U21))","v":""},{"$f":"IF(B8=\"\",\"\",IF(ISBLANK('Whip Data'!X21),'Whip Data'!W21,'Whip Data'!X21))","v":""},"","",{"$f":"IF($B8=\"\",\"\",IF('Whip Data'!Q21=\"\",\"None\",'Whip Data'!Q21))","v":""},{"$f":"IF(O8=\"\",\"\",IF($O8=\"None\",\"NA\",INDEX(Breakers!$A$1:$I$75,MATCH(BOM!C8,Breakers!$A$1:$A$75,0),MATCH(BOM!O8,Breakers!$A$1:$I$1,0))))","v":""},{"$f":"IF(B8=\"\",\"\",VLOOKUP(H8,Standards!$X$3:$Y$6,2,FALSE))","v":""}]
[{"$f":"IF($B9=\"\",\"\",'Whip Data'!$Z22)","v":""},{"$f":"IFERROR('Whip Data'!A22,\"\")","v":""},{"$f":"IF(B9=\"\",\"\",'Whip Data'!L22)","v":""},"",{"$f":"IF($B9=\"\",\"\",VLOOKUP($C9,Materials,'Whip Data'!$M$10+11,FALSE))","v":""},{"$f":"IF($B9=\"\",\"\",VLOOKUP($C9,Materials,'Whip Data'!$M$10+13,FALSE))","v":""},{"$f":"IFERROR(\"LTUA-\"&IF(ISTEXT('Whip Data'!$T22),VLOOKUP('Whip Data'!$T22,Conduit,2,FALSE),VLOOKUP('Whip Data'!$S22,Conduit,2,FALSE))&\"-\"&'Whip Data'!$R22,\"\")","v":""},{"$f":"IF($B9=\"\",\"\",IFERROR(VLOOKUP('Whip Data'!$T22,Conduit,3,FALSE),VLOOKUP('Whip Data'!$S22,Conduit,3,FALSE)))","v":""},{"$f":"IF(B9=\"\",\"\",'Whip Data'!O22)","v":""},{"$f":"IF(C9=\"\",\"\",'Whip Data'!P22)","v":""},{"$f":"IF($B9=\"\",\"\",IF(ISTEXT('Whip Data'!V22),'Whip Data'!V22,'Whip Data'!U22))","v":""},{"$f":"IF(B9=\"\",\"\",IF(ISBLANK('Whip Data'!X22),'Whip Data'!W22,'Whip Data'!X22))","v":""},"","",{"$f":"IF($B9=\"\",\"\",IF('Whip Data'!Q22=\"\",\"None\",'Whip Data'!Q22))","v":""},{"$f":"IF(O9=\"\",\"\",IF($O9=\"None\",\"NA\",INDEX(Breakers!$A$1:$I$75,MATCH(BOM!C9,Breakers!$A$1:$A$75,0),MATCH(BOM!O9,Breakers!$A$1:$I$1,0))))","v":""},{"$f":"IF(B9=\"\",\"\",VLOOKUP(H9,Standards!$X$3:$Y$6,2,FALSE))","v":""}]
[{"$f":"IF($B10=\"\",\"\",'Whip Data'!$Z23)","v":""},{"$f":"IFERROR('Whip Data'!A23,\"\")","v":""},{"$f":"IF(B10=\"\",\"\",'Whip Data'!L23)","v":""},"",{"$f":"IF($B10=\"\",\"\",VLOOKUP($C10,Materials,'Whip Data'!$M$10+11,FALSE))","v":""},{"$f":"IF($B10=\"\",\"\",VLOOKUP($C10,Materials,'Whip Data'!$M$10+13,FALSE))","v":""},{"$f":"IFERROR(\"LTUA-\"&IF(ISTEXT('Whip Data'!$T23),VLOOKUP('Whip Data'!$T23,Conduit,2,FALSE),VLOOKUP('Whip Data'!$S23,Conduit,2,FALSE))&\"-\"&'Whip Data'!$R23,\"\")","v":""},{"$f":"IF($B10=\"\",\"\",IFERROR(VLOOKUP('Whip Data'!$T23,Conduit,3,FALSE),VLOOKUP('Whip Data'!$S23,Conduit,3,FALSE)))","v":""},{"$f":"IF(B10=\"\",\"\",'Whip Data'!O23)","v":""},{"$f":"IF(C10=\"\",\"\",'Whip Data'!P23)","v":""},{"$f":"IF($B10=\"\",\"\",IF(ISTEXT('Whip Data'!V23),'Whip Data'!V23,'Whip Data'!U23))","v":""},{"$f":"IF(B10=\"\",\"\",IF(ISBLANK('Whip Data'!X23),'Whip Data'!W23,'Whip Data'!X23))","v":""},"","",{"$f":"IF($B10=\"\",\"\",IF('Whip Data'!Q23=\"\",\"None\",'Whip Data'!Q23))","v":""},{"$f":"IF(O10=\"\",\"\",IF($O10=\"None\",\"NA\",INDEX(Breakers!$A$1:$I$75,MATCH(BOM!C10,Breakers!$A$1:$A$75,0),MATCH(BOM!O10,Breakers!$A$1:$I$1,0))))","v":""},{"$f":"IF(B10=\"\",\"\",VLOOKUP(H10,Standards!$X$3:$Y$6,2,FALSE))","v":""}]
[{"$f":"IF($B11=\"\",\"\",'Whip Data'!$Z24)","v":""},{"$f":"IFERROR('Whip Data'!A24,\"\")","v":""},{"$f":"IF(B11=\"\",\"\",'Whip Data'!L24)","v":""},"",{"$f":"IF($B11=\"\",\"\",VLOOKUP($C11,Materials,'Whip Data'!$M$10+11,FALSE))","v":""},{"$f":"IF($B11=\"\",\"\",VLOOKUP($C11,Materials,'Whip Data'!$M$10+13,FALSE))","v":""},{"$f":"IFERROR(\"LTUA-\"&IF(ISTEXT('Whip Data'!$T24),VLOOKUP('Whip Data'!$T24,Conduit,2,FALSE),VLOOKUP('Whip Data'!$S24,Conduit,2,FALSE))&\"-\"&'Whip Data'!$R24,\"\")","v":""},{"$f":"IF($B11=\"\",\"\",IFERROR(VLOOKUP('Whip Data'!$T24,Conduit,3,FALSE),VLOOKUP('Whip Data'!$S24,Conduit,3,FALSE)))","v":""},{"$f":"IF(B11=\"\",\"\",'Whip Data'!O24)","v":""},{"$f":"IF(C11=\"\",\"\",'Whip Data'!P24)","v":""},{"$f":"IF($B11=\"\",\"\",IF(ISTEXT('Whip Data'!V24),'Whip Data'!V24,'Whip Data'!U24))","v":""},{"$f":"IF(B11=\"\",\"\",IF(ISBLANK('Whip Data'!X24),'Whip Data'!W24,'Whip Data'!X24))","v":""},"","",{"$f":"IF($B11=\"\",\"\",IF('Whip Data'!Q24=\"\",\"None\",'Whip Data'!Q24))","v":""},{"$f":"IF(O11=\"\",\"\",IF($O11=\"None\",\"NA\",INDEX(Breakers!$A$1:$I$75,MATCH(BOM!C11,Breakers!$A$1:$A$75,0),MATCH(BOM!O11,Breakers!$A$1:$I$1,0))))","v":""},{"$f":"IF(B11=\"\",\"\",VLOOKUP(H11,Standards!$X$3:$Y$6,2,FALSE))","v":""}]
[{"$f":"IF($B12=\"\",\"\",'Whip Data'!$Z25)","v":""},{"$f":"IFERROR('Whip Data'!A25,\"\")","v":""},{"$f":"IF(B12=\"\",\"\",'Whip Data'!L25)","v":""},"",{"$f":"IF($B12=\"\",\"\",VLOOKUP($C12,Materials,'Whip Data'!$M$10+11,FALSE))","v":""},{"$f":"IF($B12=\"\",\"\",VLOOKUP($C12,Materials,'Whip Data'!$M$10+13,FALSE))","v":""},{"$f":"IFERROR(\"LTUA-\"&IF(ISTEXT('Whip Data'!$T25),VLOOKUP('Whip Data'!$T25,Conduit,2,FALSE),VLOOKUP('Whip Data'!$S25,Conduit,2,FALSE))&\"-\"&'Whip Data'!$R25,\"\")","v":""},{"$f":"IF($B12=\"\",\"\",IFERROR(VLOOKUP('Whip Data'!$T25,Conduit,3,FALSE),VLOOKUP('Whip Data'!$S25,Conduit,3,FALSE)))","v":""},{"$f":"IF(B12=\"\",\"\",'Whip Data'!O25)","v":""},{"$f":"IF(C12=\"\",\"\",'Whip Data'!P25)","v":""},{"$f":"IF($B12=\"\",\"\",IF(ISTEXT('Whip Data'!V25),'Whip Data'!V25,'Whip Data'!U25))","v":""},{"$f":"IF(B12=\"\",\"\",IF(ISBLANK('Whip Data'!X25),'Whip Data'!W25,'Whip Data'!X25))","v":""},"","",{"$f":"IF($B12=\"\",\"\",IF('Whip Data'!Q25=\"\",\"None\",'Whip Data'!Q25))","v":""},{"$f":"IF(O12=\"\",\"\",IF($O12=\"None\",\"NA\",INDEX(Breakers!$A$1:$I$75,MATCH(BOM!C12,Breakers!$A$1:$A$75,0),MATCH(BOM!O12,Breakers!$A$1:$I$1,0))))","v":""},{"$f":"IF(B12=\"\",\"\",VLOOKUP(H12,Standards!$X$3:$Y$6,2,FALSE))","v":""}]
[{"$f":"IF($B13=\"\",\"\",'Whip Data'!$Z26)","v":""},{"$f":"IFERROR('Whip Data'!A26,\"\")","v":""},{"$f":"IF(B13=\"\",\"\",'Whip Data'!L26)","v":""},"",{"$f":"IF($B13=\"\",\"\",VLOOKUP($C13,Materials,'Whip Data'!$M$10+11,FALSE))","v":""},{"$f":"IF($B13=\"\",\"\",VLOOKUP($C13,Materials,'Whip Data'!$M$10+13,FALSE))","v":""},{"$f":"IFERROR(\"LTUA-\"&IF(ISTEXT('Whip Data'!$T26),VLOOKUP('Whip Data'!$T26,Conduit,2,FALSE),VLOOKUP('Whip Data'!$S26,Conduit,2,FALSE))&\"-\"&'Whip Data'!$R26,\"\")","v":""},{"$f":"IF($B13=\"\",\"\",IFERROR(VLOOKUP('Whip Data'!$T26,Conduit,3,FALSE),VLOOKUP('Whip Data'!$S26,Conduit,3,FALSE)))","v":""},{"$f":"IF(B13=\"\",\"\",'Whip Data'!O26)","v":""},{"$f":"IF(C13=\"\",\"\",'Whip Data'!P26)","v":""},{"$f":"IF($B13=\"\",\"\",IF(ISTEXT('Whip Data'!V26),'Whip Data'!V26,'Whip Data'!U26))","v":""},{"$f":"IF(B13=\"\",\"\",IF(ISBLANK('Whip Data'!X26),'Whip Data'!W26,'Whip Data'!X26))","v":""},"","",{"$f":"IF($B13=\"\",\"\",IF('Whip Data'!Q26=\"\",\"None\",'Whip Data'!Q26))","v":""},{"$f":"IF(O13=\"\",\"\",IF($O13=\"None\",\"NA\",INDEX(Breakers!$A$1:$I$75,MATCH(BOM!C13,Breakers!$A$1:$A$75,0),MATCH(BOM!O13,Breakers!$A$1:$I$1,0))))","v":""},{"$f":"IF(B13=\"\",\"\",VLOOKUP(H13,Standards!$X$3:$Y$6,2,FALSE))","v":""}]
[{"$f":"IF($B14=\"\",\"\",'Whip Data'!$Z27)","v":""},{"$f":"IFERROR('Whip Data'!A27,\"\")","v":""},{"$f":"IF(B14=\"\",\"\",'Whip Data'!L27)","v":""},"",{"$f":"IF($B14=\"\",\"\",VLOOKUP($C14,Materials,'Whip Data'!$M$10+11,FALSE))","v":""},{"$f":"IF($B14=\"\",\"\",VLOOKUP($C14,Materials,'Whip Data'!$M$10+13,FALSE))","v":""},{"$f":"IFERROR(\"LTUA-\"&IF(ISTEXT('Whip Data'!$T27),VLOOKUP('Whip Data'!$T27,Conduit,2,FALSE),VLOOKUP('Whip Data'!$S27,Conduit,2,FALSE))&\"-\"&'Whip Data'!$R27,\"\")","v":""},{"$f":"IF($B14=\"\",\"\",IFERROR(VLOOKUP('Whip Data'!$T27,Conduit,3,FALSE),VLOOKUP('Whip Data'!$S27,Conduit,3,FALSE)))","v":""},{"$f":"IF(B14=\"\",\"\",'Whip Data'!O27)","v":""},{"$f":"IF(C14=\"\",\"\",'Whip Data'!P27)","v":""},{"$f":"IF($B14=\"\",\"\",IF(ISTEXT('Whip Data'!V27),'Whip Data'!V27,'Whip Data'!U27))","v":""},{"$f":"IF(B14=\"\",\"\",IF(ISBLANK('Whip Data'!X27),'Whip Data'!W27,'Whip Data'!X27))","v":""},"","",{"$f":"IF($B14=\"\",\"\",IF('Whip Data'!Q27=\"\",\"None\",'Whip Data'!Q27))","v":""},{"$f":"IF(O14=\"\",\"\",IF($O14=\"None\",\"NA\",INDEX(Breakers!$A$1:$I$75,MATCH(BOM!C14,Breakers!$A$1:$A$75,0),MATCH(BOM!O14,Breakers!$A$1:$I$1,0))))","v":""},{"$f":"IF(B14=\"\",\"\",VLOOKUP(H14,Standards!$X$3:$Y$6,2,FALSE))","v":""}]
[{"$f":"IF($B15=\"\",\"\",'Whip Data'!$Z28)","v":""},{"$f":"IFERROR('Whip Data'!A28,\"\")","v":""},{"$f":"IF(B15=\"\",\"\",'Whip Data'!L28)","v":""},"",{"$f":"IF($B15=\"\",\"\",VLOOKUP($C15,Materials,'Whip Data'!$M$10+11,FALSE))","v":""},{"$f":"IF($B15=\"\",\"\",VLOOKUP($C15,Materials,'Whip Data'!$M$10+13,FALSE))","v":""},{"$f":"IFERROR(\"LTUA-\"&IF(ISTEXT('Whip Data'!$T28),VLOOKUP('Whip Data'!$T28,Conduit,2,FALSE),VLOOKUP('Whip Data'!$S28,Conduit,2,FALSE))&\"-\"&'Whip Data'!$R28,\"\")","v":""},{"$f":"IF($B15=\"\",\"\",IFERROR(VLOOKUP('Whip Data'!$T28,Conduit,3,FALSE),VLOOKUP('Whip Data'!$S28,Conduit,3,FALSE)))","v":""},{"$f":"IF(B15=\"\",\"\",'Whip Data'!O28)","v":""},{"$f":"IF(C15=\"\",\"\",'Whip Data'!P28)","v":""},{"$f":"IF($B15=\"\",\"\",IF(ISTEXT('Whip Data'!V28),'Whip Data'!V28,'Whip Data'!U28))","v":""},{"$f":"IF(B15=\"\",\"\",IF(ISBLANK('Whip Data'!X28),'Whip Data'!W28,'Whip Data'!X28))","v":""},"","",{"$f":"IF($B15=\"\",\"\",IF('Whip Data'!Q28=\"\",\"None\",'Whip Data'!Q28))","v":""},{"$f":"IF(O15=\"\",\"\",IF($O15=\"None\",\"NA\",INDEX(Breakers!$A$1:$I$75,MATCH(BOM!C15,Breakers!$A$1:$A$75,0),MATCH(BOM!O15,Breakers!$A$1:$I$1,0))))","v":""},{"$f":"IF(B15=\"\",\"\",VLOOKUP(H15,Standards!$X$3:$Y$6,2,FALSE))","v":""}]
[{"$f":"IF($B16=\"\",\"\",'Whip Data'!$Z29)","v":""},{"$f":"IFERROR('Whip Data'!A29,\"\")","v":""},{"$f":"IF(B16=\"\",\"\",'Whip Data'!L29)","v":""},"",{"$f":"IF($B16=\"\",\"\",VLOOKUP($C16,Materials,'Whip Data'!$M$10+11,FALSE))","v":""},{"$f":"IF($B16=\"\",\"\",VLOOKUP($C16,Materials,'Whip Data'!$M$10+13,FALSE))","v":""},{"$f":"IFERROR(\"LTUA-\"&IF(ISTEXT('Whip Data'!$T29),VLOOKUP('Whip Data'!$T29,Conduit,2,FALSE),VLOOKUP('Whip Data'!$S29,Conduit,2,FALSE))&\"-\"&'Whip Data'!$R29,\"\")","v":""},{"$f":"IF($B16=\"\",\"\",IFERROR(VLOOKUP('Whip Data'!$T29,Conduit,3,FALSE),VLOOKUP('Whip Data'!$S29,Conduit,3,FALSE)))","v":""},{"$f":"IF(B16=\"\",\"\",'Whip Data'!O29)","v":""},{"$f":"IF(C16=\"\",\"\",'Whip Data'!P29)","v":""},{"$f":"IF($B16=\"\",\"\",IF(ISTEXT('Whip Data'!V29),'Whip Data'!V29,'Whip Data'!U29))","v":""},{"$f":"IF(B16=\"\",\"\",IF(ISBLANK('Whip Data'!X29),'Whip Data'!W29,'Whip Data'!X29))","v":""},"","",{"$f":"IF($B16=\"\",\"\",IF('Whip Data'!Q29=\"\",\"None\",'Whip Data'!Q29))","v":""},{"$f":"IF(O16=\"\",\"\",IF($O16=\"None\",\"NA\",INDEX(Breakers!$A$1:$I$75,MATCH(BOM!C16,Breakers!$A$1:$A$75,0),MATCH(BOM!O16,Breakers!$A$1:$I$1,0))))","v":""},{"$f":"IF(B16=\"\",\"\",VLOOKUP(H16,Standards!$X$3:$Y$6,2,FALSE))","v":""}]
[{"$f":"IF($B17=\"\",\"\",'Whip Data'!$Z30)","v":""},{"$f":"IFERROR('Whip Data'!A30,\"\")","v":""},{"$f":"IF(B17=\"\",\"\",'Whip Data'!L30)","v":""},"",{"$f":"IF($B17=\"\",\"\",VLOOKUP($C17,Materials,'Whip Data'!$M$10+11,FALSE))","v":""},{"$f":"IF($B17=\"\",\"\",VLOOKUP($C17,Materials,'Whip Data'!$M$10+13,FALSE))","v":""},{"$f":"IFERROR(\"LTUA-\"&IF(ISTEXT('Whip Data'!$T30),VLOOKUP('Whip Data'!$T30,Conduit,2,FALSE),VLOOKUP('Whip Data'!$S30,Conduit,2,FALSE))&\"-\"&'Whip Data'!$R30,\"\")","v":""},{"$f":"IF($B17=\"\",\"\",IFERROR(VLOOKUP('Whip Data'!$T30,Conduit,3,FALSE),VLOOKUP('Whip Data'!$S30,Conduit,3,FALSE)))","v":""},{"$f":"IF(B17=\"\",\"\",'Whip Data'!O30)","v":""},{"$f":"IF(C17=\"\",\"\",'Whip Data'!P30)","v":""},{"$f":"IF($B17=\"\",\"\",IF(ISTEXT('Whip Data'!V30),'Whip Data'!V30,'Whip Data'!U30))","v":""},{"$f":"IF(B17=\"\",\"\",IF(ISBLANK('Whip Data'!X30),'Whip Data'!W30,'Whip Data'!X30))","v":""},"","",{"$f":"IF($B17=\"\",\"\",IF('Whip Data'!Q30=\"\",\"None\",'Whip Data'!Q30))","v":""},{"$f":"IF(O17=\"\",\"\",IF($O17=\"None\",\"NA\",INDEX(Breakers!$A$1:$I$75,MATCH(BOM!C17,Breakers!$A$1:$A$75,0),MATCH(BOM!O17,Breakers!$A$1:$I$1,0))))","v":""},{"$f":"IF(B17=\"\",\"\",VLOOKUP(H17,Standards!$X$3:$Y$6,2,FALSE))","v":""}]
[{"$f":"IF($B18=\"\",\"\",'Whip Data'!$Z31)","v":""},{"$f":"IFERROR('Whip Data'!A31,\"\")","v":""},{"$f":"IF(B18=\"\",\"\",'Whip Data'!L31)","v":""},"",{"$f":"IF($B18=\"\",\"\",VLOOKUP($C18,Materials,'Whip Data'!$M$10+11,FALSE))","v":""},{"$f":"IF($B18=\"\",\"\",VLOOKUP($C18,Materials,'Whip Data'!$M$10+13,FALSE))","v":""},{"$f":"IFERROR(\"LTUA-\"&IF(ISTEXT('Whip Data'!$T31),VLOOKUP('Whip Data'!$T31,Conduit,2,FALSE),VLOOKUP('Whip Data'!$S31,Conduit,2,FALSE))&\"-\"&'Whip Data'!$R31,\"\")","v":""},{"$f":"IF($B18=\"\",\"\",IFERROR(VLOOKUP('Whip Data'!$T31,Conduit,3,FALSE),VLOOKUP('Whip Data'!$S31,Conduit,3,FALSE)))","v":""},{"$f":"IF(B18=\"\",\"\",'Whip Data'!O31)","v":""},{"$f":"IF(C18=\"\",\"\",'Whip Data'!P31)","v":""},{"$f":"IF($B18=\"\",\"\",IF(ISTEXT('Whip Data'!V31),'Whip Data'!V31,'Whip Data'!U31))","v":""},{"$f":"IF(B18=\"\",\"\",IF(ISBLANK('Whip Data'!X31),'Whip Data'!W31,'Whip Data'!X31))","v":""},"","",{"$f":"IF($B18=\"\",\"\",IF('Whip Data'!Q31=\"\",\"None\",'Whip Data'!Q31))","v":""},{"$f":"IF(O18=\"\",\"\",IF($O18=\"None\",\"NA\",INDEX(Breakers!$A$1:$I$75,MATCH(BOM!C18,Breakers!$A$1:$A$75,0),MATCH(BOM!O18,Breakers!$A$1:$I$1,0))))","v":""},{"$f":"IF(B18=\"\",\"\",VLOOKUP(H18,Standards!$X$3:$Y$6,2,FALSE))","v":""}]
[{"$f":"IF($B19=\"\",\"\",'Whip Data'!$Z32)","v":""},{"$f":"IFERROR('Whip Data'!A32,\"\")","v":""},{"$f":"IF(B19=\"\",\"\",'Whip Data'!L32)","v":""},"",{"$f":"IF($B19=\"\",\"\",VLOOKUP($C19,Materials,'Whip Data'!$M$10+11,FALSE))","v":""},{"$f":"IF($B19=\"\",\"\",VLOOKUP($C19,Materials,'Whip Data'!$M$10+13,FALSE))","v":""},{"$f":"IFERROR(\"LTUA-\"&IF(ISTEXT('Whip Data'!$T32),VLOOKUP('Whip Data'!$T32,Conduit,2,FALSE),VLOOKUP('Whip Data'!$S32,Conduit,2,FALSE))&\"-\"&'Whip Data'!$R32,\"\")","v":""},{"$f":"IF($B19=\"\",\"\",IFERROR(VLOOKUP('Whip Data'!$T32,Conduit,3,FALSE),VLOOKUP('Whip Data'!$S32,Conduit,3,FALSE)))","v":""},{"$f":"IF(B19=\"\",\"\",'Whip Data'!O32)","v":""},{"$f":"IF(C19=\"\",\"\",'Whip Data'!P32)","v":""},{"$f":"IF($B19=\"\",\"\",IF(ISTEXT('Whip Data'!V32),'Whip Data'!V32,'Whip Data'!U32))","v":""},{"$f":"IF(B19=\"\",\"\",IF(ISBLANK('Whip Data'!X32),'Whip Data'!W32,'Whip Data'!X32))","v":""},"","",{"$f":"IF($B19=\"\",\"\",IF('Whip Data'!Q32=\"\",\"None\",'Whip Data'!Q32))","v":""},{"$f":"IF(O19=\"\",\"\",IF($O19=\"None\",\"NA\",INDEX(Breakers!$A$1:$I$75,MATCH(BOM!C19,Breakers!$A$1:$A$75,0),MATCH(BOM!O19,Breakers!$A$1:$I$1,0))))","v":""},{"$f":"IF(B19=\"\",\"\",VLOOKUP(H19,Standards!$X$3:$Y$6,2,FALSE))","v":""}]
[{"$f":"IF($B20=\"\",\"\",'Whip Data'!$Z33)","v":""},{"$f":"IFERROR('Whip Data'!A33,\"\")","v":""},{"$f":"IF(B20=\"\",\"\",'Whip Data'!L33)","v":""},"",{"$f":"IF($B20=\"\",\"\",VLOOKUP($C20,Materials,'Whip Data'!$M$10+11,FALSE))","v":""},{"$f":"IF($B20=\"\",\"\",VLOOKUP($C20,Materials,'Whip Data'!$M$10+13,FALSE))","v":""},{"$f":"IFERROR(\"LTUA-\"&IF(ISTEXT('Whip Data'!$T33),VLOOKUP('Whip Data'!$T33,Conduit,2,FALSE),VLOOKUP('Whip Data'!$S33,Conduit,2,FALSE))&\"-\"&'Whip Data'!$R33,\"\")","v":""},{"$f":"IF($B20=\"\",\"\",IFERROR(VLOOKUP('Whip Data'!$T33,Conduit,3,FALSE),VLOOKUP('Whip Data'!$S33,Conduit,3,FALSE)))","v":""},{"$f":"IF(B20=\"\",\"\",'Whip Data'!O33)","v":""},{"$f":"IF(C20=\"\",\"\",'Whip Data'!P33)","v":""},{"$f":"IF($B20=\"\",\"\",IF(ISTEXT('Whip Data'!V33),'Whip Data'!V33,'Whip Data'!U33))","v":""},{"$f":"IF(B20=\"\",\"\",IF(ISBLANK('Whip Data'!X33),'Whip Data'!W33,'Whip Data'!X33))","v":""},"","",{"$f":"IF($B20=\"\",\"\",IF('Whip Data'!Q33=\"\",\"None\",'Whip Data'!Q33))","v":""},{"$f":"IF(O20=\"\",\"\",IF($O20=\"None\",\"NA\",INDEX(Breakers!$A$1:$I$75,MATCH(BOM!C20,Breakers!$A$1:$A$75,0),MATCH(BOM!O20,Breakers!$A$1:$I$1,0))))","v":""},{"$f":"IF(B20=\"\",\"\",VLOOKUP(H20,Standards!$X$3:$Y$6,2,FALSE))","v":""}]
[{"$f":"IF($B21=\"\",\"\",'Whip Data'!$Z34)","v":""},{"$f":"IFERROR('Whip Data'!A34,\"\")","v":""},{"$f":"IF(B21=\"\",\"\",'Whip Data'!L34)","v":""},"",{"$f":"IF($B21=\"\",\"\",VLOOKUP($C21,Materials,'Whip Data'!$M$10+11,FALSE))","v":""},{"$f":"IF($B21=\"\",\"\",VLOOKUP($C21,Materials,'Whip Data'!$M$10+13,FALSE))","v":""},{"$f":"IFERROR(\"LTUA-\"&IF(ISTEXT('Whip Data'!$T34),VLOOKUP('Whip Data'!$T34,Conduit,2,FALSE),VLOOKUP('Whip Data'!$S34,Conduit,2,FALSE))&\"-\"&'Whip Data'!$R34,\"\")","v":""},{"$f":"IF($B21=\"\",\"\",IFERROR(VLOOKUP('Whip Data'!$T34,Conduit,3,FALSE),VLOOKUP('Whip Data'!$S34,Conduit,3,FALSE)))","v":""},{"$f":"IF(B21=\"\",\"\",'Whip Data'!O34)","v":""},{"$f":"IF(C21=\"\",\"\",'Whip Data'!P34)","v":""},{"$f":"IF($B21=\"\",\"\",IF(ISTEXT('Whip Data'!V34),'Whip Data'!V34,'Whip Data'!U34))","v":""},{"$f":"IF(B21=\"\",\"\",IF(ISBLANK('Whip Data'!X34),'Whip Data'!W34,'Whip Data'!X34))","v":""},"","",{"$f":"IF($B21=\"\",\"\",IF('Whip Data'!Q34=\"\",\"None\",'Whip Data'!Q34))","v":""},{"$f":"IF(O21=\"\",\"\",IF($O21=\"None\",\"NA\",INDEX(Breakers!$A$1:$I$75,MATCH(BOM!C21,Breakers!$A$1:$A$75,0),MATCH(BOM!O21,Breakers!$A$1:$I$1,0))))","v":""},{"$f":"IF(B21=\"\",\"\",VLOOKUP(H21,Standards!$X$3:$Y$6,2,FALSE))","v":""}]
[{"$f":"IF($B22=\"\",\"\",'Whip Data'!$Z35)","v":""},{"$f":"IFERROR('Whip Data'!A35,\"\")","v":""},{"$f":"IF(B22=\"\",\"\",'Whip Data'!L35)","v":""},"",{"$f":"IF($B22=\"\",\"\",VLOOKUP($C22,Materials,'Whip Data'!$M$10+11,FALSE))","v":""},{"$f":"IF($B22=\"\",\"\",VLOOKUP($C22,Materials,'Whip Data'!$M$10+13,FALSE))","v":""},{"$f":"IFERROR(\"LTUA-\"&IF(ISTEXT('Whip Data'!$T35),VLOOKUP('Whip Data'!$T35,Conduit,2,FALSE),VLOOKUP('Whip Data'!$S35,Conduit,2,FALSE))&\"-\"&'Whip Data'!$R35,\"\")","v":""},{"$f":"IF($B22=\"\",\"\",IFERROR(VLOOKUP('Whip Data'!$T35,Conduit,3,FALSE),VLOOKUP('Whip Data'!$S35,Conduit,3,FALSE)))","v":""},{"$f":"IF(B22=\"\",\"\",'Whip Data'!O35)","v":""},{"$f":"IF(C22=\"\",\"\",'Whip Data'!P35)","v":""},{"$f":"IF($B22=\"\",\"\",IF(ISTEXT('Whip Data'!V35),'Whip Data'!V35,'Whip Data'!U35))","v":""},{"$f":"IF(B22=\"\",\"\",IF(ISBLANK('Whip Data'!X35),'Whip Data'!W35,'Whip Data'!X35))","v":""},"","",{"$f":"IF($B22=\"\",\"\",IF('Whip Data'!Q35=\"\",\"None\",'Whip Data'!Q35))","v":""},{"$f":"IF(O22=\"\",\"\",IF($O22=\"None\",\"NA\",INDEX(Breakers!$A$1:$I$75,MATCH(BOM!C22,Breakers!$A$1:$A$75,0),MATCH(BOM!O22,Breakers!$A$1:$I$1,0))))","v":""},{"$f":"IF(B22=\"\",\"\",VLOOKUP(H22,Standards!$X$3:$Y$6,2,FALSE))","v":""}]
[{"$f":"IF($B23=\"\",\"\",'Whip Data'!$Z36)","v":""},{"$f":"IFERROR('Whip Data'!A36,\"\")","v":""},{"$f":"IF(B23=\"\",\"\",'Whip Data'!L36)","v":""},"",{"$f":"IF($B23=\"\",\"\",VLOOKUP($C23,Materials,'Whip Data'!$M$10+11,FALSE))","v":""},{"$f":"IF($B23=\"\",\"\",VLOOKUP($C23,Materials,'Whip Data'!$M$10+13,FALSE))","v":""},{"$f":"IFERROR(\"LTUA-\"&IF(ISTEXT('Whip Data'!$T36),VLOOKUP('Whip Data'!$T36,Conduit,2,FALSE),VLOOKUP('Whip Data'!$S36,Conduit,2,FALSE))&\"-\"&'Whip Data'!$R36,\"\")","v":""},{"$f":"IF($B23=\"\",\"\",IFERROR(VLOOKUP('Whip Data'!$T36,Conduit,3,FALSE),VLOOKUP('Whip Data'!$S36,Conduit,3,FALSE)))","v":""},{"$f":"IF(B23=\"\",\"\",'Whip Data'!O36)","v":""},{"$f":"IF(C23=\"\",\"\",'Whip Data'!P36)","v":""},{"$f":"IF($B23=\"\",\"\",IF(ISTEXT('Whip Data'!V36),'Whip Data'!V36,'Whip Data'!U36))","v":""},{"$f":"IF(B23=\"\",\"\",IF(ISBLANK('Whip Data'!X36),'Whip Data'!W36,'Whip Data'!X36))","v":""},"","",{"$f":"IF($B23=\"\",\"\",IF('Whip Data'!Q36=\"\",\"None\",'Whip Data'!Q36))","v":""},{"$f":"IF(O23=\"\",\"\",IF($O23=\"None\",\"NA\",INDEX(Breakers!$A$1:$I$75,MATCH(BOM!C23,Breakers!$A$1:$A$75,0),MATCH(BOM!O23,Breakers!$A$1:$I$1,0))))","v":""},{"$f":"IF(B23=\"\",\"\",VLOOKUP(H23,Standards!$X$3:$Y$6,2,FALSE))","v":""}]
[{"$f":"IF($B24=\"\",\"\",'Whip Data'!$Z37)","v":""},{"$f":"IFERROR('Whip Data'!A37,\"\")","v":""},{"$f":"IF(B24=\"\",\"\",'Whip Data'!L37)","v":""},"",{"$f":"IF($B24=\"\",\"\",VLOOKUP($C24,Materials,'Whip Data'!$M$10+11,FALSE))","v":""},{"$f":"IF($B24=\"\",\"\",VLOOKUP($C24,Materials,'Whip Data'!$M$10+13,FALSE))","v":""},{"$f":"IFERROR(\"LTUA-\"&IF(ISTEXT('Whip Data'!$T37),VLOOKUP('Whip Data'!$T37,Conduit,2,FALSE),VLOOKUP('Whip Data'!$S37,Conduit,2,FALSE))&\"-\"&'Whip Data'!$R37,\"\")","v":""},{"$f":"IF($B24=\"\",\"\",IFERROR(VLOOKUP('Whip Data'!$T37,Conduit,3,FALSE),VLOOKUP('Whip Data'!$S37,Conduit,3,FALSE)))","v":""},{"$f":"IF(B24=\"\",\"\",'Whip Data'!O37)","v":""},{"$f":"IF(C24=\"\",\"\",'Whip Data'!P37)","v":""},{"$f":"IF($B24=\"\",\"\",IF(ISTEXT('Whip Data'!V37),'Whip Data'!V37,'Whip Data'!U37))","v":""},{"$f":"IF(B24=\"\",\"\",IF(ISBLANK('Whip Data'!X37),'Whip Data'!W37,'Whip Data'!X37))","v":""},"","",{"$f":"IF($B24=\"\",\"\",IF('Whip Data'!Q37=\"\",\"None\",'Whip Data'!Q37))","v":""},{"$f":"IF(O24=\"\",\"\",IF($O24=\"None\",\"NA\",INDEX(Breakers!$A$1:$I$75,MATCH(BOM!C24,Breakers!$A$1:$A$75,0),MATCH(BOM!O24,Breakers!$A$1:$I$1,0))))","v":""},{"$f":"IF(B24=\"\",\"\",VLOOKUP(H24,Standards!$X$3:$Y$6,2,FALSE))","v":""}]
[{"$f":"IF($B25=\"\",\"\",'Whip Data'!$Z38)","v":""},{"$f":"IFERROR('Whip Data'!A38,\"\")","v":""},{"$f":"IF(B25=\"\",\"\",'Whip Data'!L38)","v":""},"",{"$f":"IF($B25=\"\",\"\",VLOOKUP($C25,Materials,'Whip Data'!$M$10+11,FALSE))","v":""},{"$f":"IF($B25=\"\",\"\",VLOOKUP($C25,Materials,'Whip Data'!$M$10+13,FALSE))","v":""},{"$f":"IFERROR(\"LTUA-\"&IF(ISTEXT('Whip Data'!$T38),VLOOKUP('Whip Data'!$T38,Conduit,2,FALSE),VLOOKUP('Whip Data'!$S38,Conduit,2,FALSE))&\"-\"&'Whip Data'!$R38,\"\")","v":""},{"$f":"IF($B25=\"\",\"\",IFERROR(VLOOKUP('Whip Data'!$T38,Conduit,3,FALSE),VLOOKUP('Whip Data'!$S38,Conduit,3,FALSE)))","v":""},{"$f":"IF(B25=\"\",\"\",'Whip Data'!O38)","v":""},{"$f":"IF(C25=\"\",\"\",'Whip Data'!P38)","v":""},{"$f":"IF($B25=\"\",\"\",IF(ISTEXT('Whip Data'!V38),'Whip Data'!V38,'Whip Data'!U38))","v":""},{"$f":"IF(B25=\"\",\"\",IF(ISBLANK('Whip Data'!X38),'Whip Data'!W38,'Whip Data'!X38))","v":""},"","",{"$f":"IF($B25=\"\",\"\",IF('Whip Data'!Q38=\"\",\"None\",'Whip Data'!Q38))","v":""},{"$f":"IF(O25=\"\",\"\",IF($O25=\"None\",\"NA\",INDEX(Breakers!$A$1:$I$75,MATCH(BOM!C25,Breakers!$A$1:$A$75,0),MATCH(BOM!O25,Breakers!$A$1:$I$1,0))))","v":""},{"$f":"IF(B25=\"\",\"\",VLOOKUP(H25,Standards!$X$3:$Y$6,2,FALSE))","v":""}]
[{"$f":"IF($B26=\"\",\"\",'Whip Data'!$Z39)","v":""},{"$f":"IFERROR('Whip Data'!A39,\"\")","v":""},{"$f":"IF(B26=\"\",\"\",'Whip Data'!L39)","v":""},"",{"$f":"IF($B26=\"\",\"\",VLOOKUP($C26,Materials,'Whip Data'!$M$10+11,FALSE))","v":""},{"$f":"IF($B26=\"\",\"\",VLOOKUP($C26,Materials,'Whip Data'!$M$10+13,FALSE))","v":""},{"$f":"IFERROR(\"LTUA-\"&IF(ISTEXT('Whip Data'!$T39),VLOOKUP('Whip Data'!$T39,Conduit,2,FALSE),VLOOKUP('Whip Data'!$S39,Conduit,2,FALSE))&\"-\"&'Whip Data'!$R39,\"\")","v":""},{"$f":"IF($B26=\"\",\"\",IFERROR(VLOOKUP('Whip Data'!$T39,Conduit,3,FALSE),VLOOKUP('Whip Data'!$S39,Conduit,3,FALSE)))","v":""},{"$f":"IF(B26=\"\",\"\",'Whip Data'!O39)","v":""},{"$f":"IF(C26=\"\",\"\",'Whip Data'!P39)","v":""},{"$f":"IF($B26=\"\",\"\",IF(ISTEXT('Whip Data'!V39),'Whip Data'!V39,'Whip Data'!U39))","v":""},{"$f":"IF(B26=\"\",\"\",IF(ISBLANK('Whip Data'!X39),'Whip Data'!W39,'Whip Data'!X39))","v":""},"","",{"$f":"IF($B26=\"\",\"\",IF('Whip Data'!Q39=\"\",\"None\",'Whip Data'!Q39))","v":""},{"$f":"IF(O26=\"\",\"\",IF($O26=\"None\",\"NA\",INDEX(Breakers!$A$1:$I$75,MATCH(BOM!C26,Breakers!$A$1:$A$75,0),MATCH(BOM!O26,Breakers!$A$1:$I$1,0))))","v":""},{"$f":"IF(B26=\"\",\"\",VLOOKUP(H26,Standards!$X$3:$Y$6,2,FALSE))","v":""}]
[{"$f":"IF($B27=\"\",\"\",'Whip Data'!$Z40)","v":""},{"$f":"IFERROR('Whip Data'!A40,\"\")","v":""},{"$f":"IF(B27=\"\",\"\",'Whip Data'!L40)","v":""},"",{"$f":"IF($B27=\"\",\"\",VLOOKUP($C27,Materials,'Whip Data'!$M$10+11,FALSE))","v":""},{"$f":"IF($B27=\"\",\"\",VLOOKUP($C27,Materials,'Whip Data'!$M$10+13,FALSE))","v":""},{"$f":"IFERROR(\"LTUA-\"&IF(ISTEXT('Whip Data'!$T40),VLOOKUP('Whip Data'!$T40,Conduit,2,FALSE),VLOOKUP('Whip Data'!$S40,Conduit,2,FALSE))&\"-\"&'Whip Data'!$R40,\"\")","v":""},{"$f":"IF($B27=\"\",\"\",IFERROR(VLOOKUP('Whip Data'!$T40,Conduit,3,FALSE),VLOOKUP('Whip Data'!$S40,Conduit,3,FALSE)))","v":""},{"$f":"IF(B27=\"\",\"\",'Whip Data'!O40)","v":""},{"$f":"IF(C27=\"\",\"\",'Whip Data'!P40)","v":""},{"$f":"IF($B27=\"\",\"\",IF(ISTEXT('Whip Data'!V40),'Whip Data'!V40,'Whip Data'!U40))","v":""},{"$f":"IF(B27=\"\",\"\",IF(ISBLANK('Whip Data'!X40),'Whip Data'!W40,'Whip Data'!X40))","v":""},"","",{"$f":"IF($B27=\"\",\"\",IF('Whip Data'!Q40=\"\",\"None\",'Whip Data'!Q40))","v":""},{"$f":"IF(O27=\"\",\"\",IF($O27=\"None\",\"NA\",INDEX(Breakers!$A$1:$I$75,MATCH(BOM!C27,Breakers!$A$1:$A$75,0),MATCH(BOM!O27,Breakers!$A$1:$I$1,0))))","v":""},{"$f":"IF(B27=\"\",\"\",VLOOKUP(H27,Standards!$X$3:$Y$6,2,FALSE))","v":""}]
[{"$f":"IF($B28=\"\",\"\",'Whip Data'!$Z41)","v":""},{"$f":"IFERROR('Whip Data'!A41,\"\")","v":""},{"$f":"IF(B28=\"\",\"\",'Whip Data'!L41)","v":""},"",{"$f":"IF($B28=\"\",\"\",VLOOKUP($C28,Materials,'Whip Data'!$M$10+11,FALSE))","v":""},{"$f":"IF($B28=\"\",\"\",VLOOKUP($C28,Materials,'Whip Data'!$M$10+13,FALSE))","v":""},{"$f":"IFERROR(\"LTUA-\"&IF(ISTEXT('Whip Data'!$T41),VLOOKUP('Whip Data'!$T41,Conduit,2,FALSE),VLOOKUP('Whip Data'!$S41,Conduit,2,FALSE))&\"-\"&'Whip Data'!$R41,\"\")","v":""},{"$f":"IF($B28=\"\",\"\",IFERROR(VLOOKUP('Whip Data'!$T41,Conduit,3,FALSE),VLOOKUP('Whip Data'!$S41,Conduit,3,FALSE)))","v":""},{"$f":"IF(B28=\"\",\"\",'Whip Data'!O41)","v":""},{"$f":"IF(C28=\"\",\"\",'Whip Data'!P41)","v":""},{"$f":"IF($B28=\"\",\"\",IF(ISTEXT('Whip Data'!V41),'Whip Data'!V41,'Whip Data'!U41))","v":""},{"$f":"IF(B28=\"\",\"\",IF(ISBLANK('Whip Data'!X41),'Whip Data'!W41,'Whip Data'!X41))","v":""},"","",{"$f":"IF($B28=\"\",\"\",IF('Whip Data'!Q41=\"\",\"None\",'Whip Data'!Q41))","v":""},{"$f":"IF(O28=\"\",\"\",IF($O28=\"None\",\"NA\",INDEX(Breakers!$A$1:$I$75,MATCH(BOM!C28,Breakers!$A$1:$A$75,0),MATCH(BOM!O28,Breakers!$A$1:$I$1,0))))","v":""},{"$f":"IF(B28=\"\",\"\",VLOOKUP(H28,Standards!$X$3:$Y$6,2,FALSE))","v":""}]
[{"$f":"IF($B29=\"\",\"\",'Whip Data'!$Z42)","v":""},{"$f":"IFERROR('Whip Data'!A42,\"\")","v":""},{"$f":"IF(B29=\"\",\"\",'Whip Data'!L42)","v":""},"",{"$f":"IF($B29=\"\",\"\",VLOOKUP($C29,Materials,'Whip Data'!$M$10+11,FALSE))","v":""},{"$f":"IF($B29=\"\",\"\",VLOOKUP($C29,Materials,'Whip Data'!$M$10+13,FALSE))","v":""},{"$f":"IFERROR(\"LTUA-\"&IF(ISTEXT('Whip Data'!$T42),VLOOKUP('Whip Data'!$T42,Conduit,2,FALSE),VLOOKUP('Whip Data'!$S42,Conduit,2,FALSE))&\"-\"&'Whip Data'!$R42,\"\")","v":""},{"$f":"IF($B29=\"\",\"\",IFERROR(VLOOKUP('Whip Data'!$T42,Conduit,3,FALSE),VLOOKUP('Whip Data'!$S42,Conduit,3,FALSE)))","v":""},{"$f":"IF(B29=\"\",\"\",'Whip Data'!O42)","v":""},{"$f":"IF(C29=\"\",\"\",'Whip Data'!P42)","v":""},{"$f":"IF($B29=\"\",\"\",IF(ISTEXT('Whip Data'!V42),'Whip Data'!V42,'Whip Data'!U42))","v":""},{"$f":"IF(B29=\"\",\"\",IF(ISBLANK('Whip Data'!X42),'Whip Data'!W42,'Whip Data'!X42))","v":""},"","",{"$f":"IF($B29=\"\",\"\",IF('Whip Data'!Q42=\"\",\"None\",'Whip Data'!Q42))","v":""},{"$f":"IF(O29=\"\",\"\",IF($O29=\"None\",\"NA\",INDEX(Breakers!$A$1:$I$75,MATCH(BOM!C29,Breakers!$A$1:$A$75,0),MATCH(BOM!O29,Breakers!$A$1:$I$1,0))))","v":""},{"$f":"IF(B29=\"\",\"\",VLOOKUP(H29,Standards!$X$3:$Y$6,2,FALSE))","v":""}]
[{"$f":"IF($B30=\"\",\"\",'Whip Data'!$Z43)","v":""},{"$f":"IFERROR('Whip Data'!A43,\"\")","v":""},{"$f":"IF(B30=\"\",\"\",'Whip Data'!L43)","v":""},"",{"$f":"IF($B30=\"\",\"\",VLOOKUP($C30,Materials,'Whip Data'!$M$10+11,FALSE))","v":""},{"$f":"IF($B30=\"\",\"\",VLOOKUP($C30,Materials,'Whip Data'!$M$10+13,FALSE))","v":""},{"$f":"IFERROR(\"LTUA-\"&IF(ISTEXT('Whip Data'!$T43),VLOOKUP('Whip Data'!$T43,Conduit,2,FALSE),VLOOKUP('Whip Data'!$S43,Conduit,2,FALSE))&\"-\"&'Whip Data'!$R43,\"\")","v":""},{"$f":"IF($B30=\"\",\"\",IFERROR(VLOOKUP('Whip Data'!$T43,Conduit,3,FALSE),VLOOKUP('Whip Data'!$S43,Conduit,3,FALSE)))","v":""},{"$f":"IF(B30=\"\",\"\",'Whip Data'!O43)","v":""},{"$f":"IF(C30=\"\",\"\",'Whip Data'!P43)","v":""},{"$f":"IF($B30=\"\",\"\",IF(ISTEXT('Whip Data'!V43),'Whip Data'!V43,'Whip Data'!U43))","v":""},{"$f":"IF(B30=\"\",\"\",IF(ISBLANK('Whip Data'!X43),'Whip Data'!W43,'Whip Data'!X43))","v":""},"","",{"$f":"IF($B30=\"\",\"\",IF('Whip Data'!Q43=\"\",\"None\",'Whip Data'!Q43))","v":""},{"$f":"IF(O30=\"\",\"\",IF($O30=\"None\",\"NA\",INDEX(Breakers!$A$1:$I$75,MATCH(BOM!C30,Breakers!$A$1:$A$75,0),MATCH(BOM!O30,Breakers!$A$1:$I$1,0))))","v":""},{"$f":"IF(B30=\"\",\"\",VLOOKUP(H30,Standards!$X$3:$Y$6,2,FALSE))","v":""}]
[{"$f":"IF($B31=\"\",\"\",'Whip Data'!$Z44)","v":""},{"$f":"IFERROR('Whip Data'!A44,\"\")","v":""},{"$f":"IF(B31=\"\",\"\",'Whip Data'!L44)","v":""},"",{"$f":"IF($B31=\"\",\"\",VLOOKUP($C31,Materials,'Whip Data'!$M$10+11,FALSE))","v":""},{"$f":"IF($B31=\"\",\"\",VLOOKUP($C31,Materials,'Whip Data'!$M$10+13,FALSE))","v":""},{"$f":"IFERROR(\"LTUA-\"&IF(ISTEXT('Whip Data'!$T44),VLOOKUP('Whip Data'!$T44,Conduit,2,FALSE),VLOOKUP('Whip Data'!$S44,Conduit,2,FALSE))&\"-\"&'Whip Data'!$R44,\"\")","v":""},{"$f":"IF($B31=\"\",\"\",IFERROR(VLOOKUP('Whip Data'!$T44,Conduit,3,FALSE),VLOOKUP('Whip Data'!$S44,Conduit,3,FALSE)))","v":""},{"$f":"IF(B31=\"\",\"\",'Whip Data'!O44)","v":""},{"$f":"IF(C31=\"\",\"\",'Whip Data'!P44)","v":""},{"$f":"IF($B31=\"\",\"\",IF(ISTEXT('Whip Data'!V44),'Whip Data'!V44,'Whip Data'!U44))","v":""},{"$f":"IF(B31=\"\",\"\",IF(ISBLANK('Whip Data'!X44),'Whip Data'!W44,'Whip Data'!X44))","v":""},"","",{"$f":"IF($B31=\"\",\"\",IF('Whip Data'!Q44=\"\",\"None\",'Whip Data'!Q44))","v":""},{"$f":"IF(O31=\"\",\"\",IF($O31=\"None\",\"NA\",INDEX(Breakers!$A$1:$I$75,MATCH(BOM!C31,Breakers!$A$1:$A$75,0),MATCH(BOM!O31,Breakers!$A$1:$I$1,0))))","v":""},{"$f":"IF(B31=\"\",\"\",VLOOKUP(H31,Standards!$X$3:$Y$6,2,FALSE))","v":""}]
[{"$f":"IF($B32=\"\",\"\",'Whip Data'!$Z45)","v":""},{"$f":"IFERROR('Whip Data'!A45,\"\")","v":""},{"$f":"IF(B32=\"\",\"\",'Whip Data'!L45)","v":""},"",{"$f":"IF($B32=\"\",\"\",VLOOKUP($C32,Materials,'Whip Data'!$M$10+11,FALSE))","v":""},{"$f":"IF($B32=\"\",\"\",VLOOKUP($C32,Materials,'Whip Data'!$M$10+13,FALSE))","v":""},{"$f":"IFERROR(\"LTUA-\"&IF(ISTEXT('Whip Data'!$T45),VLOOKUP('Whip Data'!$T45,Conduit,2,FALSE),VLOOKUP('Whip Data'!$S45,Conduit,2,FALSE))&\"-\"&'Whip Data'!$R45,\"\")","v":""},{"$f":"IF($B32=\"\",\"\",IFERROR(VLOOKUP('Whip Data'!$T45,Conduit,3,FALSE),VLOOKUP('Whip Data'!$S45,Conduit,3,FALSE)))","v":""},{"$f":"IF(B32=\"\",\"\",'Whip Data'!O45)","v":""},{"$f":"IF(C32=\"\",\"\",'Whip Data'!P45)","v":""},{"$f":"IF($B32=\"\",\"\",IF(ISTEXT('Whip Data'!V45),'Whip Data'!V45,'Whip Data'!U45))","v":""},{"$f":"IF(B32=\"\",\"\",IF(ISBLANK('Whip Data'!X45),'Whip Data'!W45,'Whip Data'!X45))","v":""},"","",{"$f":"IF($B32=\"\",\"\",IF('Whip Data'!Q45=\"\",\"None\",'Whip Data'!Q45))","v":""},{"$f":"IF(O32=\"\",\"\",IF($O32=\"None\",\"NA\",INDEX(Breakers!$A$1:$I$75,MATCH(BOM!C32,Breakers!$A$1:$A$75,0),MATCH(BOM!O32,Breakers!$A$1:$I$1,0))))","v":""},{"$f":"IF(B32=\"\",\"\",VLOOKUP(H32,Standards!$X$3:$Y$6,2,FALSE))","v":""}]
[{"$f":"IF($B33=\"\",\"\",'Whip Data'!$Z46)","v":""},{"$f":"IFERROR('Whip Data'!A46,\"\")","v":""},{"$f":"IF(B33=\"\",\"\",'Whip Data'!L46)","v":""},"",{"$f":"IF($B33=\"\",\"\",VLOOKUP($C33,Materials,'Whip Data'!$M$10+11,FALSE))","v":""},{"$f":"IF($B33=\"\",\"\",VLOOKUP($C33,Materials,'Whip Data'!$M$10+13,FALSE))","v":""},{"$f":"IFERROR(\"LTUA-\"&IF(ISTEXT('Whip Data'!$T46),VLOOKUP('Whip Data'!$T46,Conduit,2,FALSE),VLOOKUP('Whip Data'!$S46,Conduit,2,FALSE))&\"-\"&'Whip Data'!$R46,\"\")","v":""},{"$f":"IF($B33=\"\",\"\",IFERROR(VLOOKUP('Whip Data'!$T46,Conduit,3,FALSE),VLOOKUP('Whip Data'!$S46,Conduit,3,FALSE)))","v":""},{"$f":"IF(B33=\"\",\"\",'Whip Data'!O46)","v":""},{"$f":"IF(C33=\"\",\"\",'Whip Data'!P46)","v":""},{"$f":"IF($B33=\"\",\"\",IF(ISTEXT('Whip Data'!V46),'Whip Data'!V46,'Whip Data'!U46))","v":""},{"$f":"IF(B33=\"\",\"\",IF(ISBLANK('Whip Data'!X46),'Whip Data'!W46,'Whip Data'!X46))","v":""},"","",{"$f":"IF($B33=\"\",\"\",IF('Whip Data'!Q46=\"\",\"None\",'Whip Data'!Q46))","v":""},{"$f":"IF(O33=\"\",\"\",IF($O33=\"None\",\"NA\",INDEX(Breakers!$A$1:$I$75,MATCH(BOM!C33,Breakers!$A$1:$A$75,0),MATCH(BOM!O33,Breakers!$A$1:$I$1,0))))","v":""},{"$f":"IF(B33=\"\",\"\",VLOOKUP(H33,Standards!$X$3:$Y$6,2,FALSE))","v":""}]
[{"$f":"IF($B34=\"\",\"\",'Whip Data'!$Z47)","v":""},{"$f":"IFERROR('Whip Data'!A47,\"\")","v":""},{"$f":"IF(B34=\"\",\"\",'Whip Data'!L47)","v":""},"",{"$f":"IF($B34=\"\",\"\",VLOOKUP($C34,Materials,'Whip Data'!$M$10+11,FALSE))","v":""},{"$f":"IF($B34=\"\",\"\",VLOOKUP($C34,Materials,'Whip Data'!$M$10+13,FALSE))","v":""},{"$f":"IFERROR(\"LTUA-\"&IF(ISTEXT('Whip Data'!$T47),VLOOKUP('Whip Data'!$T47,Conduit,2,FALSE),VLOOKUP('Whip Data'!$S47,Conduit,2,FALSE))&\"-\"&'Whip Data'!$R47,\"\")","v":""},{"$f":"IF($B34=\"\",\"\",IFERROR(VLOOKUP('Whip Data'!$T47,Conduit,3,FALSE),VLOOKUP('Whip Data'!$S47,Conduit,3,FALSE)))","v":""},{"$f":"IF(B34=\"\",\"\",'Whip Data'!O47)","v":""},{"$f":"IF(C34=\"\",\"\",'Whip Data'!P47)","v":""},{"$f":"IF($B34=\"\",\"\",IF(ISTEXT('Whip Data'!V47),'Whip Data'!V47,'Whip Data'!U47))","v":""},{"$f":"IF(B34=\"\",\"\",IF(ISBLANK('Whip Data'!X47),'Whip Data'!W47,'Whip Data'!X47))","v":""},"","",{"$f":"IF($B34=\"\",\"\",IF('Whip Data'!Q47=\"\",\"None\",'Whip Data'!Q47))","v":""},{"$f":"IF(O34=\"\",\"\",IF($O34=\"None\",\"NA\",INDEX(Breakers!$A$1:$I$75,MATCH(BOM!C34,Breakers!$A$1:$A$75,0),MATCH(BOM!O34,Breakers!$A$1:$I$1,0))))","v":""},{"$f":"IF(B34=\"\",\"\",VLOOKUP(H34,Standards!$X$3:$Y$6,2,FALSE))","v":""}]
[{"$f":"IF($B35=\"\",\"\",'Whip Data'!$Z48)","v":""},{"$f":"IFERROR('Whip Data'!A48,\"\")","v":""},{"$f":"IF(B35=\"\",\"\",'Whip Data'!L48)","v":""},"",{"$f":"IF($B35=\"\",\"\",VLOOKUP($C35,Materials,'Whip Data'!$M$10+11,FALSE))","v":""},{"$f":"IF($B35=\"\",\"\",VLOOKUP($C35,Materials,'Whip Data'!$M$10+13,FALSE))","v":""},{"$f":"IFERROR(\"LTUA-\"&IF(ISTEXT('Whip Data'!$T48),VLOOKUP('Whip Data'!$T48,Conduit,2,FALSE),VLOOKUP('Whip Data'!$S48,Conduit,2,FALSE))&\"-\"&'Whip Data'!$R48,\"\")","v":""},{"$f":"IF($B35=\"\",\"\",IFERROR(VLOOKUP('Whip Data'!$T48,Conduit,3,FALSE),VLOOKUP('Whip Data'!$S48,Conduit,3,FALSE)))","v":""},{"$f":"IF(B35=\"\",\"\",'Whip Data'!O48)","v":""},{"$f":"IF(C35=\"\",\"\",'Whip Data'!P48)","v":""},{"$f":"IF($B35=\"\",\"\",IF(ISTEXT('Whip Data'!V48),'Whip Data'!V48,'Whip Data'!U48))","v":""},{"$f":"IF(B35=\"\",\"\",IF(ISBLANK('Whip Data'!X48),'Whip Data'!W48,'Whip Data'!X48))","v":""},"","",{"$f":"IF($B35=\"\",\"\",IF('Whip Data'!Q48=\"\",\"None\",'Whip Data'!Q48))","v":""},{"$f":"IF(O35=\"\",\"\",IF($O35=\"None\",\"NA\",INDEX(Breakers!$A$1:$I$75,MATCH(BOM!C35,Breakers!$A$1:$A$75,0),MATCH(BOM!O35,Breakers!$A$1:$I$1,0))))","v":""},{"$f":"IF(B35=\"\",\"\",VLOOKUP(H35,Standards!$X$3:$Y$6,2,FALSE))","v":""}]
[{"$f":"IF($B36=\"\",\"\",'Whip Data'!$Z49)","v":""},{"$f":"IFERROR('Whip Data'!A49,\"\")","v":""},{"$f":"IF(B36=\"\",\"\",'Whip Data'!L49)","v":""},"",{"$f":"IF($B36=\"\",\"\",VLOOKUP($C36,Materials,'Whip Data'!$M$10+11,FALSE))","v":""},{"$f":"IF($B36=\"\",\"\",VLOOKUP($C36,Materials,'Whip Data'!$M$10+13,FALSE))","v":""},{"$f":"IFERROR(\"LTUA-\"&IF(ISTEXT('Whip Data'!$T49),VLOOKUP('Whip Data'!$T49,Conduit,2,FALSE),VLOOKUP('Whip Data'!$S49,Conduit,2,FALSE))&\"-\"&'Whip Data'!$R49,\"\")","v":""},{"$f":"IF($B36=\"\",\"\",IFERROR(VLOOKUP('Whip Data'!$T49,Conduit,3,FALSE),VLOOKUP('Whip Data'!$S49,Conduit,3,FALSE)))","v":""},{"$f":"IF(B36=\"\",\"\",'Whip Data'!O49)","v":""},{"$f":"IF(C36=\"\",\"\",'Whip Data'!P49)","v":""},{"$f":"IF($B36=\"\",\"\",IF(ISTEXT('Whip Data'!V49),'Whip Data'!V49,'Whip Data'!U49))","v":""},{"$f":"IF(B36=\"\",\"\",IF(ISBLANK('Whip Data'!X49),'Whip Data'!W49,'Whip Data'!X49))","v":""},"","",{"$f":"IF($B36=\"\",\"\",IF('Whip Data'!Q49=\"\",\"None\",'Whip Data'!Q49))","v":""},{"$f":"IF(O36=\"\",\"\",IF($O36=\"None\",\"NA\",INDEX(Breakers!$A$1:$I$75,MATCH(BOM!C36,Breakers!$A$1:$A$75,0),MATCH(BOM!O36,Breakers!$A$1:$I$1,0))))","v":""},{"$f":"IF(B36=\"\",\"\",VLOOKUP(H36,Standards!$X$3:$Y$6,2,FALSE))","v":""}]
[{"$f":"IF($B37=\"\",\"\",'Whip Data'!$Z50)","v":""},{"$f":"IFERROR('Whip Data'!A50,\"\")","v":""},{"$f":"IF(B37=\"\",\"\",'Whip Data'!L50)","v":""},"",{"$f":"IF($B37=\"\",\"\",VLOOKUP($C37,Materials,'Whip Data'!$M$10+11,FALSE))","v":""},{"$f":"IF($B37=\"\",\"\",VLOOKUP($C37,Materials,'Whip Data'!$M$10+13,FALSE))","v":""},{"$f":"IFERROR(\"LTUA-\"&IF(ISTEXT('Whip Data'!$T50),VLOOKUP('Whip Data'!$T50,Conduit,2,FALSE),VLOOKUP('Whip Data'!$S50,Conduit,2,FALSE))&\"-\"&'Whip Data'!$R50,\"\")","v":""},{"$f":"IF($B37=\"\",\"\",IFERROR(VLOOKUP('Whip Data'!$T50,Conduit,3,FALSE),VLOOKUP('Whip Data'!$S50,Conduit,3,FALSE)))","v":""},{"$f":"IF(B37=\"\",\"\",'Whip Data'!O50)","v":""},{"$f":"IF(C37=\"\",\"\",'Whip Data'!P50)","v":""},{"$f":"IF($B37=\"\",\"\",IF(ISTEXT('Whip Data'!V50),'Whip Data'!V50,'Whip Data'!U50))","v":""},{"$f":"IF(B37=\"\",\"\",IF(ISBLANK('Whip Data'!X50),'Whip Data'!W50,'Whip Data'!X50))","v":""},"","",{"$f":"IF($B37=\"\",\"\",IF('Whip Data'!Q50=\"\",\"None\",'Whip Data'!Q50))","v":""},{"$f":"IF(O37=\"\",\"\",IF($O37=\"None\",\"NA\",INDEX(Breakers!$A$1:$I$75,MATCH(BOM!C37,Breakers!$A$1:$A$75,0),MATCH(BOM!O37,Breakers!$A$1:$I$1,0))))","v":""},{"$f":"IF(B37=\"\",\"\",VLOOKUP(H37,Standards!$X$3:$Y$6,2,FALSE))","v":""}]
[{"$f":"IF($B38=\"\",\"\",'Whip Data'!$Z51)","v":""},{"$f":"IFERROR('Whip Data'!A51,\"\")","v":""},{"$f":"IF(B38=\"\",\"\",'Whip Data'!L51)","v":""},"",{"$f":"IF($B38=\"\",\"\",VLOOKUP($C38,Materials,'Whip Data'!$M$10+11,FALSE))","v":""},{"$f":"IF($B38=\"\",\"\",VLOOKUP($C38,Materials,'Whip Data'!$M$10+13,FALSE))","v":""},{"$f":"IFERROR(\"LTUA-\"&IF(ISTEXT('Whip Data'!$T51),VLOOKUP('Whip Data'!$T51,Conduit,2,FALSE),VLOOKUP('Whip Data'!$S51,Conduit,2,FALSE))&\"-\"&'Whip Data'!$R51,\"\")","v":""},{"$f":"IF($B38=\"\",\"\",IFERROR(VLOOKUP('Whip Data'!$T51,Conduit,3,FALSE),VLOOKUP('Whip Data'!$S51,Conduit,3,FALSE)))","v":""},{"$f":"IF(B38=\"\",\"\",'Whip Data'!O51)","v":""},{"$f":"IF(C38=\"\",\"\",'Whip Data'!P51)","v":""},{"$f":"IF($B38=\"\",\"\",IF(ISTEXT('Whip Data'!V51),'Whip Data'!V51,'Whip Data'!U51))","v":""},{"$f":"IF(B38=\"\",\"\",IF(ISBLANK('Whip Data'!X51),'Whip Data'!W51,'Whip Data'!X51))","v":""},"","",{"$f":"IF($B38=\"\",\"\",IF('Whip Data'!Q51=\"\",\"None\",'Whip Data'!Q51))","v":""},{"$f":"IF(O38=\"\",\"\",IF($O38=\"None\",\"NA\",INDEX(Breakers!$A$1:$I$75,MATCH(BOM!C38,Breakers!$A$1:$A$75,0),MATCH(BOM!O38,Breakers!$A$1:$I$1,0))))","v":""},{"$f":"IF(B38=\"\",\"\",VLOOKUP(H38,Standards!$X$3:$Y$6,2,FALSE))","v":""}]
[{"$f":"IF($B39=\"\",\"\",'Whip Data'!$Z52)","v":""},{"$f":"IFERROR('Whip Data'!A52,\"\")","v":""},{"$f":"IF(B39=\"\",\"\",'Whip Data'!L52)","v":""},"",{"$f":"IF($B39=\"\",\"\",VLOOKUP($C39,Materials,'Whip Data'!$M$10+11,FALSE))","v":""},{"$f":"IF($B39=\"\",\"\",VLOOKUP($C39,Materials,'Whip Data'!$M$10+13,FALSE))","v":""},{"$f":"IFERROR(\"LTUA-\"&IF(ISTEXT('Whip Data'!$T52),VLOOKUP('Whip Data'!$T52,Conduit,2,FALSE),VLOOKUP('Whip Data'!$S52,Conduit,2,FALSE))&\"-\"&'Whip Data'!$R52,\"\")","v":""},{"$f":"IF($B39=\"\",\"\",IFERROR(VLOOKUP('Whip Data'!$T52,Conduit,3,FALSE),VLOOKUP('Whip Data'!$S52,Conduit,3,FALSE)))","v":""},{"$f":"IF(B39=\"\",\"\",'Whip Data'!O52)","v":""},{"$f":"IF(C39=\"\",\"\",'Whip Data'!P52)","v":""},{"$f":"IF($B39=\"\",\"\",IF(ISTEXT('Whip Data'!V52),'Whip Data'!V52,'Whip Data'!U52))","v":""},{"$f":"IF(B39=\"\",\"\",IF(ISBLANK('Whip Data'!X52),'Whip Data'!W52,'Whip Data'!X52))","v":""},"","",{"$f":"IF($B39=\"\",\"\",IF('Whip Data'!Q52=\"\",\"None\",'Whip Data'!Q52))","v":""},{"$f":"IF(O39=\"\",\"\",IF($O39=\"None\",\"NA\",INDEX(Breakers!$A$1:$I$75,MATCH(BOM!C39,Breakers!$A$1:$A$75,0),MATCH(BOM!O39,Breakers!$A$1:$I$1,0))))","v":""},{"$f":"IF(B39=\"\",\"\",VLOOKUP(H39,Standards!$X$3:$Y$6,2,FALSE))","v":""}]
[{"$f":"IF($B40=\"\",\"\",'Whip Data'!$Z53)","v":""},{"$f":"IFERROR('Whip Data'!A53,\"\")","v":""},{"$f":"IF(B40=\"\",\"\",'Whip Data'!L53)","v":""},"",{"$f":"IF($B40=\"\",\"\",VLOOKUP($C40,Materials,'Whip Data'!$M$10+11,FALSE))","v":""},{"$f":"IF($B40=\"\",\"\",VLOOKUP($C40,Materials,'Whip Data'!$M$10+13,FALSE))","v":""},{"$f":"IFERROR(\"LTUA-\"&IF(ISTEXT('Whip Data'!$T53),VLOOKUP('Whip Data'!$T53,Conduit,2,FALSE),VLOOKUP('Whip Data'!$S53,Conduit,2,FALSE))&\"-\"&'Whip Data'!$R53,\"\")","v":""},{"$f":"IF($B40=\"\",\"\",IFERROR(VLOOKUP('Whip Data'!$T53,Conduit,3,FALSE),VLOOKUP('Whip Data'!$S53,Conduit,3,FALSE)))","v":""},{"$f":"IF(B40=\"\",\"\",'Whip Data'!O53)","v":""},{"$f":"IF(C40=\"\",\"\",'Whip Data'!P53)","v":""},{"$f":"IF($B40=\"\",\"\",IF(ISTEXT('Whip Data'!V53),'Whip Data'!V53,'Whip Data'!U53))","v":""},{"$f":"IF(B40=\"\",\"\",IF(ISBLANK('Whip Data'!X53),'Whip Data'!W53,'Whip Data'!X53))","v":""},"","",{"$f":"IF($B40=\"\",\"\",IF('Whip Data'!Q53=\"\",\"None\",'Whip Data'!Q53))","v":""},{"$f":"IF(O40=\"\",\"\",IF($O40=\"None\",\"NA\",INDEX(Breakers!$A$1:$I$75,MATCH(BOM!C40,Breakers!$A$1:$A$75,0),MATCH(BOM!O40,Breakers!$A$1:$I$1,0))))","v":""},{"$f":"IF(B40=\"\",\"\",VLOOKUP(H40,Standards!$X$3:$Y$6,2,FALSE))","v":""}]
[{"$f":"IF($B41=\"\",\"\",'Whip Data'!$Z54)","v":""},{"$f":"IFERROR('Whip Data'!A54,\"\")","v":""},{"$f":"IF(B41=\"\",\"\",'Whip Data'!L54)","v":""},"",{"$f":"IF($B41=\"\",\"\",VLOOKUP($C41,Materials,'Whip Data'!$M$10+11,FALSE))","v":""},{"$f":"IF($B41=\"\",\"\",VLOOKUP($C41,Materials,'Whip Data'!$M$10+13,FALSE))","v":""},{"$f":"IFERROR(\"LTUA-\"&IF(ISTEXT('Whip Data'!$T54),VLOOKUP('Whip Data'!$T54,Conduit,2,FALSE),VLOOKUP('Whip Data'!$S54,Conduit,2,FALSE))&\"-\"&'Whip Data'!$R54,\"\")","v":""},{"$f":"IF($B41=\"\",\"\",IFERROR(VLOOKUP('Whip Data'!$T54,Conduit,3,FALSE),VLOOKUP('Whip Data'!$S54,Conduit,3,FALSE)))","v":""},{"$f":"IF(B41=\"\",\"\",'Whip Data'!O54)","v":""},{"$f":"IF(C41=\"\",\"\",'Whip Data'!P54)","v":""},{"$f":"IF($B41=\"\",\"\",IF(ISTEXT('Whip Data'!V54),'Whip Data'!V54,'Whip Data'!U54))","v":""},{"$f":"IF(B41=\"\",\"\",IF(ISBLANK('Whip Data'!X54),'Whip Data'!W54,'Whip Data'!X54))","v":""},"","",{"$f":"IF($B41=\"\",\"\",IF('Whip Data'!Q54=\"\",\"None\",'Whip Data'!Q54))","v":""},{"$f":"IF(O41=\"\",\"\",IF($O41=\"None\",\"NA\",INDEX(Breakers!$A$1:$I$75,MATCH(BOM!C41,Breakers!$A$1:$A$75,0),MATCH(BOM!O41,Breakers!$A$1:$I$1,0))))","v":""},{"$f":"IF(B41=\"\",\"\",VLOOKUP(H41,Standards!$X$3:$Y$6,2,FALSE))","v":""}]
[{"$f":"IF($B42=\"\",\"\",'Whip Data'!$Z55)","v":""},{"$f":"IFERROR('Whip Data'!A55,\"\")","v":""},{"$f":"IF(B42=\"\",\"\",'Whip Data'!L55)","v":""},"",{"$f":"IF($B42=\"\",\"\",VLOOKUP($C42,Materials,'Whip Data'!$M$10+11,FALSE))","v":""},{"$f":"IF($B42=\"\",\"\",VLOOKUP($C42,Materials,'Whip Data'!$M$10+13,FALSE))","v":""},{"$f":"IFERROR(\"LTUA-\"&IF(ISTEXT('Whip Data'!$T55),VLOOKUP('Whip Data'!$T55,Conduit,2,FALSE),VLOOKUP('Whip Data'!$S55,Conduit,2,FALSE))&\"-\"&'Whip Data'!$R55,\"\")","v":""},{"$f":"IF($B42=\"\",\"\",IFERROR(VLOOKUP('Whip Data'!$T55,Conduit,3,FALSE),VLOOKUP('Whip Data'!$S55,Conduit,3,FALSE)))","v":""},{"$f":"IF(B42=\"\",\"\",'Whip Data'!O55)","v":""},{"$f":"IF(C42=\"\",\"\",'Whip Data'!P55)","v":""},{"$f":"IF($B42=\"\",\"\",IF(ISTEXT('Whip Data'!V55),'Whip Data'!V55,'Whip Data'!U55))","v":""},{"$f":"IF(B42=\"\",\"\",IF(ISBLANK('Whip Data'!X55),'Whip Data'!W55,'Whip Data'!X55))","v":""},"","",{"$f":"IF($B42=\"\",\"\",IF('Whip Data'!Q55=\"\",\"None\",'Whip Data'!Q55))","v":""},{"$f":"IF(O42=\"\",\"\",IF($O42=\"None\",\"NA\",INDEX(Breakers!$A$1:$I$75,MATCH(BOM!C42,Breakers!$A$1:$A$75,0),MATCH(BOM!O42,Breakers!$A$1:$I$1,0))))","v":""},{"$f":"IF(B42=\"\",\"\",VLOOKUP(H42,Standards!$X$3:$Y$6,2,FALSE))","v":""}]
[{"$f":"IF($B43=\"\",\"\",'Whip Data'!$Z56)","v":""},{"$f":"IFERROR('Whip Data'!A56,\"\")","v":""},{"$f":"IF(B43=\"\",\"\",'Whip Data'!L56)","v":""},"",{"$f":"IF($B43=\"\",\"\",VLOOKUP($C43,Materials,'Whip Data'!$M$10+11,FALSE))","v":""},{"$f":"IF($B43=\"\",\"\",VLOOKUP($C43,Materials,'Whip Data'!$M$10+13,FALSE))","v":""},{"$f":"IFERROR(\"LTUA-\"&IF(ISTEXT('Whip Data'!$T56),VLOOKUP('Whip Data'!$T56,Conduit,2,FALSE),VLOOKUP('Whip Data'!$S56,Conduit,2,FALSE))&\"-\"&'Whip Data'!$R56,\"\")","v":""},{"$f":"IF($B43=\"\",\"\",IFERROR(VLOOKUP('Whip Data'!$T56,Conduit,3,FALSE),VLOOKUP('Whip Data'!$S56,Conduit,3,FALSE)))","v":""},{"$f":"IF(B43=\"\",\"\",'Whip Data'!O56)","v":""},{"$f":"IF(C43=\"\",\"\",'Whip Data'!P56)","v":""},{"$f":"IF($B43=\"\",\"\",IF(ISTEXT('Whip Data'!V56),'Whip Data'!V56,'Whip Data'!U56))","v":""},{"$f":"IF(B43=\"\",\"\",IF(ISBLANK('Whip Data'!X56),'Whip Data'!W56,'Whip Data'!X56))","v":""},"","",{"$f":"IF($B43=\"\",\"\",IF('Whip Data'!Q56=\"\",\"None\",'Whip Data'!Q56))","v":""},{"$f":"IF(O43=\"\",\"\",IF($O43=\"None\",\"NA\",INDEX(Breakers!$A$1:$I$75,MATCH(BOM!C43,Breakers!$A$1:$A$75,0),MATCH(BOM!O43,Breakers!$A$1:$I$1,0))))","v":""},{"$f":"IF(B43=\"\",\"\",VLOOKUP(H43,Standards!$X$3:$Y$6,2,FALSE))","v":""}]
[{"$f":"IF($B44=\"\",\"\",'Whip Data'!$Z57)","v":""},{"$f":"IFERROR('Whip Data'!A57,\"\")","v":""},{"$f":"IF(B44=\"\",\"\",'Whip Data'!L57)","v":""},"",{"$f":"IF($B44=\"\",\"\",VLOOKUP($C44,Materials,'Whip Data'!$M$10+11,FALSE))","v":""},{"$f":"IF($B44=\"\",\"\",VLOOKUP($C44,Materials,'Whip Data'!$M$10+13,FALSE))","v":""},{"$f":"IFERROR(\"LTUA-\"&IF(ISTEXT('Whip Data'!$T57),VLOOKUP('Whip Data'!$T57,Conduit,2,FALSE),VLOOKUP('Whip Data'!$S57,Conduit,2,FALSE))&\"-\"&'Whip Data'!$R57,\"\")","v":""},{"$f":"IF($B44=\"\",\"\",IFERROR(VLOOKUP('Whip Data'!$T57,Conduit,3,FALSE),VLOOKUP('Whip Data'!$S57,Conduit,3,FALSE)))","v":""},{"$f":"IF(B44=\"\",\"\",'Whip Data'!O57)","v":""},{"$f":"IF(C44=\"\",\"\",'Whip Data'!P57)","v":""},{"$f":"IF($B44=\"\",\"\",IF(ISTEXT('Whip Data'!V57),'Whip Data'!V57,'Whip Data'!U57))","v":""},{"$f":"IF(B44=\"\",\"\",IF(ISBLANK('Whip Data'!X57),'Whip Data'!W57,'Whip Data'!X57))","v":""},"","",{"$f":"IF($B44=\"\",\"\",IF('Whip Data'!Q57=\"\",\"None\",'Whip Data'!Q57))","v":""},{"$f":"IF(O44=\"\",\"\",IF($O44=\"None\",\"NA\",INDEX(Breakers!$A$1:$I$75,MATCH(BOM!C44,Breakers!$A$1:$A$75,0),MATCH(BOM!O44,Breakers!$A$1:$I$1,0))))","v":""},{"$f":"IF(B44=\"\",\"\",VLOOKUP(H44,Standards!$X$3:$Y$6,2,FALSE))","v":""}]
[{"$f":"IF($B45=\"\",\"\",'Whip Data'!$Z58)","v":""},{"$f":"IFERROR('Whip Data'!A58,\"\")","v":""},{"$f":"IF(B45=\"\",\"\",'Whip Data'!L58)","v":""},"",{"$f":"IF($B45=\"\",\"\",VLOOKUP($C45,Materials,'Whip Data'!$M$10+11,FALSE))","v":""},{"$f":"IF($B45=\"\",\"\",VLOOKUP($C45,Materials,'Whip Data'!$M$10+13,FALSE))","v":""},{"$f":"IFERROR(\"LTUA-\"&IF(ISTEXT('Whip Data'!$T58),VLOOKUP('Whip Data'!$T58,Conduit,2,FALSE),VLOOKUP('Whip Data'!$S58,Conduit,2,FALSE))&\"-\"&'Whip Data'!$R58,\"\")","v":""},{"$f":"IF($B45=\"\",\"\",IFERROR(VLOOKUP('Whip Data'!$T58,Conduit,3,FALSE),VLOOKUP('Whip Data'!$S58,Conduit,3,FALSE)))","v":""},{"$f":"IF(B45=\"\",\"\",'Whip Data'!O58)","v":""},{"$f":"IF(C45=\"\",\"\",'Whip Data'!P58)","v":""},{"$f":"IF($B45=\"\",\"\",IF(ISTEXT('Whip Data'!V58),'Whip Data'!V58,'Whip Data'!U58))","v":""},{"$f":"IF(B45=\"\",\"\",IF(ISBLANK('Whip Data'!X58),'Whip Data'!W58,'Whip Data'!X58))","v":""},"","",{"$f":"IF($B45=\"\",\"\",IF('Whip Data'!Q58=\"\",\"None\",'Whip Data'!Q58))","v":""},{"$f":"IF(O45=\"\",\"\",IF($O45=\"None\",\"NA\",INDEX(Breakers!$A$1:$I$75,MATCH(BOM!C45,Breakers!$A$1:$A$75,0),MATCH(BOM!O45,Breakers!$A$1:$I$1,0))))","v":""},{"$f":"IF(B45=\"\",\"\",VLOOKUP(H45,Standards!$X$3:$Y$6,2,FALSE))","v":""}]
[{"$f":"IF($B46=\"\",\"\",'Whip Data'!$Z59)","v":""},{"$f":"IFERROR('Whip Data'!A59,\"\")","v":""},{"$f":"IF(B46=\"\",\"\",'Whip Data'!L59)","v":""},"",{"$f":"IF($B46=\"\",\"\",VLOOKUP($C46,Materials,'Whip Data'!$M$10+11,FALSE))","v":""},{"$f":"IF($B46=\"\",\"\",VLOOKUP($C46,Materials,'Whip Data'!$M$10+13,FALSE))","v":""},{"$f":"IFERROR(\"LTUA-\"&IF(ISTEXT('Whip Data'!$T59),VLOOKUP('Whip Data'!$T59,Conduit,2,FALSE),VLOOKUP('Whip Data'!$S59,Conduit,2,FALSE))&\"-\"&'Whip Data'!$R59,\"\")","v":""},{"$f":"IF($B46=\"\",\"\",IFERROR(VLOOKUP('Whip Data'!$T59,Conduit,3,FALSE),VLOOKUP('Whip Data'!$S59,Conduit,3,FALSE)))","v":""},{"$f":"IF(B46=\"\",\"\",'Whip Data'!O59)","v":""},{"$f":"IF(C46=\"\",\"\",'Whip Data'!P59)","v":""},{"$f":"IF($B46=\"\",\"\",IF(ISTEXT('Whip Data'!V59),'Whip Data'!V59,'Whip Data'!U59))","v":""},{"$f":"IF(B46=\"\",\"\",IF(ISBLANK('Whip Data'!X59),'Whip Data'!W59,'Whip Data'!X59))","v":""},"","",{"$f":"IF($B46=\"\",\"\",IF('Whip Data'!Q59=\"\",\"None\",'Whip Data'!Q59))","v":""},{"$f":"IF(O46=\"\",\"\",IF($O46=\"None\",\"NA\",INDEX(Breakers!$A$1:$I$75,MATCH(BOM!C46,Breakers!$A$1:$A$75,0),MATCH(BOM!O46,Breakers!$A$1:$I$1,0))))","v":""},{"$f":"IF(B46=\"\",\"\",VLOOKUP(H46,Standards!$X$3:$Y$6,2,FALSE))","v":""}]
[{"$f":"IF($B47=\"\",\"\",'Whip Data'!$Z60)","v":""},{"$f":"IFERROR('Whip Data'!A60,\"\")","v":""},{"$f":"IF(B47=\"\",\"\",'Whip Data'!L60)","v":""},"",{"$f":"IF($B47=\"\",\"\",VLOOKUP($C47,Materials,'Whip Data'!$M$10+11,FALSE))","v":""},{"$f":"IF($B47=\"\",\"\",VLOOKUP($C47,Materials,'Whip Data'!$M$10+13,FALSE))","v":""},{"$f":"IFERROR(\"LTUA-\"&IF(ISTEXT('Whip Data'!$T60),VLOOKUP('Whip Data'!$T60,Conduit,2,FALSE),VLOOKUP('Whip Data'!$S60,Conduit,2,FALSE))&\"-\"&'Whip Data'!$R60,\"\")","v":""},{"$f":"IF($B47=\"\",\"\",IFERROR(VLOOKUP('Whip Data'!$T60,Conduit,3,FALSE),VLOOKUP('Whip Data'!$S60,Conduit,3,FALSE)))","v":""},{"$f":"IF(B47=\"\",\"\",'Whip Data'!O60)","v":""},{"$f":"IF(C47=\"\",\"\",'Whip Data'!P60)","v":""},{"$f":"IF($B47=\"\",\"\",IF(ISTEXT('Whip Data'!V60),'Whip Data'!V60,'Whip Data'!U60))","v":""},{"$f":"IF(B47=\"\",\"\",IF(ISBLANK('Whip Data'!X60),'Whip Data'!W60,'Whip Data'!X60))","v":""},"","",{"$f":"IF($B47=\"\",\"\",IF('Whip Data'!Q60=\"\",\"None\",'Whip Data'!Q60))","v":""},{"$f":"IF(O47=\"\",\"\",IF($O47=\"None\",\"NA\",INDEX(Breakers!$A$1:$I$75,MATCH(BOM!C47,Breakers!$A$1:$A$75,0),MATCH(BOM!O47,Breakers!$A$1:$I$1,0))))","v":""},{"$f":"IF(B47=\"\",\"\",VLOOKUP(H47,Standards!$X$3:$Y$6,2,FALSE))","v":""}]
[{"$f":"IF($B48=\"\",\"\",'Whip Data'!$Z61)","v":""},{"$f":"IFERROR('Whip Data'!A61,\"\")","v":""},{"$f":"IF(B48=\"\",\"\",'Whip Data'!L61)","v":""},"",{"$f":"IF($B48=\"\",\"\",VLOOKUP($C48,Materials,'Whip Data'!$M$10+11,FALSE))","v":""},{"$f":"IF($B48=\"\",\"\",VLOOKUP($C48,Materials,'Whip Data'!$M$10+13,FALSE))","v":""},{"$f":"IFERROR(\"LTUA-\"&IF(ISTEXT('Whip Data'!$T61),VLOOKUP('Whip Data'!$T61,Conduit,2,FALSE),VLOOKUP('Whip Data'!$S61,Conduit,2,FALSE))&\"-\"&'Whip Data'!$R61,\"\")","v":""},{"$f":"IF($B48=\"\",\"\",IFERROR(VLOOKUP('Whip Data'!$T61,Conduit,3,FALSE),VLOOKUP('Whip Data'!$S61,Conduit,3,FALSE)))","v":""},{"$f":"IF(B48=\"\",\"\",'Whip Data'!O61)","v":""},{"$f":"IF(C48=\"\",\"\",'Whip Data'!P61)","v":""},{"$f":"IF($B48=\"\",\"\",IF(ISTEXT('Whip Data'!V61),'Whip Data'!V61,'Whip Data'!U61))","v":""},{"$f":"IF(B48=\"\",\"\",IF(ISBLANK('Whip Data'!X61),'Whip Data'!W61,'Whip Data'!X61))","v":""},"","",{"$f":"IF($B48=\"\",\"\",IF('Whip Data'!Q61=\"\",\"None\",'Whip Data'!Q61))","v":""},{"$f":"IF(O48=\"\",\"\",IF($O48=\"None\",\"NA\",INDEX(Breakers!$A$1:$I$75,MATCH(BOM!C48,Breakers!$A$1:$A$75,0),MATCH(BOM!O48,Breakers!$A$1:$I$1,0))))","v":""},{"$f":"IF(B48=\"\",\"\",VLOOKUP(H48,Standards!$X$3:$Y$6,2,FALSE))","v":""}]
[{"$f":"IF($B49=\"\",\"\",'Whip Data'!$Z62)","v":""},{"$f":"IFERROR('Whip Data'!A62,\"\")","v":""},{"$f":"IF(B49=\"\",\"\",'Whip Data'!L62)","v":""},"",{"$f":"IF($B49=\"\",\"\",VLOOKUP($C49,Materials,'Whip Data'!$M$10+11,FALSE))","v":""},{"$f":"IF($B49=\"\",\"\",VLOOKUP($C49,Materials,'Whip Data'!$M$10+13,FALSE))","v":""},{"$f":"IFERROR(\"LTUA-\"&IF(ISTEXT('Whip Data'!$T62),VLOOKUP('Whip Data'!$T62,Conduit,2,FALSE),VLOOKUP('Whip Data'!$S62,Conduit,2,FALSE))&\"-\"&'Whip Data'!$R62,\"\")","v":""},{"$f":"IF($B49=\"\",\"\",IFERROR(VLOOKUP('Whip Data'!$T62,Conduit,3,FALSE),VLOOKUP('Whip Data'!$S62,Conduit,3,FALSE)))","v":""},{"$f":"IF(B49=\"\",\"\",'Whip Data'!O62)","v":""},{"$f":"IF(C49=\"\",\"\",'Whip Data'!P62)","v":""},{"$f":"IF($B49=\"\",\"\",IF(ISTEXT('Whip Data'!V62),'Whip Data'!V62,'Whip Data'!U62))","v":""},{"$f":"IF(B49=\"\",\"\",IF(ISBLANK('Whip Data'!X62),'Whip Data'!W62,'Whip Data'!X62))","v":""},"","",{"$f":"IF($B49=\"\",\"\",IF('Whip Data'!Q62=\"\",\"None\",'Whip Data'!Q62))","v":""},{"$f":"IF(O49=\"\",\"\",IF($O49=\"None\",\"NA\",INDEX(Breakers!$A$1:$I$75,MATCH(BOM!C49,Breakers!$A$1:$A$75,0),MATCH(BOM!O49,Breakers!$A$1:$I$1,0))))","v":""},{"$f":"IF(B49=\"\",\"\",VLOOKUP(H49,Standards!$X$3:$Y$6,2,FALSE))","v":""}]
[{"$f":"IF($B50=\"\",\"\",'Whip Data'!$Z63)","v":""},{"$f":"IFERROR('Whip Data'!A63,\"\")","v":""},{"$f":"IF(B50=\"\",\"\",'Whip Data'!L63)","v":""},"",{"$f":"IF($B50=\"\",\"\",VLOOKUP($C50,Materials,'Whip Data'!$M$10+11,FALSE))","v":""},{"$f":"IF($B50=\"\",\"\",VLOOKUP($C50,Materials,'Whip Data'!$M$10+13,FALSE))","v":""},{"$f":"IFERROR(\"LTUA-\"&IF(ISTEXT('Whip Data'!$T63),VLOOKUP('Whip Data'!$T63,Conduit,2,FALSE),VLOOKUP('Whip Data'!$S63,Conduit,2,FALSE))&\"-\"&'Whip Data'!$R63,\"\")","v":""},{"$f":"IF($B50=\"\",\"\",IFERROR(VLOOKUP('Whip Data'!$T63,Conduit,3,FALSE),VLOOKUP('Whip Data'!$S63,Conduit,3,FALSE)))","v":""},{"$f":"IF(B50=\"\",\"\",'Whip Data'!O63)","v":""},{"$f":"IF(C50=\"\",\"\",'Whip Data'!P63)","v":""},{"$f":"IF($B50=\"\",\"\",IF(ISTEXT('Whip Data'!V63),'Whip Data'!V63,'Whip Data'!U63))","v":""},{"$f":"IF(B50=\"\",\"\",IF(ISBLANK('Whip Data'!X63),'Whip Data'!W63,'Whip Data'!X63))","v":""},"","",{"$f":"IF($B50=\"\",\"\",IF('Whip Data'!Q63=\"\",\"None\",'Whip Data'!Q63))","v":""},{"$f":"IF(O50=\"\",\"\",IF($O50=\"None\",\"NA\",INDEX(Breakers!$A$1:$I$75,MATCH(BOM!C50,Breakers!$A$1:$A$75,0),MATCH(BOM!O50,Breakers!$A$1:$I$1,0))))","v":""},{"$f":"IF(B50=\"\",\"\",VLOOKUP(H50,Standards!$X$3:$Y$6,2,FALSE))","v":""}]
[{"$f":"IF($B51=\"\",\"\",'Whip Data'!$Z64)","v":""},{"$f":"IFERROR('Whip Data'!A64,\"\")","v":""},{"$f":"IF(B51=\"\",\"\",'Whip Data'!L64)","v":""},"",{"$f":"IF($B51=\"\",\"\",VLOOKUP($C51,Materials,'Whip Data'!$M$10+11,FALSE))","v":""},{"$f":"IF($B51=\"\",\"\",VLOOKUP($C51,Materials,'Whip Data'!$M$10+13,FALSE))","v":""},{"$f":"IFERROR(\"LTUA-\"&IF(ISTEXT('Whip Data'!$T64),VLOOKUP('Whip Data'!$T64,Conduit,2,FALSE),VLOOKUP('Whip Data'!$S64,Conduit,2,FALSE))&\"-\"&'Whip Data'!$R64,\"\")","v":""},{"$f":"IF($B51=\"\",\"\",IFERROR(VLOOKUP('Whip Data'!$T64,Conduit,3,FALSE),VLOOKUP('Whip Data'!$S64,Conduit,3,FALSE)))","v":""},{"$f":"IF(B51=\"\",\"\",'Whip Data'!O64)","v":""},{"$f":"IF(C51=\"\",\"\",'Whip Data'!P64)","v":""},{"$f":"IF($B51=\"\",\"\",IF(ISTEXT('Whip Data'!V64),'Whip Data'!V64,'Whip Data'!U64))","v":""},{"$f":"IF(B51=\"\",\"\",IF(ISBLANK('Whip Data'!X64),'Whip Data'!W64,'Whip Data'!X64))","v":""},"","",{"$f":"IF($B51=\"\",\"\",IF('Whip Data'!Q64=\"\",\"None\",'Whip Data'!Q64))","v":""},{"$f":"IF(O51=\"\",\"\",IF($O51=\"None\",\"NA\",INDEX(Breakers!$A$1:$I$75,MATCH(BOM!C51,Breakers!$A$1:$A$75,0),MATCH(BOM!O51,Breakers!$A$1:$I$1,0))))","v":""},{"$f":"IF(B51=\"\",\"\",VLOOKUP(H51,Standards!$X$3:$Y$6,2,FALSE))","v":""}]
[{"$f":"IF($B52=\"\",\"\",'Whip Data'!$Z65)","v":""},{"$f":"IFERROR('Whip Data'!A65,\"\")","v":""},{"$f":"IF(B52=\"\",\"\",'Whip Data'!L65)","v":""},"",{"$f":"IF($B52=\"\",\"\",VLOOKUP($C52,Materials,'Whip Data'!$M$10+11,FALSE))","v":""},{"$f":"IF($B52=\"\",\"\",VLOOKUP($C52,Materials,'Whip Data'!$M$10+13,FALSE))","v":""},{"$f":"IFERROR(\"LTUA-\"&IF(ISTEXT('Whip Data'!$T65),VLOOKUP('Whip Data'!$T65,Conduit,2,FALSE),VLOOKUP('Whip Data'!$S65,Conduit,2,FALSE))&\"-\"&'Whip Data'!$R65,\"\")","v":""},{"$f":"IF($B52=\"\",\"\",IFERROR(VLOOKUP('Whip Data'!$T65,Conduit,3,FALSE),VLOOKUP('Whip Data'!$S65,Conduit,3,FALSE)))","v":""},{"$f":"IF(B52=\"\",\"\",'Whip Data'!O65)","v":""},{"$f":"IF(C52=\"\",\"\",'Whip Data'!P65)","v":""},{"$f":"IF($B52=\"\",\"\",IF(ISTEXT('Whip Data'!V65),'Whip Data'!V65,'Whip Data'!U65))","v":""},{"$f":"IF(B52=\"\",\"\",IF(ISBLANK('Whip Data'!X65),'Whip Data'!W65,'Whip Data'!X65))","v":""},"","",{"$f":"IF($B52=\"\",\"\",IF('Whip Data'!Q65=\"\",\"None\",'Whip Data'!Q65))","v":""},{"$f":"IF(O52=\"\",\"\",IF($O52=\"None\",\"NA\",INDEX(Breakers!$A$1:$I$75,MATCH(BOM!C52,Breakers!$A$1:$A$75,0),MATCH(BOM!O52,Breakers!$A$1:$I$1,0))))","v":""},{"$f":"IF(B52=\"\",\"\",VLOOKUP(H52,Standards!$X$3:$Y$6,2,FALSE))","v":""}]
[{"$f":"IF($B53=\"\",\"\",'Whip Data'!$Z66)","v":""},{"$f":"IFERROR('Whip Data'!A66,\"\")","v":""},{"$f":"IF(B53=\"\",\"\",'Whip Data'!L66)","v":""},"",{"$f":"IF($B53=\"\",\"\",VLOOKUP($C53,Materials,'Whip Data'!$M$10+11,FALSE))","v":""},{"$f":"IF($B53=\"\",\"\",VLOOKUP($C53,Materials,'Whip Data'!$M$10+13,FALSE))","v":""},{"$f":"IFERROR(\"LTUA-\"&IF(ISTEXT('Whip Data'!$T66),VLOOKUP('Whip Data'!$T66,Conduit,2,FALSE),VLOOKUP('Whip Data'!$S66,Conduit,2,FALSE))&\"-\"&'Whip Data'!$R66,\"\")","v":""},{"$f":"IF($B53=\"\",\"\",IFERROR(VLOOKUP('Whip Data'!$T66,Conduit,3,FALSE),VLOOKUP('Whip Data'!$S66,Conduit,3,FALSE)))","v":""},{"$f":"IF(B53=\"\",\"\",'Whip Data'!O66)","v":""},{"$f":"IF(C53=\"\",\"\",'Whip Data'!P66)","v":""},{"$f":"IF($B53=\"\",\"\",IF(ISTEXT('Whip Data'!V66),'Whip Data'!V66,'Whip Data'!U66))","v":""},{"$f":"IF(B53=\"\",\"\",IF(ISBLANK('Whip Data'!X66),'Whip Data'!W66,'Whip Data'!X66))","v":""},"","",{"$f":"IF($B53=\"\",\"\",IF('Whip Data'!Q66=\"\",\"None\",'Whip Data'!Q66))","v":""},{"$f":"IF(O53=\"\",\"\",IF($O53=\"None\",\"NA\",INDEX(Breakers!$A$1:$I$75,MATCH(BOM!C53,Breakers!$A$1:$A$75,0),MATCH(BOM!O53,Breakers!$A$1:$I$1,0))))","v":""},{"$f":"IF(B53=\"\",\"\",VLOOKUP(H53,Standards!$X$3:$Y$6,2,FALSE))","v":""}]
[{"$f":"IF($B54=\"\",\"\",'Whip Data'!$Z67)","v":""},{"$f":"IFERROR('Whip Data'!A67,\"\")","v":""},{"$f":"IF(B54=\"\",\"\",'Whip Data'!L67)","v":""},"",{"$f":"IF($B54=\"\",\"\",VLOOKUP($C54,Materials,'Whip Data'!$M$10+11,FALSE))","v":""},{"$f":"IF($B54=\"\",\"\",VLOOKUP($C54,Materials,'Whip Data'!$M$10+13,FALSE))","v":""},{"$f":"IFERROR(\"LTUA-\"&IF(ISTEXT('Whip Data'!$T67),VLOOKUP('Whip Data'!$T67,Conduit,2,FALSE),VLOOKUP('Whip Data'!$S67,Conduit,2,FALSE))&\"-\"&'Whip Data'!$R67,\"\")","v":""},{"$f":"IF($B54=\"\",\"\",IFERROR(VLOOKUP('Whip Data'!$T67,Conduit,3,FALSE),VLOOKUP('Whip Data'!$S67,Conduit,3,FALSE)))","v":""},{"$f":"IF(B54=\"\",\"\",'Whip Data'!O67)","v":""},{"$f":"IF(C54=\"\",\"\",'Whip Data'!P67)","v":""},{"$f":"IF($B54=\"\",\"\",IF(ISTEXT('Whip Data'!V67),'Whip Data'!V67,'Whip Data'!U67))","v":""},{"$f":"IF(B54=\"\",\"\",IF(ISBLANK('Whip Data'!X67),'Whip Data'!W67,'Whip Data'!X67))","v":""},"","",{"$f":"IF($B54=\"\",\"\",IF('Whip Data'!Q67=\"\",\"None\",'Whip Data'!Q67))","v":""},{"$f":"IF(O54=\"\",\"\",IF($O54=\"None\",\"NA\",INDEX(Breakers!$A$1:$I$75,MATCH(BOM!C54,Breakers!$A$1:$A$75,0),MATCH(BOM!O54,Breakers!$A$1:$I$1,0))))","v":""},{"$f":"IF(B54=\"\",\"\",VLOOKUP(H54,Standards!$X$3:$Y$6,2,FALSE))","v":""}]
[{"$f":"IF($B55=\"\",\"\",'Whip Data'!$Z68)","v":""},{"$f":"IFERROR('Whip Data'!A68,\"\")","v":""},{"$f":"IF(B55=\"\",\"\",'Whip Data'!L68)","v":""},"",{"$f":"IF($B55=\"\",\"\",VLOOKUP($C55,Materials,'Whip Data'!$M$10+11,FALSE))","v":""},{"$f":"IF($B55=\"\",\"\",VLOOKUP($C55,Materials,'Whip Data'!$M$10+13,FALSE))","v":""},{"$f":"IFERROR(\"LTUA-\"&IF(ISTEXT('Whip Data'!$T68),VLOOKUP('Whip Data'!$T68,Conduit,2,FALSE),VLOOKUP('Whip Data'!$S68,Conduit,2,FALSE))&\"-\"&'Whip Data'!$R68,\"\")","v":""},{"$f":"IF($B55=\"\",\"\",IFERROR(VLOOKUP('Whip Data'!$T68,Conduit,3,FALSE),VLOOKUP('Whip Data'!$S68,Conduit,3,FALSE)))","v":""},{"$f":"IF(B55=\"\",\"\",'Whip Data'!O68)","v":""},{"$f":"IF(C55=\"\",\"\",'Whip Data'!P68)","v":""},{"$f":"IF($B55=\"\",\"\",IF(ISTEXT('Whip Data'!V68),'Whip Data'!V68,'Whip Data'!U68))","v":""},{"$f":"IF(B55=\"\",\"\",IF(ISBLANK('Whip Data'!X68),'Whip Data'!W68,'Whip Data'!X68))","v":""},"","",{"$f":"IF($B55=\"\",\"\",IF('Whip Data'!Q68=\"\",\"None\",'Whip Data'!Q68))","v":""},{"$f":"IF(O55=\"\",\"\",IF($O55=\"None\",\"NA\",INDEX(Breakers!$A$1:$I$75,MATCH(BOM!C55,Breakers!$A$1:$A$75,0),MATCH(BOM!O55,Breakers!$A$1:$I$1,0))))","v":""},{"$f":"IF(B55=\"\",\"\",VLOOKUP(H55,Standards!$X$3:$Y$6,2,FALSE))","v":""}]
[{"$f":"IF($B56=\"\",\"\",'Whip Data'!$Z69)","v":""},{"$f":"IFERROR('Whip Data'!A69,\"\")","v":""},{"$f":"IF(B56=\"\",\"\",'Whip Data'!L69)","v":""},"",{"$f":"IF($B56=\"\",\"\",VLOOKUP($C56,Materials,'Whip Data'!$M$10+11,FALSE))","v":""},{"$f":"IF($B56=\"\",\"\",VLOOKUP($C56,Materials,'Whip Data'!$M$10+13,FALSE))","v":""},{"$f":"IFERROR(\"LTUA-\"&IF(ISTEXT('Whip Data'!$T69),VLOOKUP('Whip Data'!$T69,Conduit,2,FALSE),VLOOKUP('Whip Data'!$S69,Conduit,2,FALSE))&\"-\"&'Whip Data'!$R69,\"\")","v":""},{"$f":"IF($B56=\"\",\"\",IFERROR(VLOOKUP('Whip Data'!$T69,Conduit,3,FALSE),VLOOKUP('Whip Data'!$S69,Conduit,3,FALSE)))","v":""},{"$f":"IF(B56=\"\",\"\",'Whip Data'!O69)","v":""},{"$f":"IF(C56=\"\",\"\",'Whip Data'!P69)","v":""},{"$f":"IF($B56=\"\",\"\",IF(ISTEXT('Whip Data'!V69),'Whip Data'!V69,'Whip Data'!U69))","v":""},{"$f":"IF(B56=\"\",\"\",IF(ISBLANK('Whip Data'!X69),'Whip Data'!W69,'Whip Data'!X69))","v":""},"","",{"$f":"IF($B56=\"\",\"\",IF('Whip Data'!Q69=\"\",\"None\",'Whip Data'!Q69))","v":""},{"$f":"IF(O56=\"\",\"\",IF($O56=\"None\",\"NA\",INDEX(Breakers!$A$1:$I$75,MATCH(BOM!C56,Breakers!$A$1:$A$75,0),MATCH(BOM!O56,Breakers!$A$1:$I$1,0))))","v":""},{"$f":"IF(B56=\"\",\"\",VLOOKUP(H56,Standards!$X$3:$Y$6,2,FALSE))","v":""}]
[{"$f":"IF($B57=\"\",\"\",'Whip Data'!$Z70)","v":""},{"$f":"IFERROR('Whip Data'!A70,\"\")","v":""},{"$f":"IF(B57=\"\",\"\",'Whip Data'!L70)","v":""},"",{"$f":"IF($B57=\"\",\"\",VLOOKUP($C57,Materials,'Whip Data'!$M$10+11,FALSE))","v":""},{"$f":"IF($B57=\"\",\"\",VLOOKUP($C57,Materials,'Whip Data'!$M$10+13,FALSE))","v":""},{"$f":"IFERROR(\"LTUA-\"&IF(ISTEXT('Whip Data'!$T70),VLOOKUP('Whip Data'!$T70,Conduit,2,FALSE),VLOOKUP('Whip Data'!$S70,Conduit,2,FALSE))&\"-\"&'Whip Data'!$R70,\"\")","v":""},{"$f":"IF($B57=\"\",\"\",IFERROR(VLOOKUP('Whip Data'!$T70,Conduit,3,FALSE),VLOOKUP('Whip Data'!$S70,Conduit,3,FALSE)))","v":""},{"$f":"IF(B57=\"\",\"\",'Whip Data'!O70)","v":""},{"$f":"IF(C57=\"\",\"\",'Whip Data'!P70)","v":""},{"$f":"IF($B57=\"\",\"\",IF(ISTEXT('Whip Data'!V70),'Whip Data'!V70,'Whip Data'!U70))","v":""},{"$f":"IF(B57=\"\",\"\",IF(ISBLANK('Whip Data'!X70),'Whip Data'!W70,'Whip Data'!X70))","v":""},"","",{"$f":"IF($B57=\"\",\"\",IF('Whip Data'!Q70=\"\",\"None\",'Whip Data'!Q70))","v":""},{"$f":"IF(O57=\"\",\"\",IF($O57=\"None\",\"NA\",INDEX(Breakers!$A$1:$I$75,MATCH(BOM!C57,Breakers!$A$1:$A$75,0),MATCH(BOM!O57,Breakers!$A$1:$I$1,0))))","v":""},{"$f":"IF(B57=\"\",\"\",VLOOKUP(H57,Standards!$X$3:$Y$6,2,FALSE))","v":""}]
[{"$f":"IF($B58=\"\",\"\",'Whip Data'!$Z71)","v":""},{"$f":"IFERROR('Whip Data'!A71,\"\")","v":""},{"$f":"IF(B58=\"\",\"\",'Whip Data'!L71)","v":""},"",{"$f":"IF($B58=\"\",\"\",VLOOKUP($C58,Materials,'Whip Data'!$M$10+11,FALSE))","v":""},{"$f":"IF($B58=\"\",\"\",VLOOKUP($C58,Materials,'Whip Data'!$M$10+13,FALSE))","v":""},{"$f":"IFERROR(\"LTUA-\"&IF(ISTEXT('Whip Data'!$T71),VLOOKUP('Whip Data'!$T71,Conduit,2,FALSE),VLOOKUP('Whip Data'!$S71,Conduit,2,FALSE))&\"-\"&'Whip Data'!$R71,\"\")","v":""},{"$f":"IF($B58=\"\",\"\",IFERROR(VLOOKUP('Whip Data'!$T71,Conduit,3,FALSE),VLOOKUP('Whip Data'!$S71,Conduit,3,FALSE)))","v":""},{"$f":"IF(B58=\"\",\"\",'Whip Data'!O71)","v":""},{"$f":"IF(C58=\"\",\"\",'Whip Data'!P71)","v":""},{"$f":"IF($B58=\"\",\"\",IF(ISTEXT('Whip Data'!V71),'Whip Data'!V71,'Whip Data'!U71))","v":""},{"$f":"IF(B58=\"\",\"\",IF(ISBLANK('Whip Data'!X71),'Whip Data'!W71,'Whip Data'!X71))","v":""},"","",{"$f":"IF($B58=\"\",\"\",IF('Whip Data'!Q71=\"\",\"None\",'Whip Data'!Q71))","v":""},{"$f":"IF(O58=\"\",\"\",IF($O58=\"None\",\"NA\",INDEX(Breakers!$A$1:$I$75,MATCH(BOM!C58,Breakers!$A$1:$A$75,0),MATCH(BOM!O58,Breakers!$A$1:$I$1,0))))","v":""},{"$f":"IF(B58=\"\",\"\",VLOOKUP(H58,Standards!$X$3:$Y$6,2,FALSE))","v":""}]
[{"$f":"IF($B59=\"\",\"\",'Whip Data'!$Z72)","v":""},{"$f":"IFERROR('Whip Data'!A72,\"\")","v":""},{"$f":"IF(B59=\"\",\"\",'Whip Data'!L72)","v":""},"",{"$f":"IF($B59=\"\",\"\",VLOOKUP($C59,Materials,'Whip Data'!$M$10+11,FALSE))","v":""},{"$f":"IF($B59=\"\",\"\",VLOOKUP($C59,Materials,'Whip Data'!$M$10+13,FALSE))","v":""},{"$f":"IFERROR(\"LTUA-\"&IF(ISTEXT('Whip Data'!$T72),VLOOKUP('Whip Data'!$T72,Conduit,2,FALSE),VLOOKUP('Whip Data'!$S72,Conduit,2,FALSE))&\"-\"&'Whip Data'!$R72,\"\")","v":""},{"$f":"IF($B59=\"\",\"\",IFERROR(VLOOKUP('Whip Data'!$T72,Conduit,3,FALSE),VLOOKUP('Whip Data'!$S72,Conduit,3,FALSE)))","v":""},{"$f":"IF(B59=\"\",\"\",'Whip Data'!O72)","v":""},{"$f":"IF(C59=\"\",\"\",'Whip Data'!P72)","v":""},{"$f":"IF($B59=\"\",\"\",IF(ISTEXT('Whip Data'!V72),'Whip Data'!V72,'Whip Data'!U72))","v":""},{"$f":"IF(B59=\"\",\"\",IF(ISBLANK('Whip Data'!X72),'Whip Data'!W72,'Whip Data'!X72))","v":""},"","",{"$f":"IF($B59=\"\",\"\",IF('Whip Data'!Q72=\"\",\"None\",'Whip Data'!Q72))","v":""},{"$f":"IF(O59=\"\",\"\",IF($O59=\"None\",\"NA\",INDEX(Breakers!$A$1:$I$75,MATCH(BOM!C59,Breakers!$A$1:$A$75,0),MATCH(BOM!O59,Breakers!$A$1:$I$1,0))))","v":""},{"$f":"IF(B59=\"\",\"\",VLOOKUP(H59,Standards!$X$3:$Y$6,2,FALSE))","v":""}]
[{"$f":"IF($B60=\"\",\"\",'Whip Data'!$Z73)","v":""},{"$f":"IFERROR('Whip Data'!A73,\"\")","v":""},{"$f":"IF(B60=\"\",\"\",'Whip Data'!L73)","v":""},"",{"$f":"IF($B60=\"\",\"\",VLOOKUP($C60,Materials,'Whip Data'!$M$10+11,FALSE))","v":""},{"$f":"IF($B60=\"\",\"\",VLOOKUP($C60,Materials,'Whip Data'!$M$10+13,FALSE))","v":""},{"$f":"IFERROR(\"LTUA-\"&IF(ISTEXT('Whip Data'!$T73),VLOOKUP('Whip Data'!$T73,Conduit,2,FALSE),VLOOKUP('Whip Data'!$S73,Conduit,2,FALSE))&\"-\"&'Whip Data'!$R73,\"\")","v":""},{"$f":"IF($B60=\"\",\"\",IFERROR(VLOOKUP('Whip Data'!$T73,Conduit,3,FALSE),VLOOKUP('Whip Data'!$S73,Conduit,3,FALSE)))","v":""},{"$f":"IF(B60=\"\",\"\",'Whip Data'!O73)","v":""},{"$f":"IF(C60=\"\",\"\",'Whip Data'!P73)","v":""},{"$f":"IF($B60=\"\",\"\",IF(ISTEXT('Whip Data'!V73),'Whip Data'!V73,'Whip Data'!U73))","v":""},{"$f":"IF(B60=\"\",\"\",IF(ISBLANK('Whip Data'!X73),'Whip Data'!W73,'Whip Data'!X73))","v":""},"","",{"$f":"IF($B60=\"\",\"\",IF('Whip Data'!Q73=\"\",\"None\",'Whip Data'!Q73))","v":""},{"$f":"IF(O60=\"\",\"\",IF($O60=\"None\",\"NA\",INDEX(Breakers!$A$1:$I$75,MATCH(BOM!C60,Breakers!$A$1:$A$75,0),MATCH(BOM!O60,Breakers!$A$1:$I$1,0))))","v":""},{"$f":"IF(B60=\"\",\"\",VLOOKUP(H60,Standards!$X$3:$Y$6,2,FALSE))","v":""}]
[{"$f":"IF($B61=\"\",\"\",'Whip Data'!$Z74)","v":""},{"$f":"IFERROR('Whip Data'!A74,\"\")","v":""},{"$f":"IF(B61=\"\",\"\",'Whip Data'!L74)","v":""},"",{"$f":"IF($B61=\"\",\"\",VLOOKUP($C61,Materials,'Whip Data'!$M$10+11,FALSE))","v":""},{"$f":"IF($B61=\"\",\"\",VLOOKUP($C61,Materials,'Whip Data'!$M$10+13,FALSE))","v":""},{"$f":"IFERROR(\"LTUA-\"&IF(ISTEXT('Whip Data'!$T74),VLOOKUP('Whip Data'!$T74,Conduit,2,FALSE),VLOOKUP('Whip Data'!$S74,Conduit,2,FALSE))&\"-\"&'Whip Data'!$R74,\"\")","v":""},{"$f":"IF($B61=\"\",\"\",IFERROR(VLOOKUP('Whip Data'!$T74,Conduit,3,FALSE),VLOOKUP('Whip Data'!$S74,Conduit,3,FALSE)))","v":""},{"$f":"IF(B61=\"\",\"\",'Whip Data'!O74)","v":""},{"$f":"IF(C61=\"\",\"\",'Whip Data'!P74)","v":""},{"$f":"IF($B61=\"\",\"\",IF(ISTEXT('Whip Data'!V74),'Whip Data'!V74,'Whip Data'!U74))","v":""},{"$f":"IF(B61=\"\",\"\",IF(ISBLANK('Whip Data'!X74),'Whip Data'!W74,'Whip Data'!X74))","v":""},"","",{"$f":"IF($B61=\"\",\"\",IF('Whip Data'!Q74=\"\",\"None\",'Whip Data'!Q74))","v":""},{"$f":"IF(O61=\"\",\"\",IF($O61=\"None\",\"NA\",INDEX(Breakers!$A$1:$I$75,MATCH(BOM!C61,Breakers!$A$1:$A$75,0),MATCH(BOM!O61,Breakers!$A$1:$I$1,0))))","v":""},{"$f":"IF(B61=\"\",\"\",VLOOKUP(H61,Standards!$X$3:$Y$6,2,FALSE))","v":""}]
[{"$f":"IF($B62=\"\",\"\",'Whip Data'!$Z75)","v":""},{"$f":"IFERROR('Whip Data'!A75,\"\")","v":""},{"$f":"IF(B62=\"\",\"\",'Whip Data'!L75)","v":""},"",{"$f":"IF($B62=\"\",\"\",VLOOKUP($C62,Materials,'Whip Data'!$M$10+11,FALSE))","v":""},{"$f":"IF($B62=\"\",\"\",VLOOKUP($C62,Materials,'Whip Data'!$M$10+13,FALSE))","v":""},{"$f":"IFERROR(\"LTUA-\"&IF(ISTEXT('Whip Data'!$T75),VLOOKUP('Whip Data'!$T75,Conduit,2,FALSE),VLOOKUP('Whip Data'!$S75,Conduit,2,FALSE))&\"-\"&'Whip Data'!$R75,\"\")","v":""},{"$f":"IF($B62=\"\",\"\",IFERROR(VLOOKUP('Whip Data'!$T75,Conduit,3,FALSE),VLOOKUP('Whip Data'!$S75,Conduit,3,FALSE)))","v":""},{"$f":"IF(B62=\"\",\"\",'Whip Data'!O75)","v":""},{"$f":"IF(C62=\"\",\"\",'Whip Data'!P75)","v":""},{"$f":"IF($B62=\"\",\"\",IF(ISTEXT('Whip Data'!V75),'Whip Data'!V75,'Whip Data'!U75))","v":""},{"$f":"IF(B62=\"\",\"\",IF(ISBLANK('Whip Data'!X75),'Whip Data'!W75,'Whip Data'!X75))","v":""},"","",{"$f":"IF($B62=\"\",\"\",IF('Whip Data'!Q75=\"\",\"None\",'Whip Data'!Q75))","v":""},{"$f":"IF(O62=\"\",\"\",IF($O62=\"None\",\"NA\",INDEX(Breakers!$A$1:$I$75,MATCH(BOM!C62,Breakers!$A$1:$A$75,0),MATCH(BOM!O62,Breakers!$A$1:$I$1,0))))","v":""},{"$f":"IF(B62=\"\",\"\",VLOOKUP(H62,Standards!$X$3:$Y$6,2,FALSE))","v":""}]
[{"$f":"IF($B63=\"\",\"\",'Whip Data'!$Z76)","v":""},{"$f":"IFERROR('Whip Data'!A76,\"\")","v":""},{"$f":"IF(B63=\"\",\"\",'Whip Data'!L76)","v":""},"",{"$f":"IF($B63=\"\",\"\",VLOOKUP($C63,Materials,'Whip Data'!$M$10+11,FALSE))","v":""},{"$f":"IF($B63=\"\",\"\",VLOOKUP($C63,Materials,'Whip Data'!$M$10+13,FALSE))","v":""},{"$f":"IFERROR(\"LTUA-\"&IF(ISTEXT('Whip Data'!$T76),VLOOKUP('Whip Data'!$T76,Conduit,2,FALSE),VLOOKUP('Whip Data'!$S76,Conduit,2,FALSE))&\"-\"&'Whip Data'!$R76,\"\")","v":""},{"$f":"IF($B63=\"\",\"\",IFERROR(VLOOKUP('Whip Data'!$T76,Conduit,3,FALSE),VLOOKUP('Whip Data'!$S76,Conduit,3,FALSE)))","v":""},{"$f":"IF(B63=\"\",\"\",'Whip Data'!O76)","v":""},{"$f":"IF(C63=\"\",\"\",'Whip Data'!P76)","v":""},{"$f":"IF($B63=\"\",\"\",IF(ISTEXT('Whip Data'!V76),'Whip Data'!V76,'Whip Data'!U76))","v":""},{"$f":"IF(B63=\"\",\"\",IF(ISBLANK('Whip Data'!X76),'Whip Data'!W76,'Whip Data'!X76))","v":""},"","",{"$f":"IF($B63=\"\",\"\",IF('Whip Data'!Q76=\"\",\"None\",'Whip Data'!Q76))","v":""},{"$f":"IF(O63=\"\",\"\",IF($O63=\"None\",\"NA\",INDEX(Breakers!$A$1:$I$75,MATCH(BOM!C63,Breakers!$A$1:$A$75,0),MATCH(BOM!O63,Breakers!$A$1:$I$1,0))))","v":""},{"$f":"IF(B63=\"\",\"\",VLOOKUP(H63,Standards!$X$3:$Y$6,2,FALSE))","v":""}]
[{"$f":"IF($B64=\"\",\"\",'Whip Data'!$Z77)","v":""},{"$f":"IFERROR('Whip Data'!A77,\"\")","v":""},{"$f":"IF(B64=\"\",\"\",'Whip Data'!L77)","v":""},"",{"$f":"IF($B64=\"\",\"\",VLOOKUP($C64,Materials,'Whip Data'!$M$10+11,FALSE))","v":""},{"$f":"IF($B64=\"\",\"\",VLOOKUP($C64,Materials,'Whip Data'!$M$10+13,FALSE))","v":""},{"$f":"IFERROR(\"LTUA-\"&IF(ISTEXT('Whip Data'!$T77),VLOOKUP('Whip Data'!$T77,Conduit,2,FALSE),VLOOKUP('Whip Data'!$S77,Conduit,2,FALSE))&\"-\"&'Whip Data'!$R77,\"\")","v":""},{"$f":"IF($B64=\"\",\"\",IFERROR(VLOOKUP('Whip Data'!$T77,Conduit,3,FALSE),VLOOKUP('Whip Data'!$S77,Conduit,3,FALSE)))","v":""},{"$f":"IF(B64=\"\",\"\",'Whip Data'!O77)","v":""},{"$f":"IF(C64=\"\",\"\",'Whip Data'!P77)","v":""},{"$f":"IF($B64=\"\",\"\",IF(ISTEXT('Whip Data'!V77),'Whip Data'!V77,'Whip Data'!U77))","v":""},{"$f":"IF(B64=\"\",\"\",IF(ISBLANK('Whip Data'!X77),'Whip Data'!W77,'Whip Data'!X77))","v":""},"","",{"$f":"IF($B64=\"\",\"\",IF('Whip Data'!Q77=\"\",\"None\",'Whip Data'!Q77))","v":""},{"$f":"IF(O64=\"\",\"\",IF($O64=\"None\",\"NA\",INDEX(Breakers!$A$1:$I$75,MATCH(BOM!C64,Breakers!$A$1:$A$75,0),MATCH(BOM!O64,Breakers!$A$1:$I$1,0))))","v":""},{"$f":"IF(B64=\"\",\"\",VLOOKUP(H64,Standards!$X$3:$Y$6,2,FALSE))","v":""}]
[{"$f":"IF($B65=\"\",\"\",'Whip Data'!$Z78)","v":""},{"$f":"IFERROR('Whip Data'!A78,\"\")","v":""},{"$f":"IF(B65=\"\",\"\",'Whip Data'!L78)","v":""},"",{"$f":"IF($B65=\"\",\"\",VLOOKUP($C65,Materials,'Whip Data'!$M$10+11,FALSE))","v":""},{"$f":"IF($B65=\"\",\"\",VLOOKUP($C65,Materials,'Whip Data'!$M$10+13,FALSE))","v":""},{"$f":"IFERROR(\"LTUA-\"&IF(ISTEXT('Whip Data'!$T78),VLOOKUP('Whip Data'!$T78,Conduit,2,FALSE),VLOOKUP('Whip Data'!$S78,Conduit,2,FALSE))&\"-\"&'Whip Data'!$R78,\"\")","v":""},{"$f":"IF($B65=\"\",\"\",IFERROR(VLOOKUP('Whip Data'!$T78,Conduit,3,FALSE),VLOOKUP('Whip Data'!$S78,Conduit,3,FALSE)))","v":""},{"$f":"IF(B65=\"\",\"\",'Whip Data'!O78)","v":""},{"$f":"IF(C65=\"\",\"\",'Whip Data'!P78)","v":""},{"$f":"IF($B65=\"\",\"\",IF(ISTEXT('Whip Data'!V78),'Whip Data'!V78,'Whip Data'!U78))","v":""},{"$f":"IF(B65=\"\",\"\",IF(ISBLANK('Whip Data'!X78),'Whip Data'!W78,'Whip Data'!X78))","v":""},"","",{"$f":"IF($B65=\"\",\"\",IF('Whip Data'!Q78=\"\",\"None\",'Whip Data'!Q78))","v":""},{"$f":"IF(O65=\"\",\"\",IF($O65=\"None\",\"NA\",INDEX(Breakers!$A$1:$I$75,MATCH(BOM!C65,Breakers!$A$1:$A$75,0),MATCH(BOM!O65,Breakers!$A$1:$I$1,0))))","v":""},{"$f":"IF(B65=\"\",\"\",VLOOKUP(H65,Standards!$X$3:$Y$6,2,FALSE))","v":""}]
[{"$f":"IF($B66=\"\",\"\",'Whip Data'!$Z79)","v":""},{"$f":"IFERROR('Whip Data'!A79,\"\")","v":""},{"$f":"IF(B66=\"\",\"\",'Whip Data'!L79)","v":""},{"$f":"IF(B66=\"\",\"\",VLOOKUP(C66,Materials,11,FALSE))","v":""},{"$f":"IF($B66=\"\",\"\",VLOOKUP($C66,Materials,'Whip Data'!$M$10+11,FALSE))","v":""},{"$f":"IF($B66=\"\",\"\",VLOOKUP($C66,Materials,'Whip Data'!$M$10+13,FALSE))","v":""},{"$f":"IFERROR(\"LTUA-\"&IF(ISTEXT('Whip Data'!$T79),VLOOKUP('Whip Data'!$T79,Conduit,2,FALSE),VLOOKUP('Whip Data'!$S79,Conduit,2,FALSE))&\"-\"&'Whip Data'!$R79,\"\")","v":""},{"$f":"IF($B66=\"\",\"\",IFERROR(VLOOKUP('Whip Data'!$T79,Conduit,3,FALSE),VLOOKUP('Whip Data'!$S79,Conduit,3,FALSE)))","v":""},{"$f":"IF(B66=\"\",\"\",'Whip Data'!O79)","v":""},{"$f":"IF(C66=\"\",\"\",'Whip Data'!P79)","v":""},{"$f":"IF($B66=\"\",\"\",IF(ISTEXT('Whip Data'!V79),'Whip Data'!V79,'Whip Data'!U79))","v":""},{"$f":"IF(B66=\"\",\"\",IF(ISBLANK('Whip Data'!X79),'Whip Data'!W79,'Whip Data'!X79))","v":""},"","",{"$f":"IF($B66=\"\",\"\",IF('Whip Data'!Q79=\"\",\"None\",'Whip Data'!Q79))","v":""},{"$f":"IF(O66=\"\",\"\",IF($O66=\"None\",\"NA\",INDEX(Breakers!$A$1:$I$75,MATCH(BOM!C66,Breakers!$A$1:$A$75,0),MATCH(BOM!O66,Breakers!$A$1:$I$1,0))))","v":""},{"$f":"IF(B66=\"\",\"\",VLOOKUP(H66,Standards!$X$3:$Y$6,2,FALSE))","v":""}]
[{"$f":"IF($B67=\"\",\"\",'Whip Data'!$Z80)","v":""},{"$f":"IFERROR('Whip Data'!A80,\"\")","v":""},{"$f":"IF(B67=\"\",\"\",'Whip Data'!L80)","v":""},"",{"$f":"IF($B67=\"\",\"\",VLOOKUP($C67,Materials,'Whip Data'!$M$10+11,FALSE))","v":""},{"$f":"IF($B67=\"\",\"\",VLOOKUP($C67,Materials,'Whip Data'!$M$10+13,FALSE))","v":""},{"$f":"IFERROR(\"LTUA-\"&IF(ISTEXT('Whip Data'!$T80),VLOOKUP('Whip Data'!$T80,Conduit,2,FALSE),VLOOKUP('Whip Data'!$S80,Conduit,2,FALSE))&\"-\"&'Whip Data'!$R80,\"\")","v":""},{"$f":"IF($B67=\"\",\"\",IFERROR(VLOOKUP('Whip Data'!$T80,Conduit,3,FALSE),VLOOKUP('Whip Data'!$S80,Conduit,3,FALSE)))","v":""},{"$f":"IF(B67=\"\",\"\",'Whip Data'!O80)","v":""},{"$f":"IF(C67=\"\",\"\",'Whip Data'!P80)","v":""},{"$f":"IF($B67=\"\",\"\",IF(ISTEXT('Whip Data'!V80),'Whip Data'!V80,'Whip Data'!U80))","v":""},{"$f":"IF(B67=\"\",\"\",IF(ISBLANK('Whip Data'!X80),'Whip Data'!W80,'Whip Data'!X80))","v":""},{"$f":"IF(B67=\"\",\"\",SUM(I67:J67))","v":""},{"$f":"IF(B67=\"\",\"\",LEFT(K67,1)*M67)","v":""},{"$f":"IF($B67=\"\",\"\",IF('Whip Data'!Q80=\"\",\"None\",'Whip Data'!Q80))","v":""},{"$f":"IF(O67=\"\",\"\",IF($O67=\"None\",\"NA\",INDEX(Breakers!$A$1:$I$75,MATCH(BOM!C67,Breakers!$A$1:$A$75,0),MATCH(BOM!O67,Breakers!$A$1:$I$1,0))))","v":""},{"$f":"IF(B67=\"\",\"\",VLOOKUP(H67,Standards!$X$3:$Y$6,2,FALSE))","v":""}]
[{"$f":"IF($B68=\"\",\"\",'Whip Data'!$Z81)","v":""},{"$f":"IFERROR('Whip Data'!A81,\"\")","v":""},{"$f":"IF(B68=\"\",\"\",'Whip Data'!L81)","v":""},"",{"$f":"IF($B68=\"\",\"\",VLOOKUP($C68,Materials,'Whip Data'!$M$10+11,FALSE))","v":""},{"$f":"IF($B68=\"\",\"\",VLOOKUP($C68,Materials,'Whip Data'!$M$10+13,FALSE))","v":""},{"$f":"IFERROR(\"LTUA-\"&IF(ISTEXT('Whip Data'!$T81),VLOOKUP('Whip Data'!$T81,Conduit,2,FALSE),VLOOKUP('Whip Data'!$S81,Conduit,2,FALSE))&\"-\"&'Whip Data'!$R81,\"\")","v":""},{"$f":"IF($B68=\"\",\"\",IFERROR(VLOOKUP('Whip Data'!$T81,Conduit,3,FALSE),VLOOKUP('Whip Data'!$S81,Conduit,3,FALSE)))","v":""},{"$f":"IF(B68=\"\",\"\",'Whip Data'!O81)","v":""},{"$f":"IF(C68=\"\",\"\",'Whip Data'!P81)","v":""},{"$f":"IF($B68=\"\",\"\",IF(ISTEXT('Whip Data'!V81),'Whip Data'!V81,'Whip Data'!U81))","v":""},{"$f":"IF(B68=\"\",\"\",IF(ISBLANK('Whip Data'!X81),'Whip Data'!W81,'Whip Data'!X81))","v":""},"","",{"$f":"IF($B68=\"\",\"\",IF('Whip Data'!Q81=\"\",\"None\",'Whip Data'!Q81))","v":""},{"$f":"IF(O68=\"\",\"\",IF($O68=\"None\",\"NA\",INDEX(Breakers!$A$1:$I$75,MATCH(BOM!C68,Breakers!$A$1:$A$75,0),MATCH(BOM!O68,Breakers!$A$1:$I$1,0))))","v":""},{"$f":"IF(B68=\"\",\"\",VLOOKUP(H68,Standards!$X$3:$Y$6,2,FALSE))","v":""}]
[{"$f":"IF($B69=\"\",\"\",'Whip Data'!$Z82)","v":""},{"$f":"IFERROR('Whip Data'!A82,\"\")","v":""},{"$f":"IF(B69=\"\",\"\",'Whip Data'!L82)","v":""},"",{"$f":"IF($B69=\"\",\"\",VLOOKUP($C69,Materials,'Whip Data'!$M$10+11,FALSE))","v":""},{"$f":"IF($B69=\"\",\"\",VLOOKUP($C69,Materials,'Whip Data'!$M$10+13,FALSE))","v":""},{"$f":"IFERROR(\"LTUA-\"&IF(ISTEXT('Whip Data'!$T82),VLOOKUP('Whip Data'!$T82,Conduit,2,FALSE),VLOOKUP('Whip Data'!$S82,Conduit,2,FALSE))&\"-\"&'Whip Data'!$R82,\"\")","v":""},{"$f":"IF($B69=\"\",\"\",IFERROR(VLOOKUP('Whip Data'!$T82,Conduit,3,FALSE),VLOOKUP('Whip Data'!$S82,Conduit,3,FALSE)))","v":""},{"$f":"IF(B69=\"\",\"\",'Whip Data'!O82)","v":""},{"$f":"IF(C69=\"\",\"\",'Whip Data'!P82)","v":""},{"$f":"IF($B69=\"\",\"\",IF(ISTEXT('Whip Data'!V82),'Whip Data'!V82,'Whip Data'!U82))","v":""},{"$f":"IF(B69=\"\",\"\",IF(ISBLANK('Whip Data'!X82),'Whip Data'!W82,'Whip Data'!X82))","v":""},"","",{"$f":"IF($B69=\"\",\"\",IF('Whip Data'!Q82=\"\",\"None\",'Whip Data'!Q82))","v":""},{"$f":"IF(O69=\"\",\"\",IF($O69=\"None\",\"NA\",INDEX(Breakers!$A$1:$I$75,MATCH(BOM!C69,Breakers!$A$1:$A$75,0),MATCH(BOM!O69,Breakers!$A$1:$I$1,0))))","v":""},{"$f":"IF(B69=\"\",\"\",VLOOKUP(H69,Standards!$X$3:$Y$6,2,FALSE))","v":""}]
[{"$f":"IF($B70=\"\",\"\",'Whip Data'!$Z83)","v":""},{"$f":"IFERROR('Whip Data'!A83,\"\")","v":""},{"$f":"IF(B70=\"\",\"\",'Whip Data'!L83)","v":""},"",{"$f":"IF($B70=\"\",\"\",VLOOKUP($C70,Materials,'Whip Data'!$M$10+11,FALSE))","v":""},{"$f":"IF($B70=\"\",\"\",VLOOKUP($C70,Materials,'Whip Data'!$M$10+13,FALSE))","v":""},{"$f":"IFERROR(\"LTUA-\"&IF(ISTEXT('Whip Data'!$T83),VLOOKUP('Whip Data'!$T83,Conduit,2,FALSE),VLOOKUP('Whip Data'!$S83,Conduit,2,FALSE))&\"-\"&'Whip Data'!$R83,\"\")","v":""},{"$f":"IF($B70=\"\",\"\",IFERROR(VLOOKUP('Whip Data'!$T83,Conduit,3,FALSE),VLOOKUP('Whip Data'!$S83,Conduit,3,FALSE)))","v":""},{"$f":"IF(B70=\"\",\"\",'Whip Data'!O83)","v":""},{"$f":"IF(C70=\"\",\"\",'Whip Data'!P83)","v":""},{"$f":"IF($B70=\"\",\"\",IF(ISTEXT('Whip Data'!V83),'Whip Data'!V83,'Whip Data'!U83))","v":""},{"$f":"IF(B70=\"\",\"\",IF(ISBLANK('Whip Data'!X83),'Whip Data'!W83,'Whip Data'!X83))","v":""},"","",{"$f":"IF($B70=\"\",\"\",IF('Whip Data'!Q83=\"\",\"None\",'Whip Data'!Q83))","v":""},{"$f":"IF(O70=\"\",\"\",IF($O70=\"None\",\"NA\",INDEX(Breakers!$A$1:$I$75,MATCH(BOM!C70,Breakers!$A$1:$A$75,0),MATCH(BOM!O70,Breakers!$A$1:$I$1,0))))","v":""},{"$f":"IF(B70=\"\",\"\",VLOOKUP(H70,Standards!$X$3:$Y$6,2,FALSE))","v":""}]
[{"$f":"IF($B71=\"\",\"\",'Whip Data'!$Z84)","v":""},{"$f":"IFERROR('Whip Data'!A84,\"\")","v":""},{"$f":"IF(B71=\"\",\"\",'Whip Data'!L84)","v":""},"",{"$f":"IF($B71=\"\",\"\",VLOOKUP($C71,Materials,'Whip Data'!$M$10+11,FALSE))","v":""},{"$f":"IF($B71=\"\",\"\",VLOOKUP($C71,Materials,'Whip Data'!$M$10+13,FALSE))","v":""},{"$f":"IFERROR(\"LTUA-\"&IF(ISTEXT('Whip Data'!$T84),VLOOKUP('Whip Data'!$T84,Conduit,2,FALSE),VLOOKUP('Whip Data'!$S84,Conduit,2,FALSE))&\"-\"&'Whip Data'!$R84,\"\")","v":""},{"$f":"IF($B71=\"\",\"\",IFERROR(VLOOKUP('Whip Data'!$T84,Conduit,3,FALSE),VLOOKUP('Whip Data'!$S84,Conduit,3,FALSE)))","v":""},{"$f":"IF(B71=\"\",\"\",'Whip Data'!O84)","v":""},{"$f":"IF(C71=\"\",\"\",'Whip Data'!P84)","v":""},{"$f":"IF($B71=\"\",\"\",IF(ISTEXT('Whip Data'!V84),'Whip Data'!V84,'Whip Data'!U84))","v":""},{"$f":"IF(B71=\"\",\"\",IF(ISBLANK('Whip Data'!X84),'Whip Data'!W84,'Whip Data'!X84))","v":""},"","",{"$f":"IF($B71=\"\",\"\",IF('Whip Data'!Q84=\"\",\"None\",'Whip Data'!Q84))","v":""},{"$f":"IF(O71=\"\",\"\",IF($O71=\"None\",\"NA\",INDEX(Breakers!$A$1:$I$75,MATCH(BOM!C71,Breakers!$A$1:$A$75,0),MATCH(BOM!O71,Breakers!$A$1:$I$1,0))))","v":""},{"$f":"IF(B71=\"\",\"\",VLOOKUP(H71,Standards!$X$3:$Y$6,2,FALSE))","v":""}]
[{"$f":"IF($B72=\"\",\"\",'Whip Data'!$Z85)","v":""},{"$f":"IFERROR('Whip Data'!A85,\"\")","v":""},{"$f":"IF(B72=\"\",\"\",'Whip Data'!L85)","v":""},"",{"$f":"IF($B72=\"\",\"\",VLOOKUP($C72,Materials,'Whip Data'!$M$10+11,FALSE))","v":""},{"$f":"IF($B72=\"\",\"\",VLOOKUP($C72,Materials,'Whip Data'!$M$10+13,FALSE))","v":""},{"$f":"IFERROR(\"LTUA-\"&IF(ISTEXT('Whip Data'!$T85),VLOOKUP('Whip Data'!$T85,Conduit,2,FALSE),VLOOKUP('Whip Data'!$S85,Conduit,2,FALSE))&\"-\"&'Whip Data'!$R85,\"\")","v":""},{"$f":"IF($B72=\"\",\"\",IFERROR(VLOOKUP('Whip Data'!$T85,Conduit,3,FALSE),VLOOKUP('Whip Data'!$S85,Conduit,3,FALSE)))","v":""},{"$f":"IF(B72=\"\",\"\",'Whip Data'!O85)","v":""},{"$f":"IF(C72=\"\",\"\",'Whip Data'!P85)","v":""},{"$f":"IF($B72=\"\",\"\",IF(ISTEXT('Whip Data'!V85),'Whip Data'!V85,'Whip Data'!U85))","v":""},{"$f":"IF(B72=\"\",\"\",IF(ISBLANK('Whip Data'!X85),'Whip Data'!W85,'Whip Data'!X85))","v":""},"","",{"$f":"IF($B72=\"\",\"\",IF('Whip Data'!Q85=\"\",\"None\",'Whip Data'!Q85))","v":""},{"$f":"IF(O72=\"\",\"\",IF($O72=\"None\",\"NA\",INDEX(Breakers!$A$1:$I$75,MATCH(BOM!C72,Breakers!$A$1:$A$75,0),MATCH(BOM!O72,Breakers!$A$1:$I$1,0))))","v":""},{"$f":"IF(B72=\"\",\"\",VLOOKUP(H72,Standards!$X$3:$Y$6,2,FALSE))","v":""}]
[{"$f":"IF($B73=\"\",\"\",'Whip Data'!$Z86)","v":""},{"$f":"IFERROR('Whip Data'!A86,\"\")","v":""},{"$f":"IF(B73=\"\",\"\",'Whip Data'!L86)","v":""},"",{"$f":"IF($B73=\"\",\"\",VLOOKUP($C73,Materials,'Whip Data'!$M$10+11,FALSE))","v":""},{"$f":"IF($B73=\"\",\"\",VLOOKUP($C73,Materials,'Whip Data'!$M$10+13,FALSE))","v":""},{"$f":"IFERROR(\"LTUA-\"&IF(ISTEXT('Whip Data'!$T86),VLOOKUP('Whip Data'!$T86,Conduit,2,FALSE),VLOOKUP('Whip Data'!$S86,Conduit,2,FALSE))&\"-\"&'Whip Data'!$R86,\"\")","v":""},{"$f":"IF($B73=\"\",\"\",IFERROR(VLOOKUP('Whip Data'!$T86,Conduit,3,FALSE),VLOOKUP('Whip Data'!$S86,Conduit,3,FALSE)))","v":""},{"$f":"IF(B73=\"\",\"\",'Whip Data'!O86)","v":""},{"$f":"IF(C73=\"\",\"\",'Whip Data'!P86)","v":""},{"$f":"IF($B73=\"\",\"\",IF(ISTEXT('Whip Data'!V86),'Whip Data'!V86,'Whip Data'!U86))","v":""},{"$f":"IF(B73=\"\",\"\",IF(ISBLANK('Whip Data'!X86),'Whip Data'!W86,'Whip Data'!X86))","v":""},"","",{"$f":"IF($B73=\"\",\"\",IF('Whip Data'!Q86=\"\",\"None\",'Whip Data'!Q86))","v":""},{"$f":"IF(O73=\"\",\"\",IF($O73=\"None\",\"NA\",INDEX(Breakers!$A$1:$I$75,MATCH(BOM!C73,Breakers!$A$1:$A$75,0),MATCH(BOM!O73,Breakers!$A$1:$I$1,0))))","v":""},{"$f":"IF(B73=\"\",\"\",VLOOKUP(H73,Standards!$X$3:$Y$6,2,FALSE))","v":""}]
[{"$f":"IF($B74=\"\",\"\",'Whip Data'!$Z87)","v":""},{"$f":"IFERROR('Whip Data'!A87,\"\")","v":""},{"$f":"IF(B74=\"\",\"\",'Whip Data'!L87)","v":""},"",{"$f":"IF($B74=\"\",\"\",VLOOKUP($C74,Materials,'Whip Data'!$M$10+11,FALSE))","v":""},{"$f":"IF($B74=\"\",\"\",VLOOKUP($C74,Materials,'Whip Data'!$M$10+13,FALSE))","v":""},{"$f":"IFERROR(\"LTUA-\"&IF(ISTEXT('Whip Data'!$T87),VLOOKUP('Whip Data'!$T87,Conduit,2,FALSE),VLOOKUP('Whip Data'!$S87,Conduit,2,FALSE))&\"-\"&'Whip Data'!$R87,\"\")","v":""},{"$f":"IF($B74=\"\",\"\",IFERROR(VLOOKUP('Whip Data'!$T87,Conduit,3,FALSE),VLOOKUP('Whip Data'!$S87,Conduit,3,FALSE)))","v":""},{"$f":"IF(B74=\"\",\"\",'Whip Data'!O87)","v":""},{"$f":"IF(C74=\"\",\"\",'Whip Data'!P87)","v":""},{"$f":"IF($B74=\"\",\"\",IF(ISTEXT('Whip Data'!V87),'Whip Data'!V87,'Whip Data'!U87))","v":""},{"$f":"IF(B74=\"\",\"\",IF(ISBLANK('Whip Data'!X87),'Whip Data'!W87,'Whip Data'!X87))","v":""},"","",{"$f":"IF($B74=\"\",\"\",IF('Whip Data'!Q87=\"\",\"None\",'Whip Data'!Q87))","v":""},{"$f":"IF(O74=\"\",\"\",IF($O74=\"None\",\"NA\",INDEX(Breakers!$A$1:$I$75,MATCH(BOM!C74,Breakers!$A$1:$A$75,0),MATCH(BOM!O74,Breakers!$A$1:$I$1,0))))","v":""},{"$f":"IF(B74=\"\",\"\",VLOOKUP(H74,Standards!$X$3:$Y$6,2,FALSE))","v":""}]
[{"$f":"IF($B75=\"\",\"\",'Whip Data'!$Z88)","v":""},{"$f":"IFERROR('Whip Data'!A88,\"\")","v":""},{"$f":"IF(B75=\"\",\"\",'Whip Data'!L88)","v":""},"",{"$f":"IF($B75=\"\",\"\",VLOOKUP($C75,Materials,'Whip Data'!$M$10+11,FALSE))","v":""},{"$f":"IF($B75=\"\",\"\",VLOOKUP($C75,Materials,'Whip Data'!$M$10+13,FALSE))","v":""},{"$f":"IFERROR(\"LTUA-\"&IF(ISTEXT('Whip Data'!$T88),VLOOKUP('Whip Data'!$T88,Conduit,2,FALSE),VLOOKUP('Whip Data'!$S88,Conduit,2,FALSE))&\"-\"&'Whip Data'!$R88,\"\")","v":""},{"$f":"IF($B75=\"\",\"\",IFERROR(VLOOKUP('Whip Data'!$T88,Conduit,3,FALSE),VLOOKUP('Whip Data'!$S88,Conduit,3,FALSE)))","v":""},{"$f":"IF(B75=\"\",\"\",'Whip Data'!O88)","v":""},{"$f":"IF(C75=\"\",\"\",'Whip Data'!P88)","v":""},{"$f":"IF($B75=\"\",\"\",IF(ISTEXT('Whip Data'!V88),'Whip Data'!V88,'Whip Data'!U88))","v":""},{"$f":"IF(B75=\"\",\"\",IF(ISBLANK('Whip Data'!X88),'Whip Data'!W88,'Whip Data'!X88))","v":""},"","",{"$f":"IF($B75=\"\",\"\",IF('Whip Data'!Q88=\"\",\"None\",'Whip Data'!Q88))","v":""},{"$f":"IF(O75=\"\",\"\",IF($O75=\"None\",\"NA\",INDEX(Breakers!$A$1:$I$75,MATCH(BOM!C75,Breakers!$A$1:$A$75,0),MATCH(BOM!O75,Breakers!$A$1:$I$1,0))))","v":""},{"$f":"IF(B75=\"\",\"\",VLOOKUP(H75,Standards!$X$3:$Y$6,2,FALSE))","v":""}]
[{"$f":"IF($B76=\"\",\"\",'Whip Data'!$Z89)","v":""},{"$f":"IFERROR('Whip Data'!A89,\"\")","v":""},{"$f":"IF(B76=\"\",\"\",'Whip Data'!L89)","v":""},"",{"$f":"IF($B76=\"\",\"\",VLOOKUP($C76,Materials,'Whip Data'!$M$10+11,FALSE))","v":""},{"$f":"IF($B76=\"\",\"\",VLOOKUP($C76,Materials,'Whip Data'!$M$10+13,FALSE))","v":""},{"$f":"IFERROR(\"LTUA-\"&IF(ISTEXT('Whip Data'!$T89),VLOOKUP('Whip Data'!$T89,Conduit,2,FALSE),VLOOKUP('Whip Data'!$S89,Conduit,2,FALSE))&\"-\"&'Whip Data'!$R89,\"\")","v":""},{"$f":"IF($B76=\"\",\"\",IFERROR(VLOOKUP('Whip Data'!$T89,Conduit,3,FALSE),VLOOKUP('Whip Data'!$S89,Conduit,3,FALSE)))","v":""},{"$f":"IF(B76=\"\",\"\",'Whip Data'!O89)","v":""},{"$f":"IF(C76=\"\",\"\",'Whip Data'!P89)","v":""},{"$f":"IF($B76=\"\",\"\",IF(ISTEXT('Whip Data'!V89),'Whip Data'!V89,'Whip Data'!U89))","v":""},{"$f":"IF(B76=\"\",\"\",IF(ISBLANK('Whip Data'!X89),'Whip Data'!W89,'Whip Data'!X89))","v":""},"","",{"$f":"IF($B76=\"\",\"\",IF('Whip Data'!Q89=\"\",\"None\",'Whip Data'!Q89))","v":""},{"$f":"IF(O76=\"\",\"\",IF($O76=\"None\",\"NA\",INDEX(Breakers!$A$1:$I$75,MATCH(BOM!C76,Breakers!$A$1:$A$75,0),MATCH(BOM!O76,Breakers!$A$1:$I$1,0))))","v":""},{"$f":"IF(B76=\"\",\"\",VLOOKUP(H76,Standards!$X$3:$Y$6,2,FALSE))","v":""}]
[{"$f":"IF($B77=\"\",\"\",'Whip Data'!$Z90)","v":""},{"$f":"IFERROR('Whip Data'!A90,\"\")","v":""},{"$f":"IF(B77=\"\",\"\",'Whip Data'!L90)","v":""},"",{"$f":"IF($B77=\"\",\"\",VLOOKUP($C77,Materials,'Whip Data'!$M$10+11,FALSE))","v":""},{"$f":"IF($B77=\"\",\"\",VLOOKUP($C77,Materials,'Whip Data'!$M$10+13,FALSE))","v":""},{"$f":"IFERROR(\"LTUA-\"&IF(ISTEXT('Whip Data'!$T90),VLOOKUP('Whip Data'!$T90,Conduit,2,FALSE),VLOOKUP('Whip Data'!$S90,Conduit,2,FALSE))&\"-\"&'Whip Data'!$R90,\"\")","v":""},{"$f":"IF($B77=\"\",\"\",IFERROR(VLOOKUP('Whip Data'!$T90,Conduit,3,FALSE),VLOOKUP('Whip Data'!$S90,Conduit,3,FALSE)))","v":""},{"$f":"IF(B77=\"\",\"\",'Whip Data'!O90)","v":""},{"$f":"IF(C77=\"\",\"\",'Whip Data'!P90)","v":""},{"$f":"IF($B77=\"\",\"\",IF(ISTEXT('Whip Data'!V90),'Whip Data'!V90,'Whip Data'!U90))","v":""},{"$f":"IF(B77=\"\",\"\",IF(ISBLANK('Whip Data'!X90),'Whip Data'!W90,'Whip Data'!X90))","v":""},"","",{"$f":"IF($B77=\"\",\"\",IF('Whip Data'!Q90=\"\",\"None\",'Whip Data'!Q90))","v":""},{"$f":"IF(O77=\"\",\"\",IF($O77=\"None\",\"NA\",INDEX(Breakers!$A$1:$I$75,MATCH(BOM!C77,Breakers!$A$1:$A$75,0),MATCH(BOM!O77,Breakers!$A$1:$I$1,0))))","v":""},{"$f":"IF(B77=\"\",\"\",VLOOKUP(H77,Standards!$X$3:$Y$6,2,FALSE))","v":""}]
[{"$f":"IF($B78=\"\",\"\",'Whip Data'!$Z91)","v":""},{"$f":"IFERROR('Whip Data'!A91,\"\")","v":""},{"$f":"IF(B78=\"\",\"\",'Whip Data'!L91)","v":""},"",{"$f":"IF($B78=\"\",\"\",VLOOKUP($C78,Materials,'Whip Data'!$M$10+11,FALSE))","v":""},{"$f":"IF($B78=\"\",\"\",VLOOKUP($C78,Materials,'Whip Data'!$M$10+13,FALSE))","v":""},{"$f":"IFERROR(\"LTUA-\"&IF(ISTEXT('Whip Data'!$T91),VLOOKUP('Whip Data'!$T91,Conduit,2,FALSE),VLOOKUP('Whip Data'!$S91,Conduit,2,FALSE))&\"-\"&'Whip Data'!$R91,\"\")","v":""},{"$f":"IF($B78=\"\",\"\",IFERROR(VLOOKUP('Whip Data'!$T91,Conduit,3,FALSE),VLOOKUP('Whip Data'!$S91,Conduit,3,FALSE)))","v":""},{"$f":"IF(B78=\"\",\"\",'Whip Data'!O91)","v":""},{"$f":"IF(C78=\"\",\"\",'Whip Data'!P91)","v":""},{"$f":"IF($B78=\"\",\"\",IF(ISTEXT('Whip Data'!V91),'Whip Data'!V91,'Whip Data'!U91))","v":""},{"$f":"IF(B78=\"\",\"\",IF(ISBLANK('Whip Data'!X91),'Whip Data'!W91,'Whip Data'!X91))","v":""},"","",{"$f":"IF($B78=\"\",\"\",IF('Whip Data'!Q91=\"\",\"None\",'Whip Data'!Q91))","v":""},{"$f":"IF(O78=\"\",\"\",IF($O78=\"None\",\"NA\",INDEX(Breakers!$A$1:$I$75,MATCH(BOM!C78,Breakers!$A$1:$A$75,0),MATCH(BOM!O78,Breakers!$A$1:$I$1,0))))","v":""},{"$f":"IF(B78=\"\",\"\",VLOOKUP(H78,Standards!$X$3:$Y$6,2,FALSE))","v":""}]
[{"$f":"IF($B79=\"\",\"\",'Whip Data'!$Z92)","v":""},{"$f":"IFERROR('Whip Data'!A92,\"\")","v":""},{"$f":"IF(B79=\"\",\"\",'Whip Data'!L92)","v":""},"",{"$f":"IF($B79=\"\",\"\",VLOOKUP($C79,Materials,'Whip Data'!$M$10+11,FALSE))","v":""},{"$f":"IF($B79=\"\",\"\",VLOOKUP($C79,Materials,'Whip Data'!$M$10+13,FALSE))","v":""},{"$f":"IFERROR(\"LTUA-\"&IF(ISTEXT('Whip Data'!$T92),VLOOKUP('Whip Data'!$T92,Conduit,2,FALSE),VLOOKUP('Whip Data'!$S92,Conduit,2,FALSE))&\"-\"&'Whip Data'!$R92,\"\")","v":""},{"$f":"IF($B79=\"\",\"\",IFERROR(VLOOKUP('Whip Data'!$T92,Conduit,3,FALSE),VLOOKUP('Whip Data'!$S92,Conduit,3,FALSE)))","v":""},{"$f":"IF(B79=\"\",\"\",'Whip Data'!O92)","v":""},{"$f":"IF(C79=\"\",\"\",'Whip Data'!P92)","v":""},{"$f":"IF($B79=\"\",\"\",IF(ISTEXT('Whip Data'!V92),'Whip Data'!V92,'Whip Data'!U92))","v":""},{"$f":"IF(B79=\"\",\"\",IF(ISBLANK('Whip Data'!X92),'Whip Data'!W92,'Whip Data'!X92))","v":""},"","",{"$f":"IF($B79=\"\",\"\",IF('Whip Data'!Q92=\"\",\"None\",'Whip Data'!Q92))","v":""},{"$f":"IF(O79=\"\",\"\",IF($O79=\"None\",\"NA\",INDEX(Breakers!$A$1:$I$75,MATCH(BOM!C79,Breakers!$A$1:$A$75,0),MATCH(BOM!O79,Breakers!$A$1:$I$1,0))))","v":""},{"$f":"IF(B79=\"\",\"\",VLOOKUP(H79,Standards!$X$3:$Y$6,2,FALSE))","v":""}]
[{"$f":"IF($B80=\"\",\"\",'Whip Data'!$Z93)","v":""},{"$f":"IFERROR('Whip Data'!A93,\"\")","v":""},{"$f":"IF(B80=\"\",\"\",'Whip Data'!L93)","v":""},"",{"$f":"IF($B80=\"\",\"\",VLOOKUP($C80,Materials,'Whip Data'!$M$10+11,FALSE))","v":""},{"$f":"IF($B80=\"\",\"\",VLOOKUP($C80,Materials,'Whip Data'!$M$10+13,FALSE))","v":""},{"$f":"IFERROR(\"LTUA-\"&IF(ISTEXT('Whip Data'!$T93),VLOOKUP('Whip Data'!$T93,Conduit,2,FALSE),VLOOKUP('Whip Data'!$S93,Conduit,2,FALSE))&\"-\"&'Whip Data'!$R93,\"\")","v":""},{"$f":"IF($B80=\"\",\"\",IFERROR(VLOOKUP('Whip Data'!$T93,Conduit,3,FALSE),VLOOKUP('Whip Data'!$S93,Conduit,3,FALSE)))","v":""},{"$f":"IF(B80=\"\",\"\",'Whip Data'!O93)","v":""},{"$f":"IF(C80=\"\",\"\",'Whip Data'!P93)","v":""},{"$f":"IF($B80=\"\",\"\",IF(ISTEXT('Whip Data'!V93),'Whip Data'!V93,'Whip Data'!U93))","v":""},{"$f":"IF(B80=\"\",\"\",IF(ISBLANK('Whip Data'!X93),'Whip Data'!W93,'Whip Data'!X93))","v":""},"","",{"$f":"IF($B80=\"\",\"\",IF('Whip Data'!Q93=\"\",\"None\",'Whip Data'!Q93))","v":""},{"$f":"IF(O80=\"\",\"\",IF($O80=\"None\",\"NA\",INDEX(Breakers!$A$1:$I$75,MATCH(BOM!C80,Breakers!$A$1:$A$75,0),MATCH(BOM!O80,Breakers!$A$1:$I$1,0))))","v":""},{"$f":"IF(B80=\"\",\"\",VLOOKUP(H80,Standards!$X$3:$Y$6,2,FALSE))","v":""}]
[{"$f":"IF($B81=\"\",\"\",'Whip Data'!$Z94)","v":""},{"$f":"IFERROR('Whip Data'!A94,\"\")","v":""},{"$f":"IF(B81=\"\",\"\",'Whip Data'!L94)","v":""},"",{"$f":"IF($B81=\"\",\"\",VLOOKUP($C81,Materials,'Whip Data'!$M$10+11,FALSE))","v":""},{"$f":"IF($B81=\"\",\"\",VLOOKUP($C81,Materials,'Whip Data'!$M$10+13,FALSE))","v":""},{"$f":"IFERROR(\"LTUA-\"&IF(ISTEXT('Whip Data'!$T94),VLOOKUP('Whip Data'!$T94,Conduit,2,FALSE),VLOOKUP('Whip Data'!$S94,Conduit,2,FALSE))&\"-\"&'Whip Data'!$R94,\"\")","v":""},{"$f":"IF($B81=\"\",\"\",IFERROR(VLOOKUP('Whip Data'!$T94,Conduit,3,FALSE),VLOOKUP('Whip Data'!$S94,Conduit,3,FALSE)))","v":""},{"$f":"IF(B81=\"\",\"\",'Whip Data'!O94)","v":""},{"$f":"IF(C81=\"\",\"\",'Whip Data'!P94)","v":""},{"$f":"IF($B81=\"\",\"\",IF(ISTEXT('Whip Data'!V94),'Whip Data'!V94,'Whip Data'!U94))","v":""},{"$f":"IF(B81=\"\",\"\",IF(ISBLANK('Whip Data'!X94),'Whip Data'!W94,'Whip Data'!X94))","v":""},"","",{"$f":"IF($B81=\"\",\"\",IF('Whip Data'!Q94=\"\",\"None\",'Whip Data'!Q94))","v":""},{"$f":"IF(O81=\"\",\"\",IF($O81=\"None\",\"NA\",INDEX(Breakers!$A$1:$I$75,MATCH(BOM!C81,Breakers!$A$1:$A$75,0),MATCH(BOM!O81,Breakers!$A$1:$I$1,0))))","v":""},{"$f":"IF(B81=\"\",\"\",VLOOKUP(H81,Standards!$X$3:$Y$6,2,FALSE))","v":""}]
[{"$f":"IF($B82=\"\",\"\",'Whip Data'!$Z95)","v":""},{"$f":"IFERROR('Whip Data'!A95,\"\")","v":""},{"$f":"IF(B82=\"\",\"\",'Whip Data'!L95)","v":""},"",{"$f":"IF($B82=\"\",\"\",VLOOKUP($C82,Materials,'Whip Data'!$M$10+11,FALSE))","v":""},{"$f":"IF($B82=\"\",\"\",VLOOKUP($C82,Materials,'Whip Data'!$M$10+13,FALSE))","v":""},{"$f":"IFERROR(\"LTUA-\"&IF(ISTEXT('Whip Data'!$T95),VLOOKUP('Whip Data'!$T95,Conduit,2,FALSE),VLOOKUP('Whip Data'!$S95,Conduit,2,FALSE))&\"-\"&'Whip Data'!$R95,\"\")","v":""},{"$f":"IF($B82=\"\",\"\",IFERROR(VLOOKUP('Whip Data'!$T95,Conduit,3,FALSE),VLOOKUP('Whip Data'!$S95,Conduit,3,FALSE)))","v":""},{"$f":"IF(B82=\"\",\"\",'Whip Data'!O95)","v":""},{"$f":"IF(C82=\"\",\"\",'Whip Data'!P95)","v":""},{"$f":"IF($B82=\"\",\"\",IF(ISTEXT('Whip Data'!V95),'Whip Data'!V95,'Whip Data'!U95))","v":""},{"$f":"IF(B82=\"\",\"\",IF(ISBLANK('Whip Data'!X95),'Whip Data'!W95,'Whip Data'!X95))","v":""},"","",{"$f":"IF($B82=\"\",\"\",IF('Whip Data'!Q95=\"\",\"None\",'Whip Data'!Q95))","v":""},{"$f":"IF(O82=\"\",\"\",IF($O82=\"None\",\"NA\",INDEX(Breakers!$A$1:$I$75,MATCH(BOM!C82,Breakers!$A$1:$A$75,0),MATCH(BOM!O82,Breakers!$A$1:$I$1,0))))","v":""},{"$f":"IF(B82=\"\",\"\",VLOOKUP(H82,Standards!$X$3:$Y$6,2,FALSE))","v":""}]
[{"$f":"IF($B83=\"\",\"\",'Whip Data'!$Z96)","v":""},{"$f":"IFERROR('Whip Data'!A96,\"\")","v":""},{"$f":"IF(B83=\"\",\"\",'Whip Data'!L96)","v":""},"",{"$f":"IF($B83=\"\",\"\",VLOOKUP($C83,Materials,'Whip Data'!$M$10+11,FALSE))","v":""},{"$f":"IF($B83=\"\",\"\",VLOOKUP($C83,Materials,'Whip Data'!$M$10+13,FALSE))","v":""},{"$f":"IFERROR(\"LTUA-\"&IF(ISTEXT('Whip Data'!$T96),VLOOKUP('Whip Data'!$T96,Conduit,2,FALSE),VLOOKUP('Whip Data'!$S96,Conduit,2,FALSE))&\"-\"&'Whip Data'!$R96,\"\")","v":""},{"$f":"IF($B83=\"\",\"\",IFERROR(VLOOKUP('Whip Data'!$T96,Conduit,3,FALSE),VLOOKUP('Whip Data'!$S96,Conduit,3,FALSE)))","v":""},{"$f":"IF(B83=\"\",\"\",'Whip Data'!O96)","v":""},{"$f":"IF(C83=\"\",\"\",'Whip Data'!P96)","v":""},{"$f":"IF($B83=\"\",\"\",IF(ISTEXT('Whip Data'!V96),'Whip Data'!V96,'Whip Data'!U96))","v":""},{"$f":"IF(B83=\"\",\"\",IF(ISBLANK('Whip Data'!X96),'Whip Data'!W96,'Whip Data'!X96))","v":""},"","",{"$f":"IF($B83=\"\",\"\",IF('Whip Data'!Q96=\"\",\"None\",'Whip Data'!Q96))","v":""},{"$f":"IF(O83=\"\",\"\",IF($O83=\"None\",\"NA\",INDEX(Breakers!$A$1:$I$75,MATCH(BOM!C83,Breakers!$A$1:$A$75,0),MATCH(BOM!O83,Breakers!$A$1:$I$1,0))))","v":""},{"$f":"IF(B83=\"\",\"\",VLOOKUP(H83,Standards!$X$3:$Y$6,2,FALSE))","v":""}]
[{"$f":"IF($B84=\"\",\"\",'Whip Data'!$Z97)","v":""},{"$f":"IFERROR('Whip Data'!A97,\"\")","v":""},{"$f":"IF(B84=\"\",\"\",'Whip Data'!L97)","v":""},"",{"$f":"IF($B84=\"\",\"\",VLOOKUP($C84,Materials,'Whip Data'!$M$10+11,FALSE))","v":""},{"$f":"IF($B84=\"\",\"\",VLOOKUP($C84,Materials,'Whip Data'!$M$10+13,FALSE))","v":""},{"$f":"IFERROR(\"LTUA-\"&IF(ISTEXT('Whip Data'!$T97),VLOOKUP('Whip Data'!$T97,Conduit,2,FALSE),VLOOKUP('Whip Data'!$S97,Conduit,2,FALSE))&\"-\"&'Whip Data'!$R97,\"\")","v":""},{"$f":"IF($B84=\"\",\"\",IFERROR(VLOOKUP('Whip Data'!$T97,Conduit,3,FALSE),VLOOKUP('Whip Data'!$S97,Conduit,3,FALSE)))","v":""},{"$f":"IF(B84=\"\",\"\",'Whip Data'!O97)","v":""},{"$f":"IF(C84=\"\",\"\",'Whip Data'!P97)","v":""},{"$f":"IF($B84=\"\",\"\",IF(ISTEXT('Whip Data'!V97),'Whip Data'!V97,'Whip Data'!U97))","v":""},{"$f":"IF(B84=\"\",\"\",IF(ISBLANK('Whip Data'!X97),'Whip Data'!W97,'Whip Data'!X97))","v":""},"","",{"$f":"IF($B84=\"\",\"\",IF('Whip Data'!Q97=\"\",\"None\",'Whip Data'!Q97))","v":""},{"$f":"IF(O84=\"\",\"\",IF($O84=\"None\",\"NA\",INDEX(Breakers!$A$1:$I$75,MATCH(BOM!C84,Breakers!$A$1:$A$75,0),MATCH(BOM!O84,Breakers!$A$1:$I$1,0))))","v":""},{"$f":"IF(B84=\"\",\"\",VLOOKUP(H84,Standards!$X$3:$Y$6,2,FALSE))","v":""}]
[{"$f":"IF($B85=\"\",\"\",'Whip Data'!$Z98)","v":""},{"$f":"IFERROR('Whip Data'!A98,\"\")","v":""},{"$f":"IF(B85=\"\",\"\",'Whip Data'!L98)","v":""},"",{"$f":"IF($B85=\"\",\"\",VLOOKUP($C85,Materials,'Whip Data'!$M$10+11,FALSE))","v":""},{"$f":"IF($B85=\"\",\"\",VLOOKUP($C85,Materials,'Whip Data'!$M$10+13,FALSE))","v":""},{"$f":"IFERROR(\"LTUA-\"&IF(ISTEXT('Whip Data'!$T98),VLOOKUP('Whip Data'!$T98,Conduit,2,FALSE),VLOOKUP('Whip Data'!$S98,Conduit,2,FALSE))&\"-\"&'Whip Data'!$R98,\"\")","v":""},{"$f":"IF($B85=\"\",\"\",IFERROR(VLOOKUP('Whip Data'!$T98,Conduit,3,FALSE),VLOOKUP('Whip Data'!$S98,Conduit,3,FALSE)))","v":""},{"$f":"IF(B85=\"\",\"\",'Whip Data'!O98)","v":""},{"$f":"IF(C85=\"\",\"\",'Whip Data'!P98)","v":""},{"$f":"IF($B85=\"\",\"\",IF(ISTEXT('Whip Data'!V98),'Whip Data'!V98,'Whip Data'!U98))","v":""},{"$f":"IF(B85=\"\",\"\",IF(ISBLANK('Whip Data'!X98),'Whip Data'!W98,'Whip Data'!X98))","v":""},"","",{"$f":"IF($B85=\"\",\"\",IF('Whip Data'!Q98=\"\",\"None\",'Whip Data'!Q98))","v":""},{"$f":"IF(O85=\"\",\"\",IF($O85=\"None\",\"NA\",INDEX(Breakers!$A$1:$I$75,MATCH(BOM!C85,Breakers!$A$1:$A$75,0),MATCH(BOM!O85,Breakers!$A$1:$I$1,0))))","v":""},{"$f":"IF(B85=\"\",\"\",VLOOKUP(H85,Standards!$X$3:$Y$6,2,FALSE))","v":""}]
[{"$f":"IF($B86=\"\",\"\",'Whip Data'!$Z99)","v":""},{"$f":"IFERROR('Whip Data'!A99,\"\")","v":""},{"$f":"IF(B86=\"\",\"\",'Whip Data'!L99)","v":""},"",{"$f":"IF($B86=\"\",\"\",VLOOKUP($C86,Materials,'Whip Data'!$M$10+11,FALSE))","v":""},{"$f":"IF($B86=\"\",\"\",VLOOKUP($C86,Materials,'Whip Data'!$M$10+13,FALSE))","v":""},{"$f":"IFERROR(\"LTUA-\"&IF(ISTEXT('Whip Data'!$T99),VLOOKUP('Whip Data'!$T99,Conduit,2,FALSE),VLOOKUP('Whip Data'!$S99,Conduit,2,FALSE))&\"-\"&'Whip Data'!$R99,\"\")","v":""},{"$f":"IF($B86=\"\",\"\",IFERROR(VLOOKUP('Whip Data'!$T99,Conduit,3,FALSE),VLOOKUP('Whip Data'!$S99,Conduit,3,FALSE)))","v":""},{"$f":"IF(B86=\"\",\"\",'Whip Data'!O99)","v":""},{"$f":"IF(C86=\"\",\"\",'Whip Data'!P99)","v":""},{"$f":"IF($B86=\"\",\"\",IF(ISTEXT('Whip Data'!V99),'Whip Data'!V99,'Whip Data'!U99))","v":""},{"$f":"IF(B86=\"\",\"\",IF(ISBLANK('Whip Data'!X99),'Whip Data'!W99,'Whip Data'!X99))","v":""},"","",{"$f":"IF($B86=\"\",\"\",IF('Whip Data'!Q99=\"\",\"None\",'Whip Data'!Q99))","v":""},{"$f":"IF(O86=\"\",\"\",IF($O86=\"None\",\"NA\",INDEX(Breakers!$A$1:$I$75,MATCH(BOM!C86,Breakers!$A$1:$A$75,0),MATCH(BOM!O86,Breakers!$A$1:$I$1,0))))","v":""},{"$f":"IF(B86=\"\",\"\",VLOOKUP(H86,Standards!$X$3:$Y$6,2,FALSE))","v":""}]
[{"$f":"IF($B87=\"\",\"\",'Whip Data'!$Z100)","v":""},{"$f":"IFERROR('Whip Data'!A100,\"\")","v":""},{"$f":"IF(B87=\"\",\"\",'Whip Data'!L100)","v":""},"",{"$f":"IF($B87=\"\",\"\",VLOOKUP($C87,Materials,'Whip Data'!$M$10+11,FALSE))","v":""},{"$f":"IF($B87=\"\",\"\",VLOOKUP($C87,Materials,'Whip Data'!$M$10+13,FALSE))","v":""},{"$f":"IFERROR(\"LTUA-\"&IF(ISTEXT('Whip Data'!$T100),VLOOKUP('Whip Data'!$T100,Conduit,2,FALSE),VLOOKUP('Whip Data'!$S100,Conduit,2,FALSE))&\"-\"&'Whip Data'!$R100,\"\")","v":""},{"$f":"IF($B87=\"\",\"\",IFERROR(VLOOKUP('Whip Data'!$T100,Conduit,3,FALSE),VLOOKUP('Whip Data'!$S100,Conduit,3,FALSE)))","v":""},{"$f":"IF(B87=\"\",\"\",'Whip Data'!O100)","v":""},{"$f":"IF(C87=\"\",\"\",'Whip Data'!P100)","v":""},{"$f":"IF($B87=\"\",\"\",IF(ISTEXT('Whip Data'!V100),'Whip Data'!V100,'Whip Data'!U100))","v":""},{"$f":"IF(B87=\"\",\"\",IF(ISBLANK('Whip Data'!X100),'Whip Data'!W100,'Whip Data'!X100))","v":""},"","",{"$f":"IF($B87=\"\",\"\",IF('Whip Data'!Q100=\"\",\"None\",'Whip Data'!Q100))","v":""},{"$f":"IF(O87=\"\",\"\",IF($O87=\"None\",\"NA\",INDEX(Breakers!$A$1:$I$75,MATCH(BOM!C87,Breakers!$A$1:$A$75,0),MATCH(BOM!O87,Breakers!$A$1:$I$1,0))))","v":""},{"$f":"IF(B87=\"\",\"\",VLOOKUP(H87,Standards!$X$3:$Y$6,2,FALSE))","v":""}]
[{"$f":"IF($B88=\"\",\"\",'Whip Data'!$Z101)","v":""},{"$f":"IFERROR('Whip Data'!A101,\"\")","v":""},{"$f":"IF(B88=\"\",\"\",'Whip Data'!L101)","v":""},"",{"$f":"IF($B88=\"\",\"\",VLOOKUP($C88,Materials,'Whip Data'!$M$10+11,FALSE))","v":""},{"$f":"IF($B88=\"\",\"\",VLOOKUP($C88,Materials,'Whip Data'!$M$10+13,FALSE))","v":""},{"$f":"IFERROR(\"LTUA-\"&IF(ISTEXT('Whip Data'!$T101),VLOOKUP('Whip Data'!$T101,Conduit,2,FALSE),VLOOKUP('Whip Data'!$S101,Conduit,2,FALSE))&\"-\"&'Whip Data'!$R101,\"\")","v":""},{"$f":"IF($B88=\"\",\"\",IFERROR(VLOOKUP('Whip Data'!$T101,Conduit,3,FALSE),VLOOKUP('Whip Data'!$S101,Conduit,3,FALSE)))","v":""},{"$f":"IF(B88=\"\",\"\",'Whip Data'!O101)","v":""},{"$f":"IF(C88=\"\",\"\",'Whip Data'!P101)","v":""},{"$f":"IF($B88=\"\",\"\",IF(ISTEXT('Whip Data'!V101),'Whip Data'!V101,'Whip Data'!U101))","v":""},{"$f":"IF(B88=\"\",\"\",IF(ISBLANK('Whip Data'!X101),'Whip Data'!W101,'Whip Data'!X101))","v":""},"","",{"$f":"IF($B88=\"\",\"\",IF('Whip Data'!Q101=\"\",\"None\",'Whip Data'!Q101))","v":""},{"$f":"IF(O88=\"\",\"\",IF($O88=\"None\",\"NA\",INDEX(Breakers!$A$1:$I$75,MATCH(BOM!C88,Breakers!$A$1:$A$75,0),MATCH(BOM!O88,Breakers!$A$1:$I$1,0))))","v":""},{"$f":"IF(B88=\"\",\"\",VLOOKUP(H88,Standards!$X$3:$Y$6,2,FALSE))","v":""}]
[{"$f":"IF($B89=\"\",\"\",'Whip Data'!$Z102)","v":""},{"$f":"IFERROR('Whip Data'!A102,\"\")","v":""},{"$f":"IF(B89=\"\",\"\",'Whip Data'!L102)","v":""},"",{"$f":"IF($B89=\"\",\"\",VLOOKUP($C89,Materials,'Whip Data'!$M$10+11,FALSE))","v":""},{"$f":"IF($B89=\"\",\"\",VLOOKUP($C89,Materials,'Whip Data'!$M$10+13,FALSE))","v":""},{"$f":"IFERROR(\"LTUA-\"&IF(ISTEXT('Whip Data'!$T102),VLOOKUP('Whip Data'!$T102,Conduit,2,FALSE),VLOOKUP('Whip Data'!$S102,Conduit,2,FALSE))&\"-\"&'Whip Data'!$R102,\"\")","v":""},{"$f":"IF($B89=\"\",\"\",IFERROR(VLOOKUP('Whip Data'!$T102,Conduit,3,FALSE),VLOOKUP('Whip Data'!$S102,Conduit,3,FALSE)))","v":""},{"$f":"IF(B89=\"\",\"\",'Whip Data'!O102)","v":""},{"$f":"IF(C89=\"\",\"\",'Whip Data'!P102)","v":""},{"$f":"IF($B89=\"\",\"\",IF(ISTEXT('Whip Data'!V102),'Whip Data'!V102,'Whip Data'!U102))","v":""},{"$f":"IF(B89=\"\",\"\",IF(ISBLANK('Whip Data'!X102),'Whip Data'!W102,'Whip Data'!X102))","v":""},"","",{"$f":"IF($B89=\"\",\"\",IF('Whip Data'!Q102=\"\",\"None\",'Whip Data'!Q102))","v":""},{"$f":"IF(O89=\"\",\"\",IF($O89=\"None\",\"NA\",INDEX(Breakers!$A$1:$I$75,MATCH(BOM!C89,Breakers!$A$1:$A$75,0),MATCH(BOM!O89,Breakers!$A$1:$I$1,0))))","v":""},{"$f":"IF(B89=\"\",\"\",VLOOKUP(H89,Standards!$X$3:$Y$6,2,FALSE))","v":""}]
[{"$f":"IF($B90=\"\",\"\",'Whip Data'!$Z103)","v":""},{"$f":"IFERROR('Whip Data'!A103,\"\")","v":""},{"$f":"IF(B90=\"\",\"\",'Whip Data'!L103)","v":""},"",{"$f":"IF($B90=\"\",\"\",VLOOKUP($C90,Materials,'Whip Data'!$M$10+11,FALSE))","v":""},{"$f":"IF($B90=\"\",\"\",VLOOKUP($C90,Materials,'Whip Data'!$M$10+13,FALSE))","v":""},{"$f":"IFERROR(\"LTUA-\"&IF(ISTEXT('Whip Data'!$T103),VLOOKUP('Whip Data'!$T103,Conduit,2,FALSE),VLOOKUP('Whip Data'!$S103,Conduit,2,FALSE))&\"-\"&'Whip Data'!$R103,\"\")","v":""},{"$f":"IF($B90=\"\",\"\",IFERROR(VLOOKUP('Whip Data'!$T103,Conduit,3,FALSE),VLOOKUP('Whip Data'!$S103,Conduit,3,FALSE)))","v":""},{"$f":"IF(B90=\"\",\"\",'Whip Data'!O103)","v":""},{"$f":"IF(C90=\"\",\"\",'Whip Data'!P103)","v":""},{"$f":"IF($B90=\"\",\"\",IF(ISTEXT('Whip Data'!V103),'Whip Data'!V103,'Whip Data'!U103))","v":""},{"$f":"IF(B90=\"\",\"\",IF(ISBLANK('Whip Data'!X103),'Whip Data'!W103,'Whip Data'!X103))","v":""},"","",{"$f":"IF($B90=\"\",\"\",IF('Whip Data'!Q103=\"\",\"None\",'Whip Data'!Q103))","v":""},{"$f":"IF(O90=\"\",\"\",IF($O90=\"None\",\"NA\",INDEX(Breakers!$A$1:$I$75,MATCH(BOM!C90,Breakers!$A$1:$A$75,0),MATCH(BOM!O90,Breakers!$A$1:$I$1,0))))","v":""},{"$f":"IF(B90=\"\",\"\",VLOOKUP(H90,Standards!$X$3:$Y$6,2,FALSE))","v":""}]
[{"$f":"IF($B91=\"\",\"\",'Whip Data'!$Z104)","v":""},{"$f":"IFERROR('Whip Data'!A104,\"\")","v":""},{"$f":"IF(B91=\"\",\"\",'Whip Data'!L104)","v":""},"",{"$f":"IF($B91=\"\",\"\",VLOOKUP($C91,Materials,'Whip Data'!$M$10+11,FALSE))","v":""},{"$f":"IF($B91=\"\",\"\",VLOOKUP($C91,Materials,'Whip Data'!$M$10+13,FALSE))","v":""},{"$f":"IFERROR(\"LTUA-\"&IF(ISTEXT('Whip Data'!$T104),VLOOKUP('Whip Data'!$T104,Conduit,2,FALSE),VLOOKUP('Whip Data'!$S104,Conduit,2,FALSE))&\"-\"&'Whip Data'!$R104,\"\")","v":""},{"$f":"IF($B91=\"\",\"\",IFERROR(VLOOKUP('Whip Data'!$T104,Conduit,3,FALSE),VLOOKUP('Whip Data'!$S104,Conduit,3,FALSE)))","v":""},{"$f":"IF(B91=\"\",\"\",'Whip Data'!O104)","v":""},{"$f":"IF(C91=\"\",\"\",'Whip Data'!P104)","v":""},{"$f":"IF($B91=\"\",\"\",IF(ISTEXT('Whip Data'!V104),'Whip Data'!V104,'Whip Data'!U104))","v":""},{"$f":"IF(B91=\"\",\"\",IF(ISBLANK('Whip Data'!X104),'Whip Data'!W104,'Whip Data'!X104))","v":""},"","",{"$f":"IF($B91=\"\",\"\",IF('Whip Data'!Q104=\"\",\"None\",'Whip Data'!Q104))","v":""},{"$f":"IF(O91=\"\",\"\",IF($O91=\"None\",\"NA\",INDEX(Breakers!$A$1:$I$75,MATCH(BOM!C91,Breakers!$A$1:$A$75,0),MATCH(BOM!O91,Breakers!$A$1:$I$1,0))))","v":""},{"$f":"IF(B91=\"\",\"\",VLOOKUP(H91,Standards!$X$3:$Y$6,2,FALSE))","v":""}]
[{"$f":"IF($B92=\"\",\"\",'Whip Data'!$Z105)","v":""},{"$f":"IFERROR('Whip Data'!A105,\"\")","v":""},{"$f":"IF(B92=\"\",\"\",'Whip Data'!L105)","v":""},"",{"$f":"IF($B92=\"\",\"\",VLOOKUP($C92,Materials,'Whip Data'!$M$10+11,FALSE))","v":""},{"$f":"IF($B92=\"\",\"\",VLOOKUP($C92,Materials,'Whip Data'!$M$10+13,FALSE))","v":""},{"$f":"IFERROR(\"LTUA-\"&IF(ISTEXT('Whip Data'!$T105),VLOOKUP('Whip Data'!$T105,Conduit,2,FALSE),VLOOKUP('Whip Data'!$S105,Conduit,2,FALSE))&\"-\"&'Whip Data'!$R105,\"\")","v":""},{"$f":"IF($B92=\"\",\"\",IFERROR(VLOOKUP('Whip Data'!$T105,Conduit,3,FALSE),VLOOKUP('Whip Data'!$S105,Conduit,3,FALSE)))","v":""},{"$f":"IF(B92=\"\",\"\",'Whip Data'!O105)","v":""},{"$f":"IF(C92=\"\",\"\",'Whip Data'!P105)","v":""},{"$f":"IF($B92=\"\",\"\",IF(ISTEXT('Whip Data'!V105),'Whip Data'!V105,'Whip Data'!U105))","v":""},{"$f":"IF(B92=\"\",\"\",IF(ISBLANK('Whip Data'!X105),'Whip Data'!W105,'Whip Data'!X105))","v":""},"","",{"$f":"IF($B92=\"\",\"\",IF('Whip Data'!Q105=\"\",\"None\",'Whip Data'!Q105))","v":""},{"$f":"IF(O92=\"\",\"\",IF($O92=\"None\",\"NA\",INDEX(Breakers!$A$1:$I$75,MATCH(BOM!C92,Breakers!$A$1:$A$75,0),MATCH(BOM!O92,Breakers!$A$1:$I$1,0))))","v":""},{"$f":"IF(B92=\"\",\"\",VLOOKUP(H92,Standards!$X$3:$Y$6,2,FALSE))","v":""}]
[{"$f":"IF($B93=\"\",\"\",'Whip Data'!$Z106)","v":""},{"$f":"IFERROR('Whip Data'!A106,\"\")","v":""},{"$f":"IF(B93=\"\",\"\",'Whip Data'!L106)","v":""},"",{"$f":"IF($B93=\"\",\"\",VLOOKUP($C93,Materials,'Whip Data'!$M$10+11,FALSE))","v":""},{"$f":"IF($B93=\"\",\"\",VLOOKUP($C93,Materials,'Whip Data'!$M$10+13,FALSE))","v":""},{"$f":"IFERROR(\"LTUA-\"&IF(ISTEXT('Whip Data'!$T106),VLOOKUP('Whip Data'!$T106,Conduit,2,FALSE),VLOOKUP('Whip Data'!$S106,Conduit,2,FALSE))&\"-\"&'Whip Data'!$R106,\"\")","v":""},{"$f":"IF($B93=\"\",\"\",IFERROR(VLOOKUP('Whip Data'!$T106,Conduit,3,FALSE),VLOOKUP('Whip Data'!$S106,Conduit,3,FALSE)))","v":""},{"$f":"IF(B93=\"\",\"\",'Whip Data'!O106)","v":""},{"$f":"IF(C93=\"\",\"\",'Whip Data'!P106)","v":""},{"$f":"IF($B93=\"\",\"\",IF(ISTEXT('Whip Data'!V106),'Whip Data'!V106,'Whip Data'!U106))","v":""},{"$f":"IF(B93=\"\",\"\",IF(ISBLANK('Whip Data'!X106),'Whip Data'!W106,'Whip Data'!X106))","v":""},"","",{"$f":"IF($B93=\"\",\"\",IF('Whip Data'!Q106=\"\",\"None\",'Whip Data'!Q106))","v":""},{"$f":"IF(O93=\"\",\"\",IF($O93=\"None\",\"NA\",INDEX(Breakers!$A$1:$I$75,MATCH(BOM!C93,Breakers!$A$1:$A$75,0),MATCH(BOM!O93,Breakers!$A$1:$I$1,0))))","v":""},{"$f":"IF(B93=\"\",\"\",VLOOKUP(H93,Standards!$X$3:$Y$6,2,FALSE))","v":""}]
[{"$f":"IF($B94=\"\",\"\",'Whip Data'!$Z107)","v":""},{"$f":"IFERROR('Whip Data'!A107,\"\")","v":""},{"$f":"IF(B94=\"\",\"\",'Whip Data'!L107)","v":""},"",{"$f":"IF($B94=\"\",\"\",VLOOKUP($C94,Materials,'Whip Data'!$M$10+11,FALSE))","v":""},{"$f":"IF($B94=\"\",\"\",VLOOKUP($C94,Materials,'Whip Data'!$M$10+13,FALSE))","v":""},{"$f":"IFERROR(\"LTUA-\"&IF(ISTEXT('Whip Data'!$T107),VLOOKUP('Whip Data'!$T107,Conduit,2,FALSE),VLOOKUP('Whip Data'!$S107,Conduit,2,FALSE))&\"-\"&'Whip Data'!$R107,\"\")","v":""},{"$f":"IF($B94=\"\",\"\",IFERROR(VLOOKUP('Whip Data'!$T107,Conduit,3,FALSE),VLOOKUP('Whip Data'!$S107,Conduit,3,FALSE)))","v":""},{"$f":"IF(B94=\"\",\"\",'Whip Data'!O107)","v":""},{"$f":"IF(C94=\"\",\"\",'Whip Data'!P107)","v":""},{"$f":"IF($B94=\"\",\"\",IF(ISTEXT('Whip Data'!V107),'Whip Data'!V107,'Whip Data'!U107))","v":""},{"$f":"IF(B94=\"\",\"\",IF(ISBLANK('Whip Data'!X107),'Whip Data'!W107,'Whip Data'!X107))","v":""},"","",{"$f":"IF($B94=\"\",\"\",IF('Whip Data'!Q107=\"\",\"None\",'Whip Data'!Q107))","v":""},{"$f":"IF(O94=\"\",\"\",IF($O94=\"None\",\"NA\",INDEX(Breakers!$A$1:$I$75,MATCH(BOM!C94,Breakers!$A$1:$A$75,0),MATCH(BOM!O94,Breakers!$A$1:$I$1,0))))","v":""},{"$f":"IF(B94=\"\",\"\",VLOOKUP(H94,Standards!$X$3:$Y$6,2,FALSE))","v":""}]
[{"$f":"IF($B95=\"\",\"\",'Whip Data'!$Z108)","v":""},{"$f":"IFERROR('Whip Data'!A108,\"\")","v":""},{"$f":"IF(B95=\"\",\"\",'Whip Data'!L108)","v":""},"",{"$f":"IF($B95=\"\",\"\",VLOOKUP($C95,Materials,'Whip Data'!$M$10+11,FALSE))","v":""},{"$f":"IF($B95=\"\",\"\",VLOOKUP($C95,Materials,'Whip Data'!$M$10+13,FALSE))","v":""},{"$f":"IFERROR(\"LTUA-\"&IF(ISTEXT('Whip Data'!$T108),VLOOKUP('Whip Data'!$T108,Conduit,2,FALSE),VLOOKUP('Whip Data'!$S108,Conduit,2,FALSE))&\"-\"&'Whip Data'!$R108,\"\")","v":""},{"$f":"IF($B95=\"\",\"\",IFERROR(VLOOKUP('Whip Data'!$T108,Conduit,3,FALSE),VLOOKUP('Whip Data'!$S108,Conduit,3,FALSE)))","v":""},{"$f":"IF(B95=\"\",\"\",'Whip Data'!O108)","v":""},{"$f":"IF(C95=\"\",\"\",'Whip Data'!P108)","v":""},{"$f":"IF($B95=\"\",\"\",IF(ISTEXT('Whip Data'!V108),'Whip Data'!V108,'Whip Data'!U108))","v":""},{"$f":"IF(B95=\"\",\"\",IF(ISBLANK('Whip Data'!X108),'Whip Data'!W108,'Whip Data'!X108))","v":""},"","",{"$f":"IF($B95=\"\",\"\",IF('Whip Data'!Q108=\"\",\"None\",'Whip Data'!Q108))","v":""},{"$f":"IF(O95=\"\",\"\",IF($O95=\"None\",\"NA\",INDEX(Breakers!$A$1:$I$75,MATCH(BOM!C95,Breakers!$A$1:$A$75,0),MATCH(BOM!O95,Breakers!$A$1:$I$1,0))))","v":""},{"$f":"IF(B95=\"\",\"\",VLOOKUP(H95,Standards!$X$3:$Y$6,2,FALSE))","v":""}]
[{"$f":"IF($B96=\"\",\"\",'Whip Data'!$Z109)","v":""},{"$f":"IFERROR('Whip Data'!A109,\"\")","v":""},{"$f":"IF(B96=\"\",\"\",'Whip Data'!L109)","v":""},"",{"$f":"IF($B96=\"\",\"\",VLOOKUP($C96,Materials,'Whip Data'!$M$10+11,FALSE))","v":""},{"$f":"IF($B96=\"\",\"\",VLOOKUP($C96,Materials,'Whip Data'!$M$10+13,FALSE))","v":""},{"$f":"IFERROR(\"LTUA-\"&IF(ISTEXT('Whip Data'!$T109),VLOOKUP('Whip Data'!$T109,Conduit,2,FALSE),VLOOKUP('Whip Data'!$S109,Conduit,2,FALSE))&\"-\"&'Whip Data'!$R109,\"\")","v":""},{"$f":"IF($B96=\"\",\"\",IFERROR(VLOOKUP('Whip Data'!$T109,Conduit,3,FALSE),VLOOKUP('Whip Data'!$S109,Conduit,3,FALSE)))","v":""},{"$f":"IF(B96=\"\",\"\",'Whip Data'!O109)","v":""},{"$f":"IF(C96=\"\",\"\",'Whip Data'!P109)","v":""},{"$f":"IF($B96=\"\",\"\",IF(ISTEXT('Whip Data'!V109),'Whip Data'!V109,'Whip Data'!U109))","v":""},{"$f":"IF(B96=\"\",\"\",IF(ISBLANK('Whip Data'!X109),'Whip Data'!W109,'Whip Data'!X109))","v":""},"","",{"$f":"IF($B96=\"\",\"\",IF('Whip Data'!Q109=\"\",\"None\",'Whip Data'!Q109))","v":""},{"$f":"IF(O96=\"\",\"\",IF($O96=\"None\",\"NA\",INDEX(Breakers!$A$1:$I$75,MATCH(BOM!C96,Breakers!$A$1:$A$75,0),MATCH(BOM!O96,Breakers!$A$1:$I$1,0))))","v":""},{"$f":"IF(B96=\"\",\"\",VLOOKUP(H96,Standards!$X$3:$Y$6,2,FALSE))","v":""}]
[{"$f":"IF($B97=\"\",\"\",'Whip Data'!$Z110)","v":""},{"$f":"IFERROR('Whip Data'!A110,\"\")","v":""},{"$f":"IF(B97=\"\",\"\",'Whip Data'!L110)","v":""},"",{"$f":"IF($B97=\"\",\"\",VLOOKUP($C97,Materials,'Whip Data'!$M$10+11,FALSE))","v":""},{"$f":"IF($B97=\"\",\"\",VLOOKUP($C97,Materials,'Whip Data'!$M$10+13,FALSE))","v":""},{"$f":"IFERROR(\"LTUA-\"&IF(ISTEXT('Whip Data'!$T110),VLOOKUP('Whip Data'!$T110,Conduit,2,FALSE),VLOOKUP('Whip Data'!$S110,Conduit,2,FALSE))&\"-\"&'Whip Data'!$R110,\"\")","v":""},{"$f":"IF($B97=\"\",\"\",IFERROR(VLOOKUP('Whip Data'!$T110,Conduit,3,FALSE),VLOOKUP('Whip Data'!$S110,Conduit,3,FALSE)))","v":""},{"$f":"IF(B97=\"\",\"\",'Whip Data'!O110)","v":""},{"$f":"IF(C97=\"\",\"\",'Whip Data'!P110)","v":""},{"$f":"IF($B97=\"\",\"\",IF(ISTEXT('Whip Data'!V110),'Whip Data'!V110,'Whip Data'!U110))","v":""},{"$f":"IF(B97=\"\",\"\",IF(ISBLANK('Whip Data'!X110),'Whip Data'!W110,'Whip Data'!X110))","v":""},"","",{"$f":"IF($B97=\"\",\"\",IF('Whip Data'!Q110=\"\",\"None\",'Whip Data'!Q110))","v":""},{"$f":"IF(O97=\"\",\"\",IF($O97=\"None\",\"NA\",INDEX(Breakers!$A$1:$I$75,MATCH(BOM!C97,Breakers!$A$1:$A$75,0),MATCH(BOM!O97,Breakers!$A$1:$I$1,0))))","v":""},{"$f":"IF(B97=\"\",\"\",VLOOKUP(H97,Standards!$X$3:$Y$6,2,FALSE))","v":""}]
[{"$f":"IF($B98=\"\",\"\",'Whip Data'!$Z111)","v":""},{"$f":"IFERROR('Whip Data'!A111,\"\")","v":""},{"$f":"IF(B98=\"\",\"\",'Whip Data'!L111)","v":""},"",{"$f":"IF($B98=\"\",\"\",VLOOKUP($C98,Materials,'Whip Data'!$M$10+11,FALSE))","v":""},{"$f":"IF($B98=\"\",\"\",VLOOKUP($C98,Materials,'Whip Data'!$M$10+13,FALSE))","v":""},{"$f":"IFERROR(\"LTUA-\"&IF(ISTEXT('Whip Data'!$T111),VLOOKUP('Whip Data'!$T111,Conduit,2,FALSE),VLOOKUP('Whip Data'!$S111,Conduit,2,FALSE))&\"-\"&'Whip Data'!$R111,\"\")","v":""},{"$f":"IF($B98=\"\",\"\",IFERROR(VLOOKUP('Whip Data'!$T111,Conduit,3,FALSE),VLOOKUP('Whip Data'!$S111,Conduit,3,FALSE)))","v":""},{"$f":"IF(B98=\"\",\"\",'Whip Data'!O111)","v":""},{"$f":"IF(C98=\"\",\"\",'Whip Data'!P111)","v":""},{"$f":"IF($B98=\"\",\"\",IF(ISTEXT('Whip Data'!V111),'Whip Data'!V111,'Whip Data'!U111))","v":""},{"$f":"IF(B98=\"\",\"\",IF(ISBLANK('Whip Data'!X111),'Whip Data'!W111,'Whip Data'!X111))","v":""},"","",{"$f":"IF($B98=\"\",\"\",IF('Whip Data'!Q111=\"\",\"None\",'Whip Data'!Q111))","v":""},{"$f":"IF(O98=\"\",\"\",IF($O98=\"None\",\"NA\",INDEX(Breakers!$A$1:$I$75,MATCH(BOM!C98,Breakers!$A$1:$A$75,0),MATCH(BOM!O98,Breakers!$A$1:$I$1,0))))","v":""},{"$f":"IF(B98=\"\",\"\",VLOOKUP(H98,Standards!$X$3:$Y$6,2,FALSE))","v":""}]
[{"$f":"IF($B99=\"\",\"\",'Whip Data'!$Z112)","v":""},{"$f":"IFERROR('Whip Data'!A112,\"\")","v":""},{"$f":"IF(B99=\"\",\"\",'Whip Data'!L112)","v":""},"",{"$f":"IF($B99=\"\",\"\",VLOOKUP($C99,Materials,'Whip Data'!$M$10+11,FALSE))","v":""},{"$f":"IF($B99=\"\",\"\",VLOOKUP($C99,Materials,'Whip Data'!$M$10+13,FALSE))","v":""},{"$f":"IFERROR(\"LTUA-\"&IF(ISTEXT('Whip Data'!$T112),VLOOKUP('Whip Data'!$T112,Conduit,2,FALSE),VLOOKUP('Whip Data'!$S112,Conduit,2,FALSE))&\"-\"&'Whip Data'!$R112,\"\")","v":""},{"$f":"IF($B99=\"\",\"\",IFERROR(VLOOKUP('Whip Data'!$T112,Conduit,3,FALSE),VLOOKUP('Whip Data'!$S112,Conduit,3,FALSE)))","v":""},{"$f":"IF(B99=\"\",\"\",'Whip Data'!O112)","v":""},{"$f":"IF(C99=\"\",\"\",'Whip Data'!P112)","v":""},{"$f":"IF($B99=\"\",\"\",IF(ISTEXT('Whip Data'!V112),'Whip Data'!V112,'Whip Data'!U112))","v":""},{"$f":"IF(B99=\"\",\"\",IF(ISBLANK('Whip Data'!X112),'Whip Data'!W112,'Whip Data'!X112))","v":""},"","",{"$f":"IF($B99=\"\",\"\",IF('Whip Data'!Q112=\"\",\"None\",'Whip Data'!Q112))","v":""},{"$f":"IF(O99=\"\",\"\",IF($O99=\"None\",\"NA\",INDEX(Breakers!$A$1:$I$75,MATCH(BOM!C99,Breakers!$A$1:$A$75,0),MATCH(BOM!O99,Breakers!$A$1:$I$1,0))))","v":""},{"$f":"IF(B99=\"\",\"\",VLOOKUP(H99,Standards!$X$3:$Y$6,2,FALSE))","v":""}]
[{"$f":"IF($B100=\"\",\"\",'Whip Data'!$Z113)","v":""},{"$f":"IFERROR('Whip Data'!A113,\"\")","v":""},{"$f":"IF(B100=\"\",\"\",'Whip Data'!L113)","v":""},"",{"$f":"IF($B100=\"\",\"\",VLOOKUP($C100,Materials,'Whip Data'!$M$10+11,FALSE))","v":""},{"$f":"IF($B100=\"\",\"\",VLOOKUP($C100,Materials,'Whip Data'!$M$10+13,FALSE))","v":""},{"$f":"IFERROR(\"LTUA-\"&IF(ISTEXT('Whip Data'!$T113),VLOOKUP('Whip Data'!$T113,Conduit,2,FALSE),VLOOKUP('Whip Data'!$S113,Conduit,2,FALSE))&\"-\"&'Whip Data'!$R113,\"\")","v":""},{"$f":"IF($B100=\"\",\"\",IFERROR(VLOOKUP('Whip Data'!$T113,Conduit,3,FALSE),VLOOKUP('Whip Data'!$S113,Conduit,3,FALSE)))","v":""},{"$f":"IF(B100=\"\",\"\",'Whip Data'!O113)","v":""},{"$f":"IF(C100=\"\",\"\",'Whip Data'!P113)","v":""},{"$f":"IF($B100=\"\",\"\",IF(ISTEXT('Whip Data'!V113),'Whip Data'!V113,'Whip Data'!U113))","v":""},{"$f":"IF(B100=\"\",\"\",IF(ISBLANK('Whip Data'!X113),'Whip Data'!W113,'Whip Data'!X113))","v":""},"","",{"$f":"IF($B100=\"\",\"\",IF('Whip Data'!Q113=\"\",\"None\",'Whip Data'!Q113))","v":""},{"$f":"IF(O100=\"\",\"\",IF($O100=\"None\",\"NA\",INDEX(Breakers!$A$1:$I$75,MATCH(BOM!C100,Breakers!$A$1:$A$75,0),MATCH(BOM!O100,Breakers!$A$1:$I$1,0))))","v":""},{"$f":"IF(B100=\"\",\"\",VLOOKUP(H100,Standards!$X$3:$Y$6,2,FALSE))","v":""}]
[{"$f":"IF($B101=\"\",\"\",'Whip Data'!$Z114)","v":""},{"$f":"IFERROR('Whip Data'!A114,\"\")","v":""},{"$f":"IF(B101=\"\",\"\",'Whip Data'!L114)","v":""},"",{"$f":"IF($B101=\"\",\"\",VLOOKUP($C101,Materials,'Whip Data'!$M$10+11,FALSE))","v":""},{"$f":"IF($B101=\"\",\"\",VLOOKUP($C101,Materials,'Whip Data'!$M$10+13,FALSE))","v":""},{"$f":"IFERROR(\"LTUA-\"&IF(ISTEXT('Whip Data'!$T114),VLOOKUP('Whip Data'!$T114,Conduit,2,FALSE),VLOOKUP('Whip Data'!$S114,Conduit,2,FALSE))&\"-\"&'Whip Data'!$R114,\"\")","v":""},{"$f":"IF($B101=\"\",\"\",IFERROR(VLOOKUP('Whip Data'!$T114,Conduit,3,FALSE),VLOOKUP('Whip Data'!$S114,Conduit,3,FALSE)))","v":""},{"$f":"IF(B101=\"\",\"\",'Whip Data'!O114)","v":""},{"$f":"IF(C101=\"\",\"\",'Whip Data'!P114)","v":""},{"$f":"IF($B101=\"\",\"\",IF(ISTEXT('Whip Data'!V114),'Whip Data'!V114,'Whip Data'!U114))","v":""},{"$f":"IF(B101=\"\",\"\",IF(ISBLANK('Whip Data'!X114),'Whip Data'!W114,'Whip Data'!X114))","v":""},"","",{"$f":"IF($B101=\"\",\"\",IF('Whip Data'!Q114=\"\",\"None\",'Whip Data'!Q114))","v":""},{"$f":"IF(O101=\"\",\"\",IF($O101=\"None\",\"NA\",INDEX(Breakers!$A$1:$I$75,MATCH(BOM!C101,Breakers!$A$1:$A$75,0),MATCH(BOM!O101,Breakers!$A$1:$I$1,0))))","v":""},{"$f":"IF(B101=\"\",\"\",VLOOKUP(H101,Standards!$X$3:$Y$6,2,FALSE))","v":""}]
[{"$f":"IF($B102=\"\",\"\",'Whip Data'!$Z115)","v":""},{"$f":"IFERROR('Whip Data'!A115,\"\")","v":""},{"$f":"IF(B102=\"\",\"\",'Whip Data'!L115)","v":""},"",{"$f":"IF($B102=\"\",\"\",VLOOKUP($C102,Materials,'Whip Data'!$M$10+11,FALSE))","v":""},{"$f":"IF($B102=\"\",\"\",VLOOKUP($C102,Materials,'Whip Data'!$M$10+13,FALSE))","v":""},{"$f":"IFERROR(\"LTUA-\"&IF(ISTEXT('Whip Data'!$T115),VLOOKUP('Whip Data'!$T115,Conduit,2,FALSE),VLOOKUP('Whip Data'!$S115,Conduit,2,FALSE))&\"-\"&'Whip Data'!$R115,\"\")","v":""},{"$f":"IF($B102=\"\",\"\",IFERROR(VLOOKUP('Whip Data'!$T115,Conduit,3,FALSE),VLOOKUP('Whip Data'!$S115,Conduit,3,FALSE)))","v":""},{"$f":"IF(B102=\"\",\"\",'Whip Data'!O115)","v":""},{"$f":"IF(C102=\"\",\"\",'Whip Data'!P115)","v":""},{"$f":"IF($B102=\"\",\"\",IF(ISTEXT('Whip Data'!V115),'Whip Data'!V115,'Whip Data'!U115))","v":""},{"$f":"IF(B102=\"\",\"\",IF(ISBLANK('Whip Data'!X115),'Whip Data'!W115,'Whip Data'!X115))","v":""},"","",{"$f":"IF($B102=\"\",\"\",IF('Whip Data'!Q115=\"\",\"None\",'Whip Data'!Q115))","v":""},{"$f":"IF(O102=\"\",\"\",IF($O102=\"None\",\"NA\",INDEX(Breakers!$A$1:$I$75,MATCH(BOM!C102,Breakers!$A$1:$A$75,0),MATCH(BOM!O102,Breakers!$A$1:$I$1,0))))","v":""},{"$f":"IF(B102=\"\",\"\",VLOOKUP(H102,Standards!$X$3:$Y$6,2,FALSE))","v":""}]
[{"$f":"IF($B103=\"\",\"\",'Whip Data'!$Z116)","v":""},{"$f":"IFERROR('Whip Data'!A116,\"\")","v":""},{"$f":"IF(B103=\"\",\"\",'Whip Data'!L116)","v":""},"",{"$f":"IF($B103=\"\",\"\",VLOOKUP($C103,Materials,'Whip Data'!$M$10+11,FALSE))","v":""},{"$f":"IF($B103=\"\",\"\",VLOOKUP($C103,Materials,'Whip Data'!$M$10+13,FALSE))","v":""},{"$f":"IFERROR(\"LTUA-\"&IF(ISTEXT('Whip Data'!$T116),VLOOKUP('Whip Data'!$T116,Conduit,2,FALSE),VLOOKUP('Whip Data'!$S116,Conduit,2,FALSE))&\"-\"&'Whip Data'!$R116,\"\")","v":""},{"$f":"IF($B103=\"\",\"\",IFERROR(VLOOKUP('Whip Data'!$T116,Conduit,3,FALSE),VLOOKUP('Whip Data'!$S116,Conduit,3,FALSE)))","v":""},{"$f":"IF(B103=\"\",\"\",'Whip Data'!O116)","v":""},{"$f":"IF(C103=\"\",\"\",'Whip Data'!P116)","v":""},{"$f":"IF($B103=\"\",\"\",IF(ISTEXT('Whip Data'!V116),'Whip Data'!V116,'Whip Data'!U116))","v":""},{"$f":"IF(B103=\"\",\"\",IF(ISBLANK('Whip Data'!X116),'Whip Data'!W116,'Whip Data'!X116))","v":""},"","",{"$f":"IF($B103=\"\",\"\",IF('Whip Data'!Q116=\"\",\"None\",'Whip Data'!Q116))","v":""},{"$f":"IF(O103=\"\",\"\",IF($O103=\"None\",\"NA\",INDEX(Breakers!$A$1:$I$75,MATCH(BOM!C103,Breakers!$A$1:$A$75,0),MATCH(BOM!O103,Breakers!$A$1:$I$1,0))))","v":""},{"$f":"IF(B103=\"\",\"\",VLOOKUP(H103,Standards!$X$3:$Y$6,2,FALSE))","v":""}]
[{"$f":"IF($B104=\"\",\"\",'Whip Data'!$Z117)","v":""},{"$f":"IFERROR('Whip Data'!A117,\"\")","v":""},{"$f":"IF(B104=\"\",\"\",'Whip Data'!L117)","v":""},"",{"$f":"IF($B104=\"\",\"\",VLOOKUP($C104,Materials,'Whip Data'!$M$10+11,FALSE))","v":""},{"$f":"IF($B104=\"\",\"\",VLOOKUP($C104,Materials,'Whip Data'!$M$10+13,FALSE))","v":""},{"$f":"IFERROR(\"LTUA-\"&IF(ISTEXT('Whip Data'!$T117),VLOOKUP('Whip Data'!$T117,Conduit,2,FALSE),VLOOKUP('Whip Data'!$S117,Conduit,2,FALSE))&\"-\"&'Whip Data'!$R117,\"\")","v":""},{"$f":"IF($B104=\"\",\"\",IFERROR(VLOOKUP('Whip Data'!$T117,Conduit,3,FALSE),VLOOKUP('Whip Data'!$S117,Conduit,3,FALSE)))","v":""},{"$f":"IF(B104=\"\",\"\",'Whip Data'!O117)","v":""},{"$f":"IF(C104=\"\",\"\",'Whip Data'!P117)","v":""},{"$f":"IF($B104=\"\",\"\",IF(ISTEXT('Whip Data'!V117),'Whip Data'!V117,'Whip Data'!U117))","v":""},{"$f":"IF(B104=\"\",\"\",IF(ISBLANK('Whip Data'!X117),'Whip Data'!W117,'Whip Data'!X117))","v":""},"","",{"$f":"IF($B104=\"\",\"\",IF('Whip Data'!Q117=\"\",\"None\",'Whip Data'!Q117))","v":""},{"$f":"IF(O104=\"\",\"\",IF($O104=\"None\",\"NA\",INDEX(Breakers!$A$1:$I$75,MATCH(BOM!C104,Breakers!$A$1:$A$75,0),MATCH(BOM!O104,Breakers!$A$1:$I$1,0))))","v":""},{"$f":"IF(B104=\"\",\"\",VLOOKUP(H104,Standards!$X$3:$Y$6,2,FALSE))","v":""}]
[{"$f":"IF($B105=\"\",\"\",'Whip Data'!$Z118)","v":""},{"$f":"IFERROR('Whip Data'!A118,\"\")","v":""},{"$f":"IF(B105=\"\",\"\",'Whip Data'!L118)","v":""},"",{"$f":"IF($B105=\"\",\"\",VLOOKUP($C105,Materials,'Whip Data'!$M$10+11,FALSE))","v":""},{"$f":"IF($B105=\"\",\"\",VLOOKUP($C105,Materials,'Whip Data'!$M$10+13,FALSE))","v":""},{"$f":"IFERROR(\"LTUA-\"&IF(ISTEXT('Whip Data'!$T118),VLOOKUP('Whip Data'!$T118,Conduit,2,FALSE),VLOOKUP('Whip Data'!$S118,Conduit,2,FALSE))&\"-\"&'Whip Data'!$R118,\"\")","v":""},{"$f":"IF($B105=\"\",\"\",IFERROR(VLOOKUP('Whip Data'!$T118,Conduit,3,FALSE),VLOOKUP('Whip Data'!$S118,Conduit,3,FALSE)))","v":""},{"$f":"IF(B105=\"\",\"\",'Whip Data'!O118)","v":""},{"$f":"IF(C105=\"\",\"\",'Whip Data'!P118)","v":""},{"$f":"IF($B105=\"\",\"\",IF(ISTEXT('Whip Data'!V118),'Whip Data'!V118,'Whip Data'!U118))","v":""},{"$f":"IF(B105=\"\",\"\",IF(ISBLANK('Whip Data'!X118),'Whip Data'!W118,'Whip Data'!X118))","v":""},"","",{"$f":"IF($B105=\"\",\"\",IF('Whip Data'!Q118=\"\",\"None\",'Whip Data'!Q118))","v":""},{"$f":"IF(O105=\"\",\"\",IF($O105=\"None\",\"NA\",INDEX(Breakers!$A$1:$I$75,MATCH(BOM!C105,Breakers!$A$1:$A$75,0),MATCH(BOM!O105,Breakers!$A$1:$I$1,0))))","v":""},{"$f":"IF(B105=\"\",\"\",VLOOKUP(H105,Standards!$X$3:$Y$6,2,FALSE))","v":""}]
[{"$f":"IF($B106=\"\",\"\",'Whip Data'!$Z119)","v":""},{"$f":"IFERROR('Whip Data'!A119,\"\")","v":""},{"$f":"IF(B106=\"\",\"\",'Whip Data'!L119)","v":""},"",{"$f":"IF($B106=\"\",\"\",VLOOKUP($C106,Materials,'Whip Data'!$M$10+11,FALSE))","v":""},{"$f":"IF($B106=\"\",\"\",VLOOKUP($C106,Materials,'Whip Data'!$M$10+13,FALSE))","v":""},{"$f":"IFERROR(\"LTUA-\"&IF(ISTEXT('Whip Data'!$T119),VLOOKUP('Whip Data'!$T119,Conduit,2,FALSE),VLOOKUP('Whip Data'!$S119,Conduit,2,FALSE))&\"-\"&'Whip Data'!$R119,\"\")","v":""},{"$f":"IF($B106=\"\",\"\",IFERROR(VLOOKUP('Whip Data'!$T119,Conduit,3,FALSE),VLOOKUP('Whip Data'!$S119,Conduit,3,FALSE)))","v":""},{"$f":"IF(B106=\"\",\"\",'Whip Data'!O119)","v":""},{"$f":"IF(C106=\"\",\"\",'Whip Data'!P119)","v":""},{"$f":"IF($B106=\"\",\"\",IF(ISTEXT('Whip Data'!V119),'Whip Data'!V119,'Whip Data'!U119))","v":""},{"$f":"IF(B106=\"\",\"\",IF(ISBLANK('Whip Data'!X119),'Whip Data'!W119,'Whip Data'!X119))","v":""},"","",{"$f":"IF($B106=\"\",\"\",IF('Whip Data'!Q119=\"\",\"None\",'Whip Data'!Q119))","v":""},{"$f":"IF(O106=\"\",\"\",IF($O106=\"None\",\"NA\",INDEX(Breakers!$A$1:$I$75,MATCH(BOM!C106,Breakers!$A$1:$A$75,0),MATCH(BOM!O106,Breakers!$A$1:$I$1,0))))","v":""},{"$f":"IF(B106=\"\",\"\",VLOOKUP(H106,Standards!$X$3:$Y$6,2,FALSE))","v":""}]
[{"$f":"IF($B107=\"\",\"\",'Whip Data'!$Z120)","v":""},{"$f":"IFERROR('Whip Data'!A120,\"\")","v":""},{"$f":"IF(B107=\"\",\"\",'Whip Data'!L120)","v":""},"",{"$f":"IF($B107=\"\",\"\",VLOOKUP($C107,Materials,'Whip Data'!$M$10+11,FALSE))","v":""},{"$f":"IF($B107=\"\",\"\",VLOOKUP($C107,Materials,'Whip Data'!$M$10+13,FALSE))","v":""},{"$f":"IFERROR(\"LTUA-\"&IF(ISTEXT('Whip Data'!$T120),VLOOKUP('Whip Data'!$T120,Conduit,2,FALSE),VLOOKUP('Whip Data'!$S120,Conduit,2,FALSE))&\"-\"&'Whip Data'!$R120,\"\")","v":""},{"$f":"IF($B107=\"\",\"\",IFERROR(VLOOKUP('Whip Data'!$T120,Conduit,3,FALSE),VLOOKUP('Whip Data'!$S120,Conduit,3,FALSE)))","v":""},{"$f":"IF(B107=\"\",\"\",'Whip Data'!O120)","v":""},{"$f":"IF(C107=\"\",\"\",'Whip Data'!P120)","v":""},{"$f":"IF($B107=\"\",\"\",IF(ISTEXT('Whip Data'!V120),'Whip Data'!V120,'Whip Data'!U120))","v":""},{"$f":"IF(B107=\"\",\"\",IF(ISBLANK('Whip Data'!X120),'Whip Data'!W120,'Whip Data'!X120))","v":""},"","",{"$f":"IF($B107=\"\",\"\",IF('Whip Data'!Q120=\"\",\"None\",'Whip Data'!Q120))","v":""},{"$f":"IF(O107=\"\",\"\",IF($O107=\"None\",\"NA\",INDEX(Breakers!$A$1:$I$75,MATCH(BOM!C107,Breakers!$A$1:$A$75,0),MATCH(BOM!O107,Breakers!$A$1:$I$1,0))))","v":""},{"$f":"IF(B107=\"\",\"\",VLOOKUP(H107,Standards!$X$3:$Y$6,2,FALSE))","v":""}]
[{"$f":"IF($B108=\"\",\"\",'Whip Data'!$Z121)","v":""},{"$f":"IFERROR('Whip Data'!A121,\"\")","v":""},{"$f":"IF(B108=\"\",\"\",'Whip Data'!L121)","v":""},"",{"$f":"IF($B108=\"\",\"\",VLOOKUP($C108,Materials,'Whip Data'!$M$10+11,FALSE))","v":""},{"$f":"IF($B108=\"\",\"\",VLOOKUP($C108,Materials,'Whip Data'!$M$10+13,FALSE))","v":""},{"$f":"IFERROR(\"LTUA-\"&IF(ISTEXT('Whip Data'!$T121),VLOOKUP('Whip Data'!$T121,Conduit,2,FALSE),VLOOKUP('Whip Data'!$S121,Conduit,2,FALSE))&\"-\"&'Whip Data'!$R121,\"\")","v":""},{"$f":"IF($B108=\"\",\"\",IFERROR(VLOOKUP('Whip Data'!$T121,Conduit,3,FALSE),VLOOKUP('Whip Data'!$S121,Conduit,3,FALSE)))","v":""},{"$f":"IF(B108=\"\",\"\",'Whip Data'!O121)","v":""},{"$f":"IF(C108=\"\",\"\",'Whip Data'!P121)","v":""},{"$f":"IF($B108=\"\",\"\",IF(ISTEXT('Whip Data'!V121),'Whip Data'!V121,'Whip Data'!U121))","v":""},{"$f":"IF(B108=\"\",\"\",IF(ISBLANK('Whip Data'!X121),'Whip Data'!W121,'Whip Data'!X121))","v":""},"","",{"$f":"IF($B108=\"\",\"\",IF('Whip Data'!Q121=\"\",\"None\",'Whip Data'!Q121))","v":""},{"$f":"IF(O108=\"\",\"\",IF($O108=\"None\",\"NA\",INDEX(Breakers!$A$1:$I$75,MATCH(BOM!C108,Breakers!$A$1:$A$75,0),MATCH(BOM!O108,Breakers!$A$1:$I$1,0))))","v":""},{"$f":"IF(B108=\"\",\"\",VLOOKUP(H108,Standards!$X$3:$Y$6,2,FALSE))","v":""}]
[{"$f":"IF($B109=\"\",\"\",'Whip Data'!$Z122)","v":""},{"$f":"IFERROR('Whip Data'!A122,\"\")","v":""},{"$f":"IF(B109=\"\",\"\",'Whip Data'!L122)","v":""},"",{"$f":"IF($B109=\"\",\"\",VLOOKUP($C109,Materials,'Whip Data'!$M$10+11,FALSE))","v":""},{"$f":"IF($B109=\"\",\"\",VLOOKUP($C109,Materials,'Whip Data'!$M$10+13,FALSE))","v":""},{"$f":"IFERROR(\"LTUA-\"&IF(ISTEXT('Whip Data'!$T122),VLOOKUP('Whip Data'!$T122,Conduit,2,FALSE),VLOOKUP('Whip Data'!$S122,Conduit,2,FALSE))&\"-\"&'Whip Data'!$R122,\"\")","v":""},{"$f":"IF($B109=\"\",\"\",IFERROR(VLOOKUP('Whip Data'!$T122,Conduit,3,FALSE),VLOOKUP('Whip Data'!$S122,Conduit,3,FALSE)))","v":""},{"$f":"IF(B109=\"\",\"\",'Whip Data'!O122)","v":""},{"$f":"IF(C109=\"\",\"\",'Whip Data'!P122)","v":""},{"$f":"IF($B109=\"\",\"\",IF(ISTEXT('Whip Data'!V122),'Whip Data'!V122,'Whip Data'!U122))","v":""},{"$f":"IF(B109=\"\",\"\",IF(ISBLANK('Whip Data'!X122),'Whip Data'!W122,'Whip Data'!X122))","v":""},"","",{"$f":"IF($B109=\"\",\"\",IF('Whip Data'!Q122=\"\",\"None\",'Whip Data'!Q122))","v":""},{"$f":"IF(O109=\"\",\"\",IF($O109=\"None\",\"NA\",INDEX(Breakers!$A$1:$I$75,MATCH(BOM!C109,Breakers!$A$1:$A$75,0),MATCH(BOM!O109,Breakers!$A$1:$I$1,0))))","v":""},{"$f":"IF(B109=\"\",\"\",VLOOKUP(H109,Standards!$X$3:$Y$6,2,FALSE))","v":""}]
[{"$f":"IF($B110=\"\",\"\",'Whip Data'!$Z123)","v":""},{"$f":"IFERROR('Whip Data'!A123,\"\")","v":""},{"$f":"IF(B110=\"\",\"\",'Whip Data'!L123)","v":""},"",{"$f":"IF($B110=\"\",\"\",VLOOKUP($C110,Materials,'Whip Data'!$M$10+11,FALSE))","v":""},{"$f":"IF($B110=\"\",\"\",VLOOKUP($C110,Materials,'Whip Data'!$M$10+13,FALSE))","v":""},{"$f":"IFERROR(\"LTUA-\"&IF(ISTEXT('Whip Data'!$T123),VLOOKUP('Whip Data'!$T123,Conduit,2,FALSE),VLOOKUP('Whip Data'!$S123,Conduit,2,FALSE))&\"-\"&'Whip Data'!$R123,\"\")","v":""},{"$f":"IF($B110=\"\",\"\",IFERROR(VLOOKUP('Whip Data'!$T123,Conduit,3,FALSE),VLOOKUP('Whip Data'!$S123,Conduit,3,FALSE)))","v":""},{"$f":"IF(B110=\"\",\"\",'Whip Data'!O123)","v":""},{"$f":"IF(C110=\"\",\"\",'Whip Data'!P123)","v":""},{"$f":"IF($B110=\"\",\"\",IF(ISTEXT('Whip Data'!V123),'Whip Data'!V123,'Whip Data'!U123))","v":""},{"$f":"IF(B110=\"\",\"\",IF(ISBLANK('Whip Data'!X123),'Whip Data'!W123,'Whip Data'!X123))","v":""},"","",{"$f":"IF($B110=\"\",\"\",IF('Whip Data'!Q123=\"\",\"None\",'Whip Data'!Q123))","v":""},{"$f":"IF(O110=\"\",\"\",IF($O110=\"None\",\"NA\",INDEX(Breakers!$A$1:$I$75,MATCH(BOM!C110,Breakers!$A$1:$A$75,0),MATCH(BOM!O110,Breakers!$A$1:$I$1,0))))","v":""},{"$f":"IF(B110=\"\",\"\",VLOOKUP(H110,Standards!$X$3:$Y$6,2,FALSE))","v":""}]
[{"$f":"IF($B111=\"\",\"\",'Whip Data'!$Z124)","v":""},{"$f":"IFERROR('Whip Data'!A124,\"\")","v":""},{"$f":"IF(B111=\"\",\"\",'Whip Data'!L124)","v":""},"",{"$f":"IF($B111=\"\",\"\",VLOOKUP($C111,Materials,'Whip Data'!$M$10+11,FALSE))","v":""},{"$f":"IF($B111=\"\",\"\",VLOOKUP($C111,Materials,'Whip Data'!$M$10+13,FALSE))","v":""},{"$f":"IFERROR(\"LTUA-\"&IF(ISTEXT('Whip Data'!$T124),VLOOKUP('Whip Data'!$T124,Conduit,2,FALSE),VLOOKUP('Whip Data'!$S124,Conduit,2,FALSE))&\"-\"&'Whip Data'!$R124,\"\")","v":""},{"$f":"IF($B111=\"\",\"\",IFERROR(VLOOKUP('Whip Data'!$T124,Conduit,3,FALSE),VLOOKUP('Whip Data'!$S124,Conduit,3,FALSE)))","v":""},{"$f":"IF(B111=\"\",\"\",'Whip Data'!O124)","v":""},{"$f":"IF(C111=\"\",\"\",'Whip Data'!P124)","v":""},{"$f":"IF($B111=\"\",\"\",IF(ISTEXT('Whip Data'!V124),'Whip Data'!V124,'Whip Data'!U124))","v":""},{"$f":"IF(B111=\"\",\"\",IF(ISBLANK('Whip Data'!X124),'Whip Data'!W124,'Whip Data'!X124))","v":""},"","",{"$f":"IF($B111=\"\",\"\",IF('Whip Data'!Q124=\"\",\"None\",'Whip Data'!Q124))","v":""},{"$f":"IF(O111=\"\",\"\",IF($O111=\"None\",\"NA\",INDEX(Breakers!$A$1:$I$75,MATCH(BOM!C111,Breakers!$A$1:$A$75,0),MATCH(BOM!O111,Breakers!$A$1:$I$1,0))))","v":""},{"$f":"IF(B111=\"\",\"\",VLOOKUP(H111,Standards!$X$3:$Y$6,2,FALSE))","v":""}]
[{"$f":"IF($B112=\"\",\"\",'Whip Data'!$Z125)","v":""},{"$f":"IFERROR('Whip Data'!A125,\"\")","v":""},{"$f":"IF(B112=\"\",\"\",'Whip Data'!L125)","v":""},"",{"$f":"IF($B112=\"\",\"\",VLOOKUP($C112,Materials,'Whip Data'!$M$10+11,FALSE))","v":""},{"$f":"IF($B112=\"\",\"\",VLOOKUP($C112,Materials,'Whip Data'!$M$10+13,FALSE))","v":""},{"$f":"IFERROR(\"LTUA-\"&IF(ISTEXT('Whip Data'!$T125),VLOOKUP('Whip Data'!$T125,Conduit,2,FALSE),VLOOKUP('Whip Data'!$S125,Conduit,2,FALSE))&\"-\"&'Whip Data'!$R125,\"\")","v":""},{"$f":"IF($B112=\"\",\"\",IFERROR(VLOOKUP('Whip Data'!$T125,Conduit,3,FALSE),VLOOKUP('Whip Data'!$S125,Conduit,3,FALSE)))","v":""},{"$f":"IF(B112=\"\",\"\",'Whip Data'!O125)","v":""},{"$f":"IF(C112=\"\",\"\",'Whip Data'!P125)","v":""},{"$f":"IF($B112=\"\",\"\",IF(ISTEXT('Whip Data'!V125),'Whip Data'!V125,'Whip Data'!U125))","v":""},{"$f":"IF(B112=\"\",\"\",IF(ISBLANK('Whip Data'!X125),'Whip Data'!W125,'Whip Data'!X125))","v":""},"","",{"$f":"IF($B112=\"\",\"\",IF('Whip Data'!Q125=\"\",\"None\",'Whip Data'!Q125))","v":""},{"$f":"IF(O112=\"\",\"\",IF($O112=\"None\",\"NA\",INDEX(Breakers!$A$1:$I$75,MATCH(BOM!C112,Breakers!$A$1:$A$75,0),MATCH(BOM!O112,Breakers!$A$1:$I$1,0))))","v":""},{"$f":"IF(B112=\"\",\"\",VLOOKUP(H112,Standards!$X$3:$Y$6,2,FALSE))","v":""}]
[{"$f":"IF($B113=\"\",\"\",'Whip Data'!$Z126)","v":""},{"$f":"IFERROR('Whip Data'!A126,\"\")","v":""},{"$f":"IF(B113=\"\",\"\",'Whip Data'!L126)","v":""},"",{"$f":"IF($B113=\"\",\"\",VLOOKUP($C113,Materials,'Whip Data'!$M$10+11,FALSE))","v":""},{"$f":"IF($B113=\"\",\"\",VLOOKUP($C113,Materials,'Whip Data'!$M$10+13,FALSE))","v":""},{"$f":"IFERROR(\"LTUA-\"&IF(ISTEXT('Whip Data'!$T126),VLOOKUP('Whip Data'!$T126,Conduit,2,FALSE),VLOOKUP('Whip Data'!$S126,Conduit,2,FALSE))&\"-\"&'Whip Data'!$R126,\"\")","v":""},{"$f":"IF($B113=\"\",\"\",IFERROR(VLOOKUP('Whip Data'!$T126,Conduit,3,FALSE),VLOOKUP('Whip Data'!$S126,Conduit,3,FALSE)))","v":""},{"$f":"IF(B113=\"\",\"\",'Whip Data'!O126)","v":""},{"$f":"IF(C113=\"\",\"\",'Whip Data'!P126)","v":""},{"$f":"IF($B113=\"\",\"\",IF(ISTEXT('Whip Data'!V126),'Whip Data'!V126,'Whip Data'!U126))","v":""},{"$f":"IF(B113=\"\",\"\",IF(ISBLANK('Whip Data'!X126),'Whip Data'!W126,'Whip Data'!X126))","v":""},"","",{"$f":"IF($B113=\"\",\"\",IF('Whip Data'!Q126=\"\",\"None\",'Whip Data'!Q126))","v":""},{"$f":"IF(O113=\"\",\"\",IF($O113=\"None\",\"NA\",INDEX(Breakers!$A$1:$I$75,MATCH(BOM!C113,Breakers!$A$1:$A$75,0),MATCH(BOM!O113,Breakers!$A$1:$I$1,0))))","v":""},{"$f":"IF(B113=\"\",\"\",VLOOKUP(H113,Standards!$X$3:$Y$6,2,FALSE))","v":""}]
[{"$f":"IF($B114=\"\",\"\",'Whip Data'!$Z127)","v":""},{"$f":"IFERROR('Whip Data'!A127,\"\")","v":""},{"$f":"IF(B114=\"\",\"\",'Whip Data'!L127)","v":""},"",{"$f":"IF($B114=\"\",\"\",VLOOKUP($C114,Materials,'Whip Data'!$M$10+11,FALSE))","v":""},{"$f":"IF($B114=\"\",\"\",VLOOKUP($C114,Materials,'Whip Data'!$M$10+13,FALSE))","v":""},{"$f":"IFERROR(\"LTUA-\"&IF(ISTEXT('Whip Data'!$T127),VLOOKUP('Whip Data'!$T127,Conduit,2,FALSE),VLOOKUP('Whip Data'!$S127,Conduit,2,FALSE))&\"-\"&'Whip Data'!$R127,\"\")","v":""},{"$f":"IF($B114=\"\",\"\",IFERROR(VLOOKUP('Whip Data'!$T127,Conduit,3,FALSE),VLOOKUP('Whip Data'!$S127,Conduit,3,FALSE)))","v":""},{"$f":"IF(B114=\"\",\"\",'Whip Data'!O127)","v":""},{"$f":"IF(C114=\"\",\"\",'Whip Data'!P127)","v":""},{"$f":"IF($B114=\"\",\"\",IF(ISTEXT('Whip Data'!V127),'Whip Data'!V127,'Whip Data'!U127))","v":""},{"$f":"IF(B114=\"\",\"\",IF(ISBLANK('Whip Data'!X127),'Whip Data'!W127,'Whip Data'!X127))","v":""},"","",{"$f":"IF($B114=\"\",\"\",IF('Whip Data'!Q127=\"\",\"None\",'Whip Data'!Q127))","v":""},{"$f":"IF(O114=\"\",\"\",IF($O114=\"None\",\"NA\",INDEX(Breakers!$A$1:$I$75,MATCH(BOM!C114,Breakers!$A$1:$A$75,0),MATCH(BOM!O114,Breakers!$A$1:$I$1,0))))","v":""},{"$f":"IF(B114=\"\",\"\",VLOOKUP(H114,Standards!$X$3:$Y$6,2,FALSE))","v":""}]
[{"$f":"IF($B115=\"\",\"\",'Whip Data'!$Z128)","v":""},{"$f":"IFERROR('Whip Data'!A128,\"\")","v":""},{"$f":"IF(B115=\"\",\"\",'Whip Data'!L128)","v":""},"",{"$f":"IF($B115=\"\",\"\",VLOOKUP($C115,Materials,'Whip Data'!$M$10+11,FALSE))","v":""},{"$f":"IF($B115=\"\",\"\",VLOOKUP($C115,Materials,'Whip Data'!$M$10+13,FALSE))","v":""},{"$f":"IFERROR(\"LTUA-\"&IF(ISTEXT('Whip Data'!$T128),VLOOKUP('Whip Data'!$T128,Conduit,2,FALSE),VLOOKUP('Whip Data'!$S128,Conduit,2,FALSE))&\"-\"&'Whip Data'!$R128,\"\")","v":""},{"$f":"IF($B115=\"\",\"\",IFERROR(VLOOKUP('Whip Data'!$T128,Conduit,3,FALSE),VLOOKUP('Whip Data'!$S128,Conduit,3,FALSE)))","v":""},{"$f":"IF(B115=\"\",\"\",'Whip Data'!O128)","v":""},{"$f":"IF(C115=\"\",\"\",'Whip Data'!P128)","v":""},{"$f":"IF($B115=\"\",\"\",IF(ISTEXT('Whip Data'!V128),'Whip Data'!V128,'Whip Data'!U128))","v":""},{"$f":"IF(B115=\"\",\"\",IF(ISBLANK('Whip Data'!X128),'Whip Data'!W128,'Whip Data'!X128))","v":""},"","",{"$f":"IF($B115=\"\",\"\",IF('Whip Data'!Q128=\"\",\"None\",'Whip Data'!Q128))","v":""},{"$f":"IF(O115=\"\",\"\",IF($O115=\"None\",\"NA\",INDEX(Breakers!$A$1:$I$75,MATCH(BOM!C115,Breakers!$A$1:$A$75,0),MATCH(BOM!O115,Breakers!$A$1:$I$1,0))))","v":""},{"$f":"IF(B115=\"\",\"\",VLOOKUP(H115,Standards!$X$3:$Y$6,2,FALSE))","v":""}]
[{"$f":"IF($B116=\"\",\"\",'Whip Data'!$Z129)","v":""},{"$f":"IFERROR('Whip Data'!A129,\"\")","v":""},{"$f":"IF(B116=\"\",\"\",'Whip Data'!L129)","v":""},"",{"$f":"IF($B116=\"\",\"\",VLOOKUP($C116,Materials,'Whip Data'!$M$10+11,FALSE))","v":""},{"$f":"IF($B116=\"\",\"\",VLOOKUP($C116,Materials,'Whip Data'!$M$10+13,FALSE))","v":""},{"$f":"IFERROR(\"LTUA-\"&IF(ISTEXT('Whip Data'!$T129),VLOOKUP('Whip Data'!$T129,Conduit,2,FALSE),VLOOKUP('Whip Data'!$S129,Conduit,2,FALSE))&\"-\"&'Whip Data'!$R129,\"\")","v":""},{"$f":"IF($B116=\"\",\"\",IFERROR(VLOOKUP('Whip Data'!$T129,Conduit,3,FALSE),VLOOKUP('Whip Data'!$S129,Conduit,3,FALSE)))","v":""},{"$f":"IF(B116=\"\",\"\",'Whip Data'!O129)","v":""},{"$f":"IF(C116=\"\",\"\",'Whip Data'!P129)","v":""},{"$f":"IF($B116=\"\",\"\",IF(ISTEXT('Whip Data'!V129),'Whip Data'!V129,'Whip Data'!U129))","v":""},{"$f":"IF(B116=\"\",\"\",IF(ISBLANK('Whip Data'!X129),'Whip Data'!W129,'Whip Data'!X129))","v":""},"","",{"$f":"IF($B116=\"\",\"\",IF('Whip Data'!Q129=\"\",\"None\",'Whip Data'!Q129))","v":""},{"$f":"IF(O116=\"\",\"\",IF($O116=\"None\",\"NA\",INDEX(Breakers!$A$1:$I$75,MATCH(BOM!C116,Breakers!$A$1:$A$75,0),MATCH(BOM!O116,Breakers!$A$1:$I$1,0))))","v":""},{"$f":"IF(B116=\"\",\"\",VLOOKUP(H116,Standards!$X$3:$Y$6,2,FALSE))","v":""}]
[{"$f":"IF($B117=\"\",\"\",'Whip Data'!$Z130)","v":""},{"$f":"IFERROR('Whip Data'!A130,\"\")","v":""},{"$f":"IF(B117=\"\",\"\",'Whip Data'!L130)","v":""},"",{"$f":"IF($B117=\"\",\"\",VLOOKUP($C117,Materials,'Whip Data'!$M$10+11,FALSE))","v":""},{"$f":"IF($B117=\"\",\"\",VLOOKUP($C117,Materials,'Whip Data'!$M$10+13,FALSE))","v":""},{"$f":"IFERROR(\"LTUA-\"&IF(ISTEXT('Whip Data'!$T130),VLOOKUP('Whip Data'!$T130,Conduit,2,FALSE),VLOOKUP('Whip Data'!$S130,Conduit,2,FALSE))&\"-\"&'Whip Data'!$R130,\"\")","v":""},{"$f":"IF($B117=\"\",\"\",IFERROR(VLOOKUP('Whip Data'!$T130,Conduit,3,FALSE),VLOOKUP('Whip Data'!$S130,Conduit,3,FALSE)))","v":""},{"$f":"IF(B117=\"\",\"\",'Whip Data'!O130)","v":""},{"$f":"IF(C117=\"\",\"\",'Whip Data'!P130)","v":""},{"$f":"IF($B117=\"\",\"\",IF(ISTEXT('Whip Data'!V130),'Whip Data'!V130,'Whip Data'!U130))","v":""},{"$f":"IF(B117=\"\",\"\",IF(ISBLANK('Whip Data'!X130),'Whip Data'!W130,'Whip Data'!X130))","v":""},"","",{"$f":"IF($B117=\"\",\"\",IF('Whip Data'!Q130=\"\",\"None\",'Whip Data'!Q130))","v":""},{"$f":"IF(O117=\"\",\"\",IF($O117=\"None\",\"NA\",INDEX(Breakers!$A$1:$I$75,MATCH(BOM!C117,Breakers!$A$1:$A$75,0),MATCH(BOM!O117,Breakers!$A$1:$I$1,0))))","v":""},{"$f":"IF(B117=\"\",\"\",VLOOKUP(H117,Standards!$X$3:$Y$6,2,FALSE))","v":""}]
[{"$f":"IF($B118=\"\",\"\",'Whip Data'!$Z131)","v":""},{"$f":"IFERROR('Whip Data'!A131,\"\")","v":""},{"$f":"IF(B118=\"\",\"\",'Whip Data'!L131)","v":""},"",{"$f":"IF($B118=\"\",\"\",VLOOKUP($C118,Materials,'Whip Data'!$M$10+11,FALSE))","v":""},{"$f":"IF($B118=\"\",\"\",VLOOKUP($C118,Materials,'Whip Data'!$M$10+13,FALSE))","v":""},{"$f":"IFERROR(\"LTUA-\"&IF(ISTEXT('Whip Data'!$T131),VLOOKUP('Whip Data'!$T131,Conduit,2,FALSE),VLOOKUP('Whip Data'!$S131,Conduit,2,FALSE))&\"-\"&'Whip Data'!$R131,\"\")","v":""},{"$f":"IF($B118=\"\",\"\",IFERROR(VLOOKUP('Whip Data'!$T131,Conduit,3,FALSE),VLOOKUP('Whip Data'!$S131,Conduit,3,FALSE)))","v":""},{"$f":"IF(B118=\"\",\"\",'Whip Data'!O131)","v":""},{"$f":"IF(C118=\"\",\"\",'Whip Data'!P131)","v":""},{"$f":"IF($B118=\"\",\"\",IF(ISTEXT('Whip Data'!V131),'Whip Data'!V131,'Whip Data'!U131))","v":""},{"$f":"IF(B118=\"\",\"\",IF(ISBLANK('Whip Data'!X131),'Whip Data'!W131,'Whip Data'!X131))","v":""},"","",{"$f":"IF($B118=\"\",\"\",IF('Whip Data'!Q131=\"\",\"None\",'Whip Data'!Q131))","v":""},{"$f":"IF(O118=\"\",\"\",IF($O118=\"None\",\"NA\",INDEX(Breakers!$A$1:$I$75,MATCH(BOM!C118,Breakers!$A$1:$A$75,0),MATCH(BOM!O118,Breakers!$A$1:$I$1,0))))","v":""},{"$f":"IF(B118=\"\",\"\",VLOOKUP(H118,Standards!$X$3:$Y$6,2,FALSE))","v":""}]
[{"$f":"IF($B119=\"\",\"\",'Whip Data'!$Z132)","v":""},{"$f":"IFERROR('Whip Data'!A132,\"\")","v":""},{"$f":"IF(B119=\"\",\"\",'Whip Data'!L132)","v":""},"",{"$f":"IF($B119=\"\",\"\",VLOOKUP($C119,Materials,'Whip Data'!$M$10+11,FALSE))","v":""},{"$f":"IF($B119=\"\",\"\",VLOOKUP($C119,Materials,'Whip Data'!$M$10+13,FALSE))","v":""},{"$f":"IFERROR(\"LTUA-\"&IF(ISTEXT('Whip Data'!$T132),VLOOKUP('Whip Data'!$T132,Conduit,2,FALSE),VLOOKUP('Whip Data'!$S132,Conduit,2,FALSE))&\"-\"&'Whip Data'!$R132,\"\")","v":""},{"$f":"IF($B119=\"\",\"\",IFERROR(VLOOKUP('Whip Data'!$T132,Conduit,3,FALSE),VLOOKUP('Whip Data'!$S132,Conduit,3,FALSE)))","v":""},{"$f":"IF(B119=\"\",\"\",'Whip Data'!O132)","v":""},{"$f":"IF(C119=\"\",\"\",'Whip Data'!P132)","v":""},{"$f":"IF($B119=\"\",\"\",IF(ISTEXT('Whip Data'!V132),'Whip Data'!V132,'Whip Data'!U132))","v":""},{"$f":"IF(B119=\"\",\"\",IF(ISBLANK('Whip Data'!X132),'Whip Data'!W132,'Whip Data'!X132))","v":""},"","",{"$f":"IF($B119=\"\",\"\",IF('Whip Data'!Q132=\"\",\"None\",'Whip Data'!Q132))","v":""},{"$f":"IF(O119=\"\",\"\",IF($O119=\"None\",\"NA\",INDEX(Breakers!$A$1:$I$75,MATCH(BOM!C119,Breakers!$A$1:$A$75,0),MATCH(BOM!O119,Breakers!$A$1:$I$1,0))))","v":""},{"$f":"IF(B119=\"\",\"\",VLOOKUP(H119,Standards!$X$3:$Y$6,2,FALSE))","v":""}]
[{"$f":"IF($B120=\"\",\"\",'Whip Data'!$Z133)","v":""},{"$f":"IFERROR('Whip Data'!A133,\"\")","v":""},{"$f":"IF(B120=\"\",\"\",'Whip Data'!L133)","v":""},"",{"$f":"IF($B120=\"\",\"\",VLOOKUP($C120,Materials,'Whip Data'!$M$10+11,FALSE))","v":""},{"$f":"IF($B120=\"\",\"\",VLOOKUP($C120,Materials,'Whip Data'!$M$10+13,FALSE))","v":""},{"$f":"IFERROR(\"LTUA-\"&IF(ISTEXT('Whip Data'!$T133),VLOOKUP('Whip Data'!$T133,Conduit,2,FALSE),VLOOKUP('Whip Data'!$S133,Conduit,2,FALSE))&\"-\"&'Whip Data'!$R133,\"\")","v":""},{"$f":"IF($B120=\"\",\"\",IFERROR(VLOOKUP('Whip Data'!$T133,Conduit,3,FALSE),VLOOKUP('Whip Data'!$S133,Conduit,3,FALSE)))","v":""},{"$f":"IF(B120=\"\",\"\",'Whip Data'!O133)","v":""},{"$f":"IF(C120=\"\",\"\",'Whip Data'!P133)","v":""},{"$f":"IF($B120=\"\",\"\",IF(ISTEXT('Whip Data'!V133),'Whip Data'!V133,'Whip Data'!U133))","v":""},{"$f":"IF(B120=\"\",\"\",IF(ISBLANK('Whip Data'!X133),'Whip Data'!W133,'Whip Data'!X133))","v":""},"","",{"$f":"IF($B120=\"\",\"\",IF('Whip Data'!Q133=\"\",\"None\",'Whip Data'!Q133))","v":""},{"$f":"IF(O120=\"\",\"\",IF($O120=\"None\",\"NA\",INDEX(Breakers!$A$1:$I$75,MATCH(BOM!C120,Breakers!$A$1:$A$75,0),MATCH(BOM!O120,Breakers!$A$1:$I$1,0))))","v":""},{"$f":"IF(B120=\"\",\"\",VLOOKUP(H120,Standards!$X$3:$Y$6,2,FALSE))","v":""}]
[{"$f":"IF($B121=\"\",\"\",'Whip Data'!$Z134)","v":""},{"$f":"IFERROR('Whip Data'!A134,\"\")","v":""},{"$f":"IF(B121=\"\",\"\",'Whip Data'!L134)","v":""},"",{"$f":"IF($B121=\"\",\"\",VLOOKUP($C121,Materials,'Whip Data'!$M$10+11,FALSE))","v":""},{"$f":"IF($B121=\"\",\"\",VLOOKUP($C121,Materials,'Whip Data'!$M$10+13,FALSE))","v":""},{"$f":"IFERROR(\"LTUA-\"&IF(ISTEXT('Whip Data'!$T134),VLOOKUP('Whip Data'!$T134,Conduit,2,FALSE),VLOOKUP('Whip Data'!$S134,Conduit,2,FALSE))&\"-\"&'Whip Data'!$R134,\"\")","v":""},{"$f":"IF($B121=\"\",\"\",IFERROR(VLOOKUP('Whip Data'!$T134,Conduit,3,FALSE),VLOOKUP('Whip Data'!$S134,Conduit,3,FALSE)))","v":""},{"$f":"IF(B121=\"\",\"\",'Whip Data'!O134)","v":""},{"$f":"IF(C121=\"\",\"\",'Whip Data'!P134)","v":""},{"$f":"IF($B121=\"\",\"\",IF(ISTEXT('Whip Data'!V134),'Whip Data'!V134,'Whip Data'!U134))","v":""},{"$f":"IF(B121=\"\",\"\",IF(ISBLANK('Whip Data'!X134),'Whip Data'!W134,'Whip Data'!X134))","v":""},"","",{"$f":"IF($B121=\"\",\"\",IF('Whip Data'!Q134=\"\",\"None\",'Whip Data'!Q134))","v":""},{"$f":"IF(O121=\"\",\"\",IF($O121=\"None\",\"NA\",INDEX(Breakers!$A$1:$I$75,MATCH(BOM!C121,Breakers!$A$1:$A$75,0),MATCH(BOM!O121,Breakers!$A$1:$I$1,0))))","v":""},{"$f":"IF(B121=\"\",\"\",VLOOKUP(H121,Standards!$X$3:$Y$6,2,FALSE))","v":""}]
[{"$f":"IF($B122=\"\",\"\",'Whip Data'!$Z135)","v":""},{"$f":"IFERROR('Whip Data'!A135,\"\")","v":""},{"$f":"IF(B122=\"\",\"\",'Whip Data'!L135)","v":""},"",{"$f":"IF($B122=\"\",\"\",VLOOKUP($C122,Materials,'Whip Data'!$M$10+11,FALSE))","v":""},{"$f":"IF($B122=\"\",\"\",VLOOKUP($C122,Materials,'Whip Data'!$M$10+13,FALSE))","v":""},{"$f":"IFERROR(\"LTUA-\"&IF(ISTEXT('Whip Data'!$T135),VLOOKUP('Whip Data'!$T135,Conduit,2,FALSE),VLOOKUP('Whip Data'!$S135,Conduit,2,FALSE))&\"-\"&'Whip Data'!$R135,\"\")","v":""},{"$f":"IF($B122=\"\",\"\",IFERROR(VLOOKUP('Whip Data'!$T135,Conduit,3,FALSE),VLOOKUP('Whip Data'!$S135,Conduit,3,FALSE)))","v":""},{"$f":"IF(B122=\"\",\"\",'Whip Data'!O135)","v":""},{"$f":"IF(C122=\"\",\"\",'Whip Data'!P135)","v":""},{"$f":"IF($B122=\"\",\"\",IF(ISTEXT('Whip Data'!V135),'Whip Data'!V135,'Whip Data'!U135))","v":""},{"$f":"IF(B122=\"\",\"\",IF(ISBLANK('Whip Data'!X135),'Whip Data'!W135,'Whip Data'!X135))","v":""},"","",{"$f":"IF($B122=\"\",\"\",IF('Whip Data'!Q135=\"\",\"None\",'Whip Data'!Q135))","v":""},{"$f":"IF(O122=\"\",\"\",IF($O122=\"None\",\"NA\",INDEX(Breakers!$A$1:$I$75,MATCH(BOM!C122,Breakers!$A$1:$A$75,0),MATCH(BOM!O122,Breakers!$A$1:$I$1,0))))","v":""},{"$f":"IF(B122=\"\",\"\",VLOOKUP(H122,Standards!$X$3:$Y$6,2,FALSE))","v":""}]
[{"$f":"IF($B123=\"\",\"\",'Whip Data'!$Z136)","v":""},{"$f":"IFERROR('Whip Data'!A136,\"\")","v":""},{"$f":"IF(B123=\"\",\"\",'Whip Data'!L136)","v":""},"",{"$f":"IF($B123=\"\",\"\",VLOOKUP($C123,Materials,'Whip Data'!$M$10+11,FALSE))","v":""},{"$f":"IF($B123=\"\",\"\",VLOOKUP($C123,Materials,'Whip Data'!$M$10+13,FALSE))","v":""},{"$f":"IFERROR(\"LTUA-\"&IF(ISTEXT('Whip Data'!$T136),VLOOKUP('Whip Data'!$T136,Conduit,2,FALSE),VLOOKUP('Whip Data'!$S136,Conduit,2,FALSE))&\"-\"&'Whip Data'!$R136,\"\")","v":""},{"$f":"IF($B123=\"\",\"\",IFERROR(VLOOKUP('Whip Data'!$T136,Conduit,3,FALSE),VLOOKUP('Whip Data'!$S136,Conduit,3,FALSE)))","v":""},{"$f":"IF(B123=\"\",\"\",'Whip Data'!O136)","v":""},{"$f":"IF(C123=\"\",\"\",'Whip Data'!P136)","v":""},{"$f":"IF($B123=\"\",\"\",IF(ISTEXT('Whip Data'!V136),'Whip Data'!V136,'Whip Data'!U136))","v":""},{"$f":"IF(B123=\"\",\"\",IF(ISBLANK('Whip Data'!X136),'Whip Data'!W136,'Whip Data'!X136))","v":""},"","",{"$f":"IF($B123=\"\",\"\",IF('Whip Data'!Q136=\"\",\"None\",'Whip Data'!Q136))","v":""},{"$f":"IF(O123=\"\",\"\",IF($O123=\"None\",\"NA\",INDEX(Breakers!$A$1:$I$75,MATCH(BOM!C123,Breakers!$A$1:$A$75,0),MATCH(BOM!O123,Breakers!$A$1:$I$1,0))))","v":""},{"$f":"IF(B123=\"\",\"\",VLOOKUP(H123,Standards!$X$3:$Y$6,2,FALSE))","v":""}]
[{"$f":"IF($B124=\"\",\"\",'Whip Data'!$Z137)","v":""},{"$f":"IFERROR('Whip Data'!A137,\"\")","v":""},{"$f":"IF(B124=\"\",\"\",'Whip Data'!L137)","v":""},"",{"$f":"IF($B124=\"\",\"\",VLOOKUP($C124,Materials,'Whip Data'!$M$10+11,FALSE))","v":""},{"$f":"IF($B124=\"\",\"\",VLOOKUP($C124,Materials,'Whip Data'!$M$10+13,FALSE))","v":""},{"$f":"IFERROR(\"LTUA-\"&IF(ISTEXT('Whip Data'!$T137),VLOOKUP('Whip Data'!$T137,Conduit,2,FALSE),VLOOKUP('Whip Data'!$S137,Conduit,2,FALSE))&\"-\"&'Whip Data'!$R137,\"\")","v":""},{"$f":"IF($B124=\"\",\"\",IFERROR(VLOOKUP('Whip Data'!$T137,Conduit,3,FALSE),VLOOKUP('Whip Data'!$S137,Conduit,3,FALSE)))","v":""},{"$f":"IF(B124=\"\",\"\",'Whip Data'!O137)","v":""},{"$f":"IF(C124=\"\",\"\",'Whip Data'!P137)","v":""},{"$f":"IF($B124=\"\",\"\",IF(ISTEXT('Whip Data'!V137),'Whip Data'!V137,'Whip Data'!U137))","v":""},{"$f":"IF(B124=\"\",\"\",IF(ISBLANK('Whip Data'!X137),'Whip Data'!W137,'Whip Data'!X137))","v":""},"","",{"$f":"IF($B124=\"\",\"\",IF('Whip Data'!Q137=\"\",\"None\",'Whip Data'!Q137))","v":""},{"$f":"IF(O124=\"\",\"\",IF($O124=\"None\",\"NA\",INDEX(Breakers!$A$1:$I$75,MATCH(BOM!C124,Breakers!$A$1:$A$75,0),MATCH(BOM!O124,Breakers!$A$1:$I$1,0))))","v":""},{"$f":"IF(B124=\"\",\"\",VLOOKUP(H124,Standards!$X$3:$Y$6,2,FALSE))","v":""}]
[{"$f":"IF($B125=\"\",\"\",'Whip Data'!$Z138)","v":""},{"$f":"IFERROR('Whip Data'!A138,\"\")","v":""},{"$f":"IF(B125=\"\",\"\",'Whip Data'!L138)","v":""},"",{"$f":"IF($B125=\"\",\"\",VLOOKUP($C125,Materials,'Whip Data'!$M$10+11,FALSE))","v":""},{"$f":"IF($B125=\"\",\"\",VLOOKUP($C125,Materials,'Whip Data'!$M$10+13,FALSE))","v":""},{"$f":"IFERROR(\"LTUA-\"&IF(ISTEXT('Whip Data'!$T138),VLOOKUP('Whip Data'!$T138,Conduit,2,FALSE),VLOOKUP('Whip Data'!$S138,Conduit,2,FALSE))&\"-\"&'Whip Data'!$R138,\"\")","v":""},{"$f":"IF($B125=\"\",\"\",IFERROR(VLOOKUP('Whip Data'!$T138,Conduit,3,FALSE),VLOOKUP('Whip Data'!$S138,Conduit,3,FALSE)))","v":""},{"$f":"IF(B125=\"\",\"\",'Whip Data'!O138)","v":""},{"$f":"IF(C125=\"\",\"\",'Whip Data'!P138)","v":""},{"$f":"IF($B125=\"\",\"\",IF(ISTEXT('Whip Data'!V138),'Whip Data'!V138,'Whip Data'!U138))","v":""},{"$f":"IF(B125=\"\",\"\",IF(ISBLANK('Whip Data'!X138),'Whip Data'!W138,'Whip Data'!X138))","v":""},"","",{"$f":"IF($B125=\"\",\"\",IF('Whip Data'!Q138=\"\",\"None\",'Whip Data'!Q138))","v":""},{"$f":"IF(O125=\"\",\"\",IF($O125=\"None\",\"NA\",INDEX(Breakers!$A$1:$I$75,MATCH(BOM!C125,Breakers!$A$1:$A$75,0),MATCH(BOM!O125,Breakers!$A$1:$I$1,0))))","v":""},{"$f":"IF(B125=\"\",\"\",VLOOKUP(H125,Standards!$X$3:$Y$6,2,FALSE))","v":""}]
[{"$f":"IF($B126=\"\",\"\",'Whip Data'!$Z139)","v":""},{"$f":"IFERROR('Whip Data'!A139,\"\")","v":""},{"$f":"IF(B126=\"\",\"\",'Whip Data'!L139)","v":""},"",{"$f":"IF($B126=\"\",\"\",VLOOKUP($C126,Materials,'Whip Data'!$M$10+11,FALSE))","v":""},{"$f":"IF($B126=\"\",\"\",VLOOKUP($C126,Materials,'Whip Data'!$M$10+13,FALSE))","v":""},{"$f":"IFERROR(\"LTUA-\"&IF(ISTEXT('Whip Data'!$T139),VLOOKUP('Whip Data'!$T139,Conduit,2,FALSE),VLOOKUP('Whip Data'!$S139,Conduit,2,FALSE))&\"-\"&'Whip Data'!$R139,\"\")","v":""},{"$f":"IF($B126=\"\",\"\",IFERROR(VLOOKUP('Whip Data'!$T139,Conduit,3,FALSE),VLOOKUP('Whip Data'!$S139,Conduit,3,FALSE)))","v":""},{"$f":"IF(B126=\"\",\"\",'Whip Data'!O139)","v":""},{"$f":"IF(C126=\"\",\"\",'Whip Data'!P139)","v":""},{"$f":"IF($B126=\"\",\"\",IF(ISTEXT('Whip Data'!V139),'Whip Data'!V139,'Whip Data'!U139))","v":""},{"$f":"IF(B126=\"\",\"\",IF(ISBLANK('Whip Data'!X139),'Whip Data'!W139,'Whip Data'!X139))","v":""},"","",{"$f":"IF($B126=\"\",\"\",IF('Whip Data'!Q139=\"\",\"None\",'Whip Data'!Q139))","v":""},{"$f":"IF(O126=\"\",\"\",IF($O126=\"None\",\"NA\",INDEX(Breakers!$A$1:$I$75,MATCH(BOM!C126,Breakers!$A$1:$A$75,0),MATCH(BOM!O126,Breakers!$A$1:$I$1,0))))","v":""},{"$f":"IF(B126=\"\",\"\",VLOOKUP(H126,Standards!$X$3:$Y$6,2,FALSE))","v":""}]
[{"$f":"IF($B127=\"\",\"\",'Whip Data'!$Z140)","v":""},{"$f":"IFERROR('Whip Data'!A140,\"\")","v":""},{"$f":"IF(B127=\"\",\"\",'Whip Data'!L140)","v":""},"",{"$f":"IF($B127=\"\",\"\",VLOOKUP($C127,Materials,'Whip Data'!$M$10+11,FALSE))","v":""},{"$f":"IF($B127=\"\",\"\",VLOOKUP($C127,Materials,'Whip Data'!$M$10+13,FALSE))","v":""},{"$f":"IFERROR(\"LTUA-\"&IF(ISTEXT('Whip Data'!$T140),VLOOKUP('Whip Data'!$T140,Conduit,2,FALSE),VLOOKUP('Whip Data'!$S140,Conduit,2,FALSE))&\"-\"&'Whip Data'!$R140,\"\")","v":""},{"$f":"IF($B127=\"\",\"\",IFERROR(VLOOKUP('Whip Data'!$T140,Conduit,3,FALSE),VLOOKUP('Whip Data'!$S140,Conduit,3,FALSE)))","v":""},{"$f":"IF(B127=\"\",\"\",'Whip Data'!O140)","v":""},{"$f":"IF(C127=\"\",\"\",'Whip Data'!P140)","v":""},{"$f":"IF($B127=\"\",\"\",IF(ISTEXT('Whip Data'!V140),'Whip Data'!V140,'Whip Data'!U140))","v":""},{"$f":"IF(B127=\"\",\"\",IF(ISBLANK('Whip Data'!X140),'Whip Data'!W140,'Whip Data'!X140))","v":""},"","",{"$f":"IF($B127=\"\",\"\",IF('Whip Data'!Q140=\"\",\"None\",'Whip Data'!Q140))","v":""},{"$f":"IF(O127=\"\",\"\",IF($O127=\"None\",\"NA\",INDEX(Breakers!$A$1:$I$75,MATCH(BOM!C127,Breakers!$A$1:$A$75,0),MATCH(BOM!O127,Breakers!$A$1:$I$1,0))))","v":""},{"$f":"IF(B127=\"\",\"\",VLOOKUP(H127,Standards!$X$3:$Y$6,2,FALSE))","v":""}]
[{"$f":"IF($B128=\"\",\"\",'Whip Data'!$Z141)","v":""},{"$f":"IFERROR('Whip Data'!A141,\"\")","v":""},{"$f":"IF(B128=\"\",\"\",'Whip Data'!L141)","v":""},"",{"$f":"IF($B128=\"\",\"\",VLOOKUP($C128,Materials,'Whip Data'!$M$10+11,FALSE))","v":""},{"$f":"IF($B128=\"\",\"\",VLOOKUP($C128,Materials,'Whip Data'!$M$10+13,FALSE))","v":""},{"$f":"IFERROR(\"LTUA-\"&IF(ISTEXT('Whip Data'!$T141),VLOOKUP('Whip Data'!$T141,Conduit,2,FALSE),VLOOKUP('Whip Data'!$S141,Conduit,2,FALSE))&\"-\"&'Whip Data'!$R141,\"\")","v":""},{"$f":"IF($B128=\"\",\"\",IFERROR(VLOOKUP('Whip Data'!$T141,Conduit,3,FALSE),VLOOKUP('Whip Data'!$S141,Conduit,3,FALSE)))","v":""},{"$f":"IF(B128=\"\",\"\",'Whip Data'!O141)","v":""},{"$f":"IF(C128=\"\",\"\",'Whip Data'!P141)","v":""},{"$f":"IF($B128=\"\",\"\",IF(ISTEXT('Whip Data'!V141),'Whip Data'!V141,'Whip Data'!U141))","v":""},{"$f":"IF(B128=\"\",\"\",IF(ISBLANK('Whip Data'!X141),'Whip Data'!W141,'Whip Data'!X141))","v":""},"","",{"$f":"IF($B128=\"\",\"\",IF('Whip Data'!Q141=\"\",\"None\",'Whip Data'!Q141))","v":""},{"$f":"IF(O128=\"\",\"\",IF($O128=\"None\",\"NA\",INDEX(Breakers!$A$1:$I$75,MATCH(BOM!C128,Breakers!$A$1:$A$75,0),MATCH(BOM!O128,Breakers!$A$1:$I$1,0))))","v":""},{"$f":"IF(B128=\"\",\"\",VLOOKUP(H128,Standards!$X$3:$Y$6,2,FALSE))","v":""}]
[{"$f":"IF($B129=\"\",\"\",'Whip Data'!$Z142)","v":""},{"$f":"IFERROR('Whip Data'!A142,\"\")","v":""},{"$f":"IF(B129=\"\",\"\",'Whip Data'!L142)","v":""},"",{"$f":"IF($B129=\"\",\"\",VLOOKUP($C129,Materials,'Whip Data'!$M$10+11,FALSE))","v":""},{"$f":"IF($B129=\"\",\"\",VLOOKUP($C129,Materials,'Whip Data'!$M$10+13,FALSE))","v":""},{"$f":"IFERROR(\"LTUA-\"&IF(ISTEXT('Whip Data'!$T142),VLOOKUP('Whip Data'!$T142,Conduit,2,FALSE),VLOOKUP('Whip Data'!$S142,Conduit,2,FALSE))&\"-\"&'Whip Data'!$R142,\"\")","v":""},{"$f":"IF($B129=\"\",\"\",IFERROR(VLOOKUP('Whip Data'!$T142,Conduit,3,FALSE),VLOOKUP('Whip Data'!$S142,Conduit,3,FALSE)))","v":""},{"$f":"IF(B129=\"\",\"\",'Whip Data'!O142)","v":""},{"$f":"IF(C129=\"\",\"\",'Whip Data'!P142)","v":""},{"$f":"IF($B129=\"\",\"\",IF(ISTEXT('Whip Data'!V142),'Whip Data'!V142,'Whip Data'!U142))","v":""},{"$f":"IF(B129=\"\",\"\",IF(ISBLANK('Whip Data'!X142),'Whip Data'!W142,'Whip Data'!X142))","v":""},"","",{"$f":"IF($B129=\"\",\"\",IF('Whip Data'!Q142=\"\",\"None\",'Whip Data'!Q142))","v":""},{"$f":"IF(O129=\"\",\"\",IF($O129=\"None\",\"NA\",INDEX(Breakers!$A$1:$I$75,MATCH(BOM!C129,Breakers!$A$1:$A$75,0),MATCH(BOM!O129,Breakers!$A$1:$I$1,0))))","v":""},{"$f":"IF(B129=\"\",\"\",VLOOKUP(H129,Standards!$X$3:$Y$6,2,FALSE))","v":""}]
[{"$f":"IF($B130=\"\",\"\",'Whip Data'!$Z143)","v":""},{"$f":"IFERROR('Whip Data'!A143,\"\")","v":""},{"$f":"IF(B130=\"\",\"\",'Whip Data'!L143)","v":""},{"$f":"IF(B130=\"\",\"\",VLOOKUP(C130,Materials,11,FALSE))","v":""},{"$f":"IF($B130=\"\",\"\",VLOOKUP($C130,Materials,'Whip Data'!$M$10+11,FALSE))","v":""},{"$f":"IF($B130=\"\",\"\",VLOOKUP($C130,Materials,'Whip Data'!$M$10+13,FALSE))","v":""},{"$f":"IFERROR(\"LTUA-\"&IF(ISTEXT('Whip Data'!$T143),VLOOKUP('Whip Data'!$T143,Conduit,2,FALSE),VLOOKUP('Whip Data'!$S143,Conduit,2,FALSE))&\"-\"&'Whip Data'!$R143,\"\")","v":""},{"$f":"IF($B130=\"\",\"\",IFERROR(VLOOKUP('Whip Data'!$T143,Conduit,3,FALSE),VLOOKUP('Whip Data'!$S143,Conduit,3,FALSE)))","v":""},{"$f":"IF(B130=\"\",\"\",'Whip Data'!O143)","v":""},{"$f":"IF(C130=\"\",\"\",'Whip Data'!P143)","v":""},{"$f":"IF($B130=\"\",\"\",IF(ISTEXT('Whip Data'!V143),'Whip Data'!V143,'Whip Data'!U143))","v":""},{"$f":"IF(B130=\"\",\"\",IF(ISBLANK('Whip Data'!X143),'Whip Data'!W143,'Whip Data'!X143))","v":""},"","",{"$f":"IF($B130=\"\",\"\",IF('Whip Data'!Q143=\"\",\"None\",'Whip Data'!Q143))","v":""},{"$f":"IF(O130=\"\",\"\",IF($O130=\"None\",\"NA\",INDEX(Breakers!$A$1:$I$75,MATCH(BOM!C130,Breakers!$A$1:$A$75,0),MATCH(BOM!O130,Breakers!$A$1:$I$1,0))))","v":""},{"$f":"IF(B130=\"\",\"\",VLOOKUP(H130,Standards!$X$3:$Y$6,2,FALSE))","v":""}]
[{"$f":"IF($B131=\"\",\"\",'Whip Data'!$Z144)","v":""},{"$f":"IFERROR('Whip Data'!A144,\"\")","v":""},{"$f":"IF(B131=\"\",\"\",'Whip Data'!L144)","v":""},"",{"$f":"IF($B131=\"\",\"\",VLOOKUP($C131,Materials,'Whip Data'!$M$10+11,FALSE))","v":""},{"$f":"IF($B131=\"\",\"\",VLOOKUP($C131,Materials,'Whip Data'!$M$10+13,FALSE))","v":""},{"$f":"IFERROR(\"LTUA-\"&IF(ISTEXT('Whip Data'!$T144),VLOOKUP('Whip Data'!$T144,Conduit,2,FALSE),VLOOKUP('Whip Data'!$S144,Conduit,2,FALSE))&\"-\"&'Whip Data'!$R144,\"\")","v":""},{"$f":"IF($B131=\"\",\"\",IFERROR(VLOOKUP('Whip Data'!$T144,Conduit,3,FALSE),VLOOKUP('Whip Data'!$S144,Conduit,3,FALSE)))","v":""},{"$f":"IF(B131=\"\",\"\",'Whip Data'!O144)","v":""},{"$f":"IF(C131=\"\",\"\",'Whip Data'!P144)","v":""},{"$f":"IF($B131=\"\",\"\",IF(ISTEXT('Whip Data'!V144),'Whip Data'!V144,'Whip Data'!U144))","v":""},{"$f":"IF(B131=\"\",\"\",IF(ISBLANK('Whip Data'!X144),'Whip Data'!W144,'Whip Data'!X144))","v":""},{"$f":"IF(B131=\"\",\"\",SUM(I131:J131))","v":""},{"$f":"IF(B131=\"\",\"\",LEFT(K131,1)*M131)","v":""},{"$f":"IF($B131=\"\",\"\",IF('Whip Data'!Q144=\"\",\"None\",'Whip Data'!Q144))","v":""},{"$f":"IF(O131=\"\",\"\",IF($O131=\"None\",\"NA\",INDEX(Breakers!$A$1:$I$75,MATCH(BOM!C131,Breakers!$A$1:$A$75,0),MATCH(BOM!O131,Breakers!$A$1:$I$1,0))))","v":""},{"$f":"IF(B131=\"\",\"\",VLOOKUP(H131,Standards!$X$3:$Y$6,2,FALSE))","v":""}]
[{"$f":"IF($B132=\"\",\"\",'Whip Data'!$Z145)","v":""},{"$f":"IFERROR('Whip Data'!A145,\"\")","v":""},{"$f":"IF(B132=\"\",\"\",'Whip Data'!L145)","v":""},"",{"$f":"IF($B132=\"\",\"\",VLOOKUP($C132,Materials,'Whip Data'!$M$10+11,FALSE))","v":""},{"$f":"IF($B132=\"\",\"\",VLOOKUP($C132,Materials,'Whip Data'!$M$10+13,FALSE))","v":""},{"$f":"IFERROR(\"LTUA-\"&IF(ISTEXT('Whip Data'!$T145),VLOOKUP('Whip Data'!$T145,Conduit,2,FALSE),VLOOKUP('Whip Data'!$S145,Conduit,2,FALSE))&\"-\"&'Whip Data'!$R145,\"\")","v":""},{"$f":"IF($B132=\"\",\"\",IFERROR(VLOOKUP('Whip Data'!$T145,Conduit,3,FALSE),VLOOKUP('Whip Data'!$S145,Conduit,3,FALSE)))","v":""},{"$f":"IF(B132=\"\",\"\",'Whip Data'!O145)","v":""},{"$f":"IF(C132=\"\",\"\",'Whip Data'!P145)","v":""},{"$f":"IF($B132=\"\",\"\",IF(ISTEXT('Whip Data'!V145),'Whip Data'!V145,'Whip Data'!U145))","v":""},{"$f":"IF(B132=\"\",\"\",IF(ISBLANK('Whip Data'!X145),'Whip Data'!W145,'Whip Data'!X145))","v":""},"","",{"$f":"IF($B132=\"\",\"\",IF('Whip Data'!Q145=\"\",\"None\",'Whip Data'!Q145))","v":""},{"$f":"IF(O132=\"\",\"\",IF($O132=\"None\",\"NA\",INDEX(Breakers!$A$1:$I$75,MATCH(BOM!C132,Breakers!$A$1:$A$75,0),MATCH(BOM!O132,Breakers!$A$1:$I$1,0))))","v":""},{"$f":"IF(B132=\"\",\"\",VLOOKUP(H132,Standards!$X$3:$Y$6,2,FALSE))","v":""}]
[{"$f":"IF($B133=\"\",\"\",'Whip Data'!$Z146)","v":""},{"$f":"IFERROR('Whip Data'!A146,\"\")","v":""},{"$f":"IF(B133=\"\",\"\",'Whip Data'!L146)","v":""},"",{"$f":"IF($B133=\"\",\"\",VLOOKUP($C133,Materials,'Whip Data'!$M$10+11,FALSE))","v":""},{"$f":"IF($B133=\"\",\"\",VLOOKUP($C133,Materials,'Whip Data'!$M$10+13,FALSE))","v":""},{"$f":"IFERROR(\"LTUA-\"&IF(ISTEXT('Whip Data'!$T146),VLOOKUP('Whip Data'!$T146,Conduit,2,FALSE),VLOOKUP('Whip Data'!$S146,Conduit,2,FALSE))&\"-\"&'Whip Data'!$R146,\"\")","v":""},{"$f":"IF($B133=\"\",\"\",IFERROR(VLOOKUP('Whip Data'!$T146,Conduit,3,FALSE),VLOOKUP('Whip Data'!$S146,Conduit,3,FALSE)))","v":""},{"$f":"IF(B133=\"\",\"\",'Whip Data'!O146)","v":""},{"$f":"IF(C133=\"\",\"\",'Whip Data'!P146)","v":""},{"$f":"IF($B133=\"\",\"\",IF(ISTEXT('Whip Data'!V146),'Whip Data'!V146,'Whip Data'!U146))","v":""},{"$f":"IF(B133=\"\",\"\",IF(ISBLANK('Whip Data'!X146),'Whip Data'!W146,'Whip Data'!X146))","v":""},"","",{"$f":"IF($B133=\"\",\"\",IF('Whip Data'!Q146=\"\",\"None\",'Whip Data'!Q146))","v":""},{"$f":"IF(O133=\"\",\"\",IF($O133=\"None\",\"NA\",INDEX(Breakers!$A$1:$I$75,MATCH(BOM!C133,Breakers!$A$1:$A$75,0),MATCH(BOM!O133,Breakers!$A$1:$I$1,0))))","v":""},{"$f":"IF(B133=\"\",\"\",VLOOKUP(H133,Standards!$X$3:$Y$6,2,FALSE))","v":""}]
[{"$f":"IF($B134=\"\",\"\",'Whip Data'!$Z147)","v":""},{"$f":"IFERROR('Whip Data'!A147,\"\")","v":""},{"$f":"IF(B134=\"\",\"\",'Whip Data'!L147)","v":""},"",{"$f":"IF($B134=\"\",\"\",VLOOKUP($C134,Materials,'Whip Data'!$M$10+11,FALSE))","v":""},{"$f":"IF($B134=\"\",\"\",VLOOKUP($C134,Materials,'Whip Data'!$M$10+13,FALSE))","v":""},{"$f":"IFERROR(\"LTUA-\"&IF(ISTEXT('Whip Data'!$T147),VLOOKUP('Whip Data'!$T147,Conduit,2,FALSE),VLOOKUP('Whip Data'!$S147,Conduit,2,FALSE))&\"-\"&'Whip Data'!$R147,\"\")","v":""},{"$f":"IF($B134=\"\",\"\",IFERROR(VLOOKUP('Whip Data'!$T147,Conduit,3,FALSE),VLOOKUP('Whip Data'!$S147,Conduit,3,FALSE)))","v":""},{"$f":"IF(B134=\"\",\"\",'Whip Data'!O147)","v":""},{"$f":"IF(C134=\"\",\"\",'Whip Data'!P147)","v":""},{"$f":"IF($B134=\"\",\"\",IF(ISTEXT('Whip Data'!V147),'Whip Data'!V147,'Whip Data'!U147))","v":""},{"$f":"IF(B134=\"\",\"\",IF(ISBLANK('Whip Data'!X147),'Whip Data'!W147,'Whip Data'!X147))","v":""},"","",{"$f":"IF($B134=\"\",\"\",IF('Whip Data'!Q147=\"\",\"None\",'Whip Data'!Q147))","v":""},{"$f":"IF(O134=\"\",\"\",IF($O134=\"None\",\"NA\",INDEX(Breakers!$A$1:$I$75,MATCH(BOM!C134,Breakers!$A$1:$A$75,0),MATCH(BOM!O134,Breakers!$A$1:$I$1,0))))","v":""},{"$f":"IF(B134=\"\",\"\",VLOOKUP(H134,Standards!$X$3:$Y$6,2,FALSE))","v":""}]
[{"$f":"IF($B135=\"\",\"\",'Whip Data'!$Z148)","v":""},{"$f":"IFERROR('Whip Data'!A148,\"\")","v":""},{"$f":"IF(B135=\"\",\"\",'Whip Data'!L148)","v":""},"",{"$f":"IF($B135=\"\",\"\",VLOOKUP($C135,Materials,'Whip Data'!$M$10+11,FALSE))","v":""},{"$f":"IF($B135=\"\",\"\",VLOOKUP($C135,Materials,'Whip Data'!$M$10+13,FALSE))","v":""},{"$f":"IFERROR(\"LTUA-\"&IF(ISTEXT('Whip Data'!$T148),VLOOKUP('Whip Data'!$T148,Conduit,2,FALSE),VLOOKUP('Whip Data'!$S148,Conduit,2,FALSE))&\"-\"&'Whip Data'!$R148,\"\")","v":""},{"$f":"IF($B135=\"\",\"\",IFERROR(VLOOKUP('Whip Data'!$T148,Conduit,3,FALSE),VLOOKUP('Whip Data'!$S148,Conduit,3,FALSE)))","v":""},{"$f":"IF(B135=\"\",\"\",'Whip Data'!O148)","v":""},{"$f":"IF(C135=\"\",\"\",'Whip Data'!P148)","v":""},{"$f":"IF($B135=\"\",\"\",IF(ISTEXT('Whip Data'!V148),'Whip Data'!V148,'Whip Data'!U148))","v":""},{"$f":"IF(B135=\"\",\"\",IF(ISBLANK('Whip Data'!X148),'Whip Data'!W148,'Whip Data'!X148))","v":""},"","",{"$f":"IF($B135=\"\",\"\",IF('Whip Data'!Q148=\"\",\"None\",'Whip Data'!Q148))","v":""},{"$f":"IF(O135=\"\",\"\",IF($O135=\"None\",\"NA\",INDEX(Breakers!$A$1:$I$75,MATCH(BOM!C135,Breakers!$A$1:$A$75,0),MATCH(BOM!O135,Breakers!$A$1:$I$1,0))))","v":""},{"$f":"IF(B135=\"\",\"\",VLOOKUP(H135,Standards!$X$3:$Y$6,2,FALSE))","v":""}]
[{"$f":"IF($B136=\"\",\"\",'Whip Data'!$Z149)","v":""},{"$f":"IFERROR('Whip Data'!A149,\"\")","v":""},{"$f":"IF(B136=\"\",\"\",'Whip Data'!L149)","v":""},"",{"$f":"IF($B136=\"\",\"\",VLOOKUP($C136,Materials,'Whip Data'!$M$10+11,FALSE))","v":""},{"$f":"IF($B136=\"\",\"\",VLOOKUP($C136,Materials,'Whip Data'!$M$10+13,FALSE))","v":""},{"$f":"IFERROR(\"LTUA-\"&IF(ISTEXT('Whip Data'!$T149),VLOOKUP('Whip Data'!$T149,Conduit,2,FALSE),VLOOKUP('Whip Data'!$S149,Conduit,2,FALSE))&\"-\"&'Whip Data'!$R149,\"\")","v":""},{"$f":"IF($B136=\"\",\"\",IFERROR(VLOOKUP('Whip Data'!$T149,Conduit,3,FALSE),VLOOKUP('Whip Data'!$S149,Conduit,3,FALSE)))","v":""},{"$f":"IF(B136=\"\",\"\",'Whip Data'!O149)","v":""},{"$f":"IF(C136=\"\",\"\",'Whip Data'!P149)","v":""},{"$f":"IF($B136=\"\",\"\",IF(ISTEXT('Whip Data'!V149),'Whip Data'!V149,'Whip Data'!U149))","v":""},{"$f":"IF(B136=\"\",\"\",IF(ISBLANK('Whip Data'!X149),'Whip Data'!W149,'Whip Data'!X149))","v":""},"","",{"$f":"IF($B136=\"\",\"\",IF('Whip Data'!Q149=\"\",\"None\",'Whip Data'!Q149))","v":""},{"$f":"IF(O136=\"\",\"\",IF($O136=\"None\",\"NA\",INDEX(Breakers!$A$1:$I$75,MATCH(BOM!C136,Breakers!$A$1:$A$75,0),MATCH(BOM!O136,Breakers!$A$1:$I$1,0))))","v":""},{"$f":"IF(B136=\"\",\"\",VLOOKUP(H136,Standards!$X$3:$Y$6,2,FALSE))","v":""}]
[{"$f":"IF($B137=\"\",\"\",'Whip Data'!$Z150)","v":""},{"$f":"IFERROR('Whip Data'!A150,\"\")","v":""},{"$f":"IF(B137=\"\",\"\",'Whip Data'!L150)","v":""},"",{"$f":"IF($B137=\"\",\"\",VLOOKUP($C137,Materials,'Whip Data'!$M$10+11,FALSE))","v":""},{"$f":"IF($B137=\"\",\"\",VLOOKUP($C137,Materials,'Whip Data'!$M$10+13,FALSE))","v":""},{"$f":"IFERROR(\"LTUA-\"&IF(ISTEXT('Whip Data'!$T150),VLOOKUP('Whip Data'!$T150,Conduit,2,FALSE),VLOOKUP('Whip Data'!$S150,Conduit,2,FALSE))&\"-\"&'Whip Data'!$R150,\"\")","v":""},{"$f":"IF($B137=\"\",\"\",IFERROR(VLOOKUP('Whip Data'!$T150,Conduit,3,FALSE),VLOOKUP('Whip Data'!$S150,Conduit,3,FALSE)))","v":""},{"$f":"IF(B137=\"\",\"\",'Whip Data'!O150)","v":""},{"$f":"IF(C137=\"\",\"\",'Whip Data'!P150)","v":""},{"$f":"IF($B137=\"\",\"\",IF(ISTEXT('Whip Data'!V150),'Whip Data'!V150,'Whip Data'!U150))","v":""},{"$f":"IF(B137=\"\",\"\",IF(ISBLANK('Whip Data'!X150),'Whip Data'!W150,'Whip Data'!X150))","v":""},"","",{"$f":"IF($B137=\"\",\"\",IF('Whip Data'!Q150=\"\",\"None\",'Whip Data'!Q150))","v":""},{"$f":"IF(O137=\"\",\"\",IF($O137=\"None\",\"NA\",INDEX(Breakers!$A$1:$I$75,MATCH(BOM!C137,Breakers!$A$1:$A$75,0),MATCH(BOM!O137,Breakers!$A$1:$I$1,0))))","v":""},{"$f":"IF(B137=\"\",\"\",VLOOKUP(H137,Standards!$X$3:$Y$6,2,FALSE))","v":""}]
[{"$f":"IF($B138=\"\",\"\",'Whip Data'!$Z151)","v":""},{"$f":"IFERROR('Whip Data'!A151,\"\")","v":""},{"$f":"IF(B138=\"\",\"\",'Whip Data'!L151)","v":""},"",{"$f":"IF($B138=\"\",\"\",VLOOKUP($C138,Materials,'Whip Data'!$M$10+11,FALSE))","v":""},{"$f":"IF($B138=\"\",\"\",VLOOKUP($C138,Materials,'Whip Data'!$M$10+13,FALSE))","v":""},{"$f":"IFERROR(\"LTUA-\"&IF(ISTEXT('Whip Data'!$T151),VLOOKUP('Whip Data'!$T151,Conduit,2,FALSE),VLOOKUP('Whip Data'!$S151,Conduit,2,FALSE))&\"-\"&'Whip Data'!$R151,\"\")","v":""},{"$f":"IF($B138=\"\",\"\",IFERROR(VLOOKUP('Whip Data'!$T151,Conduit,3,FALSE),VLOOKUP('Whip Data'!$S151,Conduit,3,FALSE)))","v":""},{"$f":"IF(B138=\"\",\"\",'Whip Data'!O151)","v":""},{"$f":"IF(C138=\"\",\"\",'Whip Data'!P151)","v":""},{"$f":"IF($B138=\"\",\"\",IF(ISTEXT('Whip Data'!V151),'Whip Data'!V151,'Whip Data'!U151))","v":""},{"$f":"IF(B138=\"\",\"\",IF(ISBLANK('Whip Data'!X151),'Whip Data'!W151,'Whip Data'!X151))","v":""},"","",{"$f":"IF($B138=\"\",\"\",IF('Whip Data'!Q151=\"\",\"None\",'Whip Data'!Q151))","v":""},{"$f":"IF(O138=\"\",\"\",IF($O138=\"None\",\"NA\",INDEX(Breakers!$A$1:$I$75,MATCH(BOM!C138,Breakers!$A$1:$A$75,0),MATCH(BOM!O138,Breakers!$A$1:$I$1,0))))","v":""},{"$f":"IF(B138=\"\",\"\",VLOOKUP(H138,Standards!$X$3:$Y$6,2,FALSE))","v":""}]
[{"$f":"IF($B139=\"\",\"\",'Whip Data'!$Z152)","v":""},{"$f":"IFERROR('Whip Data'!A152,\"\")","v":""},{"$f":"IF(B139=\"\",\"\",'Whip Data'!L152)","v":""},"",{"$f":"IF($B139=\"\",\"\",VLOOKUP($C139,Materials,'Whip Data'!$M$10+11,FALSE))","v":""},{"$f":"IF($B139=\"\",\"\",VLOOKUP($C139,Materials,'Whip Data'!$M$10+13,FALSE))","v":""},{"$f":"IFERROR(\"LTUA-\"&IF(ISTEXT('Whip Data'!$T152),VLOOKUP('Whip Data'!$T152,Conduit,2,FALSE),VLOOKUP('Whip Data'!$S152,Conduit,2,FALSE))&\"-\"&'Whip Data'!$R152,\"\")","v":""},{"$f":"IF($B139=\"\",\"\",IFERROR(VLOOKUP('Whip Data'!$T152,Conduit,3,FALSE),VLOOKUP('Whip Data'!$S152,Conduit,3,FALSE)))","v":""},{"$f":"IF(B139=\"\",\"\",'Whip Data'!O152)","v":""},{"$f":"IF(C139=\"\",\"\",'Whip Data'!P152)","v":""},{"$f":"IF($B139=\"\",\"\",IF(ISTEXT('Whip Data'!V152),'Whip Data'!V152,'Whip Data'!U152))","v":""},{"$f":"IF(B139=\"\",\"\",IF(ISBLANK('Whip Data'!X152),'Whip Data'!W152,'Whip Data'!X152))","v":""},"","",{"$f":"IF($B139=\"\",\"\",IF('Whip Data'!Q152=\"\",\"None\",'Whip Data'!Q152))","v":""},{"$f":"IF(O139=\"\",\"\",IF($O139=\"None\",\"NA\",INDEX(Breakers!$A$1:$I$75,MATCH(BOM!C139,Breakers!$A$1:$A$75,0),MATCH(BOM!O139,Breakers!$A$1:$I$1,0))))","v":""},{"$f":"IF(B139=\"\",\"\",VLOOKUP(H139,Standards!$X$3:$Y$6,2,FALSE))","v":""}]
[{"$f":"IF($B140=\"\",\"\",'Whip Data'!$Z153)","v":""},{"$f":"IFERROR('Whip Data'!A153,\"\")","v":""},{"$f":"IF(B140=\"\",\"\",'Whip Data'!L153)","v":""},"",{"$f":"IF($B140=\"\",\"\",VLOOKUP($C140,Materials,'Whip Data'!$M$10+11,FALSE))","v":""},{"$f":"IF($B140=\"\",\"\",VLOOKUP($C140,Materials,'Whip Data'!$M$10+13,FALSE))","v":""},{"$f":"IFERROR(\"LTUA-\"&IF(ISTEXT('Whip Data'!$T153),VLOOKUP('Whip Data'!$T153,Conduit,2,FALSE),VLOOKUP('Whip Data'!$S153,Conduit,2,FALSE))&\"-\"&'Whip Data'!$R153,\"\")","v":""},{"$f":"IF($B140=\"\",\"\",IFERROR(VLOOKUP('Whip Data'!$T153,Conduit,3,FALSE),VLOOKUP('Whip Data'!$S153,Conduit,3,FALSE)))","v":""},{"$f":"IF(B140=\"\",\"\",'Whip Data'!O153)","v":""},{"$f":"IF(C140=\"\",\"\",'Whip Data'!P153)","v":""},{"$f":"IF($B140=\"\",\"\",IF(ISTEXT('Whip Data'!V153),'Whip Data'!V153,'Whip Data'!U153))","v":""},{"$f":"IF(B140=\"\",\"\",IF(ISBLANK('Whip Data'!X153),'Whip Data'!W153,'Whip Data'!X153))","v":""},"","",{"$f":"IF($B140=\"\",\"\",IF('Whip Data'!Q153=\"\",\"None\",'Whip Data'!Q153))","v":""},{"$f":"IF(O140=\"\",\"\",IF($O140=\"None\",\"NA\",INDEX(Breakers!$A$1:$I$75,MATCH(BOM!C140,Breakers!$A$1:$A$75,0),MATCH(BOM!O140,Breakers!$A$1:$I$1,0))))","v":""},{"$f":"IF(B140=\"\",\"\",VLOOKUP(H140,Standards!$X$3:$Y$6,2,FALSE))","v":""}]
[{"$f":"IF($B141=\"\",\"\",'Whip Data'!$Z154)","v":""},{"$f":"IFERROR('Whip Data'!A154,\"\")","v":""},{"$f":"IF(B141=\"\",\"\",'Whip Data'!L154)","v":""},"",{"$f":"IF($B141=\"\",\"\",VLOOKUP($C141,Materials,'Whip Data'!$M$10+11,FALSE))","v":""},{"$f":"IF($B141=\"\",\"\",VLOOKUP($C141,Materials,'Whip Data'!$M$10+13,FALSE))","v":""},{"$f":"IFERROR(\"LTUA-\"&IF(ISTEXT('Whip Data'!$T154),VLOOKUP('Whip Data'!$T154,Conduit,2,FALSE),VLOOKUP('Whip Data'!$S154,Conduit,2,FALSE))&\"-\"&'Whip Data'!$R154,\"\")","v":""},{"$f":"IF($B141=\"\",\"\",IFERROR(VLOOKUP('Whip Data'!$T154,Conduit,3,FALSE),VLOOKUP('Whip Data'!$S154,Conduit,3,FALSE)))","v":""},{"$f":"IF(B141=\"\",\"\",'Whip Data'!O154)","v":""},{"$f":"IF(C141=\"\",\"\",'Whip Data'!P154)","v":""},{"$f":"IF($B141=\"\",\"\",IF(ISTEXT('Whip Data'!V154),'Whip Data'!V154,'Whip Data'!U154))","v":""},{"$f":"IF(B141=\"\",\"\",IF(ISBLANK('Whip Data'!X154),'Whip Data'!W154,'Whip Data'!X154))","v":""},"","",{"$f":"IF($B141=\"\",\"\",IF('Whip Data'!Q154=\"\",\"None\",'Whip Data'!Q154))","v":""},{"$f":"IF(O141=\"\",\"\",IF($O141=\"None\",\"NA\",INDEX(Breakers!$A$1:$I$75,MATCH(BOM!C141,Breakers!$A$1:$A$75,0),MATCH(BOM!O141,Breakers!$A$1:$I$1,0))))","v":""},{"$f":"IF(B141=\"\",\"\",VLOOKUP(H141,Standards!$X$3:$Y$6,2,FALSE))","v":""}]
[{"$f":"IF($B142=\"\",\"\",'Whip Data'!$Z155)","v":""},{"$f":"IFERROR('Whip Data'!A155,\"\")","v":""},{"$f":"IF(B142=\"\",\"\",'Whip Data'!L155)","v":""},"",{"$f":"IF($B142=\"\",\"\",VLOOKUP($C142,Materials,'Whip Data'!$M$10+11,FALSE))","v":""},{"$f":"IF($B142=\"\",\"\",VLOOKUP($C142,Materials,'Whip Data'!$M$10+13,FALSE))","v":""},{"$f":"IFERROR(\"LTUA-\"&IF(ISTEXT('Whip Data'!$T155),VLOOKUP('Whip Data'!$T155,Conduit,2,FALSE),VLOOKUP('Whip Data'!$S155,Conduit,2,FALSE))&\"-\"&'Whip Data'!$R155,\"\")","v":""},{"$f":"IF($B142=\"\",\"\",IFERROR(VLOOKUP('Whip Data'!$T155,Conduit,3,FALSE),VLOOKUP('Whip Data'!$S155,Conduit,3,FALSE)))","v":""},{"$f":"IF(B142=\"\",\"\",'Whip Data'!O155)","v":""},{"$f":"IF(C142=\"\",\"\",'Whip Data'!P155)","v":""},{"$f":"IF($B142=\"\",\"\",IF(ISTEXT('Whip Data'!V155),'Whip Data'!V155,'Whip Data'!U155))","v":""},{"$f":"IF(B142=\"\",\"\",IF(ISBLANK('Whip Data'!X155),'Whip Data'!W155,'Whip Data'!X155))","v":""},"","",{"$f":"IF($B142=\"\",\"\",IF('Whip Data'!Q155=\"\",\"None\",'Whip Data'!Q155))","v":""},{"$f":"IF(O142=\"\",\"\",IF($O142=\"None\",\"NA\",INDEX(Breakers!$A$1:$I$75,MATCH(BOM!C142,Breakers!$A$1:$A$75,0),MATCH(BOM!O142,Breakers!$A$1:$I$1,0))))","v":""},{"$f":"IF(B142=\"\",\"\",VLOOKUP(H142,Standards!$X$3:$Y$6,2,FALSE))","v":""}]
[{"$f":"IF($B143=\"\",\"\",'Whip Data'!$Z156)","v":""},{"$f":"IFERROR('Whip Data'!A156,\"\")","v":""},{"$f":"IF(B143=\"\",\"\",'Whip Data'!L156)","v":""},"",{"$f":"IF($B143=\"\",\"\",VLOOKUP($C143,Materials,'Whip Data'!$M$10+11,FALSE))","v":""},{"$f":"IF($B143=\"\",\"\",VLOOKUP($C143,Materials,'Whip Data'!$M$10+13,FALSE))","v":""},{"$f":"IFERROR(\"LTUA-\"&IF(ISTEXT('Whip Data'!$T156),VLOOKUP('Whip Data'!$T156,Conduit,2,FALSE),VLOOKUP('Whip Data'!$S156,Conduit,2,FALSE))&\"-\"&'Whip Data'!$R156,\"\")","v":""},{"$f":"IF($B143=\"\",\"\",IFERROR(VLOOKUP('Whip Data'!$T156,Conduit,3,FALSE),VLOOKUP('Whip Data'!$S156,Conduit,3,FALSE)))","v":""},{"$f":"IF(B143=\"\",\"\",'Whip Data'!O156)","v":""},{"$f":"IF(C143=\"\",\"\",'Whip Data'!P156)","v":""},{"$f":"IF($B143=\"\",\"\",IF(ISTEXT('Whip Data'!V156),'Whip Data'!V156,'Whip Data'!U156))","v":""},{"$f":"IF(B143=\"\",\"\",IF(ISBLANK('Whip Data'!X156),'Whip Data'!W156,'Whip Data'!X156))","v":""},"","",{"$f":"IF($B143=\"\",\"\",IF('Whip Data'!Q156=\"\",\"None\",'Whip Data'!Q156))","v":""},{"$f":"IF(O143=\"\",\"\",IF($O143=\"None\",\"NA\",INDEX(Breakers!$A$1:$I$75,MATCH(BOM!C143,Breakers!$A$1:$A$75,0),MATCH(BOM!O143,Breakers!$A$1:$I$1,0))))","v":""},{"$f":"IF(B143=\"\",\"\",VLOOKUP(H143,Standards!$X$3:$Y$6,2,FALSE))","v":""}]
[{"$f":"IF($B144=\"\",\"\",'Whip Data'!$Z157)","v":""},{"$f":"IFERROR('Whip Data'!A157,\"\")","v":""},{"$f":"IF(B144=\"\",\"\",'Whip Data'!L157)","v":""},"",{"$f":"IF($B144=\"\",\"\",VLOOKUP($C144,Materials,'Whip Data'!$M$10+11,FALSE))","v":""},{"$f":"IF($B144=\"\",\"\",VLOOKUP($C144,Materials,'Whip Data'!$M$10+13,FALSE))","v":""},{"$f":"IFERROR(\"LTUA-\"&IF(ISTEXT('Whip Data'!$T157),VLOOKUP('Whip Data'!$T157,Conduit,2,FALSE),VLOOKUP('Whip Data'!$S157,Conduit,2,FALSE))&\"-\"&'Whip Data'!$R157,\"\")","v":""},{"$f":"IF($B144=\"\",\"\",IFERROR(VLOOKUP('Whip Data'!$T157,Conduit,3,FALSE),VLOOKUP('Whip Data'!$S157,Conduit,3,FALSE)))","v":""},{"$f":"IF(B144=\"\",\"\",'Whip Data'!O157)","v":""},{"$f":"IF(C144=\"\",\"\",'Whip Data'!P157)","v":""},{"$f":"IF($B144=\"\",\"\",IF(ISTEXT('Whip Data'!V157),'Whip Data'!V157,'Whip Data'!U157))","v":""},{"$f":"IF(B144=\"\",\"\",IF(ISBLANK('Whip Data'!X157),'Whip Data'!W157,'Whip Data'!X157))","v":""},"","",{"$f":"IF($B144=\"\",\"\",IF('Whip Data'!Q157=\"\",\"None\",'Whip Data'!Q157))","v":""},{"$f":"IF(O144=\"\",\"\",IF($O144=\"None\",\"NA\",INDEX(Breakers!$A$1:$I$75,MATCH(BOM!C144,Breakers!$A$1:$A$75,0),MATCH(BOM!O144,Breakers!$A$1:$I$1,0))))","v":""},{"$f":"IF(B144=\"\",\"\",VLOOKUP(H144,Standards!$X$3:$Y$6,2,FALSE))","v":""}]
[{"$f":"IF($B145=\"\",\"\",'Whip Data'!$Z158)","v":""},{"$f":"IFERROR('Whip Data'!A158,\"\")","v":""},{"$f":"IF(B145=\"\",\"\",'Whip Data'!L158)","v":""},"",{"$f":"IF($B145=\"\",\"\",VLOOKUP($C145,Materials,'Whip Data'!$M$10+11,FALSE))","v":""},{"$f":"IF($B145=\"\",\"\",VLOOKUP($C145,Materials,'Whip Data'!$M$10+13,FALSE))","v":""},{"$f":"IFERROR(\"LTUA-\"&IF(ISTEXT('Whip Data'!$T158),VLOOKUP('Whip Data'!$T158,Conduit,2,FALSE),VLOOKUP('Whip Data'!$S158,Conduit,2,FALSE))&\"-\"&'Whip Data'!$R158,\"\")","v":""},{"$f":"IF($B145=\"\",\"\",IFERROR(VLOOKUP('Whip Data'!$T158,Conduit,3,FALSE),VLOOKUP('Whip Data'!$S158,Conduit,3,FALSE)))","v":""},{"$f":"IF(B145=\"\",\"\",'Whip Data'!O158)","v":""},{"$f":"IF(C145=\"\",\"\",'Whip Data'!P158)","v":""},{"$f":"IF($B145=\"\",\"\",IF(ISTEXT('Whip Data'!V158),'Whip Data'!V158,'Whip Data'!U158))","v":""},{"$f":"IF(B145=\"\",\"\",IF(ISBLANK('Whip Data'!X158),'Whip Data'!W158,'Whip Data'!X158))","v":""},"","",{"$f":"IF($B145=\"\",\"\",IF('Whip Data'!Q158=\"\",\"None\",'Whip Data'!Q158))","v":""},{"$f":"IF(O145=\"\",\"\",IF($O145=\"None\",\"NA\",INDEX(Breakers!$A$1:$I$75,MATCH(BOM!C145,Breakers!$A$1:$A$75,0),MATCH(BOM!O145,Breakers!$A$1:$I$1,0))))","v":""},{"$f":"IF(B145=\"\",\"\",VLOOKUP(H145,Standards!$X$3:$Y$6,2,FALSE))","v":""}]
[{"$f":"IF($B146=\"\",\"\",'Whip Data'!$Z159)","v":""},{"$f":"IFERROR('Whip Data'!A159,\"\")","v":""},{"$f":"IF(B146=\"\",\"\",'Whip Data'!L159)","v":""},"",{"$f":"IF($B146=\"\",\"\",VLOOKUP($C146,Materials,'Whip Data'!$M$10+11,FALSE))","v":""},{"$f":"IF($B146=\"\",\"\",VLOOKUP($C146,Materials,'Whip Data'!$M$10+13,FALSE))","v":""},{"$f":"IFERROR(\"LTUA-\"&IF(ISTEXT('Whip Data'!$T159),VLOOKUP('Whip Data'!$T159,Conduit,2,FALSE),VLOOKUP('Whip Data'!$S159,Conduit,2,FALSE))&\"-\"&'Whip Data'!$R159,\"\")","v":""},{"$f":"IF($B146=\"\",\"\",IFERROR(VLOOKUP('Whip Data'!$T159,Conduit,3,FALSE),VLOOKUP('Whip Data'!$S159,Conduit,3,FALSE)))","v":""},{"$f":"IF(B146=\"\",\"\",'Whip Data'!O159)","v":""},{"$f":"IF(C146=\"\",\"\",'Whip Data'!P159)","v":""},{"$f":"IF($B146=\"\",\"\",IF(ISTEXT('Whip Data'!V159),'Whip Data'!V159,'Whip Data'!U159))","v":""},{"$f":"IF(B146=\"\",\"\",IF(ISBLANK('Whip Data'!X159),'Whip Data'!W159,'Whip Data'!X159))","v":""},"","",{"$f":"IF($B146=\"\",\"\",IF('Whip Data'!Q159=\"\",\"None\",'Whip Data'!Q159))","v":""},{"$f":"IF(O146=\"\",\"\",IF($O146=\"None\",\"NA\",INDEX(Breakers!$A$1:$I$75,MATCH(BOM!C146,Breakers!$A$1:$A$75,0),MATCH(BOM!O146,Breakers!$A$1:$I$1,0))))","v":""},{"$f":"IF(B146=\"\",\"\",VLOOKUP(H146,Standards!$X$3:$Y$6,2,FALSE))","v":""}]
[{"$f":"IF($B147=\"\",\"\",'Whip Data'!$Z160)","v":""},{"$f":"IFERROR('Whip Data'!A160,\"\")","v":""},{"$f":"IF(B147=\"\",\"\",'Whip Data'!L160)","v":""},"",{"$f":"IF($B147=\"\",\"\",VLOOKUP($C147,Materials,'Whip Data'!$M$10+11,FALSE))","v":""},{"$f":"IF($B147=\"\",\"\",VLOOKUP($C147,Materials,'Whip Data'!$M$10+13,FALSE))","v":""},{"$f":"IFERROR(\"LTUA-\"&IF(ISTEXT('Whip Data'!$T160),VLOOKUP('Whip Data'!$T160,Conduit,2,FALSE),VLOOKUP('Whip Data'!$S160,Conduit,2,FALSE))&\"-\"&'Whip Data'!$R160,\"\")","v":""},{"$f":"IF($B147=\"\",\"\",IFERROR(VLOOKUP('Whip Data'!$T160,Conduit,3,FALSE),VLOOKUP('Whip Data'!$S160,Conduit,3,FALSE)))","v":""},{"$f":"IF(B147=\"\",\"\",'Whip Data'!O160)","v":""},{"$f":"IF(C147=\"\",\"\",'Whip Data'!P160)","v":""},{"$f":"IF($B147=\"\",\"\",IF(ISTEXT('Whip Data'!V160),'Whip Data'!V160,'Whip Data'!U160))","v":""},{"$f":"IF(B147=\"\",\"\",IF(ISBLANK('Whip Data'!X160),'Whip Data'!W160,'Whip Data'!X160))","v":""},"","",{"$f":"IF($B147=\"\",\"\",IF('Whip Data'!Q160=\"\",\"None\",'Whip Data'!Q160))","v":""},{"$f":"IF(O147=\"\",\"\",IF($O147=\"None\",\"NA\",INDEX(Breakers!$A$1:$I$75,MATCH(BOM!C147,Breakers!$A$1:$A$75,0),MATCH(BOM!O147,Breakers!$A$1:$I$1,0))))","v":""},{"$f":"IF(B147=\"\",\"\",VLOOKUP(H147,Standards!$X$3:$Y$6,2,FALSE))","v":""}]
[{"$f":"IF($B148=\"\",\"\",'Whip Data'!$Z161)","v":""},{"$f":"IFERROR('Whip Data'!A161,\"\")","v":""},{"$f":"IF(B148=\"\",\"\",'Whip Data'!L161)","v":""},"",{"$f":"IF($B148=\"\",\"\",VLOOKUP($C148,Materials,'Whip Data'!$M$10+11,FALSE))","v":""},{"$f":"IF($B148=\"\",\"\",VLOOKUP($C148,Materials,'Whip Data'!$M$10+13,FALSE))","v":""},{"$f":"IFERROR(\"LTUA-\"&IF(ISTEXT('Whip Data'!$T161),VLOOKUP('Whip Data'!$T161,Conduit,2,FALSE),VLOOKUP('Whip Data'!$S161,Conduit,2,FALSE))&\"-\"&'Whip Data'!$R161,\"\")","v":""},{"$f":"IF($B148=\"\",\"\",IFERROR(VLOOKUP('Whip Data'!$T161,Conduit,3,FALSE),VLOOKUP('Whip Data'!$S161,Conduit,3,FALSE)))","v":""},{"$f":"IF(B148=\"\",\"\",'Whip Data'!O161)","v":""},{"$f":"IF(C148=\"\",\"\",'Whip Data'!P161)","v":""},{"$f":"IF($B148=\"\",\"\",IF(ISTEXT('Whip Data'!V161),'Whip Data'!V161,'Whip Data'!U161))","v":""},{"$f":"IF(B148=\"\",\"\",IF(ISBLANK('Whip Data'!X161),'Whip Data'!W161,'Whip Data'!X161))","v":""},"","",{"$f":"IF($B148=\"\",\"\",IF('Whip Data'!Q161=\"\",\"None\",'Whip Data'!Q161))","v":""},{"$f":"IF(O148=\"\",\"\",IF($O148=\"None\",\"NA\",INDEX(Breakers!$A$1:$I$75,MATCH(BOM!C148,Breakers!$A$1:$A$75,0),MATCH(BOM!O148,Breakers!$A$1:$I$1,0))))","v":""},{"$f":"IF(B148=\"\",\"\",VLOOKUP(H148,Standards!$X$3:$Y$6,2,FALSE))","v":""}]
[{"$f":"IF($B149=\"\",\"\",'Whip Data'!$Z162)","v":""},{"$f":"IFERROR('Whip Data'!A162,\"\")","v":""},{"$f":"IF(B149=\"\",\"\",'Whip Data'!L162)","v":""},"",{"$f":"IF($B149=\"\",\"\",VLOOKUP($C149,Materials,'Whip Data'!$M$10+11,FALSE))","v":""},{"$f":"IF($B149=\"\",\"\",VLOOKUP($C149,Materials,'Whip Data'!$M$10+13,FALSE))","v":""},{"$f":"IFERROR(\"LTUA-\"&IF(ISTEXT('Whip Data'!$T162),VLOOKUP('Whip Data'!$T162,Conduit,2,FALSE),VLOOKUP('Whip Data'!$S162,Conduit,2,FALSE))&\"-\"&'Whip Data'!$R162,\"\")","v":""},{"$f":"IF($B149=\"\",\"\",IFERROR(VLOOKUP('Whip Data'!$T162,Conduit,3,FALSE),VLOOKUP('Whip Data'!$S162,Conduit,3,FALSE)))","v":""},{"$f":"IF(B149=\"\",\"\",'Whip Data'!O162)","v":""},{"$f":"IF(C149=\"\",\"\",'Whip Data'!P162)","v":""},{"$f":"IF($B149=\"\",\"\",IF(ISTEXT('Whip Data'!V162),'Whip Data'!V162,'Whip Data'!U162))","v":""},{"$f":"IF(B149=\"\",\"\",IF(ISBLANK('Whip Data'!X162),'Whip Data'!W162,'Whip Data'!X162))","v":""},"","",{"$f":"IF($B149=\"\",\"\",IF('Whip Data'!Q162=\"\",\"None\",'Whip Data'!Q162))","v":""},{"$f":"IF(O149=\"\",\"\",IF($O149=\"None\",\"NA\",INDEX(Breakers!$A$1:$I$75,MATCH(BOM!C149,Breakers!$A$1:$A$75,0),MATCH(BOM!O149,Breakers!$A$1:$I$1,0))))","v":""},{"$f":"IF(B149=\"\",\"\",VLOOKUP(H149,Standards!$X$3:$Y$6,2,FALSE))","v":""}]
[{"$f":"IF($B150=\"\",\"\",'Whip Data'!$Z163)","v":""},{"$f":"IFERROR('Whip Data'!A163,\"\")","v":""},{"$f":"IF(B150=\"\",\"\",'Whip Data'!L163)","v":""},"",{"$f":"IF($B150=\"\",\"\",VLOOKUP($C150,Materials,'Whip Data'!$M$10+11,FALSE))","v":""},{"$f":"IF($B150=\"\",\"\",VLOOKUP($C150,Materials,'Whip Data'!$M$10+13,FALSE))","v":""},{"$f":"IFERROR(\"LTUA-\"&IF(ISTEXT('Whip Data'!$T163),VLOOKUP('Whip Data'!$T163,Conduit,2,FALSE),VLOOKUP('Whip Data'!$S163,Conduit,2,FALSE))&\"-\"&'Whip Data'!$R163,\"\")","v":""},{"$f":"IF($B150=\"\",\"\",IFERROR(VLOOKUP('Whip Data'!$T163,Conduit,3,FALSE),VLOOKUP('Whip Data'!$S163,Conduit,3,FALSE)))","v":""},{"$f":"IF(B150=\"\",\"\",'Whip Data'!O163)","v":""},{"$f":"IF(C150=\"\",\"\",'Whip Data'!P163)","v":""},{"$f":"IF($B150=\"\",\"\",IF(ISTEXT('Whip Data'!V163),'Whip Data'!V163,'Whip Data'!U163))","v":""},{"$f":"IF(B150=\"\",\"\",IF(ISBLANK('Whip Data'!X163),'Whip Data'!W163,'Whip Data'!X163))","v":""},"","",{"$f":"IF($B150=\"\",\"\",IF('Whip Data'!Q163=\"\",\"None\",'Whip Data'!Q163))","v":""},{"$f":"IF(O150=\"\",\"\",IF($O150=\"None\",\"NA\",INDEX(Breakers!$A$1:$I$75,MATCH(BOM!C150,Breakers!$A$1:$A$75,0),MATCH(BOM!O150,Breakers!$A$1:$I$1,0))))","v":""},{"$f":"IF(B150=\"\",\"\",VLOOKUP(H150,Standards!$X$3:$Y$6,2,FALSE))","v":""}]
[{"$f":"IF($B151=\"\",\"\",'Whip Data'!$Z164)","v":""},{"$f":"IFERROR('Whip Data'!A164,\"\")","v":""},{"$f":"IF(B151=\"\",\"\",'Whip Data'!L164)","v":""},"",{"$f":"IF($B151=\"\",\"\",VLOOKUP($C151,Materials,'Whip Data'!$M$10+11,FALSE))","v":""},{"$f":"IF($B151=\"\",\"\",VLOOKUP($C151,Materials,'Whip Data'!$M$10+13,FALSE))","v":""},{"$f":"IFERROR(\"LTUA-\"&IF(ISTEXT('Whip Data'!$T164),VLOOKUP('Whip Data'!$T164,Conduit,2,FALSE),VLOOKUP('Whip Data'!$S164,Conduit,2,FALSE))&\"-\"&'Whip Data'!$R164,\"\")","v":""},{"$f":"IF($B151=\"\",\"\",IFERROR(VLOOKUP('Whip Data'!$T164,Conduit,3,FALSE),VLOOKUP('Whip Data'!$S164,Conduit,3,FALSE)))","v":""},{"$f":"IF(B151=\"\",\"\",'Whip Data'!O164)","v":""},{"$f":"IF(C151=\"\",\"\",'Whip Data'!P164)","v":""},{"$f":"IF($B151=\"\",\"\",IF(ISTEXT('Whip Data'!V164),'Whip Data'!V164,'Whip Data'!U164))","v":""},{"$f":"IF(B151=\"\",\"\",IF(ISBLANK('Whip Data'!X164),'Whip Data'!W164,'Whip Data'!X164))","v":""},"","",{"$f":"IF($B151=\"\",\"\",IF('Whip Data'!Q164=\"\",\"None\",'Whip Data'!Q164))","v":""},{"$f":"IF(O151=\"\",\"\",IF($O151=\"None\",\"NA\",INDEX(Breakers!$A$1:$I$75,MATCH(BOM!C151,Breakers!$A$1:$A$75,0),MATCH(BOM!O151,Breakers!$A$1:$I$1,0))))","v":""},{"$f":"IF(B151=\"\",\"\",VLOOKUP(H151,Standards!$X$3:$Y$6,2,FALSE))","v":""}]
[{"$f":"IF($B152=\"\",\"\",'Whip Data'!$Z165)","v":""},{"$f":"IFERROR('Whip Data'!A165,\"\")","v":""},{"$f":"IF(B152=\"\",\"\",'Whip Data'!L165)","v":""},"",{"$f":"IF($B152=\"\",\"\",VLOOKUP($C152,Materials,'Whip Data'!$M$10+11,FALSE))","v":""},{"$f":"IF($B152=\"\",\"\",VLOOKUP($C152,Materials,'Whip Data'!$M$10+13,FALSE))","v":""},{"$f":"IFERROR(\"LTUA-\"&IF(ISTEXT('Whip Data'!$T165),VLOOKUP('Whip Data'!$T165,Conduit,2,FALSE),VLOOKUP('Whip Data'!$S165,Conduit,2,FALSE))&\"-\"&'Whip Data'!$R165,\"\")","v":""},{"$f":"IF($B152=\"\",\"\",IFERROR(VLOOKUP('Whip Data'!$T165,Conduit,3,FALSE),VLOOKUP('Whip Data'!$S165,Conduit,3,FALSE)))","v":""},{"$f":"IF(B152=\"\",\"\",'Whip Data'!O165)","v":""},{"$f":"IF(C152=\"\",\"\",'Whip Data'!P165)","v":""},{"$f":"IF($B152=\"\",\"\",IF(ISTEXT('Whip Data'!V165),'Whip Data'!V165,'Whip Data'!U165))","v":""},{"$f":"IF(B152=\"\",\"\",IF(ISBLANK('Whip Data'!X165),'Whip Data'!W165,'Whip Data'!X165))","v":""},"","",{"$f":"IF($B152=\"\",\"\",IF('Whip Data'!Q165=\"\",\"None\",'Whip Data'!Q165))","v":""},{"$f":"IF(O152=\"\",\"\",IF($O152=\"None\",\"NA\",INDEX(Breakers!$A$1:$I$75,MATCH(BOM!C152,Breakers!$A$1:$A$75,0),MATCH(BOM!O152,Breakers!$A$1:$I$1,0))))","v":""},{"$f":"IF(B152=\"\",\"\",VLOOKUP(H152,Standards!$X$3:$Y$6,2,FALSE))","v":""}]
[{"$f":"IF($B153=\"\",\"\",'Whip Data'!$Z166)","v":""},{"$f":"IFERROR('Whip Data'!A166,\"\")","v":""},{"$f":"IF(B153=\"\",\"\",'Whip Data'!L166)","v":""},"",{"$f":"IF($B153=\"\",\"\",VLOOKUP($C153,Materials,'Whip Data'!$M$10+11,FALSE))","v":""},{"$f":"IF($B153=\"\",\"\",VLOOKUP($C153,Materials,'Whip Data'!$M$10+13,FALSE))","v":""},{"$f":"IFERROR(\"LTUA-\"&IF(ISTEXT('Whip Data'!$T166),VLOOKUP('Whip Data'!$T166,Conduit,2,FALSE),VLOOKUP('Whip Data'!$S166,Conduit,2,FALSE))&\"-\"&'Whip Data'!$R166,\"\")","v":""},{"$f":"IF($B153=\"\",\"\",IFERROR(VLOOKUP('Whip Data'!$T166,Conduit,3,FALSE),VLOOKUP('Whip Data'!$S166,Conduit,3,FALSE)))","v":""},{"$f":"IF(B153=\"\",\"\",'Whip Data'!O166)","v":""},{"$f":"IF(C153=\"\",\"\",'Whip Data'!P166)","v":""},{"$f":"IF($B153=\"\",\"\",IF(ISTEXT('Whip Data'!V166),'Whip Data'!V166,'Whip Data'!U166))","v":""},{"$f":"IF(B153=\"\",\"\",IF(ISBLANK('Whip Data'!X166),'Whip Data'!W166,'Whip Data'!X166))","v":""},"","",{"$f":"IF($B153=\"\",\"\",IF('Whip Data'!Q166=\"\",\"None\",'Whip Data'!Q166))","v":""},{"$f":"IF(O153=\"\",\"\",IF($O153=\"None\",\"NA\",INDEX(Breakers!$A$1:$I$75,MATCH(BOM!C153,Breakers!$A$1:$A$75,0),MATCH(BOM!O153,Breakers!$A$1:$I$1,0))))","v":""},{"$f":"IF(B153=\"\",\"\",VLOOKUP(H153,Standards!$X$3:$Y$6,2,FALSE))","v":""}]
[{"$f":"IF($B154=\"\",\"\",'Whip Data'!$Z167)","v":""},{"$f":"IFERROR('Whip Data'!A167,\"\")","v":""},{"$f":"IF(B154=\"\",\"\",'Whip Data'!L167)","v":""},"",{"$f":"IF($B154=\"\",\"\",VLOOKUP($C154,Materials,'Whip Data'!$M$10+11,FALSE))","v":""},{"$f":"IF($B154=\"\",\"\",VLOOKUP($C154,Materials,'Whip Data'!$M$10+13,FALSE))","v":""},{"$f":"IFERROR(\"LTUA-\"&IF(ISTEXT('Whip Data'!$T167),VLOOKUP('Whip Data'!$T167,Conduit,2,FALSE),VLOOKUP('Whip Data'!$S167,Conduit,2,FALSE))&\"-\"&'Whip Data'!$R167,\"\")","v":""},{"$f":"IF($B154=\"\",\"\",IFERROR(VLOOKUP('Whip Data'!$T167,Conduit,3,FALSE),VLOOKUP('Whip Data'!$S167,Conduit,3,FALSE)))","v":""},{"$f":"IF(B154=\"\",\"\",'Whip Data'!O167)","v":""},{"$f":"IF(C154=\"\",\"\",'Whip Data'!P167)","v":""},{"$f":"IF($B154=\"\",\"\",IF(ISTEXT('Whip Data'!V167),'Whip Data'!V167,'Whip Data'!U167))","v":""},{"$f":"IF(B154=\"\",\"\",IF(ISBLANK('Whip Data'!X167),'Whip Data'!W167,'Whip Data'!X167))","v":""},"","",{"$f":"IF($B154=\"\",\"\",IF('Whip Data'!Q167=\"\",\"None\",'Whip Data'!Q167))","v":""},{"$f":"IF(O154=\"\",\"\",IF($O154=\"None\",\"NA\",INDEX(Breakers!$A$1:$I$75,MATCH(BOM!C154,Breakers!$A$1:$A$75,0),MATCH(BOM!O154,Breakers!$A$1:$I$1,0))))","v":""},{"$f":"IF(B154=\"\",\"\",VLOOKUP(H154,Standards!$X$3:$Y$6,2,FALSE))","v":""}]
[{"$f":"IF($B155=\"\",\"\",'Whip Data'!$Z168)","v":""},{"$f":"IFERROR('Whip Data'!A168,\"\")","v":""},{"$f":"IF(B155=\"\",\"\",'Whip Data'!L168)","v":""},"",{"$f":"IF($B155=\"\",\"\",VLOOKUP($C155,Materials,'Whip Data'!$M$10+11,FALSE))","v":""},{"$f":"IF($B155=\"\",\"\",VLOOKUP($C155,Materials,'Whip Data'!$M$10+13,FALSE))","v":""},{"$f":"IFERROR(\"LTUA-\"&IF(ISTEXT('Whip Data'!$T168),VLOOKUP('Whip Data'!$T168,Conduit,2,FALSE),VLOOKUP('Whip Data'!$S168,Conduit,2,FALSE))&\"-\"&'Whip Data'!$R168,\"\")","v":""},{"$f":"IF($B155=\"\",\"\",IFERROR(VLOOKUP('Whip Data'!$T168,Conduit,3,FALSE),VLOOKUP('Whip Data'!$S168,Conduit,3,FALSE)))","v":""},{"$f":"IF(B155=\"\",\"\",'Whip Data'!O168)","v":""},{"$f":"IF(C155=\"\",\"\",'Whip Data'!P168)","v":""},{"$f":"IF($B155=\"\",\"\",IF(ISTEXT('Whip Data'!V168),'Whip Data'!V168,'Whip Data'!U168))","v":""},{"$f":"IF(B155=\"\",\"\",IF(ISBLANK('Whip Data'!X168),'Whip Data'!W168,'Whip Data'!X168))","v":""},"","",{"$f":"IF($B155=\"\",\"\",IF('Whip Data'!Q168=\"\",\"None\",'Whip Data'!Q168))","v":""},{"$f":"IF(O155=\"\",\"\",IF($O155=\"None\",\"NA\",INDEX(Breakers!$A$1:$I$75,MATCH(BOM!C155,Breakers!$A$1:$A$75,0),MATCH(BOM!O155,Breakers!$A$1:$I$1,0))))","v":""},{"$f":"IF(B155=\"\",\"\",VLOOKUP(H155,Standards!$X$3:$Y$6,2,FALSE))","v":""}]
[{"$f":"IF($B156=\"\",\"\",'Whip Data'!$Z169)","v":""},{"$f":"IFERROR('Whip Data'!A169,\"\")","v":""},{"$f":"IF(B156=\"\",\"\",'Whip Data'!L169)","v":""},"",{"$f":"IF($B156=\"\",\"\",VLOOKUP($C156,Materials,'Whip Data'!$M$10+11,FALSE))","v":""},{"$f":"IF($B156=\"\",\"\",VLOOKUP($C156,Materials,'Whip Data'!$M$10+13,FALSE))","v":""},{"$f":"IFERROR(\"LTUA-\"&IF(ISTEXT('Whip Data'!$T169),VLOOKUP('Whip Data'!$T169,Conduit,2,FALSE),VLOOKUP('Whip Data'!$S169,Conduit,2,FALSE))&\"-\"&'Whip Data'!$R169,\"\")","v":""},{"$f":"IF($B156=\"\",\"\",IFERROR(VLOOKUP('Whip Data'!$T169,Conduit,3,FALSE),VLOOKUP('Whip Data'!$S169,Conduit,3,FALSE)))","v":""},{"$f":"IF(B156=\"\",\"\",'Whip Data'!O169)","v":""},{"$f":"IF(C156=\"\",\"\",'Whip Data'!P169)","v":""},{"$f":"IF($B156=\"\",\"\",IF(ISTEXT('Whip Data'!V169),'Whip Data'!V169,'Whip Data'!U169))","v":""},{"$f":"IF(B156=\"\",\"\",IF(ISBLANK('Whip Data'!X169),'Whip Data'!W169,'Whip Data'!X169))","v":""},"","",{"$f":"IF($B156=\"\",\"\",IF('Whip Data'!Q169=\"\",\"None\",'Whip Data'!Q169))","v":""},{"$f":"IF(O156=\"\",\"\",IF($O156=\"None\",\"NA\",INDEX(Breakers!$A$1:$I$75,MATCH(BOM!C156,Breakers!$A$1:$A$75,0),MATCH(BOM!O156,Breakers!$A$1:$I$1,0))))","v":""},{"$f":"IF(B156=\"\",\"\",VLOOKUP(H156,Standards!$X$3:$Y$6,2,FALSE))","v":""}]
[{"$f":"IF($B157=\"\",\"\",'Whip Data'!$Z170)","v":""},{"$f":"IFERROR('Whip Data'!A170,\"\")","v":""},{"$f":"IF(B157=\"\",\"\",'Whip Data'!L170)","v":""},"",{"$f":"IF($B157=\"\",\"\",VLOOKUP($C157,Materials,'Whip Data'!$M$10+11,FALSE))","v":""},{"$f":"IF($B157=\"\",\"\",VLOOKUP($C157,Materials,'Whip Data'!$M$10+13,FALSE))","v":""},{"$f":"IFERROR(\"LTUA-\"&IF(ISTEXT('Whip Data'!$T170),VLOOKUP('Whip Data'!$T170,Conduit,2,FALSE),VLOOKUP('Whip Data'!$S170,Conduit,2,FALSE))&\"-\"&'Whip Data'!$R170,\"\")","v":""},{"$f":"IF($B157=\"\",\"\",IFERROR(VLOOKUP('Whip Data'!$T170,Conduit,3,FALSE),VLOOKUP('Whip Data'!$S170,Conduit,3,FALSE)))","v":""},{"$f":"IF(B157=\"\",\"\",'Whip Data'!O170)","v":""},{"$f":"IF(C157=\"\",\"\",'Whip Data'!P170)","v":""},{"$f":"IF($B157=\"\",\"\",IF(ISTEXT('Whip Data'!V170),'Whip Data'!V170,'Whip Data'!U170))","v":""},{"$f":"IF(B157=\"\",\"\",IF(ISBLANK('Whip Data'!X170),'Whip Data'!W170,'Whip Data'!X170))","v":""},"","",{"$f":"IF($B157=\"\",\"\",IF('Whip Data'!Q170=\"\",\"None\",'Whip Data'!Q170))","v":""},{"$f":"IF(O157=\"\",\"\",IF($O157=\"None\",\"NA\",INDEX(Breakers!$A$1:$I$75,MATCH(BOM!C157,Breakers!$A$1:$A$75,0),MATCH(BOM!O157,Breakers!$A$1:$I$1,0))))","v":""},{"$f":"IF(B157=\"\",\"\",VLOOKUP(H157,Standards!$X$3:$Y$6,2,FALSE))","v":""}]
[{"$f":"IF($B158=\"\",\"\",'Whip Data'!$Z171)","v":""},{"$f":"IFERROR('Whip Data'!A171,\"\")","v":""},{"$f":"IF(B158=\"\",\"\",'Whip Data'!L171)","v":""},"",{"$f":"IF($B158=\"\",\"\",VLOOKUP($C158,Materials,'Whip Data'!$M$10+11,FALSE))","v":""},{"$f":"IF($B158=\"\",\"\",VLOOKUP($C158,Materials,'Whip Data'!$M$10+13,FALSE))","v":""},{"$f":"IFERROR(\"LTUA-\"&IF(ISTEXT('Whip Data'!$T171),VLOOKUP('Whip Data'!$T171,Conduit,2,FALSE),VLOOKUP('Whip Data'!$S171,Conduit,2,FALSE))&\"-\"&'Whip Data'!$R171,\"\")","v":""},{"$f":"IF($B158=\"\",\"\",IFERROR(VLOOKUP('Whip Data'!$T171,Conduit,3,FALSE),VLOOKUP('Whip Data'!$S171,Conduit,3,FALSE)))","v":""},{"$f":"IF(B158=\"\",\"\",'Whip Data'!O171)","v":""},{"$f":"IF(C158=\"\",\"\",'Whip Data'!P171)","v":""},{"$f":"IF($B158=\"\",\"\",IF(ISTEXT('Whip Data'!V171),'Whip Data'!V171,'Whip Data'!U171))","v":""},{"$f":"IF(B158=\"\",\"\",IF(ISBLANK('Whip Data'!X171),'Whip Data'!W171,'Whip Data'!X171))","v":""},"","",{"$f":"IF($B158=\"\",\"\",IF('Whip Data'!Q171=\"\",\"None\",'Whip Data'!Q171))","v":""},{"$f":"IF(O158=\"\",\"\",IF($O158=\"None\",\"NA\",INDEX(Breakers!$A$1:$I$75,MATCH(BOM!C158,Breakers!$A$1:$A$75,0),MATCH(BOM!O158,Breakers!$A$1:$I$1,0))))","v":""},{"$f":"IF(B158=\"\",\"\",VLOOKUP(H158,Standards!$X$3:$Y$6,2,FALSE))","v":""}]
[{"$f":"IF($B159=\"\",\"\",'Whip Data'!$Z172)","v":""},{"$f":"IFERROR('Whip Data'!A172,\"\")","v":""},{"$f":"IF(B159=\"\",\"\",'Whip Data'!L172)","v":""},"",{"$f":"IF($B159=\"\",\"\",VLOOKUP($C159,Materials,'Whip Data'!$M$10+11,FALSE))","v":""},{"$f":"IF($B159=\"\",\"\",VLOOKUP($C159,Materials,'Whip Data'!$M$10+13,FALSE))","v":""},{"$f":"IFERROR(\"LTUA-\"&IF(ISTEXT('Whip Data'!$T172),VLOOKUP('Whip Data'!$T172,Conduit,2,FALSE),VLOOKUP('Whip Data'!$S172,Conduit,2,FALSE))&\"-\"&'Whip Data'!$R172,\"\")","v":""},{"$f":"IF($B159=\"\",\"\",IFERROR(VLOOKUP('Whip Data'!$T172,Conduit,3,FALSE),VLOOKUP('Whip Data'!$S172,Conduit,3,FALSE)))","v":""},{"$f":"IF(B159=\"\",\"\",'Whip Data'!O172)","v":""},{"$f":"IF(C159=\"\",\"\",'Whip Data'!P172)","v":""},{"$f":"IF($B159=\"\",\"\",IF(ISTEXT('Whip Data'!V172),'Whip Data'!V172,'Whip Data'!U172))","v":""},{"$f":"IF(B159=\"\",\"\",IF(ISBLANK('Whip Data'!X172),'Whip Data'!W172,'Whip Data'!X172))","v":""},"","",{"$f":"IF($B159=\"\",\"\",IF('Whip Data'!Q172=\"\",\"None\",'Whip Data'!Q172))","v":""},{"$f":"IF(O159=\"\",\"\",IF($O159=\"None\",\"NA\",INDEX(Breakers!$A$1:$I$75,MATCH(BOM!C159,Breakers!$A$1:$A$75,0),MATCH(BOM!O159,Breakers!$A$1:$I$1,0))))","v":""},{"$f":"IF(B159=\"\",\"\",VLOOKUP(H159,Standards!$X$3:$Y$6,2,FALSE))","v":""}]
[{"$f":"IF($B160=\"\",\"\",'Whip Data'!$Z173)","v":""},{"$f":"IFERROR('Whip Data'!A173,\"\")","v":""},{"$f":"IF(B160=\"\",\"\",'Whip Data'!L173)","v":""},"",{"$f":"IF($B160=\"\",\"\",VLOOKUP($C160,Materials,'Whip Data'!$M$10+11,FALSE))","v":""},{"$f":"IF($B160=\"\",\"\",VLOOKUP($C160,Materials,'Whip Data'!$M$10+13,FALSE))","v":""},{"$f":"IFERROR(\"LTUA-\"&IF(ISTEXT('Whip Data'!$T173),VLOOKUP('Whip Data'!$T173,Conduit,2,FALSE),VLOOKUP('Whip Data'!$S173,Conduit,2,FALSE))&\"-\"&'Whip Data'!$R173,\"\")","v":""},{"$f":"IF($B160=\"\",\"\",IFERROR(VLOOKUP('Whip Data'!$T173,Conduit,3,FALSE),VLOOKUP('Whip Data'!$S173,Conduit,3,FALSE)))","v":""},{"$f":"IF(B160=\"\",\"\",'Whip Data'!O173)","v":""},{"$f":"IF(C160=\"\",\"\",'Whip Data'!P173)","v":""},{"$f":"IF($B160=\"\",\"\",IF(ISTEXT('Whip Data'!V173),'Whip Data'!V173,'Whip Data'!U173))","v":""},{"$f":"IF(B160=\"\",\"\",IF(ISBLANK('Whip Data'!X173),'Whip Data'!W173,'Whip Data'!X173))","v":""},"","",{"$f":"IF($B160=\"\",\"\",IF('Whip Data'!Q173=\"\",\"None\",'Whip Data'!Q173))","v":""},{"$f":"IF(O160=\"\",\"\",IF($O160=\"None\",\"NA\",INDEX(Breakers!$A$1:$I$75,MATCH(BOM!C160,Breakers!$A$1:$A$75,0),MATCH(BOM!O160,Breakers!$A$1:$I$1,0))))","v":""},{"$f":"IF(B160=\"\",\"\",VLOOKUP(H160,Standards!$X$3:$Y$6,2,FALSE))","v":""}]
[{"$f":"IF($B161=\"\",\"\",'Whip Data'!$Z174)","v":""},{"$f":"IFERROR('Whip Data'!A174,\"\")","v":""},{"$f":"IF(B161=\"\",\"\",'Whip Data'!L174)","v":""},"",{"$f":"IF($B161=\"\",\"\",VLOOKUP($C161,Materials,'Whip Data'!$M$10+11,FALSE))","v":""},{"$f":"IF($B161=\"\",\"\",VLOOKUP($C161,Materials,'Whip Data'!$M$10+13,FALSE))","v":""},{"$f":"IFERROR(\"LTUA-\"&IF(ISTEXT('Whip Data'!$T174),VLOOKUP('Whip Data'!$T174,Conduit,2,FALSE),VLOOKUP('Whip Data'!$S174,Conduit,2,FALSE))&\"-\"&'Whip Data'!$R174,\"\")","v":""},{"$f":"IF($B161=\"\",\"\",IFERROR(VLOOKUP('Whip Data'!$T174,Conduit,3,FALSE),VLOOKUP('Whip Data'!$S174,Conduit,3,FALSE)))","v":""},{"$f":"IF(B161=\"\",\"\",'Whip Data'!O174)","v":""},{"$f":"IF(C161=\"\",\"\",'Whip Data'!P174)","v":""},{"$f":"IF($B161=\"\",\"\",IF(ISTEXT('Whip Data'!V174),'Whip Data'!V174,'Whip Data'!U174))","v":""},{"$f":"IF(B161=\"\",\"\",IF(ISBLANK('Whip Data'!X174),'Whip Data'!W174,'Whip Data'!X174))","v":""},"","",{"$f":"IF($B161=\"\",\"\",IF('Whip Data'!Q174=\"\",\"None\",'Whip Data'!Q174))","v":""},{"$f":"IF(O161=\"\",\"\",IF($O161=\"None\",\"NA\",INDEX(Breakers!$A$1:$I$75,MATCH(BOM!C161,Breakers!$A$1:$A$75,0),MATCH(BOM!O161,Breakers!$A$1:$I$1,0))))","v":""},{"$f":"IF(B161=\"\",\"\",VLOOKUP(H161,Standards!$X$3:$Y$6,2,FALSE))","v":""}]
[{"$f":"IF($B162=\"\",\"\",'Whip Data'!$Z175)","v":""},{"$f":"IFERROR('Whip Data'!A175,\"\")","v":""},{"$f":"IF(B162=\"\",\"\",'Whip Data'!L175)","v":""},"",{"$f":"IF($B162=\"\",\"\",VLOOKUP($C162,Materials,'Whip Data'!$M$10+11,FALSE))","v":""},{"$f":"IF($B162=\"\",\"\",VLOOKUP($C162,Materials,'Whip Data'!$M$10+13,FALSE))","v":""},{"$f":"IFERROR(\"LTUA-\"&IF(ISTEXT('Whip Data'!$T175),VLOOKUP('Whip Data'!$T175,Conduit,2,FALSE),VLOOKUP('Whip Data'!$S175,Conduit,2,FALSE))&\"-\"&'Whip Data'!$R175,\"\")","v":""},{"$f":"IF($B162=\"\",\"\",IFERROR(VLOOKUP('Whip Data'!$T175,Conduit,3,FALSE),VLOOKUP('Whip Data'!$S175,Conduit,3,FALSE)))","v":""},{"$f":"IF(B162=\"\",\"\",'Whip Data'!O175)","v":""},{"$f":"IF(C162=\"\",\"\",'Whip Data'!P175)","v":""},{"$f":"IF($B162=\"\",\"\",IF(ISTEXT('Whip Data'!V175),'Whip Data'!V175,'Whip Data'!U175))","v":""},{"$f":"IF(B162=\"\",\"\",IF(ISBLANK('Whip Data'!X175),'Whip Data'!W175,'Whip Data'!X175))","v":""},"","",{"$f":"IF($B162=\"\",\"\",IF('Whip Data'!Q175=\"\",\"None\",'Whip Data'!Q175))","v":""},{"$f":"IF(O162=\"\",\"\",IF($O162=\"None\",\"NA\",INDEX(Breakers!$A$1:$I$75,MATCH(BOM!C162,Breakers!$A$1:$A$75,0),MATCH(BOM!O162,Breakers!$A$1:$I$1,0))))","v":""},{"$f":"IF(B162=\"\",\"\",VLOOKUP(H162,Standards!$X$3:$Y$6,2,FALSE))","v":""}]
[{"$f":"IF($B163=\"\",\"\",'Whip Data'!$Z176)","v":""},{"$f":"IFERROR('Whip Data'!A176,\"\")","v":""},{"$f":"IF(B163=\"\",\"\",'Whip Data'!L176)","v":""},"",{"$f":"IF($B163=\"\",\"\",VLOOKUP($C163,Materials,'Whip Data'!$M$10+11,FALSE))","v":""},{"$f":"IF($B163=\"\",\"\",VLOOKUP($C163,Materials,'Whip Data'!$M$10+13,FALSE))","v":""},{"$f":"IFERROR(\"LTUA-\"&IF(ISTEXT('Whip Data'!$T176),VLOOKUP('Whip Data'!$T176,Conduit,2,FALSE),VLOOKUP('Whip Data'!$S176,Conduit,2,FALSE))&\"-\"&'Whip Data'!$R176,\"\")","v":""},{"$f":"IF($B163=\"\",\"\",IFERROR(VLOOKUP('Whip Data'!$T176,Conduit,3,FALSE),VLOOKUP('Whip Data'!$S176,Conduit,3,FALSE)))","v":""},{"$f":"IF(B163=\"\",\"\",'Whip Data'!O176)","v":""},{"$f":"IF(C163=\"\",\"\",'Whip Data'!P176)","v":""},{"$f":"IF($B163=\"\",\"\",IF(ISTEXT('Whip Data'!V176),'Whip Data'!V176,'Whip Data'!U176))","v":""},{"$f":"IF(B163=\"\",\"\",IF(ISBLANK('Whip Data'!X176),'Whip Data'!W176,'Whip Data'!X176))","v":""},"","",{"$f":"IF($B163=\"\",\"\",IF('Whip Data'!Q176=\"\",\"None\",'Whip Data'!Q176))","v":""},{"$f":"IF(O163=\"\",\"\",IF($O163=\"None\",\"NA\",INDEX(Breakers!$A$1:$I$75,MATCH(BOM!C163,Breakers!$A$1:$A$75,0),MATCH(BOM!O163,Breakers!$A$1:$I$1,0))))","v":""},{"$f":"IF(B163=\"\",\"\",VLOOKUP(H163,Standards!$X$3:$Y$6,2,FALSE))","v":""}]
[{"$f":"IF($B164=\"\",\"\",'Whip Data'!$Z177)","v":""},{"$f":"IFERROR('Whip Data'!A177,\"\")","v":""},{"$f":"IF(B164=\"\",\"\",'Whip Data'!L177)","v":""},"",{"$f":"IF($B164=\"\",\"\",VLOOKUP($C164,Materials,'Whip Data'!$M$10+11,FALSE))","v":""},{"$f":"IF($B164=\"\",\"\",VLOOKUP($C164,Materials,'Whip Data'!$M$10+13,FALSE))","v":""},{"$f":"IFERROR(\"LTUA-\"&IF(ISTEXT('Whip Data'!$T177),VLOOKUP('Whip Data'!$T177,Conduit,2,FALSE),VLOOKUP('Whip Data'!$S177,Conduit,2,FALSE))&\"-\"&'Whip Data'!$R177,\"\")","v":""},{"$f":"IF($B164=\"\",\"\",IFERROR(VLOOKUP('Whip Data'!$T177,Conduit,3,FALSE),VLOOKUP('Whip Data'!$S177,Conduit,3,FALSE)))","v":""},{"$f":"IF(B164=\"\",\"\",'Whip Data'!O177)","v":""},{"$f":"IF(C164=\"\",\"\",'Whip Data'!P177)","v":""},{"$f":"IF($B164=\"\",\"\",IF(ISTEXT('Whip Data'!V177),'Whip Data'!V177,'Whip Data'!U177))","v":""},{"$f":"IF(B164=\"\",\"\",IF(ISBLANK('Whip Data'!X177),'Whip Data'!W177,'Whip Data'!X177))","v":""},"","",{"$f":"IF($B164=\"\",\"\",IF('Whip Data'!Q177=\"\",\"None\",'Whip Data'!Q177))","v":""},{"$f":"IF(O164=\"\",\"\",IF($O164=\"None\",\"NA\",INDEX(Breakers!$A$1:$I$75,MATCH(BOM!C164,Breakers!$A$1:$A$75,0),MATCH(BOM!O164,Breakers!$A$1:$I$1,0))))","v":""},{"$f":"IF(B164=\"\",\"\",VLOOKUP(H164,Standards!$X$3:$Y$6,2,FALSE))","v":""}]
[{"$f":"IF($B165=\"\",\"\",'Whip Data'!$Z178)","v":""},{"$f":"IFERROR('Whip Data'!A178,\"\")","v":""},{"$f":"IF(B165=\"\",\"\",'Whip Data'!L178)","v":""},"",{"$f":"IF($B165=\"\",\"\",VLOOKUP($C165,Materials,'Whip Data'!$M$10+11,FALSE))","v":""},{"$f":"IF($B165=\"\",\"\",VLOOKUP($C165,Materials,'Whip Data'!$M$10+13,FALSE))","v":""},{"$f":"IFERROR(\"LTUA-\"&IF(ISTEXT('Whip Data'!$T178),VLOOKUP('Whip Data'!$T178,Conduit,2,FALSE),VLOOKUP('Whip Data'!$S178,Conduit,2,FALSE))&\"-\"&'Whip Data'!$R178,\"\")","v":""},{"$f":"IF($B165=\"\",\"\",IFERROR(VLOOKUP('Whip Data'!$T178,Conduit,3,FALSE),VLOOKUP('Whip Data'!$S178,Conduit,3,FALSE)))","v":""},{"$f":"IF(B165=\"\",\"\",'Whip Data'!O178)","v":""},{"$f":"IF(C165=\"\",\"\",'Whip Data'!P178)","v":""},{"$f":"IF($B165=\"\",\"\",IF(ISTEXT('Whip Data'!V178),'Whip Data'!V178,'Whip Data'!U178))","v":""},{"$f":"IF(B165=\"\",\"\",IF(ISBLANK('Whip Data'!X178),'Whip Data'!W178,'Whip Data'!X178))","v":""},"","",{"$f":"IF($B165=\"\",\"\",IF('Whip Data'!Q178=\"\",\"None\",'Whip Data'!Q178))","v":""},{"$f":"IF(O165=\"\",\"\",IF($O165=\"None\",\"NA\",INDEX(Breakers!$A$1:$I$75,MATCH(BOM!C165,Breakers!$A$1:$A$75,0),MATCH(BOM!O165,Breakers!$A$1:$I$1,0))))","v":""},{"$f":"IF(B165=\"\",\"\",VLOOKUP(H165,Standards!$X$3:$Y$6,2,FALSE))","v":""}]
[{"$f":"IF($B166=\"\",\"\",'Whip Data'!$Z179)","v":""},{"$f":"IFERROR('Whip Data'!A179,\"\")","v":""},{"$f":"IF(B166=\"\",\"\",'Whip Data'!L179)","v":""},"",{"$f":"IF($B166=\"\",\"\",VLOOKUP($C166,Materials,'Whip Data'!$M$10+11,FALSE))","v":""},{"$f":"IF($B166=\"\",\"\",VLOOKUP($C166,Materials,'Whip Data'!$M$10+13,FALSE))","v":""},{"$f":"IFERROR(\"LTUA-\"&IF(ISTEXT('Whip Data'!$T179),VLOOKUP('Whip Data'!$T179,Conduit,2,FALSE),VLOOKUP('Whip Data'!$S179,Conduit,2,FALSE))&\"-\"&'Whip Data'!$R179,\"\")","v":""},{"$f":"IF($B166=\"\",\"\",IFERROR(VLOOKUP('Whip Data'!$T179,Conduit,3,FALSE),VLOOKUP('Whip Data'!$S179,Conduit,3,FALSE)))","v":""},{"$f":"IF(B166=\"\",\"\",'Whip Data'!O179)","v":""},{"$f":"IF(C166=\"\",\"\",'Whip Data'!P179)","v":""},{"$f":"IF($B166=\"\",\"\",IF(ISTEXT('Whip Data'!V179),'Whip Data'!V179,'Whip Data'!U179))","v":""},{"$f":"IF(B166=\"\",\"\",IF(ISBLANK('Whip Data'!X179),'Whip Data'!W179,'Whip Data'!X179))","v":""},"","",{"$f":"IF($B166=\"\",\"\",IF('Whip Data'!Q179=\"\",\"None\",'Whip Data'!Q179))","v":""},{"$f":"IF(O166=\"\",\"\",IF($O166=\"None\",\"NA\",INDEX(Breakers!$A$1:$I$75,MATCH(BOM!C166,Breakers!$A$1:$A$75,0),MATCH(BOM!O166,Breakers!$A$1:$I$1,0))))","v":""},{"$f":"IF(B166=\"\",\"\",VLOOKUP(H166,Standards!$X$3:$Y$6,2,FALSE))","v":""}]
[{"$f":"IF($B167=\"\",\"\",'Whip Data'!$Z180)","v":""},{"$f":"IFERROR('Whip Data'!A180,\"\")","v":""},{"$f":"IF(B167=\"\",\"\",'Whip Data'!L180)","v":""},"",{"$f":"IF($B167=\"\",\"\",VLOOKUP($C167,Materials,'Whip Data'!$M$10+11,FALSE))","v":""},{"$f":"IF($B167=\"\",\"\",VLOOKUP($C167,Materials,'Whip Data'!$M$10+13,FALSE))","v":""},{"$f":"IFERROR(\"LTUA-\"&IF(ISTEXT('Whip Data'!$T180),VLOOKUP('Whip Data'!$T180,Conduit,2,FALSE),VLOOKUP('Whip Data'!$S180,Conduit,2,FALSE))&\"-\"&'Whip Data'!$R180,\"\")","v":""},{"$f":"IF($B167=\"\",\"\",IFERROR(VLOOKUP('Whip Data'!$T180,Conduit,3,FALSE),VLOOKUP('Whip Data'!$S180,Conduit,3,FALSE)))","v":""},{"$f":"IF(B167=\"\",\"\",'Whip Data'!O180)","v":""},{"$f":"IF(C167=\"\",\"\",'Whip Data'!P180)","v":""},{"$f":"IF($B167=\"\",\"\",IF(ISTEXT('Whip Data'!V180),'Whip Data'!V180,'Whip Data'!U180))","v":""},{"$f":"IF(B167=\"\",\"\",IF(ISBLANK('Whip Data'!X180),'Whip Data'!W180,'Whip Data'!X180))","v":""},"","",{"$f":"IF($B167=\"\",\"\",IF('Whip Data'!Q180=\"\",\"None\",'Whip Data'!Q180))","v":""},{"$f":"IF(O167=\"\",\"\",IF($O167=\"None\",\"NA\",INDEX(Breakers!$A$1:$I$75,MATCH(BOM!C167,Breakers!$A$1:$A$75,0),MATCH(BOM!O167,Breakers!$A$1:$I$1,0))))","v":""},{"$f":"IF(B167=\"\",\"\",VLOOKUP(H167,Standards!$X$3:$Y$6,2,FALSE))","v":""}]
[{"$f":"IF($B168=\"\",\"\",'Whip Data'!$Z181)","v":""},{"$f":"IFERROR('Whip Data'!A181,\"\")","v":""},{"$f":"IF(B168=\"\",\"\",'Whip Data'!L181)","v":""},"",{"$f":"IF($B168=\"\",\"\",VLOOKUP($C168,Materials,'Whip Data'!$M$10+11,FALSE))","v":""},{"$f":"IF($B168=\"\",\"\",VLOOKUP($C168,Materials,'Whip Data'!$M$10+13,FALSE))","v":""},{"$f":"IFERROR(\"LTUA-\"&IF(ISTEXT('Whip Data'!$T181),VLOOKUP('Whip Data'!$T181,Conduit,2,FALSE),VLOOKUP('Whip Data'!$S181,Conduit,2,FALSE))&\"-\"&'Whip Data'!$R181,\"\")","v":""},{"$f":"IF($B168=\"\",\"\",IFERROR(VLOOKUP('Whip Data'!$T181,Conduit,3,FALSE),VLOOKUP('Whip Data'!$S181,Conduit,3,FALSE)))","v":""},{"$f":"IF(B168=\"\",\"\",'Whip Data'!O181)","v":""},{"$f":"IF(C168=\"\",\"\",'Whip Data'!P181)","v":""},{"$f":"IF($B168=\"\",\"\",IF(ISTEXT('Whip Data'!V181),'Whip Data'!V181,'Whip Data'!U181))","v":""},{"$f":"IF(B168=\"\",\"\",IF(ISBLANK('Whip Data'!X181),'Whip Data'!W181,'Whip Data'!X181))","v":""},"","",{"$f":"IF($B168=\"\",\"\",IF('Whip Data'!Q181=\"\",\"None\",'Whip Data'!Q181))","v":""},{"$f":"IF(O168=\"\",\"\",IF($O168=\"None\",\"NA\",INDEX(Breakers!$A$1:$I$75,MATCH(BOM!C168,Breakers!$A$1:$A$75,0),MATCH(BOM!O168,Breakers!$A$1:$I$1,0))))","v":""},{"$f":"IF(B168=\"\",\"\",VLOOKUP(H168,Standards!$X$3:$Y$6,2,FALSE))","v":""}]
[{"$f":"IF($B169=\"\",\"\",'Whip Data'!$Z182)","v":""},{"$f":"IFERROR('Whip Data'!A182,\"\")","v":""},{"$f":"IF(B169=\"\",\"\",'Whip Data'!L182)","v":""},"",{"$f":"IF($B169=\"\",\"\",VLOOKUP($C169,Materials,'Whip Data'!$M$10+11,FALSE))","v":""},{"$f":"IF($B169=\"\",\"\",VLOOKUP($C169,Materials,'Whip Data'!$M$10+13,FALSE))","v":""},{"$f":"IFERROR(\"LTUA-\"&IF(ISTEXT('Whip Data'!$T182),VLOOKUP('Whip Data'!$T182,Conduit,2,FALSE),VLOOKUP('Whip Data'!$S182,Conduit,2,FALSE))&\"-\"&'Whip Data'!$R182,\"\")","v":""},{"$f":"IF($B169=\"\",\"\",IFERROR(VLOOKUP('Whip Data'!$T182,Conduit,3,FALSE),VLOOKUP('Whip Data'!$S182,Conduit,3,FALSE)))","v":""},{"$f":"IF(B169=\"\",\"\",'Whip Data'!O182)","v":""},{"$f":"IF(C169=\"\",\"\",'Whip Data'!P182)","v":""},{"$f":"IF($B169=\"\",\"\",IF(ISTEXT('Whip Data'!V182),'Whip Data'!V182,'Whip Data'!U182))","v":""},{"$f":"IF(B169=\"\",\"\",IF(ISBLANK('Whip Data'!X182),'Whip Data'!W182,'Whip Data'!X182))","v":""},"","",{"$f":"IF($B169=\"\",\"\",IF('Whip Data'!Q182=\"\",\"None\",'Whip Data'!Q182))","v":""},{"$f":"IF(O169=\"\",\"\",IF($O169=\"None\",\"NA\",INDEX(Breakers!$A$1:$I$75,MATCH(BOM!C169,Breakers!$A$1:$A$75,0),MATCH(BOM!O169,Breakers!$A$1:$I$1,0))))","v":""},{"$f":"IF(B169=\"\",\"\",VLOOKUP(H169,Standards!$X$3:$Y$6,2,FALSE))","v":""}]
[{"$f":"IF($B170=\"\",\"\",'Whip Data'!$Z183)","v":""},{"$f":"IFERROR('Whip Data'!A183,\"\")","v":""},{"$f":"IF(B170=\"\",\"\",'Whip Data'!L183)","v":""},"",{"$f":"IF($B170=\"\",\"\",VLOOKUP($C170,Materials,'Whip Data'!$M$10+11,FALSE))","v":""},{"$f":"IF($B170=\"\",\"\",VLOOKUP($C170,Materials,'Whip Data'!$M$10+13,FALSE))","v":""},{"$f":"IFERROR(\"LTUA-\"&IF(ISTEXT('Whip Data'!$T183),VLOOKUP('Whip Data'!$T183,Conduit,2,FALSE),VLOOKUP('Whip Data'!$S183,Conduit,2,FALSE))&\"-\"&'Whip Data'!$R183,\"\")","v":""},{"$f":"IF($B170=\"\",\"\",IFERROR(VLOOKUP('Whip Data'!$T183,Conduit,3,FALSE),VLOOKUP('Whip Data'!$S183,Conduit,3,FALSE)))","v":""},{"$f":"IF(B170=\"\",\"\",'Whip Data'!O183)","v":""},{"$f":"IF(C170=\"\",\"\",'Whip Data'!P183)","v":""},{"$f":"IF($B170=\"\",\"\",IF(ISTEXT('Whip Data'!V183),'Whip Data'!V183,'Whip Data'!U183))","v":""},{"$f":"IF(B170=\"\",\"\",IF(ISBLANK('Whip Data'!X183),'Whip Data'!W183,'Whip Data'!X183))","v":""},"","",{"$f":"IF($B170=\"\",\"\",IF('Whip Data'!Q183=\"\",\"None\",'Whip Data'!Q183))","v":""},{"$f":"IF(O170=\"\",\"\",IF($O170=\"None\",\"NA\",INDEX(Breakers!$A$1:$I$75,MATCH(BOM!C170,Breakers!$A$1:$A$75,0),MATCH(BOM!O170,Breakers!$A$1:$I$1,0))))","v":""},{"$f":"IF(B170=\"\",\"\",VLOOKUP(H170,Standards!$X$3:$Y$6,2,FALSE))","v":""}]
[{"$f":"IF($B171=\"\",\"\",'Whip Data'!$Z184)","v":""},{"$f":"IFERROR('Whip Data'!A184,\"\")","v":""},{"$f":"IF(B171=\"\",\"\",'Whip Data'!L184)","v":""},"",{"$f":"IF($B171=\"\",\"\",VLOOKUP($C171,Materials,'Whip Data'!$M$10+11,FALSE))","v":""},{"$f":"IF($B171=\"\",\"\",VLOOKUP($C171,Materials,'Whip Data'!$M$10+13,FALSE))","v":""},{"$f":"IFERROR(\"LTUA-\"&IF(ISTEXT('Whip Data'!$T184),VLOOKUP('Whip Data'!$T184,Conduit,2,FALSE),VLOOKUP('Whip Data'!$S184,Conduit,2,FALSE))&\"-\"&'Whip Data'!$R184,\"\")","v":""},{"$f":"IF($B171=\"\",\"\",IFERROR(VLOOKUP('Whip Data'!$T184,Conduit,3,FALSE),VLOOKUP('Whip Data'!$S184,Conduit,3,FALSE)))","v":""},{"$f":"IF(B171=\"\",\"\",'Whip Data'!O184)","v":""},{"$f":"IF(C171=\"\",\"\",'Whip Data'!P184)","v":""},{"$f":"IF($B171=\"\",\"\",IF(ISTEXT('Whip Data'!V184),'Whip Data'!V184,'Whip Data'!U184))","v":""},{"$f":"IF(B171=\"\",\"\",IF(ISBLANK('Whip Data'!X184),'Whip Data'!W184,'Whip Data'!X184))","v":""},"","",{"$f":"IF($B171=\"\",\"\",IF('Whip Data'!Q184=\"\",\"None\",'Whip Data'!Q184))","v":""},{"$f":"IF(O171=\"\",\"\",IF($O171=\"None\",\"NA\",INDEX(Breakers!$A$1:$I$75,MATCH(BOM!C171,Breakers!$A$1:$A$75,0),MATCH(BOM!O171,Breakers!$A$1:$I$1,0))))","v":""},{"$f":"IF(B171=\"\",\"\",VLOOKUP(H171,Standards!$X$3:$Y$6,2,FALSE))","v":""}]
[{"$f":"IF($B172=\"\",\"\",'Whip Data'!$Z185)","v":""},{"$f":"IFERROR('Whip Data'!A185,\"\")","v":""},{"$f":"IF(B172=\"\",\"\",'Whip Data'!L185)","v":""},"",{"$f":"IF($B172=\"\",\"\",VLOOKUP($C172,Materials,'Whip Data'!$M$10+11,FALSE))","v":""},{"$f":"IF($B172=\"\",\"\",VLOOKUP($C172,Materials,'Whip Data'!$M$10+13,FALSE))","v":""},{"$f":"IFERROR(\"LTUA-\"&IF(ISTEXT('Whip Data'!$T185),VLOOKUP('Whip Data'!$T185,Conduit,2,FALSE),VLOOKUP('Whip Data'!$S185,Conduit,2,FALSE))&\"-\"&'Whip Data'!$R185,\"\")","v":""},{"$f":"IF($B172=\"\",\"\",IFERROR(VLOOKUP('Whip Data'!$T185,Conduit,3,FALSE),VLOOKUP('Whip Data'!$S185,Conduit,3,FALSE)))","v":""},{"$f":"IF(B172=\"\",\"\",'Whip Data'!O185)","v":""},{"$f":"IF(C172=\"\",\"\",'Whip Data'!P185)","v":""},{"$f":"IF($B172=\"\",\"\",IF(ISTEXT('Whip Data'!V185),'Whip Data'!V185,'Whip Data'!U185))","v":""},{"$f":"IF(B172=\"\",\"\",IF(ISBLANK('Whip Data'!X185),'Whip Data'!W185,'Whip Data'!X185))","v":""},"","",{"$f":"IF($B172=\"\",\"\",IF('Whip Data'!Q185=\"\",\"None\",'Whip Data'!Q185))","v":""},{"$f":"IF(O172=\"\",\"\",IF($O172=\"None\",\"NA\",INDEX(Breakers!$A$1:$I$75,MATCH(BOM!C172,Breakers!$A$1:$A$75,0),MATCH(BOM!O172,Breakers!$A$1:$I$1,0))))","v":""},{"$f":"IF(B172=\"\",\"\",VLOOKUP(H172,Standards!$X$3:$Y$6,2,FALSE))","v":""}]
[{"$f":"IF($B173=\"\",\"\",'Whip Data'!$Z186)","v":""},{"$f":"IFERROR('Whip Data'!A186,\"\")","v":""},{"$f":"IF(B173=\"\",\"\",'Whip Data'!L186)","v":""},"",{"$f":"IF($B173=\"\",\"\",VLOOKUP($C173,Materials,'Whip Data'!$M$10+11,FALSE))","v":""},{"$f":"IF($B173=\"\",\"\",VLOOKUP($C173,Materials,'Whip Data'!$M$10+13,FALSE))","v":""},{"$f":"IFERROR(\"LTUA-\"&IF(ISTEXT('Whip Data'!$T186),VLOOKUP('Whip Data'!$T186,Conduit,2,FALSE),VLOOKUP('Whip Data'!$S186,Conduit,2,FALSE))&\"-\"&'Whip Data'!$R186,\"\")","v":""},{"$f":"IF($B173=\"\",\"\",IFERROR(VLOOKUP('Whip Data'!$T186,Conduit,3,FALSE),VLOOKUP('Whip Data'!$S186,Conduit,3,FALSE)))","v":""},{"$f":"IF(B173=\"\",\"\",'Whip Data'!O186)","v":""},{"$f":"IF(C173=\"\",\"\",'Whip Data'!P186)","v":""},{"$f":"IF($B173=\"\",\"\",IF(ISTEXT('Whip Data'!V186),'Whip Data'!V186,'Whip Data'!U186))","v":""},{"$f":"IF(B173=\"\",\"\",IF(ISBLANK('Whip Data'!X186),'Whip Data'!W186,'Whip Data'!X186))","v":""},"","",{"$f":"IF($B173=\"\",\"\",IF('Whip Data'!Q186=\"\",\"None\",'Whip Data'!Q186))","v":""},{"$f":"IF(O173=\"\",\"\",IF($O173=\"None\",\"NA\",INDEX(Breakers!$A$1:$I$75,MATCH(BOM!C173,Breakers!$A$1:$A$75,0),MATCH(BOM!O173,Breakers!$A$1:$I$1,0))))","v":""},{"$f":"IF(B173=\"\",\"\",VLOOKUP(H173,Standards!$X$3:$Y$6,2,FALSE))","v":""}]
[{"$f":"IF($B174=\"\",\"\",'Whip Data'!$Z187)","v":""},{"$f":"IFERROR('Whip Data'!A187,\"\")","v":""},{"$f":"IF(B174=\"\",\"\",'Whip Data'!L187)","v":""},"",{"$f":"IF($B174=\"\",\"\",VLOOKUP($C174,Materials,'Whip Data'!$M$10+11,FALSE))","v":""},{"$f":"IF($B174=\"\",\"\",VLOOKUP($C174,Materials,'Whip Data'!$M$10+13,FALSE))","v":""},{"$f":"IFERROR(\"LTUA-\"&IF(ISTEXT('Whip Data'!$T187),VLOOKUP('Whip Data'!$T187,Conduit,2,FALSE),VLOOKUP('Whip Data'!$S187,Conduit,2,FALSE))&\"-\"&'Whip Data'!$R187,\"\")","v":""},{"$f":"IF($B174=\"\",\"\",IFERROR(VLOOKUP('Whip Data'!$T187,Conduit,3,FALSE),VLOOKUP('Whip Data'!$S187,Conduit,3,FALSE)))","v":""},{"$f":"IF(B174=\"\",\"\",'Whip Data'!O187)","v":""},{"$f":"IF(C174=\"\",\"\",'Whip Data'!P187)","v":""},{"$f":"IF($B174=\"\",\"\",IF(ISTEXT('Whip Data'!V187),'Whip Data'!V187,'Whip Data'!U187))","v":""},{"$f":"IF(B174=\"\",\"\",IF(ISBLANK('Whip Data'!X187),'Whip Data'!W187,'Whip Data'!X187))","v":""},"","",{"$f":"IF($B174=\"\",\"\",IF('Whip Data'!Q187=\"\",\"None\",'Whip Data'!Q187))","v":""},{"$f":"IF(O174=\"\",\"\",IF($O174=\"None\",\"NA\",INDEX(Breakers!$A$1:$I$75,MATCH(BOM!C174,Breakers!$A$1:$A$75,0),MATCH(BOM!O174,Breakers!$A$1:$I$1,0))))","v":""},{"$f":"IF(B174=\"\",\"\",VLOOKUP(H174,Standards!$X$3:$Y$6,2,FALSE))","v":""}]
[{"$f":"IF($B175=\"\",\"\",'Whip Data'!$Z188)","v":""},{"$f":"IFERROR('Whip Data'!A188,\"\")","v":""},{"$f":"IF(B175=\"\",\"\",'Whip Data'!L188)","v":""},"",{"$f":"IF($B175=\"\",\"\",VLOOKUP($C175,Materials,'Whip Data'!$M$10+11,FALSE))","v":""},{"$f":"IF($B175=\"\",\"\",VLOOKUP($C175,Materials,'Whip Data'!$M$10+13,FALSE))","v":""},{"$f":"IFERROR(\"LTUA-\"&IF(ISTEXT('Whip Data'!$T188),VLOOKUP('Whip Data'!$T188,Conduit,2,FALSE),VLOOKUP('Whip Data'!$S188,Conduit,2,FALSE))&\"-\"&'Whip Data'!$R188,\"\")","v":""},{"$f":"IF($B175=\"\",\"\",IFERROR(VLOOKUP('Whip Data'!$T188,Conduit,3,FALSE),VLOOKUP('Whip Data'!$S188,Conduit,3,FALSE)))","v":""},{"$f":"IF(B175=\"\",\"\",'Whip Data'!O188)","v":""},{"$f":"IF(C175=\"\",\"\",'Whip Data'!P188)","v":""},{"$f":"IF($B175=\"\",\"\",IF(ISTEXT('Whip Data'!V188),'Whip Data'!V188,'Whip Data'!U188))","v":""},{"$f":"IF(B175=\"\",\"\",IF(ISBLANK('Whip Data'!X188),'Whip Data'!W188,'Whip Data'!X188))","v":""},"","",{"$f":"IF($B175=\"\",\"\",IF('Whip Data'!Q188=\"\",\"None\",'Whip Data'!Q188))","v":""},{"$f":"IF(O175=\"\",\"\",IF($O175=\"None\",\"NA\",INDEX(Breakers!$A$1:$I$75,MATCH(BOM!C175,Breakers!$A$1:$A$75,0),MATCH(BOM!O175,Breakers!$A$1:$I$1,0))))","v":""},{"$f":"IF(B175=\"\",\"\",VLOOKUP(H175,Standards!$X$3:$Y$6,2,FALSE))","v":""}]
[{"$f":"IF($B176=\"\",\"\",'Whip Data'!$Z189)","v":""},{"$f":"IFERROR('Whip Data'!A189,\"\")","v":""},{"$f":"IF(B176=\"\",\"\",'Whip Data'!L189)","v":""},"",{"$f":"IF($B176=\"\",\"\",VLOOKUP($C176,Materials,'Whip Data'!$M$10+11,FALSE))","v":""},{"$f":"IF($B176=\"\",\"\",VLOOKUP($C176,Materials,'Whip Data'!$M$10+13,FALSE))","v":""},{"$f":"IFERROR(\"LTUA-\"&IF(ISTEXT('Whip Data'!$T189),VLOOKUP('Whip Data'!$T189,Conduit,2,FALSE),VLOOKUP('Whip Data'!$S189,Conduit,2,FALSE))&\"-\"&'Whip Data'!$R189,\"\")","v":""},{"$f":"IF($B176=\"\",\"\",IFERROR(VLOOKUP('Whip Data'!$T189,Conduit,3,FALSE),VLOOKUP('Whip Data'!$S189,Conduit,3,FALSE)))","v":""},{"$f":"IF(B176=\"\",\"\",'Whip Data'!O189)","v":""},{"$f":"IF(C176=\"\",\"\",'Whip Data'!P189)","v":""},{"$f":"IF($B176=\"\",\"\",IF(ISTEXT('Whip Data'!V189),'Whip Data'!V189,'Whip Data'!U189))","v":""},{"$f":"IF(B176=\"\",\"\",IF(ISBLANK('Whip Data'!X189),'Whip Data'!W189,'Whip Data'!X189))","v":""},"","",{"$f":"IF($B176=\"\",\"\",IF('Whip Data'!Q189=\"\",\"None\",'Whip Data'!Q189))","v":""},{"$f":"IF(O176=\"\",\"\",IF($O176=\"None\",\"NA\",INDEX(Breakers!$A$1:$I$75,MATCH(BOM!C176,Breakers!$A$1:$A$75,0),MATCH(BOM!O176,Breakers!$A$1:$I$1,0))))","v":""},{"$f":"IF(B176=\"\",\"\",VLOOKUP(H176,Standards!$X$3:$Y$6,2,FALSE))","v":""}]
[{"$f":"IF($B177=\"\",\"\",'Whip Data'!$Z190)","v":""},{"$f":"IFERROR('Whip Data'!A190,\"\")","v":""},{"$f":"IF(B177=\"\",\"\",'Whip Data'!L190)","v":""},"",{"$f":"IF($B177=\"\",\"\",VLOOKUP($C177,Materials,'Whip Data'!$M$10+11,FALSE))","v":""},{"$f":"IF($B177=\"\",\"\",VLOOKUP($C177,Materials,'Whip Data'!$M$10+13,FALSE))","v":""},{"$f":"IFERROR(\"LTUA-\"&IF(ISTEXT('Whip Data'!$T190),VLOOKUP('Whip Data'!$T190,Conduit,2,FALSE),VLOOKUP('Whip Data'!$S190,Conduit,2,FALSE))&\"-\"&'Whip Data'!$R190,\"\")","v":""},{"$f":"IF($B177=\"\",\"\",IFERROR(VLOOKUP('Whip Data'!$T190,Conduit,3,FALSE),VLOOKUP('Whip Data'!$S190,Conduit,3,FALSE)))","v":""},{"$f":"IF(B177=\"\",\"\",'Whip Data'!O190)","v":""},{"$f":"IF(C177=\"\",\"\",'Whip Data'!P190)","v":""},{"$f":"IF($B177=\"\",\"\",IF(ISTEXT('Whip Data'!V190),'Whip Data'!V190,'Whip Data'!U190))","v":""},{"$f":"IF(B177=\"\",\"\",IF(ISBLANK('Whip Data'!X190),'Whip Data'!W190,'Whip Data'!X190))","v":""},"","",{"$f":"IF($B177=\"\",\"\",IF('Whip Data'!Q190=\"\",\"None\",'Whip Data'!Q190))","v":""},{"$f":"IF(O177=\"\",\"\",IF($O177=\"None\",\"NA\",INDEX(Breakers!$A$1:$I$75,MATCH(BOM!C177,Breakers!$A$1:$A$75,0),MATCH(BOM!O177,Breakers!$A$1:$I$1,0))))","v":""},{"$f":"IF(B177=\"\",\"\",VLOOKUP(H177,Standards!$X$3:$Y$6,2,FALSE))","v":""}]
[{"$f":"IF($B178=\"\",\"\",'Whip Data'!$Z191)","v":""},{"$f":"IFERROR('Whip Data'!A191,\"\")","v":""},{"$f":"IF(B178=\"\",\"\",'Whip Data'!L191)","v":""},"",{"$f":"IF($B178=\"\",\"\",VLOOKUP($C178,Materials,'Whip Data'!$M$10+11,FALSE))","v":""},{"$f":"IF($B178=\"\",\"\",VLOOKUP($C178,Materials,'Whip Data'!$M$10+13,FALSE))","v":""},{"$f":"IFERROR(\"LTUA-\"&IF(ISTEXT('Whip Data'!$T191),VLOOKUP('Whip Data'!$T191,Conduit,2,FALSE),VLOOKUP('Whip Data'!$S191,Conduit,2,FALSE))&\"-\"&'Whip Data'!$R191,\"\")","v":""},{"$f":"IF($B178=\"\",\"\",IFERROR(VLOOKUP('Whip Data'!$T191,Conduit,3,FALSE),VLOOKUP('Whip Data'!$S191,Conduit,3,FALSE)))","v":""},{"$f":"IF(B178=\"\",\"\",'Whip Data'!O191)","v":""},{"$f":"IF(C178=\"\",\"\",'Whip Data'!P191)","v":""},{"$f":"IF($B178=\"\",\"\",IF(ISTEXT('Whip Data'!V191),'Whip Data'!V191,'Whip Data'!U191))","v":""},{"$f":"IF(B178=\"\",\"\",IF(ISBLANK('Whip Data'!X191),'Whip Data'!W191,'Whip Data'!X191))","v":""},"","",{"$f":"IF($B178=\"\",\"\",IF('Whip Data'!Q191=\"\",\"None\",'Whip Data'!Q191))","v":""},{"$f":"IF(O178=\"\",\"\",IF($O178=\"None\",\"NA\",INDEX(Breakers!$A$1:$I$75,MATCH(BOM!C178,Breakers!$A$1:$A$75,0),MATCH(BOM!O178,Breakers!$A$1:$I$1,0))))","v":""},{"$f":"IF(B178=\"\",\"\",VLOOKUP(H178,Standards!$X$3:$Y$6,2,FALSE))","v":""}]
[{"$f":"IF($B179=\"\",\"\",'Whip Data'!$Z192)","v":""},{"$f":"IFERROR('Whip Data'!A192,\"\")","v":""},{"$f":"IF(B179=\"\",\"\",'Whip Data'!L192)","v":""},"",{"$f":"IF($B179=\"\",\"\",VLOOKUP($C179,Materials,'Whip Data'!$M$10+11,FALSE))","v":""},{"$f":"IF($B179=\"\",\"\",VLOOKUP($C179,Materials,'Whip Data'!$M$10+13,FALSE))","v":""},{"$f":"IFERROR(\"LTUA-\"&IF(ISTEXT('Whip Data'!$T192),VLOOKUP('Whip Data'!$T192,Conduit,2,FALSE),VLOOKUP('Whip Data'!$S192,Conduit,2,FALSE))&\"-\"&'Whip Data'!$R192,\"\")","v":""},{"$f":"IF($B179=\"\",\"\",IFERROR(VLOOKUP('Whip Data'!$T192,Conduit,3,FALSE),VLOOKUP('Whip Data'!$S192,Conduit,3,FALSE)))","v":""},{"$f":"IF(B179=\"\",\"\",'Whip Data'!O192)","v":""},{"$f":"IF(C179=\"\",\"\",'Whip Data'!P192)","v":""},{"$f":"IF($B179=\"\",\"\",IF(ISTEXT('Whip Data'!V192),'Whip Data'!V192,'Whip Data'!U192))","v":""},{"$f":"IF(B179=\"\",\"\",IF(ISBLANK('Whip Data'!X192),'Whip Data'!W192,'Whip Data'!X192))","v":""},"","",{"$f":"IF($B179=\"\",\"\",IF('Whip Data'!Q192=\"\",\"None\",'Whip Data'!Q192))","v":""},{"$f":"IF(O179=\"\",\"\",IF($O179=\"None\",\"NA\",INDEX(Breakers!$A$1:$I$75,MATCH(BOM!C179,Breakers!$A$1:$A$75,0),MATCH(BOM!O179,Breakers!$A$1:$I$1,0))))","v":""},{"$f":"IF(B179=\"\",\"\",VLOOKUP(H179,Standards!$X$3:$Y$6,2,FALSE))","v":""}]
[{"$f":"IF($B180=\"\",\"\",'Whip Data'!$Z193)","v":""},{"$f":"IFERROR('Whip Data'!A193,\"\")","v":""},{"$f":"IF(B180=\"\",\"\",'Whip Data'!L193)","v":""},"",{"$f":"IF($B180=\"\",\"\",VLOOKUP($C180,Materials,'Whip Data'!$M$10+11,FALSE))","v":""},{"$f":"IF($B180=\"\",\"\",VLOOKUP($C180,Materials,'Whip Data'!$M$10+13,FALSE))","v":""},{"$f":"IFERROR(\"LTUA-\"&IF(ISTEXT('Whip Data'!$T193),VLOOKUP('Whip Data'!$T193,Conduit,2,FALSE),VLOOKUP('Whip Data'!$S193,Conduit,2,FALSE))&\"-\"&'Whip Data'!$R193,\"\")","v":""},{"$f":"IF($B180=\"\",\"\",IFERROR(VLOOKUP('Whip Data'!$T193,Conduit,3,FALSE),VLOOKUP('Whip Data'!$S193,Conduit,3,FALSE)))","v":""},{"$f":"IF(B180=\"\",\"\",'Whip Data'!O193)","v":""},{"$f":"IF(C180=\"\",\"\",'Whip Data'!P193)","v":""},{"$f":"IF($B180=\"\",\"\",IF(ISTEXT('Whip Data'!V193),'Whip Data'!V193,'Whip Data'!U193))","v":""},{"$f":"IF(B180=\"\",\"\",IF(ISBLANK('Whip Data'!X193),'Whip Data'!W193,'Whip Data'!X193))","v":""},"","",{"$f":"IF($B180=\"\",\"\",IF('Whip Data'!Q193=\"\",\"None\",'Whip Data'!Q193))","v":""},{"$f":"IF(O180=\"\",\"\",IF($O180=\"None\",\"NA\",INDEX(Breakers!$A$1:$I$75,MATCH(BOM!C180,Breakers!$A$1:$A$75,0),MATCH(BOM!O180,Breakers!$A$1:$I$1,0))))","v":""},{"$f":"IF(B180=\"\",\"\",VLOOKUP(H180,Standards!$X$3:$Y$6,2,FALSE))","v":""}]
[{"$f":"IF($B181=\"\",\"\",'Whip Data'!$Z194)","v":""},{"$f":"IFERROR('Whip Data'!A194,\"\")","v":""},{"$f":"IF(B181=\"\",\"\",'Whip Data'!L194)","v":""},"",{"$f":"IF($B181=\"\",\"\",VLOOKUP($C181,Materials,'Whip Data'!$M$10+11,FALSE))","v":""},{"$f":"IF($B181=\"\",\"\",VLOOKUP($C181,Materials,'Whip Data'!$M$10+13,FALSE))","v":""},{"$f":"IFERROR(\"LTUA-\"&IF(ISTEXT('Whip Data'!$T194),VLOOKUP('Whip Data'!$T194,Conduit,2,FALSE),VLOOKUP('Whip Data'!$S194,Conduit,2,FALSE))&\"-\"&'Whip Data'!$R194,\"\")","v":""},{"$f":"IF($B181=\"\",\"\",IFERROR(VLOOKUP('Whip Data'!$T194,Conduit,3,FALSE),VLOOKUP('Whip Data'!$S194,Conduit,3,FALSE)))","v":""},{"$f":"IF(B181=\"\",\"\",'Whip Data'!O194)","v":""},{"$f":"IF(C181=\"\",\"\",'Whip Data'!P194)","v":""},{"$f":"IF($B181=\"\",\"\",IF(ISTEXT('Whip Data'!V194),'Whip Data'!V194,'Whip Data'!U194))","v":""},{"$f":"IF(B181=\"\",\"\",IF(ISBLANK('Whip Data'!X194),'Whip Data'!W194,'Whip Data'!X194))","v":""},"","",{"$f":"IF($B181=\"\",\"\",IF('Whip Data'!Q194=\"\",\"None\",'Whip Data'!Q194))","v":""},{"$f":"IF(O181=\"\",\"\",IF($O181=\"None\",\"NA\",INDEX(Breakers!$A$1:$I$75,MATCH(BOM!C181,Breakers!$A$1:$A$75,0),MATCH(BOM!O181,Breakers!$A$1:$I$1,0))))","v":""},{"$f":"IF(B181=\"\",\"\",VLOOKUP(H181,Standards!$X$3:$Y$6,2,FALSE))","v":""}]
[{"$f":"IF($B182=\"\",\"\",'Whip Data'!$Z195)","v":""},{"$f":"IFERROR('Whip Data'!A195,\"\")","v":""},{"$f":"IF(B182=\"\",\"\",'Whip Data'!L195)","v":""},"",{"$f":"IF($B182=\"\",\"\",VLOOKUP($C182,Materials,'Whip Data'!$M$10+11,FALSE))","v":""},{"$f":"IF($B182=\"\",\"\",VLOOKUP($C182,Materials,'Whip Data'!$M$10+13,FALSE))","v":""},{"$f":"IFERROR(\"LTUA-\"&IF(ISTEXT('Whip Data'!$T195),VLOOKUP('Whip Data'!$T195,Conduit,2,FALSE),VLOOKUP('Whip Data'!$S195,Conduit,2,FALSE))&\"-\"&'Whip Data'!$R195,\"\")","v":""},{"$f":"IF($B182=\"\",\"\",IFERROR(VLOOKUP('Whip Data'!$T195,Conduit,3,FALSE),VLOOKUP('Whip Data'!$S195,Conduit,3,FALSE)))","v":""},{"$f":"IF(B182=\"\",\"\",'Whip Data'!O195)","v":""},{"$f":"IF(C182=\"\",\"\",'Whip Data'!P195)","v":""},{"$f":"IF($B182=\"\",\"\",IF(ISTEXT('Whip Data'!V195),'Whip Data'!V195,'Whip Data'!U195))","v":""},{"$f":"IF(B182=\"\",\"\",IF(ISBLANK('Whip Data'!X195),'Whip Data'!W195,'Whip Data'!X195))","v":""},"","",{"$f":"IF($B182=\"\",\"\",IF('Whip Data'!Q195=\"\",\"None\",'Whip Data'!Q195))","v":""},{"$f":"IF(O182=\"\",\"\",IF($O182=\"None\",\"NA\",INDEX(Breakers!$A$1:$I$75,MATCH(BOM!C182,Breakers!$A$1:$A$75,0),MATCH(BOM!O182,Breakers!$A$1:$I$1,0))))","v":""},{"$f":"IF(B182=\"\",\"\",VLOOKUP(H182,Standards!$X$3:$Y$6,2,FALSE))","v":""}]
[{"$f":"IF($B183=\"\",\"\",'Whip Data'!$Z196)","v":""},{"$f":"IFERROR('Whip Data'!A196,\"\")","v":""},{"$f":"IF(B183=\"\",\"\",'Whip Data'!L196)","v":""},"",{"$f":"IF($B183=\"\",\"\",VLOOKUP($C183,Materials,'Whip Data'!$M$10+11,FALSE))","v":""},{"$f":"IF($B183=\"\",\"\",VLOOKUP($C183,Materials,'Whip Data'!$M$10+13,FALSE))","v":""},{"$f":"IFERROR(\"LTUA-\"&IF(ISTEXT('Whip Data'!$T196),VLOOKUP('Whip Data'!$T196,Conduit,2,FALSE),VLOOKUP('Whip Data'!$S196,Conduit,2,FALSE))&\"-\"&'Whip Data'!$R196,\"\")","v":""},{"$f":"IF($B183=\"\",\"\",IFERROR(VLOOKUP('Whip Data'!$T196,Conduit,3,FALSE),VLOOKUP('Whip Data'!$S196,Conduit,3,FALSE)))","v":""},{"$f":"IF(B183=\"\",\"\",'Whip Data'!O196)","v":""},{"$f":"IF(C183=\"\",\"\",'Whip Data'!P196)","v":""},{"$f":"IF($B183=\"\",\"\",IF(ISTEXT('Whip Data'!V196),'Whip Data'!V196,'Whip Data'!U196))","v":""},{"$f":"IF(B183=\"\",\"\",IF(ISBLANK('Whip Data'!X196),'Whip Data'!W196,'Whip Data'!X196))","v":""},"","",{"$f":"IF($B183=\"\",\"\",IF('Whip Data'!Q196=\"\",\"None\",'Whip Data'!Q196))","v":""},{"$f":"IF(O183=\"\",\"\",IF($O183=\"None\",\"NA\",INDEX(Breakers!$A$1:$I$75,MATCH(BOM!C183,Breakers!$A$1:$A$75,0),MATCH(BOM!O183,Breakers!$A$1:$I$1,0))))","v":""},{"$f":"IF(B183=\"\",\"\",VLOOKUP(H183,Standards!$X$3:$Y$6,2,FALSE))","v":""}]
[{"$f":"IF($B184=\"\",\"\",'Whip Data'!$Z197)","v":""},{"$f":"IFERROR('Whip Data'!A197,\"\")","v":""},{"$f":"IF(B184=\"\",\"\",'Whip Data'!L197)","v":""},"",{"$f":"IF($B184=\"\",\"\",VLOOKUP($C184,Materials,'Whip Data'!$M$10+11,FALSE))","v":""},{"$f":"IF($B184=\"\",\"\",VLOOKUP($C184,Materials,'Whip Data'!$M$10+13,FALSE))","v":""},{"$f":"IFERROR(\"LTUA-\"&IF(ISTEXT('Whip Data'!$T197),VLOOKUP('Whip Data'!$T197,Conduit,2,FALSE),VLOOKUP('Whip Data'!$S197,Conduit,2,FALSE))&\"-\"&'Whip Data'!$R197,\"\")","v":""},{"$f":"IF($B184=\"\",\"\",IFERROR(VLOOKUP('Whip Data'!$T197,Conduit,3,FALSE),VLOOKUP('Whip Data'!$S197,Conduit,3,FALSE)))","v":""},{"$f":"IF(B184=\"\",\"\",'Whip Data'!O197)","v":""},{"$f":"IF(C184=\"\",\"\",'Whip Data'!P197)","v":""},{"$f":"IF($B184=\"\",\"\",IF(ISTEXT('Whip Data'!V197),'Whip Data'!V197,'Whip Data'!U197))","v":""},{"$f":"IF(B184=\"\",\"\",IF(ISBLANK('Whip Data'!X197),'Whip Data'!W197,'Whip Data'!X197))","v":""},"","",{"$f":"IF($B184=\"\",\"\",IF('Whip Data'!Q197=\"\",\"None\",'Whip Data'!Q197))","v":""},{"$f":"IF(O184=\"\",\"\",IF($O184=\"None\",\"NA\",INDEX(Breakers!$A$1:$I$75,MATCH(BOM!C184,Breakers!$A$1:$A$75,0),MATCH(BOM!O184,Breakers!$A$1:$I$1,0))))","v":""},{"$f":"IF(B184=\"\",\"\",VLOOKUP(H184,Standards!$X$3:$Y$6,2,FALSE))","v":""}]
[{"$f":"IF($B185=\"\",\"\",'Whip Data'!$Z198)","v":""},{"$f":"IFERROR('Whip Data'!A198,\"\")","v":""},{"$f":"IF(B185=\"\",\"\",'Whip Data'!L198)","v":""},"",{"$f":"IF($B185=\"\",\"\",VLOOKUP($C185,Materials,'Whip Data'!$M$10+11,FALSE))","v":""},{"$f":"IF($B185=\"\",\"\",VLOOKUP($C185,Materials,'Whip Data'!$M$10+13,FALSE))","v":""},{"$f":"IFERROR(\"LTUA-\"&IF(ISTEXT('Whip Data'!$T198),VLOOKUP('Whip Data'!$T198,Conduit,2,FALSE),VLOOKUP('Whip Data'!$S198,Conduit,2,FALSE))&\"-\"&'Whip Data'!$R198,\"\")","v":""},{"$f":"IF($B185=\"\",\"\",IFERROR(VLOOKUP('Whip Data'!$T198,Conduit,3,FALSE),VLOOKUP('Whip Data'!$S198,Conduit,3,FALSE)))","v":""},{"$f":"IF(B185=\"\",\"\",'Whip Data'!O198)","v":""},{"$f":"IF(C185=\"\",\"\",'Whip Data'!P198)","v":""},{"$f":"IF($B185=\"\",\"\",IF(ISTEXT('Whip Data'!V198),'Whip Data'!V198,'Whip Data'!U198))","v":""},{"$f":"IF(B185=\"\",\"\",IF(ISBLANK('Whip Data'!X198),'Whip Data'!W198,'Whip Data'!X198))","v":""},"","",{"$f":"IF($B185=\"\",\"\",IF('Whip Data'!Q198=\"\",\"None\",'Whip Data'!Q198))","v":""},{"$f":"IF(O185=\"\",\"\",IF($O185=\"None\",\"NA\",INDEX(Breakers!$A$1:$I$75,MATCH(BOM!C185,Breakers!$A$1:$A$75,0),MATCH(BOM!O185,Breakers!$A$1:$I$1,0))))","v":""},{"$f":"IF(B185=\"\",\"\",VLOOKUP(H185,Standards!$X$3:$Y$6,2,FALSE))","v":""}]
[{"$f":"IF($B186=\"\",\"\",'Whip Data'!$Z199)","v":""},{"$f":"IFERROR('Whip Data'!A199,\"\")","v":""},{"$f":"IF(B186=\"\",\"\",'Whip Data'!L199)","v":""},"",{"$f":"IF($B186=\"\",\"\",VLOOKUP($C186,Materials,'Whip Data'!$M$10+11,FALSE))","v":""},{"$f":"IF($B186=\"\",\"\",VLOOKUP($C186,Materials,'Whip Data'!$M$10+13,FALSE))","v":""},{"$f":"IFERROR(\"LTUA-\"&IF(ISTEXT('Whip Data'!$T199),VLOOKUP('Whip Data'!$T199,Conduit,2,FALSE),VLOOKUP('Whip Data'!$S199,Conduit,2,FALSE))&\"-\"&'Whip Data'!$R199,\"\")","v":""},{"$f":"IF($B186=\"\",\"\",IFERROR(VLOOKUP('Whip Data'!$T199,Conduit,3,FALSE),VLOOKUP('Whip Data'!$S199,Conduit,3,FALSE)))","v":""},{"$f":"IF(B186=\"\",\"\",'Whip Data'!O199)","v":""},{"$f":"IF(C186=\"\",\"\",'Whip Data'!P199)","v":""},{"$f":"IF($B186=\"\",\"\",IF(ISTEXT('Whip Data'!V199),'Whip Data'!V199,'Whip Data'!U199))","v":""},{"$f":"IF(B186=\"\",\"\",IF(ISBLANK('Whip Data'!X199),'Whip Data'!W199,'Whip Data'!X199))","v":""},"","",{"$f":"IF($B186=\"\",\"\",IF('Whip Data'!Q199=\"\",\"None\",'Whip Data'!Q199))","v":""},{"$f":"IF(O186=\"\",\"\",IF($O186=\"None\",\"NA\",INDEX(Breakers!$A$1:$I$75,MATCH(BOM!C186,Breakers!$A$1:$A$75,0),MATCH(BOM!O186,Breakers!$A$1:$I$1,0))))","v":""},{"$f":"IF(B186=\"\",\"\",VLOOKUP(H186,Standards!$X$3:$Y$6,2,FALSE))","v":""}]
[{"$f":"IF($B187=\"\",\"\",'Whip Data'!$Z200)","v":""},{"$f":"IFERROR('Whip Data'!A200,\"\")","v":""},{"$f":"IF(B187=\"\",\"\",'Whip Data'!L200)","v":""},"",{"$f":"IF($B187=\"\",\"\",VLOOKUP($C187,Materials,'Whip Data'!$M$10+11,FALSE))","v":""},{"$f":"IF($B187=\"\",\"\",VLOOKUP($C187,Materials,'Whip Data'!$M$10+13,FALSE))","v":""},{"$f":"IFERROR(\"LTUA-\"&IF(ISTEXT('Whip Data'!$T200),VLOOKUP('Whip Data'!$T200,Conduit,2,FALSE),VLOOKUP('Whip Data'!$S200,Conduit,2,FALSE))&\"-\"&'Whip Data'!$R200,\"\")","v":""},{"$f":"IF($B187=\"\",\"\",IFERROR(VLOOKUP('Whip Data'!$T200,Conduit,3,FALSE),VLOOKUP('Whip Data'!$S200,Conduit,3,FALSE)))","v":""},{"$f":"IF(B187=\"\",\"\",'Whip Data'!O200)","v":""},{"$f":"IF(C187=\"\",\"\",'Whip Data'!P200)","v":""},{"$f":"IF($B187=\"\",\"\",IF(ISTEXT('Whip Data'!V200),'Whip Data'!V200,'Whip Data'!U200))","v":""},{"$f":"IF(B187=\"\",\"\",IF(ISBLANK('Whip Data'!X200),'Whip Data'!W200,'Whip Data'!X200))","v":""},"","",{"$f":"IF($B187=\"\",\"\",IF('Whip Data'!Q200=\"\",\"None\",'Whip Data'!Q200))","v":""},{"$f":"IF(O187=\"\",\"\",IF($O187=\"None\",\"NA\",INDEX(Breakers!$A$1:$I$75,MATCH(BOM!C187,Breakers!$A$1:$A$75,0),MATCH(BOM!O187,Breakers!$A$1:$I$1,0))))","v":""},{"$f":"IF(B187=\"\",\"\",VLOOKUP(H187,Standards!$X$3:$Y$6,2,FALSE))","v":""}]
[{"$f":"IF($B188=\"\",\"\",'Whip Data'!$Z201)","v":""},{"$f":"IFERROR('Whip Data'!A201,\"\")","v":""},{"$f":"IF(B188=\"\",\"\",'Whip Data'!L201)","v":""},"",{"$f":"IF($B188=\"\",\"\",VLOOKUP($C188,Materials,'Whip Data'!$M$10+11,FALSE))","v":""},{"$f":"IF($B188=\"\",\"\",VLOOKUP($C188,Materials,'Whip Data'!$M$10+13,FALSE))","v":""},{"$f":"IFERROR(\"LTUA-\"&IF(ISTEXT('Whip Data'!$T201),VLOOKUP('Whip Data'!$T201,Conduit,2,FALSE),VLOOKUP('Whip Data'!$S201,Conduit,2,FALSE))&\"-\"&'Whip Data'!$R201,\"\")","v":""},{"$f":"IF($B188=\"\",\"\",IFERROR(VLOOKUP('Whip Data'!$T201,Conduit,3,FALSE),VLOOKUP('Whip Data'!$S201,Conduit,3,FALSE)))","v":""},{"$f":"IF(B188=\"\",\"\",'Whip Data'!O201)","v":""},{"$f":"IF(C188=\"\",\"\",'Whip Data'!P201)","v":""},{"$f":"IF($B188=\"\",\"\",IF(ISTEXT('Whip Data'!V201),'Whip Data'!V201,'Whip Data'!U201))","v":""},{"$f":"IF(B188=\"\",\"\",IF(ISBLANK('Whip Data'!X201),'Whip Data'!W201,'Whip Data'!X201))","v":""},"","",{"$f":"IF($B188=\"\",\"\",IF('Whip Data'!Q201=\"\",\"None\",'Whip Data'!Q201))","v":""},{"$f":"IF(O188=\"\",\"\",IF($O188=\"None\",\"NA\",INDEX(Breakers!$A$1:$I$75,MATCH(BOM!C188,Breakers!$A$1:$A$75,0),MATCH(BOM!O188,Breakers!$A$1:$I$1,0))))","v":""},{"$f":"IF(B188=\"\",\"\",VLOOKUP(H188,Standards!$X$3:$Y$6,2,FALSE))","v":""}]
[{"$f":"IF($B189=\"\",\"\",'Whip Data'!$Z202)","v":""},{"$f":"IFERROR('Whip Data'!A202,\"\")","v":""},{"$f":"IF(B189=\"\",\"\",'Whip Data'!L202)","v":""},"",{"$f":"IF($B189=\"\",\"\",VLOOKUP($C189,Materials,'Whip Data'!$M$10+11,FALSE))","v":""},{"$f":"IF($B189=\"\",\"\",VLOOKUP($C189,Materials,'Whip Data'!$M$10+13,FALSE))","v":""},{"$f":"IFERROR(\"LTUA-\"&IF(ISTEXT('Whip Data'!$T202),VLOOKUP('Whip Data'!$T202,Conduit,2,FALSE),VLOOKUP('Whip Data'!$S202,Conduit,2,FALSE))&\"-\"&'Whip Data'!$R202,\"\")","v":""},{"$f":"IF($B189=\"\",\"\",IFERROR(VLOOKUP('Whip Data'!$T202,Conduit,3,FALSE),VLOOKUP('Whip Data'!$S202,Conduit,3,FALSE)))","v":""},{"$f":"IF(B189=\"\",\"\",'Whip Data'!O202)","v":""},{"$f":"IF(C189=\"\",\"\",'Whip Data'!P202)","v":""},{"$f":"IF($B189=\"\",\"\",IF(ISTEXT('Whip Data'!V202),'Whip Data'!V202,'Whip Data'!U202))","v":""},{"$f":"IF(B189=\"\",\"\",IF(ISBLANK('Whip Data'!X202),'Whip Data'!W202,'Whip Data'!X202))","v":""},"","",{"$f":"IF($B189=\"\",\"\",IF('Whip Data'!Q202=\"\",\"None\",'Whip Data'!Q202))","v":""},{"$f":"IF(O189=\"\",\"\",IF($O189=\"None\",\"NA\",INDEX(Breakers!$A$1:$I$75,MATCH(BOM!C189,Breakers!$A$1:$A$75,0),MATCH(BOM!O189,Breakers!$A$1:$I$1,0))))","v":""},{"$f":"IF(B189=\"\",\"\",VLOOKUP(H189,Standards!$X$3:$Y$6,2,FALSE))","v":""}]
[{"$f":"IF($B190=\"\",\"\",'Whip Data'!$Z203)","v":""},{"$f":"IFERROR('Whip Data'!A203,\"\")","v":""},{"$f":"IF(B190=\"\",\"\",'Whip Data'!L203)","v":""},"",{"$f":"IF($B190=\"\",\"\",VLOOKUP($C190,Materials,'Whip Data'!$M$10+11,FALSE))","v":""},{"$f":"IF($B190=\"\",\"\",VLOOKUP($C190,Materials,'Whip Data'!$M$10+13,FALSE))","v":""},{"$f":"IFERROR(\"LTUA-\"&IF(ISTEXT('Whip Data'!$T203),VLOOKUP('Whip Data'!$T203,Conduit,2,FALSE),VLOOKUP('Whip Data'!$S203,Conduit,2,FALSE))&\"-\"&'Whip Data'!$R203,\"\")","v":""},{"$f":"IF($B190=\"\",\"\",IFERROR(VLOOKUP('Whip Data'!$T203,Conduit,3,FALSE),VLOOKUP('Whip Data'!$S203,Conduit,3,FALSE)))","v":""},{"$f":"IF(B190=\"\",\"\",'Whip Data'!O203)","v":""},{"$f":"IF(C190=\"\",\"\",'Whip Data'!P203)","v":""},{"$f":"IF($B190=\"\",\"\",IF(ISTEXT('Whip Data'!V203),'Whip Data'!V203,'Whip Data'!U203))","v":""},{"$f":"IF(B190=\"\",\"\",IF(ISBLANK('Whip Data'!X203),'Whip Data'!W203,'Whip Data'!X203))","v":""},"","",{"$f":"IF($B190=\"\",\"\",IF('Whip Data'!Q203=\"\",\"None\",'Whip Data'!Q203))","v":""},{"$f":"IF(O190=\"\",\"\",IF($O190=\"None\",\"NA\",INDEX(Breakers!$A$1:$I$75,MATCH(BOM!C190,Breakers!$A$1:$A$75,0),MATCH(BOM!O190,Breakers!$A$1:$I$1,0))))","v":""},{"$f":"IF(B190=\"\",\"\",VLOOKUP(H190,Standards!$X$3:$Y$6,2,FALSE))","v":""}]
[{"$f":"IF($B191=\"\",\"\",'Whip Data'!$Z204)","v":""},{"$f":"IFERROR('Whip Data'!A204,\"\")","v":""},{"$f":"IF(B191=\"\",\"\",'Whip Data'!L204)","v":""},"",{"$f":"IF($B191=\"\",\"\",VLOOKUP($C191,Materials,'Whip Data'!$M$10+11,FALSE))","v":""},{"$f":"IF($B191=\"\",\"\",VLOOKUP($C191,Materials,'Whip Data'!$M$10+13,FALSE))","v":""},{"$f":"IFERROR(\"LTUA-\"&IF(ISTEXT('Whip Data'!$T204),VLOOKUP('Whip Data'!$T204,Conduit,2,FALSE),VLOOKUP('Whip Data'!$S204,Conduit,2,FALSE))&\"-\"&'Whip Data'!$R204,\"\")","v":""},{"$f":"IF($B191=\"\",\"\",IFERROR(VLOOKUP('Whip Data'!$T204,Conduit,3,FALSE),VLOOKUP('Whip Data'!$S204,Conduit,3,FALSE)))","v":""},{"$f":"IF(B191=\"\",\"\",'Whip Data'!O204)","v":""},{"$f":"IF(C191=\"\",\"\",'Whip Data'!P204)","v":""},{"$f":"IF($B191=\"\",\"\",IF(ISTEXT('Whip Data'!V204),'Whip Data'!V204,'Whip Data'!U204))","v":""},{"$f":"IF(B191=\"\",\"\",IF(ISBLANK('Whip Data'!X204),'Whip Data'!W204,'Whip Data'!X204))","v":""},"","",{"$f":"IF($B191=\"\",\"\",IF('Whip Data'!Q204=\"\",\"None\",'Whip Data'!Q204))","v":""},{"$f":"IF(O191=\"\",\"\",IF($O191=\"None\",\"NA\",INDEX(Breakers!$A$1:$I$75,MATCH(BOM!C191,Breakers!$A$1:$A$75,0),MATCH(BOM!O191,Breakers!$A$1:$I$1,0))))","v":""},{"$f":"IF(B191=\"\",\"\",VLOOKUP(H191,Standards!$X$3:$Y$6,2,FALSE))","v":""}]
[{"$f":"IF($B192=\"\",\"\",'Whip Data'!$Z205)","v":""},{"$f":"IFERROR('Whip Data'!A205,\"\")","v":""},{"$f":"IF(B192=\"\",\"\",'Whip Data'!L205)","v":""},"",{"$f":"IF($B192=\"\",\"\",VLOOKUP($C192,Materials,'Whip Data'!$M$10+11,FALSE))","v":""},{"$f":"IF($B192=\"\",\"\",VLOOKUP($C192,Materials,'Whip Data'!$M$10+13,FALSE))","v":""},{"$f":"IFERROR(\"LTUA-\"&IF(ISTEXT('Whip Data'!$T205),VLOOKUP('Whip Data'!$T205,Conduit,2,FALSE),VLOOKUP('Whip Data'!$S205,Conduit,2,FALSE))&\"-\"&'Whip Data'!$R205,\"\")","v":""},{"$f":"IF($B192=\"\",\"\",IFERROR(VLOOKUP('Whip Data'!$T205,Conduit,3,FALSE),VLOOKUP('Whip Data'!$S205,Conduit,3,FALSE)))","v":""},{"$f":"IF(B192=\"\",\"\",'Whip Data'!O205)","v":""},{"$f":"IF(C192=\"\",\"\",'Whip Data'!P205)","v":""},{"$f":"IF($B192=\"\",\"\",IF(ISTEXT('Whip Data'!V205),'Whip Data'!V205,'Whip Data'!U205))","v":""},{"$f":"IF(B192=\"\",\"\",IF(ISBLANK('Whip Data'!X205),'Whip Data'!W205,'Whip Data'!X205))","v":""},"","",{"$f":"IF($B192=\"\",\"\",IF('Whip Data'!Q205=\"\",\"None\",'Whip Data'!Q205))","v":""},{"$f":"IF(O192=\"\",\"\",IF($O192=\"None\",\"NA\",INDEX(Breakers!$A$1:$I$75,MATCH(BOM!C192,Breakers!$A$1:$A$75,0),MATCH(BOM!O192,Breakers!$A$1:$I$1,0))))","v":""},{"$f":"IF(B192=\"\",\"\",VLOOKUP(H192,Standards!$X$3:$Y$6,2,FALSE))","v":""}]
[{"$f":"IF($B193=\"\",\"\",'Whip Data'!$Z206)","v":""},{"$f":"IFERROR('Whip Data'!A206,\"\")","v":""},{"$f":"IF(B193=\"\",\"\",'Whip Data'!L206)","v":""},"",{"$f":"IF($B193=\"\",\"\",VLOOKUP($C193,Materials,'Whip Data'!$M$10+11,FALSE))","v":""},{"$f":"IF($B193=\"\",\"\",VLOOKUP($C193,Materials,'Whip Data'!$M$10+13,FALSE))","v":""},{"$f":"IFERROR(\"LTUA-\"&IF(ISTEXT('Whip Data'!$T206),VLOOKUP('Whip Data'!$T206,Conduit,2,FALSE),VLOOKUP('Whip Data'!$S206,Conduit,2,FALSE))&\"-\"&'Whip Data'!$R206,\"\")","v":""},{"$f":"IF($B193=\"\",\"\",IFERROR(VLOOKUP('Whip Data'!$T206,Conduit,3,FALSE),VLOOKUP('Whip Data'!$S206,Conduit,3,FALSE)))","v":""},{"$f":"IF(B193=\"\",\"\",'Whip Data'!O206)","v":""},{"$f":"IF(C193=\"\",\"\",'Whip Data'!P206)","v":""},{"$f":"IF($B193=\"\",\"\",IF(ISTEXT('Whip Data'!V206),'Whip Data'!V206,'Whip Data'!U206))","v":""},{"$f":"IF(B193=\"\",\"\",IF(ISBLANK('Whip Data'!X206),'Whip Data'!W206,'Whip Data'!X206))","v":""},"","",{"$f":"IF($B193=\"\",\"\",IF('Whip Data'!Q206=\"\",\"None\",'Whip Data'!Q206))","v":""},{"$f":"IF(O193=\"\",\"\",IF($O193=\"None\",\"NA\",INDEX(Breakers!$A$1:$I$75,MATCH(BOM!C193,Breakers!$A$1:$A$75,0),MATCH(BOM!O193,Breakers!$A$1:$I$1,0))))","v":""},{"$f":"IF(B193=\"\",\"\",VLOOKUP(H193,Standards!$X$3:$Y$6,2,FALSE))","v":""}]
[{"$f":"IF($B194=\"\",\"\",'Whip Data'!$Z207)","v":""},{"$f":"IFERROR('Whip Data'!A207,\"\")","v":""},{"$f":"IF(B194=\"\",\"\",'Whip Data'!L207)","v":""},{"$f":"IF(B194=\"\",\"\",VLOOKUP(C194,Materials,11,FALSE))","v":""},{"$f":"IF($B194=\"\",\"\",VLOOKUP($C194,Materials,'Whip Data'!$M$10+11,FALSE))","v":""},{"$f":"IF($B194=\"\",\"\",VLOOKUP($C194,Materials,'Whip Data'!$M$10+13,FALSE))","v":""},{"$f":"IFERROR(\"LTUA-\"&IF(ISTEXT('Whip Data'!$T207),VLOOKUP('Whip Data'!$T207,Conduit,2,FALSE),VLOOKUP('Whip Data'!$S207,Conduit,2,FALSE))&\"-\"&'Whip Data'!$R207,\"\")","v":""},{"$f":"IF($B194=\"\",\"\",IFERROR(VLOOKUP('Whip Data'!$T207,Conduit,3,FALSE),VLOOKUP('Whip Data'!$S207,Conduit,3,FALSE)))","v":""},{"$f":"IF(B194=\"\",\"\",'Whip Data'!O207)","v":""},{"$f":"IF(C194=\"\",\"\",'Whip Data'!P207)","v":""},{"$f":"IF($B194=\"\",\"\",IF(ISTEXT('Whip Data'!V207),'Whip Data'!V207,'Whip Data'!U207))","v":""},{"$f":"IF(B194=\"\",\"\",IF(ISBLANK('Whip Data'!X207),'Whip Data'!W207,'Whip Data'!X207))","v":""},"","",{"$f":"IF($B194=\"\",\"\",IF('Whip Data'!Q207=\"\",\"None\",'Whip Data'!Q207))","v":""},{"$f":"IF(O194=\"\",\"\",IF($O194=\"None\",\"NA\",INDEX(Breakers!$A$1:$I$75,MATCH(BOM!C194,Breakers!$A$1:$A$75,0),MATCH(BOM!O194,Breakers!$A$1:$I$1,0))))","v":""},{"$f":"IF(B194=\"\",\"\",VLOOKUP(H194,Standards!$X$3:$Y$6,2,FALSE))","v":""}]
[{"$f":"IF($B195=\"\",\"\",'Whip Data'!$Z208)","v":""},{"$f":"IFERROR('Whip Data'!A208,\"\")","v":""},{"$f":"IF(B195=\"\",\"\",'Whip Data'!L208)","v":""},"",{"$f":"IF($B195=\"\",\"\",VLOOKUP($C195,Materials,'Whip Data'!$M$10+11,FALSE))","v":""},{"$f":"IF($B195=\"\",\"\",VLOOKUP($C195,Materials,'Whip Data'!$M$10+13,FALSE))","v":""},{"$f":"IFERROR(\"LTUA-\"&IF(ISTEXT('Whip Data'!$T208),VLOOKUP('Whip Data'!$T208,Conduit,2,FALSE),VLOOKUP('Whip Data'!$S208,Conduit,2,FALSE))&\"-\"&'Whip Data'!$R208,\"\")","v":""},{"$f":"IF($B195=\"\",\"\",IFERROR(VLOOKUP('Whip Data'!$T208,Conduit,3,FALSE),VLOOKUP('Whip Data'!$S208,Conduit,3,FALSE)))","v":""},{"$f":"IF(B195=\"\",\"\",'Whip Data'!O208)","v":""},{"$f":"IF(C195=\"\",\"\",'Whip Data'!P208)","v":""},{"$f":"IF($B195=\"\",\"\",IF(ISTEXT('Whip Data'!V208),'Whip Data'!V208,'Whip Data'!U208))","v":""},{"$f":"IF(B195=\"\",\"\",IF(ISBLANK('Whip Data'!X208),'Whip Data'!W208,'Whip Data'!X208))","v":""},{"$f":"IF(B195=\"\",\"\",SUM(I195:J195))","v":""},{"$f":"IF(B195=\"\",\"\",LEFT(K195,1)*M195)","v":""},{"$f":"IF($B195=\"\",\"\",IF('Whip Data'!Q208=\"\",\"None\",'Whip Data'!Q208))","v":""},{"$f":"IF(O195=\"\",\"\",IF($O195=\"None\",\"NA\",INDEX(Breakers!$A$1:$I$75,MATCH(BOM!C195,Breakers!$A$1:$A$75,0),MATCH(BOM!O195,Breakers!$A$1:$I$1,0))))","v":""},{"$f":"IF(B195=\"\",\"\",VLOOKUP(H195,Standards!$X$3:$Y$6,2,FALSE))","v":""}]
[{"$f":"IF($B196=\"\",\"\",'Whip Data'!$Z209)","v":""},{"$f":"IFERROR('Whip Data'!A209,\"\")","v":""},{"$f":"IF(B196=\"\",\"\",'Whip Data'!L209)","v":""},"",{"$f":"IF($B196=\"\",\"\",VLOOKUP($C196,Materials,'Whip Data'!$M$10+11,FALSE))","v":""},{"$f":"IF($B196=\"\",\"\",VLOOKUP($C196,Materials,'Whip Data'!$M$10+13,FALSE))","v":""},{"$f":"IFERROR(\"LTUA-\"&IF(ISTEXT('Whip Data'!$T209),VLOOKUP('Whip Data'!$T209,Conduit,2,FALSE),VLOOKUP('Whip Data'!$S209,Conduit,2,FALSE))&\"-\"&'Whip Data'!$R209,\"\")","v":""},{"$f":"IF($B196=\"\",\"\",IFERROR(VLOOKUP('Whip Data'!$T209,Conduit,3,FALSE),VLOOKUP('Whip Data'!$S209,Conduit,3,FALSE)))","v":""},{"$f":"IF(B196=\"\",\"\",'Whip Data'!O209)","v":""},{"$f":"IF(C196=\"\",\"\",'Whip Data'!P209)","v":""},{"$f":"IF($B196=\"\",\"\",IF(ISTEXT('Whip Data'!V209),'Whip Data'!V209,'Whip Data'!U209))","v":""},{"$f":"IF(B196=\"\",\"\",IF(ISBLANK('Whip Data'!X209),'Whip Data'!W209,'Whip Data'!X209))","v":""},"","",{"$f":"IF($B196=\"\",\"\",IF('Whip Data'!Q209=\"\",\"None\",'Whip Data'!Q209))","v":""},{"$f":"IF(O196=\"\",\"\",IF($O196=\"None\",\"NA\",INDEX(Breakers!$A$1:$I$75,MATCH(BOM!C196,Breakers!$A$1:$A$75,0),MATCH(BOM!O196,Breakers!$A$1:$I$1,0))))","v":""},{"$f":"IF(B196=\"\",\"\",VLOOKUP(H196,Standards!$X$3:$Y$6,2,FALSE))","v":""}]
[{"$f":"IF($B197=\"\",\"\",'Whip Data'!$Z210)","v":""},{"$f":"IFERROR('Whip Data'!A210,\"\")","v":""},{"$f":"IF(B197=\"\",\"\",'Whip Data'!L210)","v":""},"",{"$f":"IF($B197=\"\",\"\",VLOOKUP($C197,Materials,'Whip Data'!$M$10+11,FALSE))","v":""},{"$f":"IF($B197=\"\",\"\",VLOOKUP($C197,Materials,'Whip Data'!$M$10+13,FALSE))","v":""},{"$f":"IFERROR(\"LTUA-\"&IF(ISTEXT('Whip Data'!$T210),VLOOKUP('Whip Data'!$T210,Conduit,2,FALSE),VLOOKUP('Whip Data'!$S210,Conduit,2,FALSE))&\"-\"&'Whip Data'!$R210,\"\")","v":""},{"$f":"IF($B197=\"\",\"\",IFERROR(VLOOKUP('Whip Data'!$T210,Conduit,3,FALSE),VLOOKUP('Whip Data'!$S210,Conduit,3,FALSE)))","v":""},{"$f":"IF(B197=\"\",\"\",'Whip Data'!O210)","v":""},{"$f":"IF(C197=\"\",\"\",'Whip Data'!P210)","v":""},{"$f":"IF($B197=\"\",\"\",IF(ISTEXT('Whip Data'!V210),'Whip Data'!V210,'Whip Data'!U210))","v":""},{"$f":"IF(B197=\"\",\"\",IF(ISBLANK('Whip Data'!X210),'Whip Data'!W210,'Whip Data'!X210))","v":""},"","",{"$f":"IF($B197=\"\",\"\",IF('Whip Data'!Q210=\"\",\"None\",'Whip Data'!Q210))","v":""},{"$f":"IF(O197=\"\",\"\",IF($O197=\"None\",\"NA\",INDEX(Breakers!$A$1:$I$75,MATCH(BOM!C197,Breakers!$A$1:$A$75,0),MATCH(BOM!O197,Breakers!$A$1:$I$1,0))))","v":""},{"$f":"IF(B197=\"\",\"\",VLOOKUP(H197,Standards!$X$3:$Y$6,2,FALSE))","v":""}]
[{"$f":"IF($B198=\"\",\"\",'Whip Data'!$Z211)","v":""},{"$f":"IFERROR('Whip Data'!A211,\"\")","v":""},{"$f":"IF(B198=\"\",\"\",'Whip Data'!L211)","v":""},"",{"$f":"IF($B198=\"\",\"\",VLOOKUP($C198,Materials,'Whip Data'!$M$10+11,FALSE))","v":""},{"$f":"IF($B198=\"\",\"\",VLOOKUP($C198,Materials,'Whip Data'!$M$10+13,FALSE))","v":""},{"$f":"IFERROR(\"LTUA-\"&IF(ISTEXT('Whip Data'!$T211),VLOOKUP('Whip Data'!$T211,Conduit,2,FALSE),VLOOKUP('Whip Data'!$S211,Conduit,2,FALSE))&\"-\"&'Whip Data'!$R211,\"\")","v":""},{"$f":"IF($B198=\"\",\"\",IFERROR(VLOOKUP('Whip Data'!$T211,Conduit,3,FALSE),VLOOKUP('Whip Data'!$S211,Conduit,3,FALSE)))","v":""},{"$f":"IF(B198=\"\",\"\",'Whip Data'!O211)","v":""},{"$f":"IF(C198=\"\",\"\",'Whip Data'!P211)","v":""},{"$f":"IF($B198=\"\",\"\",IF(ISTEXT('Whip Data'!V211),'Whip Data'!V211,'Whip Data'!U211))","v":""},{"$f":"IF(B198=\"\",\"\",IF(ISBLANK('Whip Data'!X211),'Whip Data'!W211,'Whip Data'!X211))","v":""},"","",{"$f":"IF($B198=\"\",\"\",IF('Whip Data'!Q211=\"\",\"None\",'Whip Data'!Q211))","v":""},{"$f":"IF(O198=\"\",\"\",IF($O198=\"None\",\"NA\",INDEX(Breakers!$A$1:$I$75,MATCH(BOM!C198,Breakers!$A$1:$A$75,0),MATCH(BOM!O198,Breakers!$A$1:$I$1,0))))","v":""},{"$f":"IF(B198=\"\",\"\",VLOOKUP(H198,Standards!$X$3:$Y$6,2,FALSE))","v":""}]
[{"$f":"IF($B199=\"\",\"\",'Whip Data'!$Z212)","v":""},{"$f":"IFERROR('Whip Data'!A212,\"\")","v":""},{"$f":"IF(B199=\"\",\"\",'Whip Data'!L212)","v":""},"",{"$f":"IF($B199=\"\",\"\",VLOOKUP($C199,Materials,'Whip Data'!$M$10+11,FALSE))","v":""},{"$f":"IF($B199=\"\",\"\",VLOOKUP($C199,Materials,'Whip Data'!$M$10+13,FALSE))","v":""},{"$f":"IFERROR(\"LTUA-\"&IF(ISTEXT('Whip Data'!$T212),VLOOKUP('Whip Data'!$T212,Conduit,2,FALSE),VLOOKUP('Whip Data'!$S212,Conduit,2,FALSE))&\"-\"&'Whip Data'!$R212,\"\")","v":""},{"$f":"IF($B199=\"\",\"\",IFERROR(VLOOKUP('Whip Data'!$T212,Conduit,3,FALSE),VLOOKUP('Whip Data'!$S212,Conduit,3,FALSE)))","v":""},{"$f":"IF(B199=\"\",\"\",'Whip Data'!O212)","v":""},{"$f":"IF(C199=\"\",\"\",'Whip Data'!P212)","v":""},{"$f":"IF($B199=\"\",\"\",IF(ISTEXT('Whip Data'!V212),'Whip Data'!V212,'Whip Data'!U212))","v":""},{"$f":"IF(B199=\"\",\"\",IF(ISBLANK('Whip Data'!X212),'Whip Data'!W212,'Whip Data'!X212))","v":""},"","",{"$f":"IF($B199=\"\",\"\",IF('Whip Data'!Q212=\"\",\"None\",'Whip Data'!Q212))","v":""},{"$f":"IF(O199=\"\",\"\",IF($O199=\"None\",\"NA\",INDEX(Breakers!$A$1:$I$75,MATCH(BOM!C199,Breakers!$A$1:$A$75,0),MATCH(BOM!O199,Breakers!$A$1:$I$1,0))))","v":""},{"$f":"IF(B199=\"\",\"\",VLOOKUP(H199,Standards!$X$3:$Y$6,2,FALSE))","v":""}]
[{"$f":"IF($B200=\"\",\"\",'Whip Data'!$Z213)","v":""},{"$f":"IFERROR('Whip Data'!A213,\"\")","v":""},{"$f":"IF(B200=\"\",\"\",'Whip Data'!L213)","v":""},"",{"$f":"IF($B200=\"\",\"\",VLOOKUP($C200,Materials,'Whip Data'!$M$10+11,FALSE))","v":""},{"$f":"IF($B200=\"\",\"\",VLOOKUP($C200,Materials,'Whip Data'!$M$10+13,FALSE))","v":""},{"$f":"IFERROR(\"LTUA-\"&IF(ISTEXT('Whip Data'!$T213),VLOOKUP('Whip Data'!$T213,Conduit,2,FALSE),VLOOKUP('Whip Data'!$S213,Conduit,2,FALSE))&\"-\"&'Whip Data'!$R213,\"\")","v":""},{"$f":"IF($B200=\"\",\"\",IFERROR(VLOOKUP('Whip Data'!$T213,Conduit,3,FALSE),VLOOKUP('Whip Data'!$S213,Conduit,3,FALSE)))","v":""},{"$f":"IF(B200=\"\",\"\",'Whip Data'!O213)","v":""},{"$f":"IF(C200=\"\",\"\",'Whip Data'!P213)","v":""},{"$f":"IF($B200=\"\",\"\",IF(ISTEXT('Whip Data'!V213),'Whip Data'!V213,'Whip Data'!U213))","v":""},{"$f":"IF(B200=\"\",\"\",IF(ISBLANK('Whip Data'!X213),'Whip Data'!W213,'Whip Data'!X213))","v":""},"","",{"$f":"IF($B200=\"\",\"\",IF('Whip Data'!Q213=\"\",\"None\",'Whip Data'!Q213))","v":""},{"$f":"IF(O200=\"\",\"\",IF($O200=\"None\",\"NA\",INDEX(Breakers!$A$1:$I$75,MATCH(BOM!C200,Breakers!$A$1:$A$75,0),MATCH(BOM!O200,Breakers!$A$1:$I$1,0))))","v":""},{"$f":"IF(B200=\"\",\"\",VLOOKUP(H200,Standards!$X$3:$Y$6,2,FALSE))","v":""}]
[{"$f":"IF($B201=\"\",\"\",'Whip Data'!$Z214)","v":""},{"$f":"IFERROR('Whip Data'!A214,\"\")","v":""},{"$f":"IF(B201=\"\",\"\",'Whip Data'!L214)","v":""},"",{"$f":"IF($B201=\"\",\"\",VLOOKUP($C201,Materials,'Whip Data'!$M$10+11,FALSE))","v":""},{"$f":"IF($B201=\"\",\"\",VLOOKUP($C201,Materials,'Whip Data'!$M$10+13,FALSE))","v":""},{"$f":"IFERROR(\"LTUA-\"&IF(ISTEXT('Whip Data'!$T214),VLOOKUP('Whip Data'!$T214,Conduit,2,FALSE),VLOOKUP('Whip Data'!$S214,Conduit,2,FALSE))&\"-\"&'Whip Data'!$R214,\"\")","v":""},{"$f":"IF($B201=\"\",\"\",IFERROR(VLOOKUP('Whip Data'!$T214,Conduit,3,FALSE),VLOOKUP('Whip Data'!$S214,Conduit,3,FALSE)))","v":""},{"$f":"IF(B201=\"\",\"\",'Whip Data'!O214)","v":""},{"$f":"IF(C201=\"\",\"\",'Whip Data'!P214)","v":""},{"$f":"IF($B201=\"\",\"\",IF(ISTEXT('Whip Data'!V214),'Whip Data'!V214,'Whip Data'!U214))","v":""},{"$f":"IF(B201=\"\",\"\",IF(ISBLANK('Whip Data'!X214),'Whip Data'!W214,'Whip Data'!X214))","v":""},"","",{"$f":"IF($B201=\"\",\"\",IF('Whip Data'!Q214=\"\",\"None\",'Whip Data'!Q214))","v":""},{"$f":"IF(O201=\"\",\"\",IF($O201=\"None\",\"NA\",INDEX(Breakers!$A$1:$I$75,MATCH(BOM!C201,Breakers!$A$1:$A$75,0),MATCH(BOM!O201,Breakers!$A$1:$I$1,0))))","v":""},{"$f":"IF(B201=\"\",\"\",VLOOKUP(H201,Standards!$X$3:$Y$6,2,FALSE))","v":""}]
[{"$f":"IF($B202=\"\",\"\",'Whip Data'!$Z215)","v":""},{"$f":"IFERROR('Whip Data'!A215,\"\")","v":""},{"$f":"IF(B202=\"\",\"\",'Whip Data'!L215)","v":""},"",{"$f":"IF($B202=\"\",\"\",VLOOKUP($C202,Materials,'Whip Data'!$M$10+11,FALSE))","v":""},{"$f":"IF($B202=\"\",\"\",VLOOKUP($C202,Materials,'Whip Data'!$M$10+13,FALSE))","v":""},{"$f":"IFERROR(\"LTUA-\"&IF(ISTEXT('Whip Data'!$T215),VLOOKUP('Whip Data'!$T215,Conduit,2,FALSE),VLOOKUP('Whip Data'!$S215,Conduit,2,FALSE))&\"-\"&'Whip Data'!$R215,\"\")","v":""},{"$f":"IF($B202=\"\",\"\",IFERROR(VLOOKUP('Whip Data'!$T215,Conduit,3,FALSE),VLOOKUP('Whip Data'!$S215,Conduit,3,FALSE)))","v":""},{"$f":"IF(B202=\"\",\"\",'Whip Data'!O215)","v":""},{"$f":"IF(C202=\"\",\"\",'Whip Data'!P215)","v":""},{"$f":"IF($B202=\"\",\"\",IF(ISTEXT('Whip Data'!V215),'Whip Data'!V215,'Whip Data'!U215))","v":""},{"$f":"IF(B202=\"\",\"\",IF(ISBLANK('Whip Data'!X215),'Whip Data'!W215,'Whip Data'!X215))","v":""},"","",{"$f":"IF($B202=\"\",\"\",IF('Whip Data'!Q215=\"\",\"None\",'Whip Data'!Q215))","v":""},{"$f":"IF(O202=\"\",\"\",IF($O202=\"None\",\"NA\",INDEX(Breakers!$A$1:$I$75,MATCH(BOM!C202,Breakers!$A$1:$A$75,0),MATCH(BOM!O202,Breakers!$A$1:$I$1,0))))","v":""},{"$f":"IF(B202=\"\",\"\",VLOOKUP(H202,Standards!$X$3:$Y$6,2,FALSE))","v":""}]
[{"$f":"IF($B203=\"\",\"\",'Whip Data'!$Z216)","v":""},{"$f":"IFERROR('Whip Data'!A216,\"\")","v":""},{"$f":"IF(B203=\"\",\"\",'Whip Data'!L216)","v":""},"",{"$f":"IF($B203=\"\",\"\",VLOOKUP($C203,Materials,'Whip Data'!$M$10+11,FALSE))","v":""},{"$f":"IF($B203=\"\",\"\",VLOOKUP($C203,Materials,'Whip Data'!$M$10+13,FALSE))","v":""},{"$f":"IFERROR(\"LTUA-\"&IF(ISTEXT('Whip Data'!$T216),VLOOKUP('Whip Data'!$T216,Conduit,2,FALSE),VLOOKUP('Whip Data'!$S216,Conduit,2,FALSE))&\"-\"&'Whip Data'!$R216,\"\")","v":""},{"$f":"IF($B203=\"\",\"\",IFERROR(VLOOKUP('Whip Data'!$T216,Conduit,3,FALSE),VLOOKUP('Whip Data'!$S216,Conduit,3,FALSE)))","v":""},{"$f":"IF(B203=\"\",\"\",'Whip Data'!O216)","v":""},{"$f":"IF(C203=\"\",\"\",'Whip Data'!P216)","v":""},{"$f":"IF($B203=\"\",\"\",IF(ISTEXT('Whip Data'!V216),'Whip Data'!V216,'Whip Data'!U216))","v":""},{"$f":"IF(B203=\"\",\"\",IF(ISBLANK('Whip Data'!X216),'Whip Data'!W216,'Whip Data'!X216))","v":""},"","",{"$f":"IF($B203=\"\",\"\",IF('Whip Data'!Q216=\"\",\"None\",'Whip Data'!Q216))","v":""},{"$f":"IF(O203=\"\",\"\",IF($O203=\"None\",\"NA\",INDEX(Breakers!$A$1:$I$75,MATCH(BOM!C203,Breakers!$A$1:$A$75,0),MATCH(BOM!O203,Breakers!$A$1:$I$1,0))))","v":""},{"$f":"IF(B203=\"\",\"\",VLOOKUP(H203,Standards!$X$3:$Y$6,2,FALSE))","v":""}]
[{"$f":"IF($B204=\"\",\"\",'Whip Data'!$Z217)","v":""},{"$f":"IFERROR('Whip Data'!A217,\"\")","v":""},{"$f":"IF(B204=\"\",\"\",'Whip Data'!L217)","v":""},"",{"$f":"IF($B204=\"\",\"\",VLOOKUP($C204,Materials,'Whip Data'!$M$10+11,FALSE))","v":""},{"$f":"IF($B204=\"\",\"\",VLOOKUP($C204,Materials,'Whip Data'!$M$10+13,FALSE))","v":""},{"$f":"IFERROR(\"LTUA-\"&IF(ISTEXT('Whip Data'!$T217),VLOOKUP('Whip Data'!$T217,Conduit,2,FALSE),VLOOKUP('Whip Data'!$S217,Conduit,2,FALSE))&\"-\"&'Whip Data'!$R217,\"\")","v":""},{"$f":"IF($B204=\"\",\"\",IFERROR(VLOOKUP('Whip Data'!$T217,Conduit,3,FALSE),VLOOKUP('Whip Data'!$S217,Conduit,3,FALSE)))","v":""},{"$f":"IF(B204=\"\",\"\",'Whip Data'!O217)","v":""},{"$f":"IF(C204=\"\",\"\",'Whip Data'!P217)","v":""},{"$f":"IF($B204=\"\",\"\",IF(ISTEXT('Whip Data'!V217),'Whip Data'!V217,'Whip Data'!U217))","v":""},{"$f":"IF(B204=\"\",\"\",IF(ISBLANK('Whip Data'!X217),'Whip Data'!W217,'Whip Data'!X217))","v":""},"","",{"$f":"IF($B204=\"\",\"\",IF('Whip Data'!Q217=\"\",\"None\",'Whip Data'!Q217))","v":""},{"$f":"IF(O204=\"\",\"\",IF($O204=\"None\",\"NA\",INDEX(Breakers!$A$1:$I$75,MATCH(BOM!C204,Breakers!$A$1:$A$75,0),MATCH(BOM!O204,Breakers!$A$1:$I$1,0))))","v":""},{"$f":"IF(B204=\"\",\"\",VLOOKUP(H204,Standards!$X$3:$Y$6,2,FALSE))","v":""}]
[{"$f":"IF($B205=\"\",\"\",'Whip Data'!$Z218)","v":""},{"$f":"IFERROR('Whip Data'!A218,\"\")","v":""},{"$f":"IF(B205=\"\",\"\",'Whip Data'!L218)","v":""},"",{"$f":"IF($B205=\"\",\"\",VLOOKUP($C205,Materials,'Whip Data'!$M$10+11,FALSE))","v":""},{"$f":"IF($B205=\"\",\"\",VLOOKUP($C205,Materials,'Whip Data'!$M$10+13,FALSE))","v":""},{"$f":"IFERROR(\"LTUA-\"&IF(ISTEXT('Whip Data'!$T218),VLOOKUP('Whip Data'!$T218,Conduit,2,FALSE),VLOOKUP('Whip Data'!$S218,Conduit,2,FALSE))&\"-\"&'Whip Data'!$R218,\"\")","v":""},{"$f":"IF($B205=\"\",\"\",IFERROR(VLOOKUP('Whip Data'!$T218,Conduit,3,FALSE),VLOOKUP('Whip Data'!$S218,Conduit,3,FALSE)))","v":""},{"$f":"IF(B205=\"\",\"\",'Whip Data'!O218)","v":""},{"$f":"IF(C205=\"\",\"\",'Whip Data'!P218)","v":""},{"$f":"IF($B205=\"\",\"\",IF(ISTEXT('Whip Data'!V218),'Whip Data'!V218,'Whip Data'!U218))","v":""},{"$f":"IF(B205=\"\",\"\",IF(ISBLANK('Whip Data'!X218),'Whip Data'!W218,'Whip Data'!X218))","v":""},"","",{"$f":"IF($B205=\"\",\"\",IF('Whip Data'!Q218=\"\",\"None\",'Whip Data'!Q218))","v":""},{"$f":"IF(O205=\"\",\"\",IF($O205=\"None\",\"NA\",INDEX(Breakers!$A$1:$I$75,MATCH(BOM!C205,Breakers!$A$1:$A$75,0),MATCH(BOM!O205,Breakers!$A$1:$I$1,0))))","v":""},{"$f":"IF(B205=\"\",\"\",VLOOKUP(H205,Standards!$X$3:$Y$6,2,FALSE))","v":""}]
[{"$f":"IF($B206=\"\",\"\",'Whip Data'!$Z219)","v":""},{"$f":"IFERROR('Whip Data'!A219,\"\")","v":""},{"$f":"IF(B206=\"\",\"\",'Whip Data'!L219)","v":""},"",{"$f":"IF($B206=\"\",\"\",VLOOKUP($C206,Materials,'Whip Data'!$M$10+11,FALSE))","v":""},{"$f":"IF($B206=\"\",\"\",VLOOKUP($C206,Materials,'Whip Data'!$M$10+13,FALSE))","v":""},{"$f":"IFERROR(\"LTUA-\"&IF(ISTEXT('Whip Data'!$T219),VLOOKUP('Whip Data'!$T219,Conduit,2,FALSE),VLOOKUP('Whip Data'!$S219,Conduit,2,FALSE))&\"-\"&'Whip Data'!$R219,\"\")","v":""},{"$f":"IF($B206=\"\",\"\",IFERROR(VLOOKUP('Whip Data'!$T219,Conduit,3,FALSE),VLOOKUP('Whip Data'!$S219,Conduit,3,FALSE)))","v":""},{"$f":"IF(B206=\"\",\"\",'Whip Data'!O219)","v":""},{"$f":"IF(C206=\"\",\"\",'Whip Data'!P219)","v":""},{"$f":"IF($B206=\"\",\"\",IF(ISTEXT('Whip Data'!V219),'Whip Data'!V219,'Whip Data'!U219))","v":""},{"$f":"IF(B206=\"\",\"\",IF(ISBLANK('Whip Data'!X219),'Whip Data'!W219,'Whip Data'!X219))","v":""},"","",{"$f":"IF($B206=\"\",\"\",IF('Whip Data'!Q219=\"\",\"None\",'Whip Data'!Q219))","v":""},{"$f":"IF(O206=\"\",\"\",IF($O206=\"None\",\"NA\",INDEX(Breakers!$A$1:$I$75,MATCH(BOM!C206,Breakers!$A$1:$A$75,0),MATCH(BOM!O206,Breakers!$A$1:$I$1,0))))","v":""},{"$f":"IF(B206=\"\",\"\",VLOOKUP(H206,Standards!$X$3:$Y$6,2,FALSE))","v":""}]
[{"$f":"IF($B207=\"\",\"\",'Whip Data'!$Z220)","v":""},{"$f":"IFERROR('Whip Data'!A220,\"\")","v":""},{"$f":"IF(B207=\"\",\"\",'Whip Data'!L220)","v":""},"",{"$f":"IF($B207=\"\",\"\",VLOOKUP($C207,Materials,'Whip Data'!$M$10+11,FALSE))","v":""},{"$f":"IF($B207=\"\",\"\",VLOOKUP($C207,Materials,'Whip Data'!$M$10+13,FALSE))","v":""},{"$f":"IFERROR(\"LTUA-\"&IF(ISTEXT('Whip Data'!$T220),VLOOKUP('Whip Data'!$T220,Conduit,2,FALSE),VLOOKUP('Whip Data'!$S220,Conduit,2,FALSE))&\"-\"&'Whip Data'!$R220,\"\")","v":""},{"$f":"IF($B207=\"\",\"\",IFERROR(VLOOKUP('Whip Data'!$T220,Conduit,3,FALSE),VLOOKUP('Whip Data'!$S220,Conduit,3,FALSE)))","v":""},{"$f":"IF(B207=\"\",\"\",'Whip Data'!O220)","v":""},{"$f":"IF(C207=\"\",\"\",'Whip Data'!P220)","v":""},{"$f":"IF($B207=\"\",\"\",IF(ISTEXT('Whip Data'!V220),'Whip Data'!V220,'Whip Data'!U220))","v":""},{"$f":"IF(B207=\"\",\"\",IF(ISBLANK('Whip Data'!X220),'Whip Data'!W220,'Whip Data'!X220))","v":""},"","",{"$f":"IF($B207=\"\",\"\",IF('Whip Data'!Q220=\"\",\"None\",'Whip Data'!Q220))","v":""},{"$f":"IF(O207=\"\",\"\",IF($O207=\"None\",\"NA\",INDEX(Breakers!$A$1:$I$75,MATCH(BOM!C207,Breakers!$A$1:$A$75,0),MATCH(BOM!O207,Breakers!$A$1:$I$1,0))))","v":""},{"$f":"IF(B207=\"\",\"\",VLOOKUP(H207,Standards!$X$3:$Y$6,2,FALSE))","v":""}]
[{"$f":"IF($B208=\"\",\"\",'Whip Data'!$Z221)","v":""},{"$f":"IFERROR('Whip Data'!A221,\"\")","v":""},{"$f":"IF(B208=\"\",\"\",'Whip Data'!L221)","v":""},"",{"$f":"IF($B208=\"\",\"\",VLOOKUP($C208,Materials,'Whip Data'!$M$10+11,FALSE))","v":""},{"$f":"IF($B208=\"\",\"\",VLOOKUP($C208,Materials,'Whip Data'!$M$10+13,FALSE))","v":""},{"$f":"IFERROR(\"LTUA-\"&IF(ISTEXT('Whip Data'!$T221),VLOOKUP('Whip Data'!$T221,Conduit,2,FALSE),VLOOKUP('Whip Data'!$S221,Conduit,2,FALSE))&\"-\"&'Whip Data'!$R221,\"\")","v":""},{"$f":"IF($B208=\"\",\"\",IFERROR(VLOOKUP('Whip Data'!$T221,Conduit,3,FALSE),VLOOKUP('Whip Data'!$S221,Conduit,3,FALSE)))","v":""},{"$f":"IF(B208=\"\",\"\",'Whip Data'!O221)","v":""},{"$f":"IF(C208=\"\",\"\",'Whip Data'!P221)","v":""},{"$f":"IF($B208=\"\",\"\",IF(ISTEXT('Whip Data'!V221),'Whip Data'!V221,'Whip Data'!U221))","v":""},{"$f":"IF(B208=\"\",\"\",IF(ISBLANK('Whip Data'!X221),'Whip Data'!W221,'Whip Data'!X221))","v":""},"","",{"$f":"IF($B208=\"\",\"\",IF('Whip Data'!Q221=\"\",\"None\",'Whip Data'!Q221))","v":""},{"$f":"IF(O208=\"\",\"\",IF($O208=\"None\",\"NA\",INDEX(Breakers!$A$1:$I$75,MATCH(BOM!C208,Breakers!$A$1:$A$75,0),MATCH(BOM!O208,Breakers!$A$1:$I$1,0))))","v":""},{"$f":"IF(B208=\"\",\"\",VLOOKUP(H208,Standards!$X$3:$Y$6,2,FALSE))","v":""}]
[{"$f":"IF($B209=\"\",\"\",'Whip Data'!$Z222)","v":""},{"$f":"IFERROR('Whip Data'!A222,\"\")","v":""},{"$f":"IF(B209=\"\",\"\",'Whip Data'!L222)","v":""},"",{"$f":"IF($B209=\"\",\"\",VLOOKUP($C209,Materials,'Whip Data'!$M$10+11,FALSE))","v":""},{"$f":"IF($B209=\"\",\"\",VLOOKUP($C209,Materials,'Whip Data'!$M$10+13,FALSE))","v":""},{"$f":"IFERROR(\"LTUA-\"&IF(ISTEXT('Whip Data'!$T222),VLOOKUP('Whip Data'!$T222,Conduit,2,FALSE),VLOOKUP('Whip Data'!$S222,Conduit,2,FALSE))&\"-\"&'Whip Data'!$R222,\"\")","v":""},{"$f":"IF($B209=\"\",\"\",IFERROR(VLOOKUP('Whip Data'!$T222,Conduit,3,FALSE),VLOOKUP('Whip Data'!$S222,Conduit,3,FALSE)))","v":""},{"$f":"IF(B209=\"\",\"\",'Whip Data'!O222)","v":""},{"$f":"IF(C209=\"\",\"\",'Whip Data'!P222)","v":""},{"$f":"IF($B209=\"\",\"\",IF(ISTEXT('Whip Data'!V222),'Whip Data'!V222,'Whip Data'!U222))","v":""},{"$f":"IF(B209=\"\",\"\",IF(ISBLANK('Whip Data'!X222),'Whip Data'!W222,'Whip Data'!X222))","v":""},"","",{"$f":"IF($B209=\"\",\"\",IF('Whip Data'!Q222=\"\",\"None\",'Whip Data'!Q222))","v":""},{"$f":"IF(O209=\"\",\"\",IF($O209=\"None\",\"NA\",INDEX(Breakers!$A$1:$I$75,MATCH(BOM!C209,Breakers!$A$1:$A$75,0),MATCH(BOM!O209,Breakers!$A$1:$I$1,0))))","v":""},{"$f":"IF(B209=\"\",\"\",VLOOKUP(H209,Standards!$X$3:$Y$6,2,FALSE))","v":""}]
[{"$f":"IF($B210=\"\",\"\",'Whip Data'!$Z223)","v":""},{"$f":"IFERROR('Whip Data'!A223,\"\")","v":""},{"$f":"IF(B210=\"\",\"\",'Whip Data'!L223)","v":""},"",{"$f":"IF($B210=\"\",\"\",VLOOKUP($C210,Materials,'Whip Data'!$M$10+11,FALSE))","v":""},{"$f":"IF($B210=\"\",\"\",VLOOKUP($C210,Materials,'Whip Data'!$M$10+13,FALSE))","v":""},{"$f":"IFERROR(\"LTUA-\"&IF(ISTEXT('Whip Data'!$T223),VLOOKUP('Whip Data'!$T223,Conduit,2,FALSE),VLOOKUP('Whip Data'!$S223,Conduit,2,FALSE))&\"-\"&'Whip Data'!$R223,\"\")","v":""},{"$f":"IF($B210=\"\",\"\",IFERROR(VLOOKUP('Whip Data'!$T223,Conduit,3,FALSE),VLOOKUP('Whip Data'!$S223,Conduit,3,FALSE)))","v":""},{"$f":"IF(B210=\"\",\"\",'Whip Data'!O223)","v":""},{"$f":"IF(C210=\"\",\"\",'Whip Data'!P223)","v":""},{"$f":"IF($B210=\"\",\"\",IF(ISTEXT('Whip Data'!V223),'Whip Data'!V223,'Whip Data'!U223))","v":""},{"$f":"IF(B210=\"\",\"\",IF(ISBLANK('Whip Data'!X223),'Whip Data'!W223,'Whip Data'!X223))","v":""},"","",{"$f":"IF($B210=\"\",\"\",IF('Whip Data'!Q223=\"\",\"None\",'Whip Data'!Q223))","v":""},{"$f":"IF(O210=\"\",\"\",IF($O210=\"None\",\"NA\",INDEX(Breakers!$A$1:$I$75,MATCH(BOM!C210,Breakers!$A$1:$A$75,0),MATCH(BOM!O210,Breakers!$A$1:$I$1,0))))","v":""},{"$f":"IF(B210=\"\",\"\",VLOOKUP(H210,Standards!$X$3:$Y$6,2,FALSE))","v":""}]
[{"$f":"IF($B211=\"\",\"\",'Whip Data'!$Z224)","v":""},{"$f":"IFERROR('Whip Data'!A224,\"\")","v":""},{"$f":"IF(B211=\"\",\"\",'Whip Data'!L224)","v":""},"",{"$f":"IF($B211=\"\",\"\",VLOOKUP($C211,Materials,'Whip Data'!$M$10+11,FALSE))","v":""},{"$f":"IF($B211=\"\",\"\",VLOOKUP($C211,Materials,'Whip Data'!$M$10+13,FALSE))","v":""},{"$f":"IFERROR(\"LTUA-\"&IF(ISTEXT('Whip Data'!$T224),VLOOKUP('Whip Data'!$T224,Conduit,2,FALSE),VLOOKUP('Whip Data'!$S224,Conduit,2,FALSE))&\"-\"&'Whip Data'!$R224,\"\")","v":""},{"$f":"IF($B211=\"\",\"\",IFERROR(VLOOKUP('Whip Data'!$T224,Conduit,3,FALSE),VLOOKUP('Whip Data'!$S224,Conduit,3,FALSE)))","v":""},{"$f":"IF(B211=\"\",\"\",'Whip Data'!O224)","v":""},{"$f":"IF(C211=\"\",\"\",'Whip Data'!P224)","v":""},{"$f":"IF($B211=\"\",\"\",IF(ISTEXT('Whip Data'!V224),'Whip Data'!V224,'Whip Data'!U224))","v":""},{"$f":"IF(B211=\"\",\"\",IF(ISBLANK('Whip Data'!X224),'Whip Data'!W224,'Whip Data'!X224))","v":""},"","",{"$f":"IF($B211=\"\",\"\",IF('Whip Data'!Q224=\"\",\"None\",'Whip Data'!Q224))","v":""},{"$f":"IF(O211=\"\",\"\",IF($O211=\"None\",\"NA\",INDEX(Breakers!$A$1:$I$75,MATCH(BOM!C211,Breakers!$A$1:$A$75,0),MATCH(BOM!O211,Breakers!$A$1:$I$1,0))))","v":""},{"$f":"IF(B211=\"\",\"\",VLOOKUP(H211,Standards!$X$3:$Y$6,2,FALSE))","v":""}]
[{"$f":"IF($B212=\"\",\"\",'Whip Data'!$Z225)","v":""},{"$f":"IFERROR('Whip Data'!A225,\"\")","v":""},{"$f":"IF(B212=\"\",\"\",'Whip Data'!L225)","v":""},"",{"$f":"IF($B212=\"\",\"\",VLOOKUP($C212,Materials,'Whip Data'!$M$10+11,FALSE))","v":""},{"$f":"IF($B212=\"\",\"\",VLOOKUP($C212,Materials,'Whip Data'!$M$10+13,FALSE))","v":""},{"$f":"IFERROR(\"LTUA-\"&IF(ISTEXT('Whip Data'!$T225),VLOOKUP('Whip Data'!$T225,Conduit,2,FALSE),VLOOKUP('Whip Data'!$S225,Conduit,2,FALSE))&\"-\"&'Whip Data'!$R225,\"\")","v":""},{"$f":"IF($B212=\"\",\"\",IFERROR(VLOOKUP('Whip Data'!$T225,Conduit,3,FALSE),VLOOKUP('Whip Data'!$S225,Conduit,3,FALSE)))","v":""},{"$f":"IF(B212=\"\",\"\",'Whip Data'!O225)","v":""},{"$f":"IF(C212=\"\",\"\",'Whip Data'!P225)","v":""},{"$f":"IF($B212=\"\",\"\",IF(ISTEXT('Whip Data'!V225),'Whip Data'!V225,'Whip Data'!U225))","v":""},{"$f":"IF(B212=\"\",\"\",IF(ISBLANK('Whip Data'!X225),'Whip Data'!W225,'Whip Data'!X225))","v":""},"","",{"$f":"IF($B212=\"\",\"\",IF('Whip Data'!Q225=\"\",\"None\",'Whip Data'!Q225))","v":""},{"$f":"IF(O212=\"\",\"\",IF($O212=\"None\",\"NA\",INDEX(Breakers!$A$1:$I$75,MATCH(BOM!C212,Breakers!$A$1:$A$75,0),MATCH(BOM!O212,Breakers!$A$1:$I$1,0))))","v":""},{"$f":"IF(B212=\"\",\"\",VLOOKUP(H212,Standards!$X$3:$Y$6,2,FALSE))","v":""}]
[{"$f":"IF($B213=\"\",\"\",'Whip Data'!$Z226)","v":""},{"$f":"IFERROR('Whip Data'!A226,\"\")","v":""},{"$f":"IF(B213=\"\",\"\",'Whip Data'!L226)","v":""},"",{"$f":"IF($B213=\"\",\"\",VLOOKUP($C213,Materials,'Whip Data'!$M$10+11,FALSE))","v":""},{"$f":"IF($B213=\"\",\"\",VLOOKUP($C213,Materials,'Whip Data'!$M$10+13,FALSE))","v":""},{"$f":"IFERROR(\"LTUA-\"&IF(ISTEXT('Whip Data'!$T226),VLOOKUP('Whip Data'!$T226,Conduit,2,FALSE),VLOOKUP('Whip Data'!$S226,Conduit,2,FALSE))&\"-\"&'Whip Data'!$R226,\"\")","v":""},{"$f":"IF($B213=\"\",\"\",IFERROR(VLOOKUP('Whip Data'!$T226,Conduit,3,FALSE),VLOOKUP('Whip Data'!$S226,Conduit,3,FALSE)))","v":""},{"$f":"IF(B213=\"\",\"\",'Whip Data'!O226)","v":""},{"$f":"IF(C213=\"\",\"\",'Whip Data'!P226)","v":""},{"$f":"IF($B213=\"\",\"\",IF(ISTEXT('Whip Data'!V226),'Whip Data'!V226,'Whip Data'!U226))","v":""},{"$f":"IF(B213=\"\",\"\",IF(ISBLANK('Whip Data'!X226),'Whip Data'!W226,'Whip Data'!X226))","v":""},"","",{"$f":"IF($B213=\"\",\"\",IF('Whip Data'!Q226=\"\",\"None\",'Whip Data'!Q226))","v":""},{"$f":"IF(O213=\"\",\"\",IF($O213=\"None\",\"NA\",INDEX(Breakers!$A$1:$I$75,MATCH(BOM!C213,Breakers!$A$1:$A$75,0),MATCH(BOM!O213,Breakers!$A$1:$I$1,0))))","v":""},{"$f":"IF(B213=\"\",\"\",VLOOKUP(H213,Standards!$X$3:$Y$6,2,FALSE))","v":""}]
[{"$f":"IF($B214=\"\",\"\",'Whip Data'!$Z227)","v":""},{"$f":"IFERROR('Whip Data'!A227,\"\")","v":""},{"$f":"IF(B214=\"\",\"\",'Whip Data'!L227)","v":""},"",{"$f":"IF($B214=\"\",\"\",VLOOKUP($C214,Materials,'Whip Data'!$M$10+11,FALSE))","v":""},{"$f":"IF($B214=\"\",\"\",VLOOKUP($C214,Materials,'Whip Data'!$M$10+13,FALSE))","v":""},{"$f":"IFERROR(\"LTUA-\"&IF(ISTEXT('Whip Data'!$T227),VLOOKUP('Whip Data'!$T227,Conduit,2,FALSE),VLOOKUP('Whip Data'!$S227,Conduit,2,FALSE))&\"-\"&'Whip Data'!$R227,\"\")","v":""},{"$f":"IF($B214=\"\",\"\",IFERROR(VLOOKUP('Whip Data'!$T227,Conduit,3,FALSE),VLOOKUP('Whip Data'!$S227,Conduit,3,FALSE)))","v":""},{"$f":"IF(B214=\"\",\"\",'Whip Data'!O227)","v":""},{"$f":"IF(C214=\"\",\"\",'Whip Data'!P227)","v":""},{"$f":"IF($B214=\"\",\"\",IF(ISTEXT('Whip Data'!V227),'Whip Data'!V227,'Whip Data'!U227))","v":""},{"$f":"IF(B214=\"\",\"\",IF(ISBLANK('Whip Data'!X227),'Whip Data'!W227,'Whip Data'!X227))","v":""},"","",{"$f":"IF($B214=\"\",\"\",IF('Whip Data'!Q227=\"\",\"None\",'Whip Data'!Q227))","v":""},{"$f":"IF(O214=\"\",\"\",IF($O214=\"None\",\"NA\",INDEX(Breakers!$A$1:$I$75,MATCH(BOM!C214,Breakers!$A$1:$A$75,0),MATCH(BOM!O214,Breakers!$A$1:$I$1,0))))","v":""},{"$f":"IF(B214=\"\",\"\",VLOOKUP(H214,Standards!$X$3:$Y$6,2,FALSE))","v":""}]
[{"$f":"IF($B215=\"\",\"\",'Whip Data'!$Z228)","v":""},{"$f":"IFERROR('Whip Data'!A228,\"\")","v":""},{"$f":"IF(B215=\"\",\"\",'Whip Data'!L228)","v":""},"",{"$f":"IF($B215=\"\",\"\",VLOOKUP($C215,Materials,'Whip Data'!$M$10+11,FALSE))","v":""},{"$f":"IF($B215=\"\",\"\",VLOOKUP($C215,Materials,'Whip Data'!$M$10+13,FALSE))","v":""},{"$f":"IFERROR(\"LTUA-\"&IF(ISTEXT('Whip Data'!$T228),VLOOKUP('Whip Data'!$T228,Conduit,2,FALSE),VLOOKUP('Whip Data'!$S228,Conduit,2,FALSE))&\"-\"&'Whip Data'!$R228,\"\")","v":""},{"$f":"IF($B215=\"\",\"\",IFERROR(VLOOKUP('Whip Data'!$T228,Conduit,3,FALSE),VLOOKUP('Whip Data'!$S228,Conduit,3,FALSE)))","v":""},{"$f":"IF(B215=\"\",\"\",'Whip Data'!O228)","v":""},{"$f":"IF(C215=\"\",\"\",'Whip Data'!P228)","v":""},{"$f":"IF($B215=\"\",\"\",IF(ISTEXT('Whip Data'!V228),'Whip Data'!V228,'Whip Data'!U228))","v":""},{"$f":"IF(B215=\"\",\"\",IF(ISBLANK('Whip Data'!X228),'Whip Data'!W228,'Whip Data'!X228))","v":""},"","",{"$f":"IF($B215=\"\",\"\",IF('Whip Data'!Q228=\"\",\"None\",'Whip Data'!Q228))","v":""},{"$f":"IF(O215=\"\",\"\",IF($O215=\"None\",\"NA\",INDEX(Breakers!$A$1:$I$75,MATCH(BOM!C215,Breakers!$A$1:$A$75,0),MATCH(BOM!O215,Breakers!$A$1:$I$1,0))))","v":""},{"$f":"IF(B215=\"\",\"\",VLOOKUP(H215,Standards!$X$3:$Y$6,2,FALSE))","v":""}]
[{"$f":"IF($B216=\"\",\"\",'Whip Data'!$Z229)","v":""},{"$f":"IFERROR('Whip Data'!A229,\"\")","v":""},{"$f":"IF(B216=\"\",\"\",'Whip Data'!L229)","v":""},"",{"$f":"IF($B216=\"\",\"\",VLOOKUP($C216,Materials,'Whip Data'!$M$10+11,FALSE))","v":""},{"$f":"IF($B216=\"\",\"\",VLOOKUP($C216,Materials,'Whip Data'!$M$10+13,FALSE))","v":""},{"$f":"IFERROR(\"LTUA-\"&IF(ISTEXT('Whip Data'!$T229),VLOOKUP('Whip Data'!$T229,Conduit,2,FALSE),VLOOKUP('Whip Data'!$S229,Conduit,2,FALSE))&\"-\"&'Whip Data'!$R229,\"\")","v":""},{"$f":"IF($B216=\"\",\"\",IFERROR(VLOOKUP('Whip Data'!$T229,Conduit,3,FALSE),VLOOKUP('Whip Data'!$S229,Conduit,3,FALSE)))","v":""},{"$f":"IF(B216=\"\",\"\",'Whip Data'!O229)","v":""},{"$f":"IF(C216=\"\",\"\",'Whip Data'!P229)","v":""},{"$f":"IF($B216=\"\",\"\",IF(ISTEXT('Whip Data'!V229),'Whip Data'!V229,'Whip Data'!U229))","v":""},{"$f":"IF(B216=\"\",\"\",IF(ISBLANK('Whip Data'!X229),'Whip Data'!W229,'Whip Data'!X229))","v":""},"","",{"$f":"IF($B216=\"\",\"\",IF('Whip Data'!Q229=\"\",\"None\",'Whip Data'!Q229))","v":""},{"$f":"IF(O216=\"\",\"\",IF($O216=\"None\",\"NA\",INDEX(Breakers!$A$1:$I$75,MATCH(BOM!C216,Breakers!$A$1:$A$75,0),MATCH(BOM!O216,Breakers!$A$1:$I$1,0))))","v":""},{"$f":"IF(B216=\"\",\"\",VLOOKUP(H216,Standards!$X$3:$Y$6,2,FALSE))","v":""}]
[{"$f":"IF($B217=\"\",\"\",'Whip Data'!$Z230)","v":""},{"$f":"IFERROR('Whip Data'!A230,\"\")","v":""},{"$f":"IF(B217=\"\",\"\",'Whip Data'!L230)","v":""},"",{"$f":"IF($B217=\"\",\"\",VLOOKUP($C217,Materials,'Whip Data'!$M$10+11,FALSE))","v":""},{"$f":"IF($B217=\"\",\"\",VLOOKUP($C217,Materials,'Whip Data'!$M$10+13,FALSE))","v":""},{"$f":"IFERROR(\"LTUA-\"&IF(ISTEXT('Whip Data'!$T230),VLOOKUP('Whip Data'!$T230,Conduit,2,FALSE),VLOOKUP('Whip Data'!$S230,Conduit,2,FALSE))&\"-\"&'Whip Data'!$R230,\"\")","v":""},{"$f":"IF($B217=\"\",\"\",IFERROR(VLOOKUP('Whip Data'!$T230,Conduit,3,FALSE),VLOOKUP('Whip Data'!$S230,Conduit,3,FALSE)))","v":""},{"$f":"IF(B217=\"\",\"\",'Whip Data'!O230)","v":""},{"$f":"IF(C217=\"\",\"\",'Whip Data'!P230)","v":""},{"$f":"IF($B217=\"\",\"\",IF(ISTEXT('Whip Data'!V230),'Whip Data'!V230,'Whip Data'!U230))","v":""},{"$f":"IF(B217=\"\",\"\",IF(ISBLANK('Whip Data'!X230),'Whip Data'!W230,'Whip Data'!X230))","v":""},"","",{"$f":"IF($B217=\"\",\"\",IF('Whip Data'!Q230=\"\",\"None\",'Whip Data'!Q230))","v":""},{"$f":"IF(O217=\"\",\"\",IF($O217=\"None\",\"NA\",INDEX(Breakers!$A$1:$I$75,MATCH(BOM!C217,Breakers!$A$1:$A$75,0),MATCH(BOM!O217,Breakers!$A$1:$I$1,0))))","v":""},{"$f":"IF(B217=\"\",\"\",VLOOKUP(H217,Standards!$X$3:$Y$6,2,FALSE))","v":""}]
[{"$f":"IF($B218=\"\",\"\",'Whip Data'!$Z231)","v":""},{"$f":"IFERROR('Whip Data'!A231,\"\")","v":""},{"$f":"IF(B218=\"\",\"\",'Whip Data'!L231)","v":""},"",{"$f":"IF($B218=\"\",\"\",VLOOKUP($C218,Materials,'Whip Data'!$M$10+11,FALSE))","v":""},{"$f":"IF($B218=\"\",\"\",VLOOKUP($C218,Materials,'Whip Data'!$M$10+13,FALSE))","v":""},{"$f":"IFERROR(\"LTUA-\"&IF(ISTEXT('Whip Data'!$T231),VLOOKUP('Whip Data'!$T231,Conduit,2,FALSE),VLOOKUP('Whip Data'!$S231,Conduit,2,FALSE))&\"-\"&'Whip Data'!$R231,\"\")","v":""},{"$f":"IF($B218=\"\",\"\",IFERROR(VLOOKUP('Whip Data'!$T231,Conduit,3,FALSE),VLOOKUP('Whip Data'!$S231,Conduit,3,FALSE)))","v":""},{"$f":"IF(B218=\"\",\"\",'Whip Data'!O231)","v":""},{"$f":"IF(C218=\"\",\"\",'Whip Data'!P231)","v":""},{"$f":"IF($B218=\"\",\"\",IF(ISTEXT('Whip Data'!V231),'Whip Data'!V231,'Whip Data'!U231))","v":""},{"$f":"IF(B218=\"\",\"\",IF(ISBLANK('Whip Data'!X231),'Whip Data'!W231,'Whip Data'!X231))","v":""},"","",{"$f":"IF($B218=\"\",\"\",IF('Whip Data'!Q231=\"\",\"None\",'Whip Data'!Q231))","v":""},{"$f":"IF(O218=\"\",\"\",IF($O218=\"None\",\"NA\",INDEX(Breakers!$A$1:$I$75,MATCH(BOM!C218,Breakers!$A$1:$A$75,0),MATCH(BOM!O218,Breakers!$A$1:$I$1,0))))","v":""},{"$f":"IF(B218=\"\",\"\",VLOOKUP(H218,Standards!$X$3:$Y$6,2,FALSE))","v":""}]
[{"$f":"IF($B219=\"\",\"\",'Whip Data'!$Z232)","v":""},{"$f":"IFERROR('Whip Data'!A232,\"\")","v":""},{"$f":"IF(B219=\"\",\"\",'Whip Data'!L232)","v":""},"",{"$f":"IF($B219=\"\",\"\",VLOOKUP($C219,Materials,'Whip Data'!$M$10+11,FALSE))","v":""},{"$f":"IF($B219=\"\",\"\",VLOOKUP($C219,Materials,'Whip Data'!$M$10+13,FALSE))","v":""},{"$f":"IFERROR(\"LTUA-\"&IF(ISTEXT('Whip Data'!$T232),VLOOKUP('Whip Data'!$T232,Conduit,2,FALSE),VLOOKUP('Whip Data'!$S232,Conduit,2,FALSE))&\"-\"&'Whip Data'!$R232,\"\")","v":""},{"$f":"IF($B219=\"\",\"\",IFERROR(VLOOKUP('Whip Data'!$T232,Conduit,3,FALSE),VLOOKUP('Whip Data'!$S232,Conduit,3,FALSE)))","v":""},{"$f":"IF(B219=\"\",\"\",'Whip Data'!O232)","v":""},{"$f":"IF(C219=\"\",\"\",'Whip Data'!P232)","v":""},{"$f":"IF($B219=\"\",\"\",IF(ISTEXT('Whip Data'!V232),'Whip Data'!V232,'Whip Data'!U232))","v":""},{"$f":"IF(B219=\"\",\"\",IF(ISBLANK('Whip Data'!X232),'Whip Data'!W232,'Whip Data'!X232))","v":""},"","",{"$f":"IF($B219=\"\",\"\",IF('Whip Data'!Q232=\"\",\"None\",'Whip Data'!Q232))","v":""},{"$f":"IF(O219=\"\",\"\",IF($O219=\"None\",\"NA\",INDEX(Breakers!$A$1:$I$75,MATCH(BOM!C219,Breakers!$A$1:$A$75,0),MATCH(BOM!O219,Breakers!$A$1:$I$1,0))))","v":""},{"$f":"IF(B219=\"\",\"\",VLOOKUP(H219,Standards!$X$3:$Y$6,2,FALSE))","v":""}]
[{"$f":"IF($B220=\"\",\"\",'Whip Data'!$Z233)","v":""},{"$f":"IFERROR('Whip Data'!A233,\"\")","v":""},{"$f":"IF(B220=\"\",\"\",'Whip Data'!L233)","v":""},"",{"$f":"IF($B220=\"\",\"\",VLOOKUP($C220,Materials,'Whip Data'!$M$10+11,FALSE))","v":""},{"$f":"IF($B220=\"\",\"\",VLOOKUP($C220,Materials,'Whip Data'!$M$10+13,FALSE))","v":""},{"$f":"IFERROR(\"LTUA-\"&IF(ISTEXT('Whip Data'!$T233),VLOOKUP('Whip Data'!$T233,Conduit,2,FALSE),VLOOKUP('Whip Data'!$S233,Conduit,2,FALSE))&\"-\"&'Whip Data'!$R233,\"\")","v":""},{"$f":"IF($B220=\"\",\"\",IFERROR(VLOOKUP('Whip Data'!$T233,Conduit,3,FALSE),VLOOKUP('Whip Data'!$S233,Conduit,3,FALSE)))","v":""},{"$f":"IF(B220=\"\",\"\",'Whip Data'!O233)","v":""},{"$f":"IF(C220=\"\",\"\",'Whip Data'!P233)","v":""},{"$f":"IF($B220=\"\",\"\",IF(ISTEXT('Whip Data'!V233),'Whip Data'!V233,'Whip Data'!U233))","v":""},{"$f":"IF(B220=\"\",\"\",IF(ISBLANK('Whip Data'!X233),'Whip Data'!W233,'Whip Data'!X233))","v":""},"","",{"$f":"IF($B220=\"\",\"\",IF('Whip Data'!Q233=\"\",\"None\",'Whip Data'!Q233))","v":""},{"$f":"IF(O220=\"\",\"\",IF($O220=\"None\",\"NA\",INDEX(Breakers!$A$1:$I$75,MATCH(BOM!C220,Breakers!$A$1:$A$75,0),MATCH(BOM!O220,Breakers!$A$1:$I$1,0))))","v":""},{"$f":"IF(B220=\"\",\"\",VLOOKUP(H220,Standards!$X$3:$Y$6,2,FALSE))","v":""}]
[{"$f":"IF($B221=\"\",\"\",'Whip Data'!$Z234)","v":""},{"$f":"IFERROR('Whip Data'!A234,\"\")","v":""},{"$f":"IF(B221=\"\",\"\",'Whip Data'!L234)","v":""},"",{"$f":"IF($B221=\"\",\"\",VLOOKUP($C221,Materials,'Whip Data'!$M$10+11,FALSE))","v":""},{"$f":"IF($B221=\"\",\"\",VLOOKUP($C221,Materials,'Whip Data'!$M$10+13,FALSE))","v":""},{"$f":"IFERROR(\"LTUA-\"&IF(ISTEXT('Whip Data'!$T234),VLOOKUP('Whip Data'!$T234,Conduit,2,FALSE),VLOOKUP('Whip Data'!$S234,Conduit,2,FALSE))&\"-\"&'Whip Data'!$R234,\"\")","v":""},{"$f":"IF($B221=\"\",\"\",IFERROR(VLOOKUP('Whip Data'!$T234,Conduit,3,FALSE),VLOOKUP('Whip Data'!$S234,Conduit,3,FALSE)))","v":""},{"$f":"IF(B221=\"\",\"\",'Whip Data'!O234)","v":""},{"$f":"IF(C221=\"\",\"\",'Whip Data'!P234)","v":""},{"$f":"IF($B221=\"\",\"\",IF(ISTEXT('Whip Data'!V234),'Whip Data'!V234,'Whip Data'!U234))","v":""},{"$f":"IF(B221=\"\",\"\",IF(ISBLANK('Whip Data'!X234),'Whip Data'!W234,'Whip Data'!X234))","v":""},"","",{"$f":"IF($B221=\"\",\"\",IF('Whip Data'!Q234=\"\",\"None\",'Whip Data'!Q234))","v":""},{"$f":"IF(O221=\"\",\"\",IF($O221=\"None\",\"NA\",INDEX(Breakers!$A$1:$I$75,MATCH(BOM!C221,Breakers!$A$1:$A$75,0),MATCH(BOM!O221,Breakers!$A$1:$I$1,0))))","v":""},{"$f":"IF(B221=\"\",\"\",VLOOKUP(H221,Standards!$X$3:$Y$6,2,FALSE))","v":""}]
[{"$f":"IF($B222=\"\",\"\",'Whip Data'!$Z235)","v":""},{"$f":"IFERROR('Whip Data'!A235,\"\")","v":""},{"$f":"IF(B222=\"\",\"\",'Whip Data'!L235)","v":""},"",{"$f":"IF($B222=\"\",\"\",VLOOKUP($C222,Materials,'Whip Data'!$M$10+11,FALSE))","v":""},{"$f":"IF($B222=\"\",\"\",VLOOKUP($C222,Materials,'Whip Data'!$M$10+13,FALSE))","v":""},{"$f":"IFERROR(\"LTUA-\"&IF(ISTEXT('Whip Data'!$T235),VLOOKUP('Whip Data'!$T235,Conduit,2,FALSE),VLOOKUP('Whip Data'!$S235,Conduit,2,FALSE))&\"-\"&'Whip Data'!$R235,\"\")","v":""},{"$f":"IF($B222=\"\",\"\",IFERROR(VLOOKUP('Whip Data'!$T235,Conduit,3,FALSE),VLOOKUP('Whip Data'!$S235,Conduit,3,FALSE)))","v":""},{"$f":"IF(B222=\"\",\"\",'Whip Data'!O235)","v":""},{"$f":"IF(C222=\"\",\"\",'Whip Data'!P235)","v":""},{"$f":"IF($B222=\"\",\"\",IF(ISTEXT('Whip Data'!V235),'Whip Data'!V235,'Whip Data'!U235))","v":""},{"$f":"IF(B222=\"\",\"\",IF(ISBLANK('Whip Data'!X235),'Whip Data'!W235,'Whip Data'!X235))","v":""},"","",{"$f":"IF($B222=\"\",\"\",IF('Whip Data'!Q235=\"\",\"None\",'Whip Data'!Q235))","v":""},{"$f":"IF(O222=\"\",\"\",IF($O222=\"None\",\"NA\",INDEX(Breakers!$A$1:$I$75,MATCH(BOM!C222,Breakers!$A$1:$A$75,0),MATCH(BOM!O222,Breakers!$A$1:$I$1,0))))","v":""},{"$f":"IF(B222=\"\",\"\",VLOOKUP(H222,Standards!$X$3:$Y$6,2,FALSE))","v":""}]
[{"$f":"IF($B223=\"\",\"\",'Whip Data'!$Z236)","v":""},{"$f":"IFERROR('Whip Data'!A236,\"\")","v":""},{"$f":"IF(B223=\"\",\"\",'Whip Data'!L236)","v":""},"",{"$f":"IF($B223=\"\",\"\",VLOOKUP($C223,Materials,'Whip Data'!$M$10+11,FALSE))","v":""},{"$f":"IF($B223=\"\",\"\",VLOOKUP($C223,Materials,'Whip Data'!$M$10+13,FALSE))","v":""},{"$f":"IFERROR(\"LTUA-\"&IF(ISTEXT('Whip Data'!$T236),VLOOKUP('Whip Data'!$T236,Conduit,2,FALSE),VLOOKUP('Whip Data'!$S236,Conduit,2,FALSE))&\"-\"&'Whip Data'!$R236,\"\")","v":""},{"$f":"IF($B223=\"\",\"\",IFERROR(VLOOKUP('Whip Data'!$T236,Conduit,3,FALSE),VLOOKUP('Whip Data'!$S236,Conduit,3,FALSE)))","v":""},{"$f":"IF(B223=\"\",\"\",'Whip Data'!O236)","v":""},{"$f":"IF(C223=\"\",\"\",'Whip Data'!P236)","v":""},{"$f":"IF($B223=\"\",\"\",IF(ISTEXT('Whip Data'!V236),'Whip Data'!V236,'Whip Data'!U236))","v":""},{"$f":"IF(B223=\"\",\"\",IF(ISBLANK('Whip Data'!X236),'Whip Data'!W236,'Whip Data'!X236))","v":""},"","",{"$f":"IF($B223=\"\",\"\",IF('Whip Data'!Q236=\"\",\"None\",'Whip Data'!Q236))","v":""},{"$f":"IF(O223=\"\",\"\",IF($O223=\"None\",\"NA\",INDEX(Breakers!$A$1:$I$75,MATCH(BOM!C223,Breakers!$A$1:$A$75,0),MATCH(BOM!O223,Breakers!$A$1:$I$1,0))))","v":""},{"$f":"IF(B223=\"\",\"\",VLOOKUP(H223,Standards!$X$3:$Y$6,2,FALSE))","v":""}]
[{"$f":"IF($B224=\"\",\"\",'Whip Data'!$Z237)","v":""},{"$f":"IFERROR('Whip Data'!A237,\"\")","v":""},{"$f":"IF(B224=\"\",\"\",'Whip Data'!L237)","v":""},"",{"$f":"IF($B224=\"\",\"\",VLOOKUP($C224,Materials,'Whip Data'!$M$10+11,FALSE))","v":""},{"$f":"IF($B224=\"\",\"\",VLOOKUP($C224,Materials,'Whip Data'!$M$10+13,FALSE))","v":""},{"$f":"IFERROR(\"LTUA-\"&IF(ISTEXT('Whip Data'!$T237),VLOOKUP('Whip Data'!$T237,Conduit,2,FALSE),VLOOKUP('Whip Data'!$S237,Conduit,2,FALSE))&\"-\"&'Whip Data'!$R237,\"\")","v":""},{"$f":"IF($B224=\"\",\"\",IFERROR(VLOOKUP('Whip Data'!$T237,Conduit,3,FALSE),VLOOKUP('Whip Data'!$S237,Conduit,3,FALSE)))","v":""},{"$f":"IF(B224=\"\",\"\",'Whip Data'!O237)","v":""},{"$f":"IF(C224=\"\",\"\",'Whip Data'!P237)","v":""},{"$f":"IF($B224=\"\",\"\",IF(ISTEXT('Whip Data'!V237),'Whip Data'!V237,'Whip Data'!U237))","v":""},{"$f":"IF(B224=\"\",\"\",IF(ISBLANK('Whip Data'!X237),'Whip Data'!W237,'Whip Data'!X237))","v":""},"","",{"$f":"IF($B224=\"\",\"\",IF('Whip Data'!Q237=\"\",\"None\",'Whip Data'!Q237))","v":""},{"$f":"IF(O224=\"\",\"\",IF($O224=\"None\",\"NA\",INDEX(Breakers!$A$1:$I$75,MATCH(BOM!C224,Breakers!$A$1:$A$75,0),MATCH(BOM!O224,Breakers!$A$1:$I$1,0))))","v":""},{"$f":"IF(B224=\"\",\"\",VLOOKUP(H224,Standards!$X$3:$Y$6,2,FALSE))","v":""}]
[{"$f":"IF($B225=\"\",\"\",'Whip Data'!$Z238)","v":""},{"$f":"IFERROR('Whip Data'!A238,\"\")","v":""},{"$f":"IF(B225=\"\",\"\",'Whip Data'!L238)","v":""},"",{"$f":"IF($B225=\"\",\"\",VLOOKUP($C225,Materials,'Whip Data'!$M$10+11,FALSE))","v":""},{"$f":"IF($B225=\"\",\"\",VLOOKUP($C225,Materials,'Whip Data'!$M$10+13,FALSE))","v":""},{"$f":"IFERROR(\"LTUA-\"&IF(ISTEXT('Whip Data'!$T238),VLOOKUP('Whip Data'!$T238,Conduit,2,FALSE),VLOOKUP('Whip Data'!$S238,Conduit,2,FALSE))&\"-\"&'Whip Data'!$R238,\"\")","v":""},{"$f":"IF($B225=\"\",\"\",IFERROR(VLOOKUP('Whip Data'!$T238,Conduit,3,FALSE),VLOOKUP('Whip Data'!$S238,Conduit,3,FALSE)))","v":""},{"$f":"IF(B225=\"\",\"\",'Whip Data'!O238)","v":""},{"$f":"IF(C225=\"\",\"\",'Whip Data'!P238)","v":""},{"$f":"IF($B225=\"\",\"\",IF(ISTEXT('Whip Data'!V238),'Whip Data'!V238,'Whip Data'!U238))","v":""},{"$f":"IF(B225=\"\",\"\",IF(ISBLANK('Whip Data'!X238),'Whip Data'!W238,'Whip Data'!X238))","v":""},"","",{"$f":"IF($B225=\"\",\"\",IF('Whip Data'!Q238=\"\",\"None\",'Whip Data'!Q238))","v":""},{"$f":"IF(O225=\"\",\"\",IF($O225=\"None\",\"NA\",INDEX(Breakers!$A$1:$I$75,MATCH(BOM!C225,Breakers!$A$1:$A$75,0),MATCH(BOM!O225,Breakers!$A$1:$I$1,0))))","v":""},{"$f":"IF(B225=\"\",\"\",VLOOKUP(H225,Standards!$X$3:$Y$6,2,FALSE))","v":""}]
[{"$f":"IF($B226=\"\",\"\",'Whip Data'!$Z239)","v":""},{"$f":"IFERROR('Whip Data'!A239,\"\")","v":""},{"$f":"IF(B226=\"\",\"\",'Whip Data'!L239)","v":""},"",{"$f":"IF($B226=\"\",\"\",VLOOKUP($C226,Materials,'Whip Data'!$M$10+11,FALSE))","v":""},{"$f":"IF($B226=\"\",\"\",VLOOKUP($C226,Materials,'Whip Data'!$M$10+13,FALSE))","v":""},{"$f":"IFERROR(\"LTUA-\"&IF(ISTEXT('Whip Data'!$T239),VLOOKUP('Whip Data'!$T239,Conduit,2,FALSE),VLOOKUP('Whip Data'!$S239,Conduit,2,FALSE))&\"-\"&'Whip Data'!$R239,\"\")","v":""},{"$f":"IF($B226=\"\",\"\",IFERROR(VLOOKUP('Whip Data'!$T239,Conduit,3,FALSE),VLOOKUP('Whip Data'!$S239,Conduit,3,FALSE)))","v":""},{"$f":"IF(B226=\"\",\"\",'Whip Data'!O239)","v":""},{"$f":"IF(C226=\"\",\"\",'Whip Data'!P239)","v":""},{"$f":"IF($B226=\"\",\"\",IF(ISTEXT('Whip Data'!V239),'Whip Data'!V239,'Whip Data'!U239))","v":""},{"$f":"IF(B226=\"\",\"\",IF(ISBLANK('Whip Data'!X239),'Whip Data'!W239,'Whip Data'!X239))","v":""},"","",{"$f":"IF($B226=\"\",\"\",IF('Whip Data'!Q239=\"\",\"None\",'Whip Data'!Q239))","v":""},{"$f":"IF(O226=\"\",\"\",IF($O226=\"None\",\"NA\",INDEX(Breakers!$A$1:$I$75,MATCH(BOM!C226,Breakers!$A$1:$A$75,0),MATCH(BOM!O226,Breakers!$A$1:$I$1,0))))","v":""},{"$f":"IF(B226=\"\",\"\",VLOOKUP(H226,Standards!$X$3:$Y$6,2,FALSE))","v":""}]
[{"$f":"IF($B227=\"\",\"\",'Whip Data'!$Z240)","v":""},{"$f":"IFERROR('Whip Data'!A240,\"\")","v":""},{"$f":"IF(B227=\"\",\"\",'Whip Data'!L240)","v":""},"",{"$f":"IF($B227=\"\",\"\",VLOOKUP($C227,Materials,'Whip Data'!$M$10+11,FALSE))","v":""},{"$f":"IF($B227=\"\",\"\",VLOOKUP($C227,Materials,'Whip Data'!$M$10+13,FALSE))","v":""},{"$f":"IFERROR(\"LTUA-\"&IF(ISTEXT('Whip Data'!$T240),VLOOKUP('Whip Data'!$T240,Conduit,2,FALSE),VLOOKUP('Whip Data'!$S240,Conduit,2,FALSE))&\"-\"&'Whip Data'!$R240,\"\")","v":""},{"$f":"IF($B227=\"\",\"\",IFERROR(VLOOKUP('Whip Data'!$T240,Conduit,3,FALSE),VLOOKUP('Whip Data'!$S240,Conduit,3,FALSE)))","v":""},{"$f":"IF(B227=\"\",\"\",'Whip Data'!O240)","v":""},{"$f":"IF(C227=\"\",\"\",'Whip Data'!P240)","v":""},{"$f":"IF($B227=\"\",\"\",IF(ISTEXT('Whip Data'!V240),'Whip Data'!V240,'Whip Data'!U240))","v":""},{"$f":"IF(B227=\"\",\"\",IF(ISBLANK('Whip Data'!X240),'Whip Data'!W240,'Whip Data'!X240))","v":""},"","",{"$f":"IF($B227=\"\",\"\",IF('Whip Data'!Q240=\"\",\"None\",'Whip Data'!Q240))","v":""},{"$f":"IF(O227=\"\",\"\",IF($O227=\"None\",\"NA\",INDEX(Breakers!$A$1:$I$75,MATCH(BOM!C227,Breakers!$A$1:$A$75,0),MATCH(BOM!O227,Breakers!$A$1:$I$1,0))))","v":""},{"$f":"IF(B227=\"\",\"\",VLOOKUP(H227,Standards!$X$3:$Y$6,2,FALSE))","v":""}]
[{"$f":"IF($B228=\"\",\"\",'Whip Data'!$Z241)","v":""},{"$f":"IFERROR('Whip Data'!A241,\"\")","v":""},{"$f":"IF(B228=\"\",\"\",'Whip Data'!L241)","v":""},"",{"$f":"IF($B228=\"\",\"\",VLOOKUP($C228,Materials,'Whip Data'!$M$10+11,FALSE))","v":""},{"$f":"IF($B228=\"\",\"\",VLOOKUP($C228,Materials,'Whip Data'!$M$10+13,FALSE))","v":""},{"$f":"IFERROR(\"LTUA-\"&IF(ISTEXT('Whip Data'!$T241),VLOOKUP('Whip Data'!$T241,Conduit,2,FALSE),VLOOKUP('Whip Data'!$S241,Conduit,2,FALSE))&\"-\"&'Whip Data'!$R241,\"\")","v":""},{"$f":"IF($B228=\"\",\"\",IFERROR(VLOOKUP('Whip Data'!$T241,Conduit,3,FALSE),VLOOKUP('Whip Data'!$S241,Conduit,3,FALSE)))","v":""},{"$f":"IF(B228=\"\",\"\",'Whip Data'!O241)","v":""},{"$f":"IF(C228=\"\",\"\",'Whip Data'!P241)","v":""},{"$f":"IF($B228=\"\",\"\",IF(ISTEXT('Whip Data'!V241),'Whip Data'!V241,'Whip Data'!U241))","v":""},{"$f":"IF(B228=\"\",\"\",IF(ISBLANK('Whip Data'!X241),'Whip Data'!W241,'Whip Data'!X241))","v":""},"","",{"$f":"IF($B228=\"\",\"\",IF('Whip Data'!Q241=\"\",\"None\",'Whip Data'!Q241))","v":""},{"$f":"IF(O228=\"\",\"\",IF($O228=\"None\",\"NA\",INDEX(Breakers!$A$1:$I$75,MATCH(BOM!C228,Breakers!$A$1:$A$75,0),MATCH(BOM!O228,Breakers!$A$1:$I$1,0))))","v":""},{"$f":"IF(B228=\"\",\"\",VLOOKUP(H228,Standards!$X$3:$Y$6,2,FALSE))","v":""}]
[{"$f":"IF($B229=\"\",\"\",'Whip Data'!$Z242)","v":""},{"$f":"IFERROR('Whip Data'!A242,\"\")","v":""},{"$f":"IF(B229=\"\",\"\",'Whip Data'!L242)","v":""},"",{"$f":"IF($B229=\"\",\"\",VLOOKUP($C229,Materials,'Whip Data'!$M$10+11,FALSE))","v":""},{"$f":"IF($B229=\"\",\"\",VLOOKUP($C229,Materials,'Whip Data'!$M$10+13,FALSE))","v":""},{"$f":"IFERROR(\"LTUA-\"&IF(ISTEXT('Whip Data'!$T242),VLOOKUP('Whip Data'!$T242,Conduit,2,FALSE),VLOOKUP('Whip Data'!$S242,Conduit,2,FALSE))&\"-\"&'Whip Data'!$R242,\"\")","v":""},{"$f":"IF($B229=\"\",\"\",IFERROR(VLOOKUP('Whip Data'!$T242,Conduit,3,FALSE),VLOOKUP('Whip Data'!$S242,Conduit,3,FALSE)))","v":""},{"$f":"IF(B229=\"\",\"\",'Whip Data'!O242)","v":""},{"$f":"IF(C229=\"\",\"\",'Whip Data'!P242)","v":""},{"$f":"IF($B229=\"\",\"\",IF(ISTEXT('Whip Data'!V242),'Whip Data'!V242,'Whip Data'!U242))","v":""},{"$f":"IF(B229=\"\",\"\",IF(ISBLANK('Whip Data'!X242),'Whip Data'!W242,'Whip Data'!X242))","v":""},"","",{"$f":"IF($B229=\"\",\"\",IF('Whip Data'!Q242=\"\",\"None\",'Whip Data'!Q242))","v":""},{"$f":"IF(O229=\"\",\"\",IF($O229=\"None\",\"NA\",INDEX(Breakers!$A$1:$I$75,MATCH(BOM!C229,Breakers!$A$1:$A$75,0),MATCH(BOM!O229,Breakers!$A$1:$I$1,0))))","v":""},{"$f":"IF(B229=\"\",\"\",VLOOKUP(H229,Standards!$X$3:$Y$6,2,FALSE))","v":""}]
[{"$f":"IF($B230=\"\",\"\",'Whip Data'!$Z243)","v":""},{"$f":"IFERROR('Whip Data'!A243,\"\")","v":""},{"$f":"IF(B230=\"\",\"\",'Whip Data'!L243)","v":""},"",{"$f":"IF($B230=\"\",\"\",VLOOKUP($C230,Materials,'Whip Data'!$M$10+11,FALSE))","v":""},{"$f":"IF($B230=\"\",\"\",VLOOKUP($C230,Materials,'Whip Data'!$M$10+13,FALSE))","v":""},{"$f":"IFERROR(\"LTUA-\"&IF(ISTEXT('Whip Data'!$T243),VLOOKUP('Whip Data'!$T243,Conduit,2,FALSE),VLOOKUP('Whip Data'!$S243,Conduit,2,FALSE))&\"-\"&'Whip Data'!$R243,\"\")","v":""},{"$f":"IF($B230=\"\",\"\",IFERROR(VLOOKUP('Whip Data'!$T243,Conduit,3,FALSE),VLOOKUP('Whip Data'!$S243,Conduit,3,FALSE)))","v":""},{"$f":"IF(B230=\"\",\"\",'Whip Data'!O243)","v":""},{"$f":"IF(C230=\"\",\"\",'Whip Data'!P243)","v":""},{"$f":"IF($B230=\"\",\"\",IF(ISTEXT('Whip Data'!V243),'Whip Data'!V243,'Whip Data'!U243))","v":""},{"$f":"IF(B230=\"\",\"\",IF(ISBLANK('Whip Data'!X243),'Whip Data'!W243,'Whip Data'!X243))","v":""},"","",{"$f":"IF($B230=\"\",\"\",IF('Whip Data'!Q243=\"\",\"None\",'Whip Data'!Q243))","v":""},{"$f":"IF(O230=\"\",\"\",IF($O230=\"None\",\"NA\",INDEX(Breakers!$A$1:$I$75,MATCH(BOM!C230,Breakers!$A$1:$A$75,0),MATCH(BOM!O230,Breakers!$A$1:$I$1,0))))","v":""},{"$f":"IF(B230=\"\",\"\",VLOOKUP(H230,Standards!$X$3:$Y$6,2,FALSE))","v":""}]
[{"$f":"IF($B231=\"\",\"\",'Whip Data'!$Z244)","v":""},{"$f":"IFERROR('Whip Data'!A244,\"\")","v":""},{"$f":"IF(B231=\"\",\"\",'Whip Data'!L244)","v":""},"",{"$f":"IF($B231=\"\",\"\",VLOOKUP($C231,Materials,'Whip Data'!$M$10+11,FALSE))","v":""},{"$f":"IF($B231=\"\",\"\",VLOOKUP($C231,Materials,'Whip Data'!$M$10+13,FALSE))","v":""},{"$f":"IFERROR(\"LTUA-\"&IF(ISTEXT('Whip Data'!$T244),VLOOKUP('Whip Data'!$T244,Conduit,2,FALSE),VLOOKUP('Whip Data'!$S244,Conduit,2,FALSE))&\"-\"&'Whip Data'!$R244,\"\")","v":""},{"$f":"IF($B231=\"\",\"\",IFERROR(VLOOKUP('Whip Data'!$T244,Conduit,3,FALSE),VLOOKUP('Whip Data'!$S244,Conduit,3,FALSE)))","v":""},{"$f":"IF(B231=\"\",\"\",'Whip Data'!O244)","v":""},{"$f":"IF(C231=\"\",\"\",'Whip Data'!P244)","v":""},{"$f":"IF($B231=\"\",\"\",IF(ISTEXT('Whip Data'!V244),'Whip Data'!V244,'Whip Data'!U244))","v":""},{"$f":"IF(B231=\"\",\"\",IF(ISBLANK('Whip Data'!X244),'Whip Data'!W244,'Whip Data'!X244))","v":""},"","",{"$f":"IF($B231=\"\",\"\",IF('Whip Data'!Q244=\"\",\"None\",'Whip Data'!Q244))","v":""},{"$f":"IF(O231=\"\",\"\",IF($O231=\"None\",\"NA\",INDEX(Breakers!$A$1:$I$75,MATCH(BOM!C231,Breakers!$A$1:$A$75,0),MATCH(BOM!O231,Breakers!$A$1:$I$1,0))))","v":""},{"$f":"IF(B231=\"\",\"\",VLOOKUP(H231,Standards!$X$3:$Y$6,2,FALSE))","v":""}]
[{"$f":"IF($B232=\"\",\"\",'Whip Data'!$Z245)","v":""},{"$f":"IFERROR('Whip Data'!A245,\"\")","v":""},{"$f":"IF(B232=\"\",\"\",'Whip Data'!L245)","v":""},"",{"$f":"IF($B232=\"\",\"\",VLOOKUP($C232,Materials,'Whip Data'!$M$10+11,FALSE))","v":""},{"$f":"IF($B232=\"\",\"\",VLOOKUP($C232,Materials,'Whip Data'!$M$10+13,FALSE))","v":""},{"$f":"IFERROR(\"LTUA-\"&IF(ISTEXT('Whip Data'!$T245),VLOOKUP('Whip Data'!$T245,Conduit,2,FALSE),VLOOKUP('Whip Data'!$S245,Conduit,2,FALSE))&\"-\"&'Whip Data'!$R245,\"\")","v":""},{"$f":"IF($B232=\"\",\"\",IFERROR(VLOOKUP('Whip Data'!$T245,Conduit,3,FALSE),VLOOKUP('Whip Data'!$S245,Conduit,3,FALSE)))","v":""},{"$f":"IF(B232=\"\",\"\",'Whip Data'!O245)","v":""},{"$f":"IF(C232=\"\",\"\",'Whip Data'!P245)","v":""},{"$f":"IF($B232=\"\",\"\",IF(ISTEXT('Whip Data'!V245),'Whip Data'!V245,'Whip Data'!U245))","v":""},{"$f":"IF(B232=\"\",\"\",IF(ISBLANK('Whip Data'!X245),'Whip Data'!W245,'Whip Data'!X245))","v":""},"","",{"$f":"IF($B232=\"\",\"\",IF('Whip Data'!Q245=\"\",\"None\",'Whip Data'!Q245))","v":""},{"$f":"IF(O232=\"\",\"\",IF($O232=\"None\",\"NA\",INDEX(Breakers!$A$1:$I$75,MATCH(BOM!C232,Breakers!$A$1:$A$75,0),MATCH(BOM!O232,Breakers!$A$1:$I$1,0))))","v":""},{"$f":"IF(B232=\"\",\"\",VLOOKUP(H232,Standards!$X$3:$Y$6,2,FALSE))","v":""}]
[{"$f":"IF($B233=\"\",\"\",'Whip Data'!$Z246)","v":""},{"$f":"IFERROR('Whip Data'!A246,\"\")","v":""},{"$f":"IF(B233=\"\",\"\",'Whip Data'!L246)","v":""},"",{"$f":"IF($B233=\"\",\"\",VLOOKUP($C233,Materials,'Whip Data'!$M$10+11,FALSE))","v":""},{"$f":"IF($B233=\"\",\"\",VLOOKUP($C233,Materials,'Whip Data'!$M$10+13,FALSE))","v":""},{"$f":"IFERROR(\"LTUA-\"&IF(ISTEXT('Whip Data'!$T246),VLOOKUP('Whip Data'!$T246,Conduit,2,FALSE),VLOOKUP('Whip Data'!$S246,Conduit,2,FALSE))&\"-\"&'Whip Data'!$R246,\"\")","v":""},{"$f":"IF($B233=\"\",\"\",IFERROR(VLOOKUP('Whip Data'!$T246,Conduit,3,FALSE),VLOOKUP('Whip Data'!$S246,Conduit,3,FALSE)))","v":""},{"$f":"IF(B233=\"\",\"\",'Whip Data'!O246)","v":""},{"$f":"IF(C233=\"\",\"\",'Whip Data'!P246)","v":""},{"$f":"IF($B233=\"\",\"\",IF(ISTEXT('Whip Data'!V246),'Whip Data'!V246,'Whip Data'!U246))","v":""},{"$f":"IF(B233=\"\",\"\",IF(ISBLANK('Whip Data'!X246),'Whip Data'!W246,'Whip Data'!X246))","v":""},"","",{"$f":"IF($B233=\"\",\"\",IF('Whip Data'!Q246=\"\",\"None\",'Whip Data'!Q246))","v":""},{"$f":"IF(O233=\"\",\"\",IF($O233=\"None\",\"NA\",INDEX(Breakers!$A$1:$I$75,MATCH(BOM!C233,Breakers!$A$1:$A$75,0),MATCH(BOM!O233,Breakers!$A$1:$I$1,0))))","v":""},{"$f":"IF(B233=\"\",\"\",VLOOKUP(H233,Standards!$X$3:$Y$6,2,FALSE))","v":""}]
[{"$f":"IF($B234=\"\",\"\",'Whip Data'!$Z247)","v":""},{"$f":"IFERROR('Whip Data'!A247,\"\")","v":""},{"$f":"IF(B234=\"\",\"\",'Whip Data'!L247)","v":""},"",{"$f":"IF($B234=\"\",\"\",VLOOKUP($C234,Materials,'Whip Data'!$M$10+11,FALSE))","v":""},{"$f":"IF($B234=\"\",\"\",VLOOKUP($C234,Materials,'Whip Data'!$M$10+13,FALSE))","v":""},{"$f":"IFERROR(\"LTUA-\"&IF(ISTEXT('Whip Data'!$T247),VLOOKUP('Whip Data'!$T247,Conduit,2,FALSE),VLOOKUP('Whip Data'!$S247,Conduit,2,FALSE))&\"-\"&'Whip Data'!$R247,\"\")","v":""},{"$f":"IF($B234=\"\",\"\",IFERROR(VLOOKUP('Whip Data'!$T247,Conduit,3,FALSE),VLOOKUP('Whip Data'!$S247,Conduit,3,FALSE)))","v":""},{"$f":"IF(B234=\"\",\"\",'Whip Data'!O247)","v":""},{"$f":"IF(C234=\"\",\"\",'Whip Data'!P247)","v":""},{"$f":"IF($B234=\"\",\"\",IF(ISTEXT('Whip Data'!V247),'Whip Data'!V247,'Whip Data'!U247))","v":""},{"$f":"IF(B234=\"\",\"\",IF(ISBLANK('Whip Data'!X247),'Whip Data'!W247,'Whip Data'!X247))","v":""},"","",{"$f":"IF($B234=\"\",\"\",IF('Whip Data'!Q247=\"\",\"None\",'Whip Data'!Q247))","v":""},{"$f":"IF(O234=\"\",\"\",IF($O234=\"None\",\"NA\",INDEX(Breakers!$A$1:$I$75,MATCH(BOM!C234,Breakers!$A$1:$A$75,0),MATCH(BOM!O234,Breakers!$A$1:$I$1,0))))","v":""},{"$f":"IF(B234=\"\",\"\",VLOOKUP(H234,Standards!$X$3:$Y$6,2,FALSE))","v":""}]
[{"$f":"IF($B235=\"\",\"\",'Whip Data'!$Z248)","v":""},{"$f":"IFERROR('Whip Data'!A248,\"\")","v":""},{"$f":"IF(B235=\"\",\"\",'Whip Data'!L248)","v":""},"",{"$f":"IF($B235=\"\",\"\",VLOOKUP($C235,Materials,'Whip Data'!$M$10+11,FALSE))","v":""},{"$f":"IF($B235=\"\",\"\",VLOOKUP($C235,Materials,'Whip Data'!$M$10+13,FALSE))","v":""},{"$f":"IFERROR(\"LTUA-\"&IF(ISTEXT('Whip Data'!$T248),VLOOKUP('Whip Data'!$T248,Conduit,2,FALSE),VLOOKUP('Whip Data'!$S248,Conduit,2,FALSE))&\"-\"&'Whip Data'!$R248,\"\")","v":""},{"$f":"IF($B235=\"\",\"\",IFERROR(VLOOKUP('Whip Data'!$T248,Conduit,3,FALSE),VLOOKUP('Whip Data'!$S248,Conduit,3,FALSE)))","v":""},{"$f":"IF(B235=\"\",\"\",'Whip Data'!O248)","v":""},{"$f":"IF(C235=\"\",\"\",'Whip Data'!P248)","v":""},{"$f":"IF($B235=\"\",\"\",IF(ISTEXT('Whip Data'!V248),'Whip Data'!V248,'Whip Data'!U248))","v":""},{"$f":"IF(B235=\"\",\"\",IF(ISBLANK('Whip Data'!X248),'Whip Data'!W248,'Whip Data'!X248))","v":""},"","",{"$f":"IF($B235=\"\",\"\",IF('Whip Data'!Q248=\"\",\"None\",'Whip Data'!Q248))","v":""},{"$f":"IF(O235=\"\",\"\",IF($O235=\"None\",\"NA\",INDEX(Breakers!$A$1:$I$75,MATCH(BOM!C235,Breakers!$A$1:$A$75,0),MATCH(BOM!O235,Breakers!$A$1:$I$1,0))))","v":""},{"$f":"IF(B235=\"\",\"\",VLOOKUP(H235,Standards!$X$3:$Y$6,2,FALSE))","v":""}]
[{"$f":"IF($B236=\"\",\"\",'Whip Data'!$Z249)","v":""},{"$f":"IFERROR('Whip Data'!A249,\"\")","v":""},{"$f":"IF(B236=\"\",\"\",'Whip Data'!L249)","v":""},"",{"$f":"IF($B236=\"\",\"\",VLOOKUP($C236,Materials,'Whip Data'!$M$10+11,FALSE))","v":""},{"$f":"IF($B236=\"\",\"\",VLOOKUP($C236,Materials,'Whip Data'!$M$10+13,FALSE))","v":""},{"$f":"IFERROR(\"LTUA-\"&IF(ISTEXT('Whip Data'!$T249),VLOOKUP('Whip Data'!$T249,Conduit,2,FALSE),VLOOKUP('Whip Data'!$S249,Conduit,2,FALSE))&\"-\"&'Whip Data'!$R249,\"\")","v":""},{"$f":"IF($B236=\"\",\"\",IFERROR(VLOOKUP('Whip Data'!$T249,Conduit,3,FALSE),VLOOKUP('Whip Data'!$S249,Conduit,3,FALSE)))","v":""},{"$f":"IF(B236=\"\",\"\",'Whip Data'!O249)","v":""},{"$f":"IF(C236=\"\",\"\",'Whip Data'!P249)","v":""},{"$f":"IF($B236=\"\",\"\",IF(ISTEXT('Whip Data'!V249),'Whip Data'!V249,'Whip Data'!U249))","v":""},{"$f":"IF(B236=\"\",\"\",IF(ISBLANK('Whip Data'!X249),'Whip Data'!W249,'Whip Data'!X249))","v":""},"","",{"$f":"IF($B236=\"\",\"\",IF('Whip Data'!Q249=\"\",\"None\",'Whip Data'!Q249))","v":""},{"$f":"IF(O236=\"\",\"\",IF($O236=\"None\",\"NA\",INDEX(Breakers!$A$1:$I$75,MATCH(BOM!C236,Breakers!$A$1:$A$75,0),MATCH(BOM!O236,Breakers!$A$1:$I$1,0))))","v":""},{"$f":"IF(B236=\"\",\"\",VLOOKUP(H236,Standards!$X$3:$Y$6,2,FALSE))","v":""}]
[{"$f":"IF($B237=\"\",\"\",'Whip Data'!$Z250)","v":""},{"$f":"IFERROR('Whip Data'!A250,\"\")","v":""},{"$f":"IF(B237=\"\",\"\",'Whip Data'!L250)","v":""},"",{"$f":"IF($B237=\"\",\"\",VLOOKUP($C237,Materials,'Whip Data'!$M$10+11,FALSE))","v":""},{"$f":"IF($B237=\"\",\"\",VLOOKUP($C237,Materials,'Whip Data'!$M$10+13,FALSE))","v":""},{"$f":"IFERROR(\"LTUA-\"&IF(ISTEXT('Whip Data'!$T250),VLOOKUP('Whip Data'!$T250,Conduit,2,FALSE),VLOOKUP('Whip Data'!$S250,Conduit,2,FALSE))&\"-\"&'Whip Data'!$R250,\"\")","v":""},{"$f":"IF($B237=\"\",\"\",IFERROR(VLOOKUP('Whip Data'!$T250,Conduit,3,FALSE),VLOOKUP('Whip Data'!$S250,Conduit,3,FALSE)))","v":""},{"$f":"IF(B237=\"\",\"\",'Whip Data'!O250)","v":""},{"$f":"IF(C237=\"\",\"\",'Whip Data'!P250)","v":""},{"$f":"IF($B237=\"\",\"\",IF(ISTEXT('Whip Data'!V250),'Whip Data'!V250,'Whip Data'!U250))","v":""},{"$f":"IF(B237=\"\",\"\",IF(ISBLANK('Whip Data'!X250),'Whip Data'!W250,'Whip Data'!X250))","v":""},"","",{"$f":"IF($B237=\"\",\"\",IF('Whip Data'!Q250=\"\",\"None\",'Whip Data'!Q250))","v":""},{"$f":"IF(O237=\"\",\"\",IF($O237=\"None\",\"NA\",INDEX(Breakers!$A$1:$I$75,MATCH(BOM!C237,Breakers!$A$1:$A$75,0),MATCH(BOM!O237,Breakers!$A$1:$I$1,0))))","v":""},{"$f":"IF(B237=\"\",\"\",VLOOKUP(H237,Standards!$X$3:$Y$6,2,FALSE))","v":""}]
[{"$f":"IF($B238=\"\",\"\",'Whip Data'!$Z251)","v":""},{"$f":"IFERROR('Whip Data'!A251,\"\")","v":""},{"$f":"IF(B238=\"\",\"\",'Whip Data'!L251)","v":""},"",{"$f":"IF($B238=\"\",\"\",VLOOKUP($C238,Materials,'Whip Data'!$M$10+11,FALSE))","v":""},{"$f":"IF($B238=\"\",\"\",VLOOKUP($C238,Materials,'Whip Data'!$M$10+13,FALSE))","v":""},{"$f":"IFERROR(\"LTUA-\"&IF(ISTEXT('Whip Data'!$T251),VLOOKUP('Whip Data'!$T251,Conduit,2,FALSE),VLOOKUP('Whip Data'!$S251,Conduit,2,FALSE))&\"-\"&'Whip Data'!$R251,\"\")","v":""},{"$f":"IF($B238=\"\",\"\",IFERROR(VLOOKUP('Whip Data'!$T251,Conduit,3,FALSE),VLOOKUP('Whip Data'!$S251,Conduit,3,FALSE)))","v":""},{"$f":"IF(B238=\"\",\"\",'Whip Data'!O251)","v":""},{"$f":"IF(C238=\"\",\"\",'Whip Data'!P251)","v":""},{"$f":"IF($B238=\"\",\"\",IF(ISTEXT('Whip Data'!V251),'Whip Data'!V251,'Whip Data'!U251))","v":""},{"$f":"IF(B238=\"\",\"\",IF(ISBLANK('Whip Data'!X251),'Whip Data'!W251,'Whip Data'!X251))","v":""},"","",{"$f":"IF($B238=\"\",\"\",IF('Whip Data'!Q251=\"\",\"None\",'Whip Data'!Q251))","v":""},{"$f":"IF(O238=\"\",\"\",IF($O238=\"None\",\"NA\",INDEX(Breakers!$A$1:$I$75,MATCH(BOM!C238,Breakers!$A$1:$A$75,0),MATCH(BOM!O238,Breakers!$A$1:$I$1,0))))","v":""},{"$f":"IF(B238=\"\",\"\",VLOOKUP(H238,Standards!$X$3:$Y$6,2,FALSE))","v":""}]
[{"$f":"IF($B239=\"\",\"\",'Whip Data'!$Z252)","v":""},{"$f":"IFERROR('Whip Data'!A252,\"\")","v":""},{"$f":"IF(B239=\"\",\"\",'Whip Data'!L252)","v":""},"",{"$f":"IF($B239=\"\",\"\",VLOOKUP($C239,Materials,'Whip Data'!$M$10+11,FALSE))","v":""},{"$f":"IF($B239=\"\",\"\",VLOOKUP($C239,Materials,'Whip Data'!$M$10+13,FALSE))","v":""},{"$f":"IFERROR(\"LTUA-\"&IF(ISTEXT('Whip Data'!$T252),VLOOKUP('Whip Data'!$T252,Conduit,2,FALSE),VLOOKUP('Whip Data'!$S252,Conduit,2,FALSE))&\"-\"&'Whip Data'!$R252,\"\")","v":""},{"$f":"IF($B239=\"\",\"\",IFERROR(VLOOKUP('Whip Data'!$T252,Conduit,3,FALSE),VLOOKUP('Whip Data'!$S252,Conduit,3,FALSE)))","v":""},{"$f":"IF(B239=\"\",\"\",'Whip Data'!O252)","v":""},{"$f":"IF(C239=\"\",\"\",'Whip Data'!P252)","v":""},{"$f":"IF($B239=\"\",\"\",IF(ISTEXT('Whip Data'!V252),'Whip Data'!V252,'Whip Data'!U252))","v":""},{"$f":"IF(B239=\"\",\"\",IF(ISBLANK('Whip Data'!X252),'Whip Data'!W252,'Whip Data'!X252))","v":""},"","",{"$f":"IF($B239=\"\",\"\",IF('Whip Data'!Q252=\"\",\"None\",'Whip Data'!Q252))","v":""},{"$f":"IF(O239=\"\",\"\",IF($O239=\"None\",\"NA\",INDEX(Breakers!$A$1:$I$75,MATCH(BOM!C239,Breakers!$A$1:$A$75,0),MATCH(BOM!O239,Breakers!$A$1:$I$1,0))))","v":""},{"$f":"IF(B239=\"\",\"\",VLOOKUP(H239,Standards!$X$3:$Y$6,2,FALSE))","v":""}]
[{"$f":"IF($B240=\"\",\"\",'Whip Data'!$Z253)","v":""},{"$f":"IFERROR('Whip Data'!A253,\"\")","v":""},{"$f":"IF(B240=\"\",\"\",'Whip Data'!L253)","v":""},"",{"$f":"IF($B240=\"\",\"\",VLOOKUP($C240,Materials,'Whip Data'!$M$10+11,FALSE))","v":""},{"$f":"IF($B240=\"\",\"\",VLOOKUP($C240,Materials,'Whip Data'!$M$10+13,FALSE))","v":""},{"$f":"IFERROR(\"LTUA-\"&IF(ISTEXT('Whip Data'!$T253),VLOOKUP('Whip Data'!$T253,Conduit,2,FALSE),VLOOKUP('Whip Data'!$S253,Conduit,2,FALSE))&\"-\"&'Whip Data'!$R253,\"\")","v":""},{"$f":"IF($B240=\"\",\"\",IFERROR(VLOOKUP('Whip Data'!$T253,Conduit,3,FALSE),VLOOKUP('Whip Data'!$S253,Conduit,3,FALSE)))","v":""},{"$f":"IF(B240=\"\",\"\",'Whip Data'!O253)","v":""},{"$f":"IF(C240=\"\",\"\",'Whip Data'!P253)","v":""},{"$f":"IF($B240=\"\",\"\",IF(ISTEXT('Whip Data'!V253),'Whip Data'!V253,'Whip Data'!U253))","v":""},{"$f":"IF(B240=\"\",\"\",IF(ISBLANK('Whip Data'!X253),'Whip Data'!W253,'Whip Data'!X253))","v":""},"","",{"$f":"IF($B240=\"\",\"\",IF('Whip Data'!Q253=\"\",\"None\",'Whip Data'!Q253))","v":""},{"$f":"IF(O240=\"\",\"\",IF($O240=\"None\",\"NA\",INDEX(Breakers!$A$1:$I$75,MATCH(BOM!C240,Breakers!$A$1:$A$75,0),MATCH(BOM!O240,Breakers!$A$1:$I$1,0))))","v":""},{"$f":"IF(B240=\"\",\"\",VLOOKUP(H240,Standards!$X$3:$Y$6,2,FALSE))","v":""}]
[{"$f":"IF($B241=\"\",\"\",'Whip Data'!$Z254)","v":""},{"$f":"IFERROR('Whip Data'!A254,\"\")","v":""},{"$f":"IF(B241=\"\",\"\",'Whip Data'!L254)","v":""},"",{"$f":"IF($B241=\"\",\"\",VLOOKUP($C241,Materials,'Whip Data'!$M$10+11,FALSE))","v":""},{"$f":"IF($B241=\"\",\"\",VLOOKUP($C241,Materials,'Whip Data'!$M$10+13,FALSE))","v":""},{"$f":"IFERROR(\"LTUA-\"&IF(ISTEXT('Whip Data'!$T254),VLOOKUP('Whip Data'!$T254,Conduit,2,FALSE),VLOOKUP('Whip Data'!$S254,Conduit,2,FALSE))&\"-\"&'Whip Data'!$R254,\"\")","v":""},{"$f":"IF($B241=\"\",\"\",IFERROR(VLOOKUP('Whip Data'!$T254,Conduit,3,FALSE),VLOOKUP('Whip Data'!$S254,Conduit,3,FALSE)))","v":""},{"$f":"IF(B241=\"\",\"\",'Whip Data'!O254)","v":""},{"$f":"IF(C241=\"\",\"\",'Whip Data'!P254)","v":""},{"$f":"IF($B241=\"\",\"\",IF(ISTEXT('Whip Data'!V254),'Whip Data'!V254,'Whip Data'!U254))","v":""},{"$f":"IF(B241=\"\",\"\",IF(ISBLANK('Whip Data'!X254),'Whip Data'!W254,'Whip Data'!X254))","v":""},"","",{"$f":"IF($B241=\"\",\"\",IF('Whip Data'!Q254=\"\",\"None\",'Whip Data'!Q254))","v":""},{"$f":"IF(O241=\"\",\"\",IF($O241=\"None\",\"NA\",INDEX(Breakers!$A$1:$I$75,MATCH(BOM!C241,Breakers!$A$1:$A$75,0),MATCH(BOM!O241,Breakers!$A$1:$I$1,0))))","v":""},{"$f":"IF(B241=\"\",\"\",VLOOKUP(H241,Standards!$X$3:$Y$6,2,FALSE))","v":""}]
[{"$f":"IF($B242=\"\",\"\",'Whip Data'!$Z255)","v":""},{"$f":"IFERROR('Whip Data'!A255,\"\")","v":""},{"$f":"IF(B242=\"\",\"\",'Whip Data'!L255)","v":""},"",{"$f":"IF($B242=\"\",\"\",VLOOKUP($C242,Materials,'Whip Data'!$M$10+11,FALSE))","v":""},{"$f":"IF($B242=\"\",\"\",VLOOKUP($C242,Materials,'Whip Data'!$M$10+13,FALSE))","v":""},{"$f":"IFERROR(\"LTUA-\"&IF(ISTEXT('Whip Data'!$T255),VLOOKUP('Whip Data'!$T255,Conduit,2,FALSE),VLOOKUP('Whip Data'!$S255,Conduit,2,FALSE))&\"-\"&'Whip Data'!$R255,\"\")","v":""},{"$f":"IF($B242=\"\",\"\",IFERROR(VLOOKUP('Whip Data'!$T255,Conduit,3,FALSE),VLOOKUP('Whip Data'!$S255,Conduit,3,FALSE)))","v":""},{"$f":"IF(B242=\"\",\"\",'Whip Data'!O255)","v":""},{"$f":"IF(C242=\"\",\"\",'Whip Data'!P255)","v":""},{"$f":"IF($B242=\"\",\"\",IF(ISTEXT('Whip Data'!V255),'Whip Data'!V255,'Whip Data'!U255))","v":""},{"$f":"IF(B242=\"\",\"\",IF(ISBLANK('Whip Data'!X255),'Whip Data'!W255,'Whip Data'!X255))","v":""},"","",{"$f":"IF($B242=\"\",\"\",IF('Whip Data'!Q255=\"\",\"None\",'Whip Data'!Q255))","v":""},{"$f":"IF(O242=\"\",\"\",IF($O242=\"None\",\"NA\",INDEX(Breakers!$A$1:$I$75,MATCH(BOM!C242,Breakers!$A$1:$A$75,0),MATCH(BOM!O242,Breakers!$A$1:$I$1,0))))","v":""},{"$f":"IF(B242=\"\",\"\",VLOOKUP(H242,Standards!$X$3:$Y$6,2,FALSE))","v":""}]
[{"$f":"IF($B243=\"\",\"\",'Whip Data'!$Z256)","v":""},{"$f":"IFERROR('Whip Data'!A256,\"\")","v":""},{"$f":"IF(B243=\"\",\"\",'Whip Data'!L256)","v":""},"",{"$f":"IF($B243=\"\",\"\",VLOOKUP($C243,Materials,'Whip Data'!$M$10+11,FALSE))","v":""},{"$f":"IF($B243=\"\",\"\",VLOOKUP($C243,Materials,'Whip Data'!$M$10+13,FALSE))","v":""},{"$f":"IFERROR(\"LTUA-\"&IF(ISTEXT('Whip Data'!$T256),VLOOKUP('Whip Data'!$T256,Conduit,2,FALSE),VLOOKUP('Whip Data'!$S256,Conduit,2,FALSE))&\"-\"&'Whip Data'!$R256,\"\")","v":""},{"$f":"IF($B243=\"\",\"\",IFERROR(VLOOKUP('Whip Data'!$T256,Conduit,3,FALSE),VLOOKUP('Whip Data'!$S256,Conduit,3,FALSE)))","v":""},{"$f":"IF(B243=\"\",\"\",'Whip Data'!O256)","v":""},{"$f":"IF(C243=\"\",\"\",'Whip Data'!P256)","v":""},{"$f":"IF($B243=\"\",\"\",IF(ISTEXT('Whip Data'!V256),'Whip Data'!V256,'Whip Data'!U256))","v":""},{"$f":"IF(B243=\"\",\"\",IF(ISBLANK('Whip Data'!X256),'Whip Data'!W256,'Whip Data'!X256))","v":""},"","",{"$f":"IF($B243=\"\",\"\",IF('Whip Data'!Q256=\"\",\"None\",'Whip Data'!Q256))","v":""},{"$f":"IF(O243=\"\",\"\",IF($O243=\"None\",\"NA\",INDEX(Breakers!$A$1:$I$75,MATCH(BOM!C243,Breakers!$A$1:$A$75,0),MATCH(BOM!O243,Breakers!$A$1:$I$1,0))))","v":""},{"$f":"IF(B243=\"\",\"\",VLOOKUP(H243,Standards!$X$3:$Y$6,2,FALSE))","v":""}]
[{"$f":"IF($B244=\"\",\"\",'Whip Data'!$Z257)","v":""},{"$f":"IFERROR('Whip Data'!A257,\"\")","v":""},{"$f":"IF(B244=\"\",\"\",'Whip Data'!L257)","v":""},"",{"$f":"IF($B244=\"\",\"\",VLOOKUP($C244,Materials,'Whip Data'!$M$10+11,FALSE))","v":""},{"$f":"IF($B244=\"\",\"\",VLOOKUP($C244,Materials,'Whip Data'!$M$10+13,FALSE))","v":""},{"$f":"IFERROR(\"LTUA-\"&IF(ISTEXT('Whip Data'!$T257),VLOOKUP('Whip Data'!$T257,Conduit,2,FALSE),VLOOKUP('Whip Data'!$S257,Conduit,2,FALSE))&\"-\"&'Whip Data'!$R257,\"\")","v":""},{"$f":"IF($B244=\"\",\"\",IFERROR(VLOOKUP('Whip Data'!$T257,Conduit,3,FALSE),VLOOKUP('Whip Data'!$S257,Conduit,3,FALSE)))","v":""},{"$f":"IF(B244=\"\",\"\",'Whip Data'!O257)","v":""},{"$f":"IF(C244=\"\",\"\",'Whip Data'!P257)","v":""},{"$f":"IF($B244=\"\",\"\",IF(ISTEXT('Whip Data'!V257),'Whip Data'!V257,'Whip Data'!U257))","v":""},{"$f":"IF(B244=\"\",\"\",IF(ISBLANK('Whip Data'!X257),'Whip Data'!W257,'Whip Data'!X257))","v":""},"","",{"$f":"IF($B244=\"\",\"\",IF('Whip Data'!Q257=\"\",\"None\",'Whip Data'!Q257))","v":""},{"$f":"IF(O244=\"\",\"\",IF($O244=\"None\",\"NA\",INDEX(Breakers!$A$1:$I$75,MATCH(BOM!C244,Breakers!$A$1:$A$75,0),MATCH(BOM!O244,Breakers!$A$1:$I$1,0))))","v":""},{"$f":"IF(B244=\"\",\"\",VLOOKUP(H244,Standards!$X$3:$Y$6,2,FALSE))","v":""}]
[{"$f":"IF($B245=\"\",\"\",'Whip Data'!$Z258)","v":""},{"$f":"IFERROR('Whip Data'!A258,\"\")","v":""},{"$f":"IF(B245=\"\",\"\",'Whip Data'!L258)","v":""},"",{"$f":"IF($B245=\"\",\"\",VLOOKUP($C245,Materials,'Whip Data'!$M$10+11,FALSE))","v":""},{"$f":"IF($B245=\"\",\"\",VLOOKUP($C245,Materials,'Whip Data'!$M$10+13,FALSE))","v":""},{"$f":"IFERROR(\"LTUA-\"&IF(ISTEXT('Whip Data'!$T258),VLOOKUP('Whip Data'!$T258,Conduit,2,FALSE),VLOOKUP('Whip Data'!$S258,Conduit,2,FALSE))&\"-\"&'Whip Data'!$R258,\"\")","v":""},{"$f":"IF($B245=\"\",\"\",IFERROR(VLOOKUP('Whip Data'!$T258,Conduit,3,FALSE),VLOOKUP('Whip Data'!$S258,Conduit,3,FALSE)))","v":""},{"$f":"IF(B245=\"\",\"\",'Whip Data'!O258)","v":""},{"$f":"IF(C245=\"\",\"\",'Whip Data'!P258)","v":""},{"$f":"IF($B245=\"\",\"\",IF(ISTEXT('Whip Data'!V258),'Whip Data'!V258,'Whip Data'!U258))","v":""},{"$f":"IF(B245=\"\",\"\",IF(ISBLANK('Whip Data'!X258),'Whip Data'!W258,'Whip Data'!X258))","v":""},"","",{"$f":"IF($B245=\"\",\"\",IF('Whip Data'!Q258=\"\",\"None\",'Whip Data'!Q258))","v":""},{"$f":"IF(O245=\"\",\"\",IF($O245=\"None\",\"NA\",INDEX(Breakers!$A$1:$I$75,MATCH(BOM!C245,Breakers!$A$1:$A$75,0),MATCH(BOM!O245,Breakers!$A$1:$I$1,0))))","v":""},{"$f":"IF(B245=\"\",\"\",VLOOKUP(H245,Standards!$X$3:$Y$6,2,FALSE))","v":""}]
[{"$f":"IF($B246=\"\",\"\",'Whip Data'!$Z259)","v":""},{"$f":"IFERROR('Whip Data'!A259,\"\")","v":""},{"$f":"IF(B246=\"\",\"\",'Whip Data'!L259)","v":""},"",{"$f":"IF($B246=\"\",\"\",VLOOKUP($C246,Materials,'Whip Data'!$M$10+11,FALSE))","v":""},{"$f":"IF($B246=\"\",\"\",VLOOKUP($C246,Materials,'Whip Data'!$M$10+13,FALSE))","v":""},{"$f":"IFERROR(\"LTUA-\"&IF(ISTEXT('Whip Data'!$T259),VLOOKUP('Whip Data'!$T259,Conduit,2,FALSE),VLOOKUP('Whip Data'!$S259,Conduit,2,FALSE))&\"-\"&'Whip Data'!$R259,\"\")","v":""},{"$f":"IF($B246=\"\",\"\",IFERROR(VLOOKUP('Whip Data'!$T259,Conduit,3,FALSE),VLOOKUP('Whip Data'!$S259,Conduit,3,FALSE)))","v":""},{"$f":"IF(B246=\"\",\"\",'Whip Data'!O259)","v":""},{"$f":"IF(C246=\"\",\"\",'Whip Data'!P259)","v":""},{"$f":"IF($B246=\"\",\"\",IF(ISTEXT('Whip Data'!V259),'Whip Data'!V259,'Whip Data'!U259))","v":""},{"$f":"IF(B246=\"\",\"\",IF(ISBLANK('Whip Data'!X259),'Whip Data'!W259,'Whip Data'!X259))","v":""},"","",{"$f":"IF($B246=\"\",\"\",IF('Whip Data'!Q259=\"\",\"None\",'Whip Data'!Q259))","v":""},{"$f":"IF(O246=\"\",\"\",IF($O246=\"None\",\"NA\",INDEX(Breakers!$A$1:$I$75,MATCH(BOM!C246,Breakers!$A$1:$A$75,0),MATCH(BOM!O246,Breakers!$A$1:$I$1,0))))","v":""},{"$f":"IF(B246=\"\",\"\",VLOOKUP(H246,Standards!$X$3:$Y$6,2,FALSE))","v":""}]
[{"$f":"IF($B247=\"\",\"\",'Whip Data'!$Z260)","v":""},{"$f":"IFERROR('Whip Data'!A260,\"\")","v":""},{"$f":"IF(B247=\"\",\"\",'Whip Data'!L260)","v":""},"",{"$f":"IF($B247=\"\",\"\",VLOOKUP($C247,Materials,'Whip Data'!$M$10+11,FALSE))","v":""},{"$f":"IF($B247=\"\",\"\",VLOOKUP($C247,Materials,'Whip Data'!$M$10+13,FALSE))","v":""},{"$f":"IFERROR(\"LTUA-\"&IF(ISTEXT('Whip Data'!$T260),VLOOKUP('Whip Data'!$T260,Conduit,2,FALSE),VLOOKUP('Whip Data'!$S260,Conduit,2,FALSE))&\"-\"&'Whip Data'!$R260,\"\")","v":""},{"$f":"IF($B247=\"\",\"\",IFERROR(VLOOKUP('Whip Data'!$T260,Conduit,3,FALSE),VLOOKUP('Whip Data'!$S260,Conduit,3,FALSE)))","v":""},{"$f":"IF(B247=\"\",\"\",'Whip Data'!O260)","v":""},{"$f":"IF(C247=\"\",\"\",'Whip Data'!P260)","v":""},{"$f":"IF($B247=\"\",\"\",IF(ISTEXT('Whip Data'!V260),'Whip Data'!V260,'Whip Data'!U260))","v":""},{"$f":"IF(B247=\"\",\"\",IF(ISBLANK('Whip Data'!X260),'Whip Data'!W260,'Whip Data'!X260))","v":""},"","",{"$f":"IF($B247=\"\",\"\",IF('Whip Data'!Q260=\"\",\"None\",'Whip Data'!Q260))","v":""},{"$f":"IF(O247=\"\",\"\",IF($O247=\"None\",\"NA\",INDEX(Breakers!$A$1:$I$75,MATCH(BOM!C247,Breakers!$A$1:$A$75,0),MATCH(BOM!O247,Breakers!$A$1:$I$1,0))))","v":""},{"$f":"IF(B247=\"\",\"\",VLOOKUP(H247,Standards!$X$3:$Y$6,2,FALSE))","v":""}]
[{"$f":"IF($B248=\"\",\"\",'Whip Data'!$Z261)","v":""},{"$f":"IFERROR('Whip Data'!A261,\"\")","v":""},{"$f":"IF(B248=\"\",\"\",'Whip Data'!L261)","v":""},"",{"$f":"IF($B248=\"\",\"\",VLOOKUP($C248,Materials,'Whip Data'!$M$10+11,FALSE))","v":""},{"$f":"IF($B248=\"\",\"\",VLOOKUP($C248,Materials,'Whip Data'!$M$10+13,FALSE))","v":""},{"$f":"IFERROR(\"LTUA-\"&IF(ISTEXT('Whip Data'!$T261),VLOOKUP('Whip Data'!$T261,Conduit,2,FALSE),VLOOKUP('Whip Data'!$S261,Conduit,2,FALSE))&\"-\"&'Whip Data'!$R261,\"\")","v":""},{"$f":"IF($B248=\"\",\"\",IFERROR(VLOOKUP('Whip Data'!$T261,Conduit,3,FALSE),VLOOKUP('Whip Data'!$S261,Conduit,3,FALSE)))","v":""},{"$f":"IF(B248=\"\",\"\",'Whip Data'!O261)","v":""},{"$f":"IF(C248=\"\",\"\",'Whip Data'!P261)","v":""},{"$f":"IF($B248=\"\",\"\",IF(ISTEXT('Whip Data'!V261),'Whip Data'!V261,'Whip Data'!U261))","v":""},{"$f":"IF(B248=\"\",\"\",IF(ISBLANK('Whip Data'!X261),'Whip Data'!W261,'Whip Data'!X261))","v":""},"","",{"$f":"IF($B248=\"\",\"\",IF('Whip Data'!Q261=\"\",\"None\",'Whip Data'!Q261))","v":""},{"$f":"IF(O248=\"\",\"\",IF($O248=\"None\",\"NA\",INDEX(Breakers!$A$1:$I$75,MATCH(BOM!C248,Breakers!$A$1:$A$75,0),MATCH(BOM!O248,Breakers!$A$1:$I$1,0))))","v":""},{"$f":"IF(B248=\"\",\"\",VLOOKUP(H248,Standards!$X$3:$Y$6,2,FALSE))","v":""}]
[{"$f":"IF($B249=\"\",\"\",'Whip Data'!$Z262)","v":""},{"$f":"IFERROR('Whip Data'!A262,\"\")","v":""},{"$f":"IF(B249=\"\",\"\",'Whip Data'!L262)","v":""},"",{"$f":"IF($B249=\"\",\"\",VLOOKUP($C249,Materials,'Whip Data'!$M$10+11,FALSE))","v":""},{"$f":"IF($B249=\"\",\"\",VLOOKUP($C249,Materials,'Whip Data'!$M$10+13,FALSE))","v":""},{"$f":"IFERROR(\"LTUA-\"&IF(ISTEXT('Whip Data'!$T262),VLOOKUP('Whip Data'!$T262,Conduit,2,FALSE),VLOOKUP('Whip Data'!$S262,Conduit,2,FALSE))&\"-\"&'Whip Data'!$R262,\"\")","v":""},{"$f":"IF($B249=\"\",\"\",IFERROR(VLOOKUP('Whip Data'!$T262,Conduit,3,FALSE),VLOOKUP('Whip Data'!$S262,Conduit,3,FALSE)))","v":""},{"$f":"IF(B249=\"\",\"\",'Whip Data'!O262)","v":""},{"$f":"IF(C249=\"\",\"\",'Whip Data'!P262)","v":""},{"$f":"IF($B249=\"\",\"\",IF(ISTEXT('Whip Data'!V262),'Whip Data'!V262,'Whip Data'!U262))","v":""},{"$f":"IF(B249=\"\",\"\",IF(ISBLANK('Whip Data'!X262),'Whip Data'!W262,'Whip Data'!X262))","v":""},"","",{"$f":"IF($B249=\"\",\"\",IF('Whip Data'!Q262=\"\",\"None\",'Whip Data'!Q262))","v":""},{"$f":"IF(O249=\"\",\"\",IF($O249=\"None\",\"NA\",INDEX(Breakers!$A$1:$I$75,MATCH(BOM!C249,Breakers!$A$1:$A$75,0),MATCH(BOM!O249,Breakers!$A$1:$I$1,0))))","v":""},{"$f":"IF(B249=\"\",\"\",VLOOKUP(H249,Standards!$X$3:$Y$6,2,FALSE))","v":""}]
[{"$f":"IF($B250=\"\",\"\",'Whip Data'!$Z263)","v":""},{"$f":"IFERROR('Whip Data'!A263,\"\")","v":""},{"$f":"IF(B250=\"\",\"\",'Whip Data'!L263)","v":""},"",{"$f":"IF($B250=\"\",\"\",VLOOKUP($C250,Materials,'Whip Data'!$M$10+11,FALSE))","v":""},{"$f":"IF($B250=\"\",\"\",VLOOKUP($C250,Materials,'Whip Data'!$M$10+13,FALSE))","v":""},{"$f":"IFERROR(\"LTUA-\"&IF(ISTEXT('Whip Data'!$T263),VLOOKUP('Whip Data'!$T263,Conduit,2,FALSE),VLOOKUP('Whip Data'!$S263,Conduit,2,FALSE))&\"-\"&'Whip Data'!$R263,\"\")","v":""},{"$f":"IF($B250=\"\",\"\",IFERROR(VLOOKUP('Whip Data'!$T263,Conduit,3,FALSE),VLOOKUP('Whip Data'!$S263,Conduit,3,FALSE)))","v":""},{"$f":"IF(B250=\"\",\"\",'Whip Data'!O263)","v":""},{"$f":"IF(C250=\"\",\"\",'Whip Data'!P263)","v":""},{"$f":"IF($B250=\"\",\"\",IF(ISTEXT('Whip Data'!V263),'Whip Data'!V263,'Whip Data'!U263))","v":""},{"$f":"IF(B250=\"\",\"\",IF(ISBLANK('Whip Data'!X263),'Whip Data'!W263,'Whip Data'!X263))","v":""},"","",{"$f":"IF($B250=\"\",\"\",IF('Whip Data'!Q263=\"\",\"None\",'Whip Data'!Q263))","v":""},{"$f":"IF(O250=\"\",\"\",IF($O250=\"None\",\"NA\",INDEX(Breakers!$A$1:$I$75,MATCH(BOM!C250,Breakers!$A$1:$A$75,0),MATCH(BOM!O250,Breakers!$A$1:$I$1,0))))","v":""},{"$f":"IF(B250=\"\",\"\",VLOOKUP(H250,Standards!$X$3:$Y$6,2,FALSE))","v":""}]
[{"$f":"IF($B251=\"\",\"\",'Whip Data'!$Z264)","v":""},{"$f":"IFERROR('Whip Data'!A264,\"\")","v":""},{"$f":"IF(B251=\"\",\"\",'Whip Data'!L264)","v":""},"",{"$f":"IF($B251=\"\",\"\",VLOOKUP($C251,Materials,'Whip Data'!$M$10+11,FALSE))","v":""},{"$f":"IF($B251=\"\",\"\",VLOOKUP($C251,Materials,'Whip Data'!$M$10+13,FALSE))","v":""},{"$f":"IFERROR(\"LTUA-\"&IF(ISTEXT('Whip Data'!$T264),VLOOKUP('Whip Data'!$T264,Conduit,2,FALSE),VLOOKUP('Whip Data'!$S264,Conduit,2,FALSE))&\"-\"&'Whip Data'!$R264,\"\")","v":""},{"$f":"IF($B251=\"\",\"\",IFERROR(VLOOKUP('Whip Data'!$T264,Conduit,3,FALSE),VLOOKUP('Whip Data'!$S264,Conduit,3,FALSE)))","v":""},{"$f":"IF(B251=\"\",\"\",'Whip Data'!O264)","v":""},{"$f":"IF(C251=\"\",\"\",'Whip Data'!P264)","v":""},{"$f":"IF($B251=\"\",\"\",IF(ISTEXT('Whip Data'!V264),'Whip Data'!V264,'Whip Data'!U264))","v":""},{"$f":"IF(B251=\"\",\"\",IF(ISBLANK('Whip Data'!X264),'Whip Data'!W264,'Whip Data'!X264))","v":""},"","",{"$f":"IF($B251=\"\",\"\",IF('Whip Data'!Q264=\"\",\"None\",'Whip Data'!Q264))","v":""},{"$f":"IF(O251=\"\",\"\",IF($O251=\"None\",\"NA\",INDEX(Breakers!$A$1:$I$75,MATCH(BOM!C251,Breakers!$A$1:$A$75,0),MATCH(BOM!O251,Breakers!$A$1:$I$1,0))))","v":""},{"$f":"IF(B251=\"\",\"\",VLOOKUP(H251,Standards!$X$3:$Y$6,2,FALSE))","v":""}]
[{"$f":"IF($B252=\"\",\"\",'Whip Data'!$Z265)","v":""},{"$f":"IFERROR('Whip Data'!A265,\"\")","v":""},{"$f":"IF(B252=\"\",\"\",'Whip Data'!L265)","v":""},"",{"$f":"IF($B252=\"\",\"\",VLOOKUP($C252,Materials,'Whip Data'!$M$10+11,FALSE))","v":""},{"$f":"IF($B252=\"\",\"\",VLOOKUP($C252,Materials,'Whip Data'!$M$10+13,FALSE))","v":""},{"$f":"IFERROR(\"LTUA-\"&IF(ISTEXT('Whip Data'!$T265),VLOOKUP('Whip Data'!$T265,Conduit,2,FALSE),VLOOKUP('Whip Data'!$S265,Conduit,2,FALSE))&\"-\"&'Whip Data'!$R265,\"\")","v":""},{"$f":"IF($B252=\"\",\"\",IFERROR(VLOOKUP('Whip Data'!$T265,Conduit,3,FALSE),VLOOKUP('Whip Data'!$S265,Conduit,3,FALSE)))","v":""},{"$f":"IF(B252=\"\",\"\",'Whip Data'!O265)","v":""},{"$f":"IF(C252=\"\",\"\",'Whip Data'!P265)","v":""},{"$f":"IF($B252=\"\",\"\",IF(ISTEXT('Whip Data'!V265),'Whip Data'!V265,'Whip Data'!U265))","v":""},{"$f":"IF(B252=\"\",\"\",IF(ISBLANK('Whip Data'!X265),'Whip Data'!W265,'Whip Data'!X265))","v":""},"","",{"$f":"IF($B252=\"\",\"\",IF('Whip Data'!Q265=\"\",\"None\",'Whip Data'!Q265))","v":""},{"$f":"IF(O252=\"\",\"\",IF($O252=\"None\",\"NA\",INDEX(Breakers!$A$1:$I$75,MATCH(BOM!C252,Breakers!$A$1:$A$75,0),MATCH(BOM!O252,Breakers!$A$1:$I$1,0))))","v":""},{"$f":"IF(B252=\"\",\"\",VLOOKUP(H252,Standards!$X$3:$Y$6,2,FALSE))","v":""}]
[{"$f":"IF($B253=\"\",\"\",'Whip Data'!$Z266)","v":""},{"$f":"IFERROR('Whip Data'!A266,\"\")","v":""},{"$f":"IF(B253=\"\",\"\",'Whip Data'!L266)","v":""},"",{"$f":"IF($B253=\"\",\"\",VLOOKUP($C253,Materials,'Whip Data'!$M$10+11,FALSE))","v":""},{"$f":"IF($B253=\"\",\"\",VLOOKUP($C253,Materials,'Whip Data'!$M$10+13,FALSE))","v":""},{"$f":"IFERROR(\"LTUA-\"&IF(ISTEXT('Whip Data'!$T266),VLOOKUP('Whip Data'!$T266,Conduit,2,FALSE),VLOOKUP('Whip Data'!$S266,Conduit,2,FALSE))&\"-\"&'Whip Data'!$R266,\"\")","v":""},{"$f":"IF($B253=\"\",\"\",IFERROR(VLOOKUP('Whip Data'!$T266,Conduit,3,FALSE),VLOOKUP('Whip Data'!$S266,Conduit,3,FALSE)))","v":""},{"$f":"IF(B253=\"\",\"\",'Whip Data'!O266)","v":""},{"$f":"IF(C253=\"\",\"\",'Whip Data'!P266)","v":""},{"$f":"IF($B253=\"\",\"\",IF(ISTEXT('Whip Data'!V266),'Whip Data'!V266,'Whip Data'!U266))","v":""},{"$f":"IF(B253=\"\",\"\",IF(ISBLANK('Whip Data'!X266),'Whip Data'!W266,'Whip Data'!X266))","v":""},"","",{"$f":"IF($B253=\"\",\"\",IF('Whip Data'!Q266=\"\",\"None\",'Whip Data'!Q266))","v":""},{"$f":"IF(O253=\"\",\"\",IF($O253=\"None\",\"NA\",INDEX(Breakers!$A$1:$I$75,MATCH(BOM!C253,Breakers!$A$1:$A$75,0),MATCH(BOM!O253,Breakers!$A$1:$I$1,0))))","v":""},{"$f":"IF(B253=\"\",\"\",VLOOKUP(H253,Standards!$X$3:$Y$6,2,FALSE))","v":""}]
[{"$f":"IF($B254=\"\",\"\",'Whip Data'!$Z267)","v":""},{"$f":"IFERROR('Whip Data'!A267,\"\")","v":""},{"$f":"IF(B254=\"\",\"\",'Whip Data'!L267)","v":""},"",{"$f":"IF($B254=\"\",\"\",VLOOKUP($C254,Materials,'Whip Data'!$M$10+11,FALSE))","v":""},{"$f":"IF($B254=\"\",\"\",VLOOKUP($C254,Materials,'Whip Data'!$M$10+13,FALSE))","v":""},{"$f":"IFERROR(\"LTUA-\"&IF(ISTEXT('Whip Data'!$T267),VLOOKUP('Whip Data'!$T267,Conduit,2,FALSE),VLOOKUP('Whip Data'!$S267,Conduit,2,FALSE))&\"-\"&'Whip Data'!$R267,\"\")","v":""},{"$f":"IF($B254=\"\",\"\",IFERROR(VLOOKUP('Whip Data'!$T267,Conduit,3,FALSE),VLOOKUP('Whip Data'!$S267,Conduit,3,FALSE)))","v":""},{"$f":"IF(B254=\"\",\"\",'Whip Data'!O267)","v":""},{"$f":"IF(C254=\"\",\"\",'Whip Data'!P267)","v":""},{"$f":"IF($B254=\"\",\"\",IF(ISTEXT('Whip Data'!V267),'Whip Data'!V267,'Whip Data'!U267))","v":""},{"$f":"IF(B254=\"\",\"\",IF(ISBLANK('Whip Data'!X267),'Whip Data'!W267,'Whip Data'!X267))","v":""},"","",{"$f":"IF($B254=\"\",\"\",IF('Whip Data'!Q267=\"\",\"None\",'Whip Data'!Q267))","v":""},{"$f":"IF(O254=\"\",\"\",IF($O254=\"None\",\"NA\",INDEX(Breakers!$A$1:$I$75,MATCH(BOM!C254,Breakers!$A$1:$A$75,0),MATCH(BOM!O254,Breakers!$A$1:$I$1,0))))","v":""},{"$f":"IF(B254=\"\",\"\",VLOOKUP(H254,Standards!$X$3:$Y$6,2,FALSE))","v":""}]
[{"$f":"IF($B255=\"\",\"\",'Whip Data'!$Z268)","v":""},{"$f":"IFERROR('Whip Data'!A268,\"\")","v":""},{"$f":"IF(B255=\"\",\"\",'Whip Data'!L268)","v":""},"",{"$f":"IF($B255=\"\",\"\",VLOOKUP($C255,Materials,'Whip Data'!$M$10+11,FALSE))","v":""},{"$f":"IF($B255=\"\",\"\",VLOOKUP($C255,Materials,'Whip Data'!$M$10+13,FALSE))","v":""},{"$f":"IFERROR(\"LTUA-\"&IF(ISTEXT('Whip Data'!$T268),VLOOKUP('Whip Data'!$T268,Conduit,2,FALSE),VLOOKUP('Whip Data'!$S268,Conduit,2,FALSE))&\"-\"&'Whip Data'!$R268,\"\")","v":""},{"$f":"IF($B255=\"\",\"\",IFERROR(VLOOKUP('Whip Data'!$T268,Conduit,3,FALSE),VLOOKUP('Whip Data'!$S268,Conduit,3,FALSE)))","v":""},{"$f":"IF(B255=\"\",\"\",'Whip Data'!O268)","v":""},{"$f":"IF(C255=\"\",\"\",'Whip Data'!P268)","v":""},{"$f":"IF($B255=\"\",\"\",IF(ISTEXT('Whip Data'!V268),'Whip Data'!V268,'Whip Data'!U268))","v":""},{"$f":"IF(B255=\"\",\"\",IF(ISBLANK('Whip Data'!X268),'Whip Data'!W268,'Whip Data'!X268))","v":""},"","",{"$f":"IF($B255=\"\",\"\",IF('Whip Data'!Q268=\"\",\"None\",'Whip Data'!Q268))","v":""},{"$f":"IF(O255=\"\",\"\",IF($O255=\"None\",\"NA\",INDEX(Breakers!$A$1:$I$75,MATCH(BOM!C255,Breakers!$A$1:$A$75,0),MATCH(BOM!O255,Breakers!$A$1:$I$1,0))))","v":""},{"$f":"IF(B255=\"\",\"\",VLOOKUP(H255,Standards!$X$3:$Y$6,2,FALSE))","v":""}]
[{"$f":"IF($B256=\"\",\"\",'Whip Data'!$Z269)","v":""},{"$f":"IFERROR('Whip Data'!A269,\"\")","v":""},{"$f":"IF(B256=\"\",\"\",'Whip Data'!L269)","v":""},"",{"$f":"IF($B256=\"\",\"\",VLOOKUP($C256,Materials,'Whip Data'!$M$10+11,FALSE))","v":""},{"$f":"IF($B256=\"\",\"\",VLOOKUP($C256,Materials,'Whip Data'!$M$10+13,FALSE))","v":""},{"$f":"IFERROR(\"LTUA-\"&IF(ISTEXT('Whip Data'!$T269),VLOOKUP('Whip Data'!$T269,Conduit,2,FALSE),VLOOKUP('Whip Data'!$S269,Conduit,2,FALSE))&\"-\"&'Whip Data'!$R269,\"\")","v":""},{"$f":"IF($B256=\"\",\"\",IFERROR(VLOOKUP('Whip Data'!$T269,Conduit,3,FALSE),VLOOKUP('Whip Data'!$S269,Conduit,3,FALSE)))","v":""},{"$f":"IF(B256=\"\",\"\",'Whip Data'!O269)","v":""},{"$f":"IF(C256=\"\",\"\",'Whip Data'!P269)","v":""},{"$f":"IF($B256=\"\",\"\",IF(ISTEXT('Whip Data'!V269),'Whip Data'!V269,'Whip Data'!U269))","v":""},{"$f":"IF(B256=\"\",\"\",IF(ISBLANK('Whip Data'!X269),'Whip Data'!W269,'Whip Data'!X269))","v":""},"","",{"$f":"IF($B256=\"\",\"\",IF('Whip Data'!Q269=\"\",\"None\",'Whip Data'!Q269))","v":""},{"$f":"IF(O256=\"\",\"\",IF($O256=\"None\",\"NA\",INDEX(Breakers!$A$1:$I$75,MATCH(BOM!C256,Breakers!$A$1:$A$75,0),MATCH(BOM!O256,Breakers!$A$1:$I$1,0))))","v":""},{"$f":"IF(B256=\"\",\"\",VLOOKUP(H256,Standards!$X$3:$Y$6,2,FALSE))","v":""}]
[{"$f":"IF($B257=\"\",\"\",'Whip Data'!$Z270)","v":""},{"$f":"IFERROR('Whip Data'!A270,\"\")","v":""},{"$f":"IF(B257=\"\",\"\",'Whip Data'!L270)","v":""},"",{"$f":"IF($B257=\"\",\"\",VLOOKUP($C257,Materials,'Whip Data'!$M$10+11,FALSE))","v":""},{"$f":"IF($B257=\"\",\"\",VLOOKUP($C257,Materials,'Whip Data'!$M$10+13,FALSE))","v":""},{"$f":"IFERROR(\"LTUA-\"&IF(ISTEXT('Whip Data'!$T270),VLOOKUP('Whip Data'!$T270,Conduit,2,FALSE),VLOOKUP('Whip Data'!$S270,Conduit,2,FALSE))&\"-\"&'Whip Data'!$R270,\"\")","v":""},{"$f":"IF($B257=\"\",\"\",IFERROR(VLOOKUP('Whip Data'!$T270,Conduit,3,FALSE),VLOOKUP('Whip Data'!$S270,Conduit,3,FALSE)))","v":""},{"$f":"IF(B257=\"\",\"\",'Whip Data'!O270)","v":""},{"$f":"IF(C257=\"\",\"\",'Whip Data'!P270)","v":""},{"$f":"IF($B257=\"\",\"\",IF(ISTEXT('Whip Data'!V270),'Whip Data'!V270,'Whip Data'!U270))","v":""},{"$f":"IF(B257=\"\",\"\",IF(ISBLANK('Whip Data'!X270),'Whip Data'!W270,'Whip Data'!X270))","v":""},"","",{"$f":"IF($B257=\"\",\"\",IF('Whip Data'!Q270=\"\",\"None\",'Whip Data'!Q270))","v":""},{"$f":"IF(O257=\"\",\"\",IF($O257=\"None\",\"NA\",INDEX(Breakers!$A$1:$I$75,MATCH(BOM!C257,Breakers!$A$1:$A$75,0),MATCH(BOM!O257,Breakers!$A$1:$I$1,0))))","v":""},{"$f":"IF(B257=\"\",\"\",VLOOKUP(H257,Standards!$X$3:$Y$6,2,FALSE))","v":""}]
[{"$f":"IF($B258=\"\",\"\",'Whip Data'!$Z271)","v":""},{"$f":"IFERROR('Whip Data'!A271,\"\")","v":""},{"$f":"IF(B258=\"\",\"\",'Whip Data'!L271)","v":""},{"$f":"IF(B258=\"\",\"\",VLOOKUP(C258,Materials,11,FALSE))","v":""},{"$f":"IF($B258=\"\",\"\",VLOOKUP($C258,Materials,'Whip Data'!$M$10+11,FALSE))","v":""},{"$f":"IF($B258=\"\",\"\",VLOOKUP($C258,Materials,'Whip Data'!$M$10+13,FALSE))","v":""},{"$f":"IFERROR(\"LTUA-\"&IF(ISTEXT('Whip Data'!$T271),VLOOKUP('Whip Data'!$T271,Conduit,2,FALSE),VLOOKUP('Whip Data'!$S271,Conduit,2,FALSE))&\"-\"&'Whip Data'!$R271,\"\")","v":""},{"$f":"IF($B258=\"\",\"\",IFERROR(VLOOKUP('Whip Data'!$T271,Conduit,3,FALSE),VLOOKUP('Whip Data'!$S271,Conduit,3,FALSE)))","v":""},{"$f":"IF(B258=\"\",\"\",'Whip Data'!O271)","v":""},{"$f":"IF(C258=\"\",\"\",'Whip Data'!P271)","v":""},{"$f":"IF($B258=\"\",\"\",IF(ISTEXT('Whip Data'!V271),'Whip Data'!V271,'Whip Data'!U271))","v":""},{"$f":"IF(B258=\"\",\"\",IF(ISBLANK('Whip Data'!X271),'Whip Data'!W271,'Whip Data'!X271))","v":""},"","",{"$f":"IF($B258=\"\",\"\",IF('Whip Data'!Q271=\"\",\"None\",'Whip Data'!Q271))","v":""},{"$f":"IF(O258=\"\",\"\",IF($O258=\"None\",\"NA\",INDEX(Breakers!$A$1:$I$75,MATCH(BOM!C258,Breakers!$A$1:$A$75,0),MATCH(BOM!O258,Breakers!$A$1:$I$1,0))))","v":""},{"$f":"IF(B258=\"\",\"\",VLOOKUP(H258,Standards!$X$3:$Y$6,2,FALSE))","v":""}]
[{"$f":"IF($B259=\"\",\"\",'Whip Data'!$Z272)","v":""},{"$f":"IFERROR('Whip Data'!A272,\"\")","v":""},{"$f":"IF(B259=\"\",\"\",'Whip Data'!L272)","v":""},"",{"$f":"IF($B259=\"\",\"\",VLOOKUP($C259,Materials,'Whip Data'!$M$10+11,FALSE))","v":""},{"$f":"IF($B259=\"\",\"\",VLOOKUP($C259,Materials,'Whip Data'!$M$10+13,FALSE))","v":""},{"$f":"IFERROR(\"LTUA-\"&IF(ISTEXT('Whip Data'!$T272),VLOOKUP('Whip Data'!$T272,Conduit,2,FALSE),VLOOKUP('Whip Data'!$S272,Conduit,2,FALSE))&\"-\"&'Whip Data'!$R272,\"\")","v":""},{"$f":"IF($B259=\"\",\"\",IFERROR(VLOOKUP('Whip Data'!$T272,Conduit,3,FALSE),VLOOKUP('Whip Data'!$S272,Conduit,3,FALSE)))","v":""},{"$f":"IF(B259=\"\",\"\",'Whip Data'!O272)","v":""},{"$f":"IF(C259=\"\",\"\",'Whip Data'!P272)","v":""},{"$f":"IF($B259=\"\",\"\",IF(ISTEXT('Whip Data'!V272),'Whip Data'!V272,'Whip Data'!U272))","v":""},{"$f":"IF(B259=\"\",\"\",IF(ISBLANK('Whip Data'!X272),'Whip Data'!W272,'Whip Data'!X272))","v":""},{"$f":"IF(B259=\"\",\"\",SUM(I259:J259))","v":""},{"$f":"IF(B259=\"\",\"\",LEFT(K259,1)*M259)","v":""},{"$f":"IF($B259=\"\",\"\",IF('Whip Data'!Q272=\"\",\"None\",'Whip Data'!Q272))","v":""},{"$f":"IF(O259=\"\",\"\",IF($O259=\"None\",\"NA\",INDEX(Breakers!$A$1:$I$75,MATCH(BOM!C259,Breakers!$A$1:$A$75,0),MATCH(BOM!O259,Breakers!$A$1:$I$1,0))))","v":""},{"$f":"IF(B259=\"\",\"\",VLOOKUP(H259,Standards!$X$3:$Y$6,2,FALSE))","v":""}]
[{"$f":"IF($B260=\"\",\"\",'Whip Data'!$Z273)","v":""},{"$f":"IFERROR('Whip Data'!A273,\"\")","v":""},{"$f":"IF(B260=\"\",\"\",'Whip Data'!L273)","v":""},"",{"$f":"IF($B260=\"\",\"\",VLOOKUP($C260,Materials,'Whip Data'!$M$10+11,FALSE))","v":""},{"$f":"IF($B260=\"\",\"\",VLOOKUP($C260,Materials,'Whip Data'!$M$10+13,FALSE))","v":""},{"$f":"IFERROR(\"LTUA-\"&IF(ISTEXT('Whip Data'!$T273),VLOOKUP('Whip Data'!$T273,Conduit,2,FALSE),VLOOKUP('Whip Data'!$S273,Conduit,2,FALSE))&\"-\"&'Whip Data'!$R273,\"\")","v":""},{"$f":"IF($B260=\"\",\"\",IFERROR(VLOOKUP('Whip Data'!$T273,Conduit,3,FALSE),VLOOKUP('Whip Data'!$S273,Conduit,3,FALSE)))","v":""},{"$f":"IF(B260=\"\",\"\",'Whip Data'!O273)","v":""},{"$f":"IF(C260=\"\",\"\",'Whip Data'!P273)","v":""},{"$f":"IF($B260=\"\",\"\",IF(ISTEXT('Whip Data'!V273),'Whip Data'!V273,'Whip Data'!U273))","v":""},{"$f":"IF(B260=\"\",\"\",IF(ISBLANK('Whip Data'!X273),'Whip Data'!W273,'Whip Data'!X273))","v":""},"","",{"$f":"IF($B260=\"\",\"\",IF('Whip Data'!Q273=\"\",\"None\",'Whip Data'!Q273))","v":""},{"$f":"IF(O260=\"\",\"\",IF($O260=\"None\",\"NA\",INDEX(Breakers!$A$1:$I$75,MATCH(BOM!C260,Breakers!$A$1:$A$75,0),MATCH(BOM!O260,Breakers!$A$1:$I$1,0))))","v":""},{"$f":"IF(B260=\"\",\"\",VLOOKUP(H260,Standards!$X$3:$Y$6,2,FALSE))","v":""}]
[{"$f":"IF($B261=\"\",\"\",'Whip Data'!$Z274)","v":""},{"$f":"IFERROR('Whip Data'!A274,\"\")","v":""},{"$f":"IF(B261=\"\",\"\",'Whip Data'!L274)","v":""},"",{"$f":"IF($B261=\"\",\"\",VLOOKUP($C261,Materials,'Whip Data'!$M$10+11,FALSE))","v":""},{"$f":"IF($B261=\"\",\"\",VLOOKUP($C261,Materials,'Whip Data'!$M$10+13,FALSE))","v":""},{"$f":"IFERROR(\"LTUA-\"&IF(ISTEXT('Whip Data'!$T274),VLOOKUP('Whip Data'!$T274,Conduit,2,FALSE),VLOOKUP('Whip Data'!$S274,Conduit,2,FALSE))&\"-\"&'Whip Data'!$R274,\"\")","v":""},{"$f":"IF($B261=\"\",\"\",IFERROR(VLOOKUP('Whip Data'!$T274,Conduit,3,FALSE),VLOOKUP('Whip Data'!$S274,Conduit,3,FALSE)))","v":""},{"$f":"IF(B261=\"\",\"\",'Whip Data'!O274)","v":""},{"$f":"IF(C261=\"\",\"\",'Whip Data'!P274)","v":""},{"$f":"IF($B261=\"\",\"\",IF(ISTEXT('Whip Data'!V274),'Whip Data'!V274,'Whip Data'!U274))","v":""},{"$f":"IF(B261=\"\",\"\",IF(ISBLANK('Whip Data'!X274),'Whip Data'!W274,'Whip Data'!X274))","v":""},"","",{"$f":"IF($B261=\"\",\"\",IF('Whip Data'!Q274=\"\",\"None\",'Whip Data'!Q274))","v":""},{"$f":"IF(O261=\"\",\"\",IF($O261=\"None\",\"NA\",INDEX(Breakers!$A$1:$I$75,MATCH(BOM!C261,Breakers!$A$1:$A$75,0),MATCH(BOM!O261,Breakers!$A$1:$I$1,0))))","v":""},{"$f":"IF(B261=\"\",\"\",VLOOKUP(H261,Standards!$X$3:$Y$6,2,FALSE))","v":""}]
[{"$f":"IF($B262=\"\",\"\",'Whip Data'!$Z275)","v":""},{"$f":"IFERROR('Whip Data'!A275,\"\")","v":""},{"$f":"IF(B262=\"\",\"\",'Whip Data'!L275)","v":""},"",{"$f":"IF($B262=\"\",\"\",VLOOKUP($C262,Materials,'Whip Data'!$M$10+11,FALSE))","v":""},{"$f":"IF($B262=\"\",\"\",VLOOKUP($C262,Materials,'Whip Data'!$M$10+13,FALSE))","v":""},{"$f":"IFERROR(\"LTUA-\"&IF(ISTEXT('Whip Data'!$T275),VLOOKUP('Whip Data'!$T275,Conduit,2,FALSE),VLOOKUP('Whip Data'!$S275,Conduit,2,FALSE))&\"-\"&'Whip Data'!$R275,\"\")","v":""},{"$f":"IF($B262=\"\",\"\",IFERROR(VLOOKUP('Whip Data'!$T275,Conduit,3,FALSE),VLOOKUP('Whip Data'!$S275,Conduit,3,FALSE)))","v":""},{"$f":"IF(B262=\"\",\"\",'Whip Data'!O275)","v":""},{"$f":"IF(C262=\"\",\"\",'Whip Data'!P275)","v":""},{"$f":"IF($B262=\"\",\"\",IF(ISTEXT('Whip Data'!V275),'Whip Data'!V275,'Whip Data'!U275))","v":""},{"$f":"IF(B262=\"\",\"\",IF(ISBLANK('Whip Data'!X275),'Whip Data'!W275,'Whip Data'!X275))","v":""},"","",{"$f":"IF($B262=\"\",\"\",IF('Whip Data'!Q275=\"\",\"None\",'Whip Data'!Q275))","v":""},{"$f":"IF(O262=\"\",\"\",IF($O262=\"None\",\"NA\",INDEX(Breakers!$A$1:$I$75,MATCH(BOM!C262,Breakers!$A$1:$A$75,0),MATCH(BOM!O262,Breakers!$A$1:$I$1,0))))","v":""},{"$f":"IF(B262=\"\",\"\",VLOOKUP(H262,Standards!$X$3:$Y$6,2,FALSE))","v":""}]
[{"$f":"IF($B263=\"\",\"\",'Whip Data'!$Z276)","v":""},{"$f":"IFERROR('Whip Data'!A276,\"\")","v":""},{"$f":"IF(B263=\"\",\"\",'Whip Data'!L276)","v":""},"",{"$f":"IF($B263=\"\",\"\",VLOOKUP($C263,Materials,'Whip Data'!$M$10+11,FALSE))","v":""},{"$f":"IF($B263=\"\",\"\",VLOOKUP($C263,Materials,'Whip Data'!$M$10+13,FALSE))","v":""},{"$f":"IFERROR(\"LTUA-\"&IF(ISTEXT('Whip Data'!$T276),VLOOKUP('Whip Data'!$T276,Conduit,2,FALSE),VLOOKUP('Whip Data'!$S276,Conduit,2,FALSE))&\"-\"&'Whip Data'!$R276,\"\")","v":""},{"$f":"IF($B263=\"\",\"\",IFERROR(VLOOKUP('Whip Data'!$T276,Conduit,3,FALSE),VLOOKUP('Whip Data'!$S276,Conduit,3,FALSE)))","v":""},{"$f":"IF(B263=\"\",\"\",'Whip Data'!O276)","v":""},{"$f":"IF(C263=\"\",\"\",'Whip Data'!P276)","v":""},{"$f":"IF($B263=\"\",\"\",IF(ISTEXT('Whip Data'!V276),'Whip Data'!V276,'Whip Data'!U276))","v":""},{"$f":"IF(B263=\"\",\"\",IF(ISBLANK('Whip Data'!X276),'Whip Data'!W276,'Whip Data'!X276))","v":""},"","",{"$f":"IF($B263=\"\",\"\",IF('Whip Data'!Q276=\"\",\"None\",'Whip Data'!Q276))","v":""},{"$f":"IF(O263=\"\",\"\",IF($O263=\"None\",\"NA\",INDEX(Breakers!$A$1:$I$75,MATCH(BOM!C263,Breakers!$A$1:$A$75,0),MATCH(BOM!O263,Breakers!$A$1:$I$1,0))))","v":""},{"$f":"IF(B263=\"\",\"\",VLOOKUP(H263,Standards!$X$3:$Y$6,2,FALSE))","v":""}]
[{"$f":"IF($B264=\"\",\"\",'Whip Data'!$Z277)","v":""},{"$f":"IFERROR('Whip Data'!A277,\"\")","v":""},{"$f":"IF(B264=\"\",\"\",'Whip Data'!L277)","v":""},"",{"$f":"IF($B264=\"\",\"\",VLOOKUP($C264,Materials,'Whip Data'!$M$10+11,FALSE))","v":""},{"$f":"IF($B264=\"\",\"\",VLOOKUP($C264,Materials,'Whip Data'!$M$10+13,FALSE))","v":""},{"$f":"IFERROR(\"LTUA-\"&IF(ISTEXT('Whip Data'!$T277),VLOOKUP('Whip Data'!$T277,Conduit,2,FALSE),VLOOKUP('Whip Data'!$S277,Conduit,2,FALSE))&\"-\"&'Whip Data'!$R277,\"\")","v":""},{"$f":"IF($B264=\"\",\"\",IFERROR(VLOOKUP('Whip Data'!$T277,Conduit,3,FALSE),VLOOKUP('Whip Data'!$S277,Conduit,3,FALSE)))","v":""},{"$f":"IF(B264=\"\",\"\",'Whip Data'!O277)","v":""},{"$f":"IF(C264=\"\",\"\",'Whip Data'!P277)","v":""},{"$f":"IF($B264=\"\",\"\",IF(ISTEXT('Whip Data'!V277),'Whip Data'!V277,'Whip Data'!U277))","v":""},{"$f":"IF(B264=\"\",\"\",IF(ISBLANK('Whip Data'!X277),'Whip Data'!W277,'Whip Data'!X277))","v":""},"","",{"$f":"IF($B264=\"\",\"\",IF('Whip Data'!Q277=\"\",\"None\",'Whip Data'!Q277))","v":""},{"$f":"IF(O264=\"\",\"\",IF($O264=\"None\",\"NA\",INDEX(Breakers!$A$1:$I$75,MATCH(BOM!C264,Breakers!$A$1:$A$75,0),MATCH(BOM!O264,Breakers!$A$1:$I$1,0))))","v":""},{"$f":"IF(B264=\"\",\"\",VLOOKUP(H264,Standards!$X$3:$Y$6,2,FALSE))","v":""}]
[{"$f":"IF($B265=\"\",\"\",'Whip Data'!$Z278)","v":""},{"$f":"IFERROR('Whip Data'!A278,\"\")","v":""},{"$f":"IF(B265=\"\",\"\",'Whip Data'!L278)","v":""},"",{"$f":"IF($B265=\"\",\"\",VLOOKUP($C265,Materials,'Whip Data'!$M$10+11,FALSE))","v":""},{"$f":"IF($B265=\"\",\"\",VLOOKUP($C265,Materials,'Whip Data'!$M$10+13,FALSE))","v":""},{"$f":"IFERROR(\"LTUA-\"&IF(ISTEXT('Whip Data'!$T278),VLOOKUP('Whip Data'!$T278,Conduit,2,FALSE),VLOOKUP('Whip Data'!$S278,Conduit,2,FALSE))&\"-\"&'Whip Data'!$R278,\"\")","v":""},{"$f":"IF($B265=\"\",\"\",IFERROR(VLOOKUP('Whip Data'!$T278,Conduit,3,FALSE),VLOOKUP('Whip Data'!$S278,Conduit,3,FALSE)))","v":""},{"$f":"IF(B265=\"\",\"\",'Whip Data'!O278)","v":""},{"$f":"IF(C265=\"\",\"\",'Whip Data'!P278)","v":""},{"$f":"IF($B265=\"\",\"\",IF(ISTEXT('Whip Data'!V278),'Whip Data'!V278,'Whip Data'!U278))","v":""},{"$f":"IF(B265=\"\",\"\",IF(ISBLANK('Whip Data'!X278),'Whip Data'!W278,'Whip Data'!X278))","v":""},"","",{"$f":"IF($B265=\"\",\"\",IF('Whip Data'!Q278=\"\",\"None\",'Whip Data'!Q278))","v":""},{"$f":"IF(O265=\"\",\"\",IF($O265=\"None\",\"NA\",INDEX(Breakers!$A$1:$I$75,MATCH(BOM!C265,Breakers!$A$1:$A$75,0),MATCH(BOM!O265,Breakers!$A$1:$I$1,0))))","v":""},{"$f":"IF(B265=\"\",\"\",VLOOKUP(H265,Standards!$X$3:$Y$6,2,FALSE))","v":""}]
[{"$f":"IF($B266=\"\",\"\",'Whip Data'!$Z279)","v":""},{"$f":"IFERROR('Whip Data'!A279,\"\")","v":""},{"$f":"IF(B266=\"\",\"\",'Whip Data'!L279)","v":""},"",{"$f":"IF($B266=\"\",\"\",VLOOKUP($C266,Materials,'Whip Data'!$M$10+11,FALSE))","v":""},{"$f":"IF($B266=\"\",\"\",VLOOKUP($C266,Materials,'Whip Data'!$M$10+13,FALSE))","v":""},{"$f":"IFERROR(\"LTUA-\"&IF(ISTEXT('Whip Data'!$T279),VLOOKUP('Whip Data'!$T279,Conduit,2,FALSE),VLOOKUP('Whip Data'!$S279,Conduit,2,FALSE))&\"-\"&'Whip Data'!$R279,\"\")","v":""},{"$f":"IF($B266=\"\",\"\",IFERROR(VLOOKUP('Whip Data'!$T279,Conduit,3,FALSE),VLOOKUP('Whip Data'!$S279,Conduit,3,FALSE)))","v":""},{"$f":"IF(B266=\"\",\"\",'Whip Data'!O279)","v":""},{"$f":"IF(C266=\"\",\"\",'Whip Data'!P279)","v":""},{"$f":"IF($B266=\"\",\"\",IF(ISTEXT('Whip Data'!V279),'Whip Data'!V279,'Whip Data'!U279))","v":""},{"$f":"IF(B266=\"\",\"\",IF(ISBLANK('Whip Data'!X279),'Whip Data'!W279,'Whip Data'!X279))","v":""},"","",{"$f":"IF($B266=\"\",\"\",IF('Whip Data'!Q279=\"\",\"None\",'Whip Data'!Q279))","v":""},{"$f":"IF(O266=\"\",\"\",IF($O266=\"None\",\"NA\",INDEX(Breakers!$A$1:$I$75,MATCH(BOM!C266,Breakers!$A$1:$A$75,0),MATCH(BOM!O266,Breakers!$A$1:$I$1,0))))","v":""},{"$f":"IF(B266=\"\",\"\",VLOOKUP(H266,Standards!$X$3:$Y$6,2,FALSE))","v":""}]
[{"$f":"IF($B267=\"\",\"\",'Whip Data'!$Z280)","v":""},{"$f":"IFERROR('Whip Data'!A280,\"\")","v":""},{"$f":"IF(B267=\"\",\"\",'Whip Data'!L280)","v":""},"",{"$f":"IF($B267=\"\",\"\",VLOOKUP($C267,Materials,'Whip Data'!$M$10+11,FALSE))","v":""},{"$f":"IF($B267=\"\",\"\",VLOOKUP($C267,Materials,'Whip Data'!$M$10+13,FALSE))","v":""},{"$f":"IFERROR(\"LTUA-\"&IF(ISTEXT('Whip Data'!$T280),VLOOKUP('Whip Data'!$T280,Conduit,2,FALSE),VLOOKUP('Whip Data'!$S280,Conduit,2,FALSE))&\"-\"&'Whip Data'!$R280,\"\")","v":""},{"$f":"IF($B267=\"\",\"\",IFERROR(VLOOKUP('Whip Data'!$T280,Conduit,3,FALSE),VLOOKUP('Whip Data'!$S280,Conduit,3,FALSE)))","v":""},{"$f":"IF(B267=\"\",\"\",'Whip Data'!O280)","v":""},{"$f":"IF(C267=\"\",\"\",'Whip Data'!P280)","v":""},{"$f":"IF($B267=\"\",\"\",IF(ISTEXT('Whip Data'!V280),'Whip Data'!V280,'Whip Data'!U280))","v":""},{"$f":"IF(B267=\"\",\"\",IF(ISBLANK('Whip Data'!X280),'Whip Data'!W280,'Whip Data'!X280))","v":""},"","",{"$f":"IF($B267=\"\",\"\",IF('Whip Data'!Q280=\"\",\"None\",'Whip Data'!Q280))","v":""},{"$f":"IF(O267=\"\",\"\",IF($O267=\"None\",\"NA\",INDEX(Breakers!$A$1:$I$75,MATCH(BOM!C267,Breakers!$A$1:$A$75,0),MATCH(BOM!O267,Breakers!$A$1:$I$1,0))))","v":""},{"$f":"IF(B267=\"\",\"\",VLOOKUP(H267,Standards!$X$3:$Y$6,2,FALSE))","v":""}]
[{"$f":"IF($B268=\"\",\"\",'Whip Data'!$Z281)","v":""},{"$f":"IFERROR('Whip Data'!A281,\"\")","v":""},{"$f":"IF(B268=\"\",\"\",'Whip Data'!L281)","v":""},"",{"$f":"IF($B268=\"\",\"\",VLOOKUP($C268,Materials,'Whip Data'!$M$10+11,FALSE))","v":""},{"$f":"IF($B268=\"\",\"\",VLOOKUP($C268,Materials,'Whip Data'!$M$10+13,FALSE))","v":""},{"$f":"IFERROR(\"LTUA-\"&IF(ISTEXT('Whip Data'!$T281),VLOOKUP('Whip Data'!$T281,Conduit,2,FALSE),VLOOKUP('Whip Data'!$S281,Conduit,2,FALSE))&\"-\"&'Whip Data'!$R281,\"\")","v":""},{"$f":"IF($B268=\"\",\"\",IFERROR(VLOOKUP('Whip Data'!$T281,Conduit,3,FALSE),VLOOKUP('Whip Data'!$S281,Conduit,3,FALSE)))","v":""},{"$f":"IF(B268=\"\",\"\",'Whip Data'!O281)","v":""},{"$f":"IF(C268=\"\",\"\",'Whip Data'!P281)","v":""},{"$f":"IF($B268=\"\",\"\",IF(ISTEXT('Whip Data'!V281),'Whip Data'!V281,'Whip Data'!U281))","v":""},{"$f":"IF(B268=\"\",\"\",IF(ISBLANK('Whip Data'!X281),'Whip Data'!W281,'Whip Data'!X281))","v":""},"","",{"$f":"IF($B268=\"\",\"\",IF('Whip Data'!Q281=\"\",\"None\",'Whip Data'!Q281))","v":""},{"$f":"IF(O268=\"\",\"\",IF($O268=\"None\",\"NA\",INDEX(Breakers!$A$1:$I$75,MATCH(BOM!C268,Breakers!$A$1:$A$75,0),MATCH(BOM!O268,Breakers!$A$1:$I$1,0))))","v":""},{"$f":"IF(B268=\"\",\"\",VLOOKUP(H268,Standards!$X$3:$Y$6,2,FALSE))","v":""}]
[{"$f":"IF($B269=\"\",\"\",'Whip Data'!$Z282)","v":""},{"$f":"IFERROR('Whip Data'!A282,\"\")","v":""},{"$f":"IF(B269=\"\",\"\",'Whip Data'!L282)","v":""},"",{"$f":"IF($B269=\"\",\"\",VLOOKUP($C269,Materials,'Whip Data'!$M$10+11,FALSE))","v":""},{"$f":"IF($B269=\"\",\"\",VLOOKUP($C269,Materials,'Whip Data'!$M$10+13,FALSE))","v":""},{"$f":"IFERROR(\"LTUA-\"&IF(ISTEXT('Whip Data'!$T282),VLOOKUP('Whip Data'!$T282,Conduit,2,FALSE),VLOOKUP('Whip Data'!$S282,Conduit,2,FALSE))&\"-\"&'Whip Data'!$R282,\"\")","v":""},{"$f":"IF($B269=\"\",\"\",IFERROR(VLOOKUP('Whip Data'!$T282,Conduit,3,FALSE),VLOOKUP('Whip Data'!$S282,Conduit,3,FALSE)))","v":""},{"$f":"IF(B269=\"\",\"\",'Whip Data'!O282)","v":""},{"$f":"IF(C269=\"\",\"\",'Whip Data'!P282)","v":""},{"$f":"IF($B269=\"\",\"\",IF(ISTEXT('Whip Data'!V282),'Whip Data'!V282,'Whip Data'!U282))","v":""},{"$f":"IF(B269=\"\",\"\",IF(ISBLANK('Whip Data'!X282),'Whip Data'!W282,'Whip Data'!X282))","v":""},"","",{"$f":"IF($B269=\"\",\"\",IF('Whip Data'!Q282=\"\",\"None\",'Whip Data'!Q282))","v":""},{"$f":"IF(O269=\"\",\"\",IF($O269=\"None\",\"NA\",INDEX(Breakers!$A$1:$I$75,MATCH(BOM!C269,Breakers!$A$1:$A$75,0),MATCH(BOM!O269,Breakers!$A$1:$I$1,0))))","v":""},{"$f":"IF(B269=\"\",\"\",VLOOKUP(H269,Standards!$X$3:$Y$6,2,FALSE))","v":""}]
[{"$f":"IF($B270=\"\",\"\",'Whip Data'!$Z283)","v":""},{"$f":"IFERROR('Whip Data'!A283,\"\")","v":""},{"$f":"IF(B270=\"\",\"\",'Whip Data'!L283)","v":""},"",{"$f":"IF($B270=\"\",\"\",VLOOKUP($C270,Materials,'Whip Data'!$M$10+11,FALSE))","v":""},{"$f":"IF($B270=\"\",\"\",VLOOKUP($C270,Materials,'Whip Data'!$M$10+13,FALSE))","v":""},{"$f":"IFERROR(\"LTUA-\"&IF(ISTEXT('Whip Data'!$T283),VLOOKUP('Whip Data'!$T283,Conduit,2,FALSE),VLOOKUP('Whip Data'!$S283,Conduit,2,FALSE))&\"-\"&'Whip Data'!$R283,\"\")","v":""},{"$f":"IF($B270=\"\",\"\",IFERROR(VLOOKUP('Whip Data'!$T283,Conduit,3,FALSE),VLOOKUP('Whip Data'!$S283,Conduit,3,FALSE)))","v":""},{"$f":"IF(B270=\"\",\"\",'Whip Data'!O283)","v":""},{"$f":"IF(C270=\"\",\"\",'Whip Data'!P283)","v":""},{"$f":"IF($B270=\"\",\"\",IF(ISTEXT('Whip Data'!V283),'Whip Data'!V283,'Whip Data'!U283))","v":""},{"$f":"IF(B270=\"\",\"\",IF(ISBLANK('Whip Data'!X283),'Whip Data'!W283,'Whip Data'!X283))","v":""},"","",{"$f":"IF($B270=\"\",\"\",IF('Whip Data'!Q283=\"\",\"None\",'Whip Data'!Q283))","v":""},{"$f":"IF(O270=\"\",\"\",IF($O270=\"None\",\"NA\",INDEX(Breakers!$A$1:$I$75,MATCH(BOM!C270,Breakers!$A$1:$A$75,0),MATCH(BOM!O270,Breakers!$A$1:$I$1,0))))","v":""},{"$f":"IF(B270=\"\",\"\",VLOOKUP(H270,Standards!$X$3:$Y$6,2,FALSE))","v":""}]
[{"$f":"IF($B271=\"\",\"\",'Whip Data'!$Z284)","v":""},{"$f":"IFERROR('Whip Data'!A284,\"\")","v":""},{"$f":"IF(B271=\"\",\"\",'Whip Data'!L284)","v":""},"",{"$f":"IF($B271=\"\",\"\",VLOOKUP($C271,Materials,'Whip Data'!$M$10+11,FALSE))","v":""},{"$f":"IF($B271=\"\",\"\",VLOOKUP($C271,Materials,'Whip Data'!$M$10+13,FALSE))","v":""},{"$f":"IFERROR(\"LTUA-\"&IF(ISTEXT('Whip Data'!$T284),VLOOKUP('Whip Data'!$T284,Conduit,2,FALSE),VLOOKUP('Whip Data'!$S284,Conduit,2,FALSE))&\"-\"&'Whip Data'!$R284,\"\")","v":""},{"$f":"IF($B271=\"\",\"\",IFERROR(VLOOKUP('Whip Data'!$T284,Conduit,3,FALSE),VLOOKUP('Whip Data'!$S284,Conduit,3,FALSE)))","v":""},{"$f":"IF(B271=\"\",\"\",'Whip Data'!O284)","v":""},{"$f":"IF(C271=\"\",\"\",'Whip Data'!P284)","v":""},{"$f":"IF($B271=\"\",\"\",IF(ISTEXT('Whip Data'!V284),'Whip Data'!V284,'Whip Data'!U284))","v":""},{"$f":"IF(B271=\"\",\"\",IF(ISBLANK('Whip Data'!X284),'Whip Data'!W284,'Whip Data'!X284))","v":""},"","",{"$f":"IF($B271=\"\",\"\",IF('Whip Data'!Q284=\"\",\"None\",'Whip Data'!Q284))","v":""},{"$f":"IF(O271=\"\",\"\",IF($O271=\"None\",\"NA\",INDEX(Breakers!$A$1:$I$75,MATCH(BOM!C271,Breakers!$A$1:$A$75,0),MATCH(BOM!O271,Breakers!$A$1:$I$1,0))))","v":""},{"$f":"IF(B271=\"\",\"\",VLOOKUP(H271,Standards!$X$3:$Y$6,2,FALSE))","v":""}]
[{"$f":"IF($B272=\"\",\"\",'Whip Data'!$Z285)","v":""},{"$f":"IFERROR('Whip Data'!A285,\"\")","v":""},{"$f":"IF(B272=\"\",\"\",'Whip Data'!L285)","v":""},"",{"$f":"IF($B272=\"\",\"\",VLOOKUP($C272,Materials,'Whip Data'!$M$10+11,FALSE))","v":""},{"$f":"IF($B272=\"\",\"\",VLOOKUP($C272,Materials,'Whip Data'!$M$10+13,FALSE))","v":""},{"$f":"IFERROR(\"LTUA-\"&IF(ISTEXT('Whip Data'!$T285),VLOOKUP('Whip Data'!$T285,Conduit,2,FALSE),VLOOKUP('Whip Data'!$S285,Conduit,2,FALSE))&\"-\"&'Whip Data'!$R285,\"\")","v":""},{"$f":"IF($B272=\"\",\"\",IFERROR(VLOOKUP('Whip Data'!$T285,Conduit,3,FALSE),VLOOKUP('Whip Data'!$S285,Conduit,3,FALSE)))","v":""},{"$f":"IF(B272=\"\",\"\",'Whip Data'!O285)","v":""},{"$f":"IF(C272=\"\",\"\",'Whip Data'!P285)","v":""},{"$f":"IF($B272=\"\",\"\",IF(ISTEXT('Whip Data'!V285),'Whip Data'!V285,'Whip Data'!U285))","v":""},{"$f":"IF(B272=\"\",\"\",IF(ISBLANK('Whip Data'!X285),'Whip Data'!W285,'Whip Data'!X285))","v":""},"","",{"$f":"IF($B272=\"\",\"\",IF('Whip Data'!Q285=\"\",\"None\",'Whip Data'!Q285))","v":""},{"$f":"IF(O272=\"\",\"\",IF($O272=\"None\",\"NA\",INDEX(Breakers!$A$1:$I$75,MATCH(BOM!C272,Breakers!$A$1:$A$75,0),MATCH(BOM!O272,Breakers!$A$1:$I$1,0))))","v":""},{"$f":"IF(B272=\"\",\"\",VLOOKUP(H272,Standards!$X$3:$Y$6,2,FALSE))","v":""}]
[{"$f":"IF($B273=\"\",\"\",'Whip Data'!$Z286)","v":""},{"$f":"IFERROR('Whip Data'!A286,\"\")","v":""},{"$f":"IF(B273=\"\",\"\",'Whip Data'!L286)","v":""},"",{"$f":"IF($B273=\"\",\"\",VLOOKUP($C273,Materials,'Whip Data'!$M$10+11,FALSE))","v":""},{"$f":"IF($B273=\"\",\"\",VLOOKUP($C273,Materials,'Whip Data'!$M$10+13,FALSE))","v":""},{"$f":"IFERROR(\"LTUA-\"&IF(ISTEXT('Whip Data'!$T286),VLOOKUP('Whip Data'!$T286,Conduit,2,FALSE),VLOOKUP('Whip Data'!$S286,Conduit,2,FALSE))&\"-\"&'Whip Data'!$R286,\"\")","v":""},{"$f":"IF($B273=\"\",\"\",IFERROR(VLOOKUP('Whip Data'!$T286,Conduit,3,FALSE),VLOOKUP('Whip Data'!$S286,Conduit,3,FALSE)))","v":""},{"$f":"IF(B273=\"\",\"\",'Whip Data'!O286)","v":""},{"$f":"IF(C273=\"\",\"\",'Whip Data'!P286)","v":""},{"$f":"IF($B273=\"\",\"\",IF(ISTEXT('Whip Data'!V286),'Whip Data'!V286,'Whip Data'!U286))","v":""},{"$f":"IF(B273=\"\",\"\",IF(ISBLANK('Whip Data'!X286),'Whip Data'!W286,'Whip Data'!X286))","v":""},"","",{"$f":"IF($B273=\"\",\"\",IF('Whip Data'!Q286=\"\",\"None\",'Whip Data'!Q286))","v":""},{"$f":"IF(O273=\"\",\"\",IF($O273=\"None\",\"NA\",INDEX(Breakers!$A$1:$I$75,MATCH(BOM!C273,Breakers!$A$1:$A$75,0),MATCH(BOM!O273,Breakers!$A$1:$I$1,0))))","v":""},{"$f":"IF(B273=\"\",\"\",VLOOKUP(H273,Standards!$X$3:$Y$6,2,FALSE))","v":""}]
[{"$f":"IF($B274=\"\",\"\",'Whip Data'!$Z287)","v":""},{"$f":"IFERROR('Whip Data'!A287,\"\")","v":""},{"$f":"IF(B274=\"\",\"\",'Whip Data'!L287)","v":""},"",{"$f":"IF($B274=\"\",\"\",VLOOKUP($C274,Materials,'Whip Data'!$M$10+11,FALSE))","v":""},{"$f":"IF($B274=\"\",\"\",VLOOKUP($C274,Materials,'Whip Data'!$M$10+13,FALSE))","v":""},{"$f":"IFERROR(\"LTUA-\"&IF(ISTEXT('Whip Data'!$T287),VLOOKUP('Whip Data'!$T287,Conduit,2,FALSE),VLOOKUP('Whip Data'!$S287,Conduit,2,FALSE))&\"-\"&'Whip Data'!$R287,\"\")","v":""},{"$f":"IF($B274=\"\",\"\",IFERROR(VLOOKUP('Whip Data'!$T287,Conduit,3,FALSE),VLOOKUP('Whip Data'!$S287,Conduit,3,FALSE)))","v":""},{"$f":"IF(B274=\"\",\"\",'Whip Data'!O287)","v":""},{"$f":"IF(C274=\"\",\"\",'Whip Data'!P287)","v":""},{"$f":"IF($B274=\"\",\"\",IF(ISTEXT('Whip Data'!V287),'Whip Data'!V287,'Whip Data'!U287))","v":""},{"$f":"IF(B274=\"\",\"\",IF(ISBLANK('Whip Data'!X287),'Whip Data'!W287,'Whip Data'!X287))","v":""},"","",{"$f":"IF($B274=\"\",\"\",IF('Whip Data'!Q287=\"\",\"None\",'Whip Data'!Q287))","v":""},{"$f":"IF(O274=\"\",\"\",IF($O274=\"None\",\"NA\",INDEX(Breakers!$A$1:$I$75,MATCH(BOM!C274,Breakers!$A$1:$A$75,0),MATCH(BOM!O274,Breakers!$A$1:$I$1,0))))","v":""},{"$f":"IF(B274=\"\",\"\",VLOOKUP(H274,Standards!$X$3:$Y$6,2,FALSE))","v":""}]
[{"$f":"IF($B275=\"\",\"\",'Whip Data'!$Z288)","v":""},{"$f":"IFERROR('Whip Data'!A288,\"\")","v":""},{"$f":"IF(B275=\"\",\"\",'Whip Data'!L288)","v":""},"",{"$f":"IF($B275=\"\",\"\",VLOOKUP($C275,Materials,'Whip Data'!$M$10+11,FALSE))","v":""},{"$f":"IF($B275=\"\",\"\",VLOOKUP($C275,Materials,'Whip Data'!$M$10+13,FALSE))","v":""},{"$f":"IFERROR(\"LTUA-\"&IF(ISTEXT('Whip Data'!$T288),VLOOKUP('Whip Data'!$T288,Conduit,2,FALSE),VLOOKUP('Whip Data'!$S288,Conduit,2,FALSE))&\"-\"&'Whip Data'!$R288,\"\")","v":""},{"$f":"IF($B275=\"\",\"\",IFERROR(VLOOKUP('Whip Data'!$T288,Conduit,3,FALSE),VLOOKUP('Whip Data'!$S288,Conduit,3,FALSE)))","v":""},{"$f":"IF(B275=\"\",\"\",'Whip Data'!O288)","v":""},{"$f":"IF(C275=\"\",\"\",'Whip Data'!P288)","v":""},{"$f":"IF($B275=\"\",\"\",IF(ISTEXT('Whip Data'!V288),'Whip Data'!V288,'Whip Data'!U288))","v":""},{"$f":"IF(B275=\"\",\"\",IF(ISBLANK('Whip Data'!X288),'Whip Data'!W288,'Whip Data'!X288))","v":""},"","",{"$f":"IF($B275=\"\",\"\",IF('Whip Data'!Q288=\"\",\"None\",'Whip Data'!Q288))","v":""},{"$f":"IF(O275=\"\",\"\",IF($O275=\"None\",\"NA\",INDEX(Breakers!$A$1:$I$75,MATCH(BOM!C275,Breakers!$A$1:$A$75,0),MATCH(BOM!O275,Breakers!$A$1:$I$1,0))))","v":""},{"$f":"IF(B275=\"\",\"\",VLOOKUP(H275,Standards!$X$3:$Y$6,2,FALSE))","v":""}]
[{"$f":"IF($B276=\"\",\"\",'Whip Data'!$Z289)","v":""},{"$f":"IFERROR('Whip Data'!A289,\"\")","v":""},{"$f":"IF(B276=\"\",\"\",'Whip Data'!L289)","v":""},"",{"$f":"IF($B276=\"\",\"\",VLOOKUP($C276,Materials,'Whip Data'!$M$10+11,FALSE))","v":""},{"$f":"IF($B276=\"\",\"\",VLOOKUP($C276,Materials,'Whip Data'!$M$10+13,FALSE))","v":""},{"$f":"IFERROR(\"LTUA-\"&IF(ISTEXT('Whip Data'!$T289),VLOOKUP('Whip Data'!$T289,Conduit,2,FALSE),VLOOKUP('Whip Data'!$S289,Conduit,2,FALSE))&\"-\"&'Whip Data'!$R289,\"\")","v":""},{"$f":"IF($B276=\"\",\"\",IFERROR(VLOOKUP('Whip Data'!$T289,Conduit,3,FALSE),VLOOKUP('Whip Data'!$S289,Conduit,3,FALSE)))","v":""},{"$f":"IF(B276=\"\",\"\",'Whip Data'!O289)","v":""},{"$f":"IF(C276=\"\",\"\",'Whip Data'!P289)","v":""},{"$f":"IF($B276=\"\",\"\",IF(ISTEXT('Whip Data'!V289),'Whip Data'!V289,'Whip Data'!U289))","v":""},{"$f":"IF(B276=\"\",\"\",IF(ISBLANK('Whip Data'!X289),'Whip Data'!W289,'Whip Data'!X289))","v":""},"","",{"$f":"IF($B276=\"\",\"\",IF('Whip Data'!Q289=\"\",\"None\",'Whip Data'!Q289))","v":""},{"$f":"IF(O276=\"\",\"\",IF($O276=\"None\",\"NA\",INDEX(Breakers!$A$1:$I$75,MATCH(BOM!C276,Breakers!$A$1:$A$75,0),MATCH(BOM!O276,Breakers!$A$1:$I$1,0))))","v":""},{"$f":"IF(B276=\"\",\"\",VLOOKUP(H276,Standards!$X$3:$Y$6,2,FALSE))","v":""}]
[{"$f":"IF($B277=\"\",\"\",'Whip Data'!$Z290)","v":""},{"$f":"IFERROR('Whip Data'!A290,\"\")","v":""},{"$f":"IF(B277=\"\",\"\",'Whip Data'!L290)","v":""},"",{"$f":"IF($B277=\"\",\"\",VLOOKUP($C277,Materials,'Whip Data'!$M$10+11,FALSE))","v":""},{"$f":"IF($B277=\"\",\"\",VLOOKUP($C277,Materials,'Whip Data'!$M$10+13,FALSE))","v":""},{"$f":"IFERROR(\"LTUA-\"&IF(ISTEXT('Whip Data'!$T290),VLOOKUP('Whip Data'!$T290,Conduit,2,FALSE),VLOOKUP('Whip Data'!$S290,Conduit,2,FALSE))&\"-\"&'Whip Data'!$R290,\"\")","v":""},{"$f":"IF($B277=\"\",\"\",IFERROR(VLOOKUP('Whip Data'!$T290,Conduit,3,FALSE),VLOOKUP('Whip Data'!$S290,Conduit,3,FALSE)))","v":""},{"$f":"IF(B277=\"\",\"\",'Whip Data'!O290)","v":""},{"$f":"IF(C277=\"\",\"\",'Whip Data'!P290)","v":""},{"$f":"IF($B277=\"\",\"\",IF(ISTEXT('Whip Data'!V290),'Whip Data'!V290,'Whip Data'!U290))","v":""},{"$f":"IF(B277=\"\",\"\",IF(ISBLANK('Whip Data'!X290),'Whip Data'!W290,'Whip Data'!X290))","v":""},"","",{"$f":"IF($B277=\"\",\"\",IF('Whip Data'!Q290=\"\",\"None\",'Whip Data'!Q290))","v":""},{"$f":"IF(O277=\"\",\"\",IF($O277=\"None\",\"NA\",INDEX(Breakers!$A$1:$I$75,MATCH(BOM!C277,Breakers!$A$1:$A$75,0),MATCH(BOM!O277,Breakers!$A$1:$I$1,0))))","v":""},{"$f":"IF(B277=\"\",\"\",VLOOKUP(H277,Standards!$X$3:$Y$6,2,FALSE))","v":""}]
[{"$f":"IF($B278=\"\",\"\",'Whip Data'!$Z291)","v":""},{"$f":"IFERROR('Whip Data'!A291,\"\")","v":""},{"$f":"IF(B278=\"\",\"\",'Whip Data'!L291)","v":""},"",{"$f":"IF($B278=\"\",\"\",VLOOKUP($C278,Materials,'Whip Data'!$M$10+11,FALSE))","v":""},{"$f":"IF($B278=\"\",\"\",VLOOKUP($C278,Materials,'Whip Data'!$M$10+13,FALSE))","v":""},{"$f":"IFERROR(\"LTUA-\"&IF(ISTEXT('Whip Data'!$T291),VLOOKUP('Whip Data'!$T291,Conduit,2,FALSE),VLOOKUP('Whip Data'!$S291,Conduit,2,FALSE))&\"-\"&'Whip Data'!$R291,\"\")","v":""},{"$f":"IF($B278=\"\",\"\",IFERROR(VLOOKUP('Whip Data'!$T291,Conduit,3,FALSE),VLOOKUP('Whip Data'!$S291,Conduit,3,FALSE)))","v":""},{"$f":"IF(B278=\"\",\"\",'Whip Data'!O291)","v":""},{"$f":"IF(C278=\"\",\"\",'Whip Data'!P291)","v":""},{"$f":"IF($B278=\"\",\"\",IF(ISTEXT('Whip Data'!V291),'Whip Data'!V291,'Whip Data'!U291))","v":""},{"$f":"IF(B278=\"\",\"\",IF(ISBLANK('Whip Data'!X291),'Whip Data'!W291,'Whip Data'!X291))","v":""},"","",{"$f":"IF($B278=\"\",\"\",IF('Whip Data'!Q291=\"\",\"None\",'Whip Data'!Q291))","v":""},{"$f":"IF(O278=\"\",\"\",IF($O278=\"None\",\"NA\",INDEX(Breakers!$A$1:$I$75,MATCH(BOM!C278,Breakers!$A$1:$A$75,0),MATCH(BOM!O278,Breakers!$A$1:$I$1,0))))","v":""},{"$f":"IF(B278=\"\",\"\",VLOOKUP(H278,Standards!$X$3:$Y$6,2,FALSE))","v":""}]
[{"$f":"IF($B279=\"\",\"\",'Whip Data'!$Z292)","v":""},{"$f":"IFERROR('Whip Data'!A292,\"\")","v":""},{"$f":"IF(B279=\"\",\"\",'Whip Data'!L292)","v":""},"",{"$f":"IF($B279=\"\",\"\",VLOOKUP($C279,Materials,'Whip Data'!$M$10+11,FALSE))","v":""},{"$f":"IF($B279=\"\",\"\",VLOOKUP($C279,Materials,'Whip Data'!$M$10+13,FALSE))","v":""},{"$f":"IFERROR(\"LTUA-\"&IF(ISTEXT('Whip Data'!$T292),VLOOKUP('Whip Data'!$T292,Conduit,2,FALSE),VLOOKUP('Whip Data'!$S292,Conduit,2,FALSE))&\"-\"&'Whip Data'!$R292,\"\")","v":""},{"$f":"IF($B279=\"\",\"\",IFERROR(VLOOKUP('Whip Data'!$T292,Conduit,3,FALSE),VLOOKUP('Whip Data'!$S292,Conduit,3,FALSE)))","v":""},{"$f":"IF(B279=\"\",\"\",'Whip Data'!O292)","v":""},{"$f":"IF(C279=\"\",\"\",'Whip Data'!P292)","v":""},{"$f":"IF($B279=\"\",\"\",IF(ISTEXT('Whip Data'!V292),'Whip Data'!V292,'Whip Data'!U292))","v":""},{"$f":"IF(B279=\"\",\"\",IF(ISBLANK('Whip Data'!X292),'Whip Data'!W292,'Whip Data'!X292))","v":""},"","",{"$f":"IF($B279=\"\",\"\",IF('Whip Data'!Q292=\"\",\"None\",'Whip Data'!Q292))","v":""},{"$f":"IF(O279=\"\",\"\",IF($O279=\"None\",\"NA\",INDEX(Breakers!$A$1:$I$75,MATCH(BOM!C279,Breakers!$A$1:$A$75,0),MATCH(BOM!O279,Breakers!$A$1:$I$1,0))))","v":""},{"$f":"IF(B279=\"\",\"\",VLOOKUP(H279,Standards!$X$3:$Y$6,2,FALSE))","v":""}]
[{"$f":"IF($B280=\"\",\"\",'Whip Data'!$Z293)","v":""},{"$f":"IFERROR('Whip Data'!A293,\"\")","v":""},{"$f":"IF(B280=\"\",\"\",'Whip Data'!L293)","v":""},"",{"$f":"IF($B280=\"\",\"\",VLOOKUP($C280,Materials,'Whip Data'!$M$10+11,FALSE))","v":""},{"$f":"IF($B280=\"\",\"\",VLOOKUP($C280,Materials,'Whip Data'!$M$10+13,FALSE))","v":""},{"$f":"IFERROR(\"LTUA-\"&IF(ISTEXT('Whip Data'!$T293),VLOOKUP('Whip Data'!$T293,Conduit,2,FALSE),VLOOKUP('Whip Data'!$S293,Conduit,2,FALSE))&\"-\"&'Whip Data'!$R293,\"\")","v":""},{"$f":"IF($B280=\"\",\"\",IFERROR(VLOOKUP('Whip Data'!$T293,Conduit,3,FALSE),VLOOKUP('Whip Data'!$S293,Conduit,3,FALSE)))","v":""},{"$f":"IF(B280=\"\",\"\",'Whip Data'!O293)","v":""},{"$f":"IF(C280=\"\",\"\",'Whip Data'!P293)","v":""},{"$f":"IF($B280=\"\",\"\",IF(ISTEXT('Whip Data'!V293),'Whip Data'!V293,'Whip Data'!U293))","v":""},{"$f":"IF(B280=\"\",\"\",IF(ISBLANK('Whip Data'!X293),'Whip Data'!W293,'Whip Data'!X293))","v":""},"","",{"$f":"IF($B280=\"\",\"\",IF('Whip Data'!Q293=\"\",\"None\",'Whip Data'!Q293))","v":""},{"$f":"IF(O280=\"\",\"\",IF($O280=\"None\",\"NA\",INDEX(Breakers!$A$1:$I$75,MATCH(BOM!C280,Breakers!$A$1:$A$75,0),MATCH(BOM!O280,Breakers!$A$1:$I$1,0))))","v":""},{"$f":"IF(B280=\"\",\"\",VLOOKUP(H280,Standards!$X$3:$Y$6,2,FALSE))","v":""}]
[{"$f":"IF($B281=\"\",\"\",'Whip Data'!$Z294)","v":""},{"$f":"IFERROR('Whip Data'!A294,\"\")","v":""},{"$f":"IF(B281=\"\",\"\",'Whip Data'!L294)","v":""},"",{"$f":"IF($B281=\"\",\"\",VLOOKUP($C281,Materials,'Whip Data'!$M$10+11,FALSE))","v":""},{"$f":"IF($B281=\"\",\"\",VLOOKUP($C281,Materials,'Whip Data'!$M$10+13,FALSE))","v":""},{"$f":"IFERROR(\"LTUA-\"&IF(ISTEXT('Whip Data'!$T294),VLOOKUP('Whip Data'!$T294,Conduit,2,FALSE),VLOOKUP('Whip Data'!$S294,Conduit,2,FALSE))&\"-\"&'Whip Data'!$R294,\"\")","v":""},{"$f":"IF($B281=\"\",\"\",IFERROR(VLOOKUP('Whip Data'!$T294,Conduit,3,FALSE),VLOOKUP('Whip Data'!$S294,Conduit,3,FALSE)))","v":""},{"$f":"IF(B281=\"\",\"\",'Whip Data'!O294)","v":""},{"$f":"IF(C281=\"\",\"\",'Whip Data'!P294)","v":""},{"$f":"IF($B281=\"\",\"\",IF(ISTEXT('Whip Data'!V294),'Whip Data'!V294,'Whip Data'!U294))","v":""},{"$f":"IF(B281=\"\",\"\",IF(ISBLANK('Whip Data'!X294),'Whip Data'!W294,'Whip Data'!X294))","v":""},"","",{"$f":"IF($B281=\"\",\"\",IF('Whip Data'!Q294=\"\",\"None\",'Whip Data'!Q294))","v":""},{"$f":"IF(O281=\"\",\"\",IF($O281=\"None\",\"NA\",INDEX(Breakers!$A$1:$I$75,MATCH(BOM!C281,Breakers!$A$1:$A$75,0),MATCH(BOM!O281,Breakers!$A$1:$I$1,0))))","v":""},{"$f":"IF(B281=\"\",\"\",VLOOKUP(H281,Standards!$X$3:$Y$6,2,FALSE))","v":""}]
[{"$f":"IF($B282=\"\",\"\",'Whip Data'!$Z295)","v":""},{"$f":"IFERROR('Whip Data'!A295,\"\")","v":""},{"$f":"IF(B282=\"\",\"\",'Whip Data'!L295)","v":""},"",{"$f":"IF($B282=\"\",\"\",VLOOKUP($C282,Materials,'Whip Data'!$M$10+11,FALSE))","v":""},{"$f":"IF($B282=\"\",\"\",VLOOKUP($C282,Materials,'Whip Data'!$M$10+13,FALSE))","v":""},{"$f":"IFERROR(\"LTUA-\"&IF(ISTEXT('Whip Data'!$T295),VLOOKUP('Whip Data'!$T295,Conduit,2,FALSE),VLOOKUP('Whip Data'!$S295,Conduit,2,FALSE))&\"-\"&'Whip Data'!$R295,\"\")","v":""},{"$f":"IF($B282=\"\",\"\",IFERROR(VLOOKUP('Whip Data'!$T295,Conduit,3,FALSE),VLOOKUP('Whip Data'!$S295,Conduit,3,FALSE)))","v":""},{"$f":"IF(B282=\"\",\"\",'Whip Data'!O295)","v":""},{"$f":"IF(C282=\"\",\"\",'Whip Data'!P295)","v":""},{"$f":"IF($B282=\"\",\"\",IF(ISTEXT('Whip Data'!V295),'Whip Data'!V295,'Whip Data'!U295))","v":""},{"$f":"IF(B282=\"\",\"\",IF(ISBLANK('Whip Data'!X295),'Whip Data'!W295,'Whip Data'!X295))","v":""},"","",{"$f":"IF($B282=\"\",\"\",IF('Whip Data'!Q295=\"\",\"None\",'Whip Data'!Q295))","v":""},{"$f":"IF(O282=\"\",\"\",IF($O282=\"None\",\"NA\",INDEX(Breakers!$A$1:$I$75,MATCH(BOM!C282,Breakers!$A$1:$A$75,0),MATCH(BOM!O282,Breakers!$A$1:$I$1,0))))","v":""},{"$f":"IF(B282=\"\",\"\",VLOOKUP(H282,Standards!$X$3:$Y$6,2,FALSE))","v":""}]
[{"$f":"IF($B283=\"\",\"\",'Whip Data'!$Z296)","v":""},{"$f":"IFERROR('Whip Data'!A296,\"\")","v":""},{"$f":"IF(B283=\"\",\"\",'Whip Data'!L296)","v":""},"",{"$f":"IF($B283=\"\",\"\",VLOOKUP($C283,Materials,'Whip Data'!$M$10+11,FALSE))","v":""},{"$f":"IF($B283=\"\",\"\",VLOOKUP($C283,Materials,'Whip Data'!$M$10+13,FALSE))","v":""},{"$f":"IFERROR(\"LTUA-\"&IF(ISTEXT('Whip Data'!$T296),VLOOKUP('Whip Data'!$T296,Conduit,2,FALSE),VLOOKUP('Whip Data'!$S296,Conduit,2,FALSE))&\"-\"&'Whip Data'!$R296,\"\")","v":""},{"$f":"IF($B283=\"\",\"\",IFERROR(VLOOKUP('Whip Data'!$T296,Conduit,3,FALSE),VLOOKUP('Whip Data'!$S296,Conduit,3,FALSE)))","v":""},{"$f":"IF(B283=\"\",\"\",'Whip Data'!O296)","v":""},{"$f":"IF(C283=\"\",\"\",'Whip Data'!P296)","v":""},{"$f":"IF($B283=\"\",\"\",IF(ISTEXT('Whip Data'!V296),'Whip Data'!V296,'Whip Data'!U296))","v":""},{"$f":"IF(B283=\"\",\"\",IF(ISBLANK('Whip Data'!X296),'Whip Data'!W296,'Whip Data'!X296))","v":""},"","",{"$f":"IF($B283=\"\",\"\",IF('Whip Data'!Q296=\"\",\"None\",'Whip Data'!Q296))","v":""},{"$f":"IF(O283=\"\",\"\",IF($O283=\"None\",\"NA\",INDEX(Breakers!$A$1:$I$75,MATCH(BOM!C283,Breakers!$A$1:$A$75,0),MATCH(BOM!O283,Breakers!$A$1:$I$1,0))))","v":""},{"$f":"IF(B283=\"\",\"\",VLOOKUP(H283,Standards!$X$3:$Y$6,2,FALSE))","v":""}]
[{"$f":"IF($B284=\"\",\"\",'Whip Data'!$Z297)","v":""},{"$f":"IFERROR('Whip Data'!A297,\"\")","v":""},{"$f":"IF(B284=\"\",\"\",'Whip Data'!L297)","v":""},"",{"$f":"IF($B284=\"\",\"\",VLOOKUP($C284,Materials,'Whip Data'!$M$10+11,FALSE))","v":""},{"$f":"IF($B284=\"\",\"\",VLOOKUP($C284,Materials,'Whip Data'!$M$10+13,FALSE))","v":""},{"$f":"IFERROR(\"LTUA-\"&IF(ISTEXT('Whip Data'!$T297),VLOOKUP('Whip Data'!$T297,Conduit,2,FALSE),VLOOKUP('Whip Data'!$S297,Conduit,2,FALSE))&\"-\"&'Whip Data'!$R297,\"\")","v":""},{"$f":"IF($B284=\"\",\"\",IFERROR(VLOOKUP('Whip Data'!$T297,Conduit,3,FALSE),VLOOKUP('Whip Data'!$S297,Conduit,3,FALSE)))","v":""},{"$f":"IF(B284=\"\",\"\",'Whip Data'!O297)","v":""},{"$f":"IF(C284=\"\",\"\",'Whip Data'!P297)","v":""},{"$f":"IF($B284=\"\",\"\",IF(ISTEXT('Whip Data'!V297),'Whip Data'!V297,'Whip Data'!U297))","v":""},{"$f":"IF(B284=\"\",\"\",IF(ISBLANK('Whip Data'!X297),'Whip Data'!W297,'Whip Data'!X297))","v":""},"","",{"$f":"IF($B284=\"\",\"\",IF('Whip Data'!Q297=\"\",\"None\",'Whip Data'!Q297))","v":""},{"$f":"IF(O284=\"\",\"\",IF($O284=\"None\",\"NA\",INDEX(Breakers!$A$1:$I$75,MATCH(BOM!C284,Breakers!$A$1:$A$75,0),MATCH(BOM!O284,Breakers!$A$1:$I$1,0))))","v":""},{"$f":"IF(B284=\"\",\"\",VLOOKUP(H284,Standards!$X$3:$Y$6,2,FALSE))","v":""}]
[{"$f":"IF($B285=\"\",\"\",'Whip Data'!$Z298)","v":""},{"$f":"IFERROR('Whip Data'!A298,\"\")","v":""},{"$f":"IF(B285=\"\",\"\",'Whip Data'!L298)","v":""},"",{"$f":"IF($B285=\"\",\"\",VLOOKUP($C285,Materials,'Whip Data'!$M$10+11,FALSE))","v":""},{"$f":"IF($B285=\"\",\"\",VLOOKUP($C285,Materials,'Whip Data'!$M$10+13,FALSE))","v":""},{"$f":"IFERROR(\"LTUA-\"&IF(ISTEXT('Whip Data'!$T298),VLOOKUP('Whip Data'!$T298,Conduit,2,FALSE),VLOOKUP('Whip Data'!$S298,Conduit,2,FALSE))&\"-\"&'Whip Data'!$R298,\"\")","v":""},{"$f":"IF($B285=\"\",\"\",IFERROR(VLOOKUP('Whip Data'!$T298,Conduit,3,FALSE),VLOOKUP('Whip Data'!$S298,Conduit,3,FALSE)))","v":""},{"$f":"IF(B285=\"\",\"\",'Whip Data'!O298)","v":""},{"$f":"IF(C285=\"\",\"\",'Whip Data'!P298)","v":""},{"$f":"IF($B285=\"\",\"\",IF(ISTEXT('Whip Data'!V298),'Whip Data'!V298,'Whip Data'!U298))","v":""},{"$f":"IF(B285=\"\",\"\",IF(ISBLANK('Whip Data'!X298),'Whip Data'!W298,'Whip Data'!X298))","v":""},"","",{"$f":"IF($B285=\"\",\"\",IF('Whip Data'!Q298=\"\",\"None\",'Whip Data'!Q298))","v":""},{"$f":"IF(O285=\"\",\"\",IF($O285=\"None\",\"NA\",INDEX(Breakers!$A$1:$I$75,MATCH(BOM!C285,Breakers!$A$1:$A$75,0),MATCH(BOM!O285,Breakers!$A$1:$I$1,0))))","v":""},{"$f":"IF(B285=\"\",\"\",VLOOKUP(H285,Standards!$X$3:$Y$6,2,FALSE))","v":""}]
[{"$f":"IF($B286=\"\",\"\",'Whip Data'!$Z299)","v":""},{"$f":"IFERROR('Whip Data'!A299,\"\")","v":""},{"$f":"IF(B286=\"\",\"\",'Whip Data'!L299)","v":""},"",{"$f":"IF($B286=\"\",\"\",VLOOKUP($C286,Materials,'Whip Data'!$M$10+11,FALSE))","v":""},{"$f":"IF($B286=\"\",\"\",VLOOKUP($C286,Materials,'Whip Data'!$M$10+13,FALSE))","v":""},{"$f":"IFERROR(\"LTUA-\"&IF(ISTEXT('Whip Data'!$T299),VLOOKUP('Whip Data'!$T299,Conduit,2,FALSE),VLOOKUP('Whip Data'!$S299,Conduit,2,FALSE))&\"-\"&'Whip Data'!$R299,\"\")","v":""},{"$f":"IF($B286=\"\",\"\",IFERROR(VLOOKUP('Whip Data'!$T299,Conduit,3,FALSE),VLOOKUP('Whip Data'!$S299,Conduit,3,FALSE)))","v":""},{"$f":"IF(B286=\"\",\"\",'Whip Data'!O299)","v":""},{"$f":"IF(C286=\"\",\"\",'Whip Data'!P299)","v":""},{"$f":"IF($B286=\"\",\"\",IF(ISTEXT('Whip Data'!V299),'Whip Data'!V299,'Whip Data'!U299))","v":""},{"$f":"IF(B286=\"\",\"\",IF(ISBLANK('Whip Data'!X299),'Whip Data'!W299,'Whip Data'!X299))","v":""},"","",{"$f":"IF($B286=\"\",\"\",IF('Whip Data'!Q299=\"\",\"None\",'Whip Data'!Q299))","v":""},{"$f":"IF(O286=\"\",\"\",IF($O286=\"None\",\"NA\",INDEX(Breakers!$A$1:$I$75,MATCH(BOM!C286,Breakers!$A$1:$A$75,0),MATCH(BOM!O286,Breakers!$A$1:$I$1,0))))","v":""},{"$f":"IF(B286=\"\",\"\",VLOOKUP(H286,Standards!$X$3:$Y$6,2,FALSE))","v":""}]
[{"$f":"IF($B287=\"\",\"\",'Whip Data'!$Z300)","v":""},{"$f":"IFERROR('Whip Data'!A300,\"\")","v":""},{"$f":"IF(B287=\"\",\"\",'Whip Data'!L300)","v":""},"",{"$f":"IF($B287=\"\",\"\",VLOOKUP($C287,Materials,'Whip Data'!$M$10+11,FALSE))","v":""},{"$f":"IF($B287=\"\",\"\",VLOOKUP($C287,Materials,'Whip Data'!$M$10+13,FALSE))","v":""},{"$f":"IFERROR(\"LTUA-\"&IF(ISTEXT('Whip Data'!$T300),VLOOKUP('Whip Data'!$T300,Conduit,2,FALSE),VLOOKUP('Whip Data'!$S300,Conduit,2,FALSE))&\"-\"&'Whip Data'!$R300,\"\")","v":""},{"$f":"IF($B287=\"\",\"\",IFERROR(VLOOKUP('Whip Data'!$T300,Conduit,3,FALSE),VLOOKUP('Whip Data'!$S300,Conduit,3,FALSE)))","v":""},{"$f":"IF(B287=\"\",\"\",'Whip Data'!O300)","v":""},{"$f":"IF(C287=\"\",\"\",'Whip Data'!P300)","v":""},{"$f":"IF($B287=\"\",\"\",IF(ISTEXT('Whip Data'!V300),'Whip Data'!V300,'Whip Data'!U300))","v":""},{"$f":"IF(B287=\"\",\"\",IF(ISBLANK('Whip Data'!X300),'Whip Data'!W300,'Whip Data'!X300))","v":""},"","",{"$f":"IF($B287=\"\",\"\",IF('Whip Data'!Q300=\"\",\"None\",'Whip Data'!Q300))","v":""},{"$f":"IF(O287=\"\",\"\",IF($O287=\"None\",\"NA\",INDEX(Breakers!$A$1:$I$75,MATCH(BOM!C287,Breakers!$A$1:$A$75,0),MATCH(BOM!O287,Breakers!$A$1:$I$1,0))))","v":""},{"$f":"IF(B287=\"\",\"\",VLOOKUP(H287,Standards!$X$3:$Y$6,2,FALSE))","v":""}]
[{"$f":"IF($B288=\"\",\"\",'Whip Data'!$Z301)","v":""},{"$f":"IFERROR('Whip Data'!A301,\"\")","v":""},{"$f":"IF(B288=\"\",\"\",'Whip Data'!L301)","v":""},"",{"$f":"IF($B288=\"\",\"\",VLOOKUP($C288,Materials,'Whip Data'!$M$10+11,FALSE))","v":""},{"$f":"IF($B288=\"\",\"\",VLOOKUP($C288,Materials,'Whip Data'!$M$10+13,FALSE))","v":""},{"$f":"IFERROR(\"LTUA-\"&IF(ISTEXT('Whip Data'!$T301),VLOOKUP('Whip Data'!$T301,Conduit,2,FALSE),VLOOKUP('Whip Data'!$S301,Conduit,2,FALSE))&\"-\"&'Whip Data'!$R301,\"\")","v":""},{"$f":"IF($B288=\"\",\"\",IFERROR(VLOOKUP('Whip Data'!$T301,Conduit,3,FALSE),VLOOKUP('Whip Data'!$S301,Conduit,3,FALSE)))","v":""},{"$f":"IF(B288=\"\",\"\",'Whip Data'!O301)","v":""},{"$f":"IF(C288=\"\",\"\",'Whip Data'!P301)","v":""},{"$f":"IF($B288=\"\",\"\",IF(ISTEXT('Whip Data'!V301),'Whip Data'!V301,'Whip Data'!U301))","v":""},{"$f":"IF(B288=\"\",\"\",IF(ISBLANK('Whip Data'!X301),'Whip Data'!W301,'Whip Data'!X301))","v":""},"","",{"$f":"IF($B288=\"\",\"\",IF('Whip Data'!Q301=\"\",\"None\",'Whip Data'!Q301))","v":""},{"$f":"IF(O288=\"\",\"\",IF($O288=\"None\",\"NA\",INDEX(Breakers!$A$1:$I$75,MATCH(BOM!C288,Breakers!$A$1:$A$75,0),MATCH(BOM!O288,Breakers!$A$1:$I$1,0))))","v":""},{"$f":"IF(B288=\"\",\"\",VLOOKUP(H288,Standards!$X$3:$Y$6,2,FALSE))","v":""}]
[{"$f":"IF($B289=\"\",\"\",'Whip Data'!$Z302)","v":""},{"$f":"IFERROR('Whip Data'!A302,\"\")","v":""},{"$f":"IF(B289=\"\",\"\",'Whip Data'!L302)","v":""},"",{"$f":"IF($B289=\"\",\"\",VLOOKUP($C289,Materials,'Whip Data'!$M$10+11,FALSE))","v":""},{"$f":"IF($B289=\"\",\"\",VLOOKUP($C289,Materials,'Whip Data'!$M$10+13,FALSE))","v":""},{"$f":"IFERROR(\"LTUA-\"&IF(ISTEXT('Whip Data'!$T302),VLOOKUP('Whip Data'!$T302,Conduit,2,FALSE),VLOOKUP('Whip Data'!$S302,Conduit,2,FALSE))&\"-\"&'Whip Data'!$R302,\"\")","v":""},{"$f":"IF($B289=\"\",\"\",IFERROR(VLOOKUP('Whip Data'!$T302,Conduit,3,FALSE),VLOOKUP('Whip Data'!$S302,Conduit,3,FALSE)))","v":""},{"$f":"IF(B289=\"\",\"\",'Whip Data'!O302)","v":""},{"$f":"IF(C289=\"\",\"\",'Whip Data'!P302)","v":""},{"$f":"IF($B289=\"\",\"\",IF(ISTEXT('Whip Data'!V302),'Whip Data'!V302,'Whip Data'!U302))","v":""},{"$f":"IF(B289=\"\",\"\",IF(ISBLANK('Whip Data'!X302),'Whip Data'!W302,'Whip Data'!X302))","v":""},"","",{"$f":"IF($B289=\"\",\"\",IF('Whip Data'!Q302=\"\",\"None\",'Whip Data'!Q302))","v":""},{"$f":"IF(O289=\"\",\"\",IF($O289=\"None\",\"NA\",INDEX(Breakers!$A$1:$I$75,MATCH(BOM!C289,Breakers!$A$1:$A$75,0),MATCH(BOM!O289,Breakers!$A$1:$I$1,0))))","v":""},{"$f":"IF(B289=\"\",\"\",VLOOKUP(H289,Standards!$X$3:$Y$6,2,FALSE))","v":""}]
[{"$f":"IF($B290=\"\",\"\",'Whip Data'!$Z303)","v":""},{"$f":"IFERROR('Whip Data'!A303,\"\")","v":""},{"$f":"IF(B290=\"\",\"\",'Whip Data'!L303)","v":""},"",{"$f":"IF($B290=\"\",\"\",VLOOKUP($C290,Materials,'Whip Data'!$M$10+11,FALSE))","v":""},{"$f":"IF($B290=\"\",\"\",VLOOKUP($C290,Materials,'Whip Data'!$M$10+13,FALSE))","v":""},{"$f":"IFERROR(\"LTUA-\"&IF(ISTEXT('Whip Data'!$T303),VLOOKUP('Whip Data'!$T303,Conduit,2,FALSE),VLOOKUP('Whip Data'!$S303,Conduit,2,FALSE))&\"-\"&'Whip Data'!$R303,\"\")","v":""},{"$f":"IF($B290=\"\",\"\",IFERROR(VLOOKUP('Whip Data'!$T303,Conduit,3,FALSE),VLOOKUP('Whip Data'!$S303,Conduit,3,FALSE)))","v":""},{"$f":"IF(B290=\"\",\"\",'Whip Data'!O303)","v":""},{"$f":"IF(C290=\"\",\"\",'Whip Data'!P303)","v":""},{"$f":"IF($B290=\"\",\"\",IF(ISTEXT('Whip Data'!V303),'Whip Data'!V303,'Whip Data'!U303))","v":""},{"$f":"IF(B290=\"\",\"\",IF(ISBLANK('Whip Data'!X303),'Whip Data'!W303,'Whip Data'!X303))","v":""},"","",{"$f":"IF($B290=\"\",\"\",IF('Whip Data'!Q303=\"\",\"None\",'Whip Data'!Q303))","v":""},{"$f":"IF(O290=\"\",\"\",IF($O290=\"None\",\"NA\",INDEX(Breakers!$A$1:$I$75,MATCH(BOM!C290,Breakers!$A$1:$A$75,0),MATCH(BOM!O290,Breakers!$A$1:$I$1,0))))","v":""},{"$f":"IF(B290=\"\",\"\",VLOOKUP(H290,Standards!$X$3:$Y$6,2,FALSE))","v":""}]
[{"$f":"IF($B291=\"\",\"\",'Whip Data'!$Z304)","v":""},{"$f":"IFERROR('Whip Data'!A304,\"\")","v":""},{"$f":"IF(B291=\"\",\"\",'Whip Data'!L304)","v":""},"",{"$f":"IF($B291=\"\",\"\",VLOOKUP($C291,Materials,'Whip Data'!$M$10+11,FALSE))","v":""},{"$f":"IF($B291=\"\",\"\",VLOOKUP($C291,Materials,'Whip Data'!$M$10+13,FALSE))","v":""},{"$f":"IFERROR(\"LTUA-\"&IF(ISTEXT('Whip Data'!$T304),VLOOKUP('Whip Data'!$T304,Conduit,2,FALSE),VLOOKUP('Whip Data'!$S304,Conduit,2,FALSE))&\"-\"&'Whip Data'!$R304,\"\")","v":""},{"$f":"IF($B291=\"\",\"\",IFERROR(VLOOKUP('Whip Data'!$T304,Conduit,3,FALSE),VLOOKUP('Whip Data'!$S304,Conduit,3,FALSE)))","v":""},{"$f":"IF(B291=\"\",\"\",'Whip Data'!O304)","v":""},{"$f":"IF(C291=\"\",\"\",'Whip Data'!P304)","v":""},{"$f":"IF($B291=\"\",\"\",IF(ISTEXT('Whip Data'!V304),'Whip Data'!V304,'Whip Data'!U304))","v":""},{"$f":"IF(B291=\"\",\"\",IF(ISBLANK('Whip Data'!X304),'Whip Data'!W304,'Whip Data'!X304))","v":""},"","",{"$f":"IF($B291=\"\",\"\",IF('Whip Data'!Q304=\"\",\"None\",'Whip Data'!Q304))","v":""},{"$f":"IF(O291=\"\",\"\",IF($O291=\"None\",\"NA\",INDEX(Breakers!$A$1:$I$75,MATCH(BOM!C291,Breakers!$A$1:$A$75,0),MATCH(BOM!O291,Breakers!$A$1:$I$1,0))))","v":""},{"$f":"IF(B291=\"\",\"\",VLOOKUP(H291,Standards!$X$3:$Y$6,2,FALSE))","v":""}]
[{"$f":"IF($B292=\"\",\"\",'Whip Data'!$Z305)","v":""},{"$f":"IFERROR('Whip Data'!A305,\"\")","v":""},{"$f":"IF(B292=\"\",\"\",'Whip Data'!L305)","v":""},"",{"$f":"IF($B292=\"\",\"\",VLOOKUP($C292,Materials,'Whip Data'!$M$10+11,FALSE))","v":""},{"$f":"IF($B292=\"\",\"\",VLOOKUP($C292,Materials,'Whip Data'!$M$10+13,FALSE))","v":""},{"$f":"IFERROR(\"LTUA-\"&IF(ISTEXT('Whip Data'!$T305),VLOOKUP('Whip Data'!$T305,Conduit,2,FALSE),VLOOKUP('Whip Data'!$S305,Conduit,2,FALSE))&\"-\"&'Whip Data'!$R305,\"\")","v":""},{"$f":"IF($B292=\"\",\"\",IFERROR(VLOOKUP('Whip Data'!$T305,Conduit,3,FALSE),VLOOKUP('Whip Data'!$S305,Conduit,3,FALSE)))","v":""},{"$f":"IF(B292=\"\",\"\",'Whip Data'!O305)","v":""},{"$f":"IF(C292=\"\",\"\",'Whip Data'!P305)","v":""},{"$f":"IF($B292=\"\",\"\",IF(ISTEXT('Whip Data'!V305),'Whip Data'!V305,'Whip Data'!U305))","v":""},{"$f":"IF(B292=\"\",\"\",IF(ISBLANK('Whip Data'!X305),'Whip Data'!W305,'Whip Data'!X305))","v":""},"","",{"$f":"IF($B292=\"\",\"\",IF('Whip Data'!Q305=\"\",\"None\",'Whip Data'!Q305))","v":""},{"$f":"IF(O292=\"\",\"\",IF($O292=\"None\",\"NA\",INDEX(Breakers!$A$1:$I$75,MATCH(BOM!C292,Breakers!$A$1:$A$75,0),MATCH(BOM!O292,Breakers!$A$1:$I$1,0))))","v":""},{"$f":"IF(B292=\"\",\"\",VLOOKUP(H292,Standards!$X$3:$Y$6,2,FALSE))","v":""}]
[{"$f":"IF($B293=\"\",\"\",'Whip Data'!$Z306)","v":""},{"$f":"IFERROR('Whip Data'!A306,\"\")","v":""},{"$f":"IF(B293=\"\",\"\",'Whip Data'!L306)","v":""},"",{"$f":"IF($B293=\"\",\"\",VLOOKUP($C293,Materials,'Whip Data'!$M$10+11,FALSE))","v":""},{"$f":"IF($B293=\"\",\"\",VLOOKUP($C293,Materials,'Whip Data'!$M$10+13,FALSE))","v":""},{"$f":"IFERROR(\"LTUA-\"&IF(ISTEXT('Whip Data'!$T306),VLOOKUP('Whip Data'!$T306,Conduit,2,FALSE),VLOOKUP('Whip Data'!$S306,Conduit,2,FALSE))&\"-\"&'Whip Data'!$R306,\"\")","v":""},{"$f":"IF($B293=\"\",\"\",IFERROR(VLOOKUP('Whip Data'!$T306,Conduit,3,FALSE),VLOOKUP('Whip Data'!$S306,Conduit,3,FALSE)))","v":""},{"$f":"IF(B293=\"\",\"\",'Whip Data'!O306)","v":""},{"$f":"IF(C293=\"\",\"\",'Whip Data'!P306)","v":""},{"$f":"IF($B293=\"\",\"\",IF(ISTEXT('Whip Data'!V306),'Whip Data'!V306,'Whip Data'!U306))","v":""},{"$f":"IF(B293=\"\",\"\",IF(ISBLANK('Whip Data'!X306),'Whip Data'!W306,'Whip Data'!X306))","v":""},"","",{"$f":"IF($B293=\"\",\"\",IF('Whip Data'!Q306=\"\",\"None\",'Whip Data'!Q306))","v":""},{"$f":"IF(O293=\"\",\"\",IF($O293=\"None\",\"NA\",INDEX(Breakers!$A$1:$I$75,MATCH(BOM!C293,Breakers!$A$1:$A$75,0),MATCH(BOM!O293,Breakers!$A$1:$I$1,0))))","v":""},{"$f":"IF(B293=\"\",\"\",VLOOKUP(H293,Standards!$X$3:$Y$6,2,FALSE))","v":""}]
[{"$f":"IF($B294=\"\",\"\",'Whip Data'!$Z307)","v":""},{"$f":"IFERROR('Whip Data'!A307,\"\")","v":""},{"$f":"IF(B294=\"\",\"\",'Whip Data'!L307)","v":""},"",{"$f":"IF($B294=\"\",\"\",VLOOKUP($C294,Materials,'Whip Data'!$M$10+11,FALSE))","v":""},{"$f":"IF($B294=\"\",\"\",VLOOKUP($C294,Materials,'Whip Data'!$M$10+13,FALSE))","v":""},{"$f":"IFERROR(\"LTUA-\"&IF(ISTEXT('Whip Data'!$T307),VLOOKUP('Whip Data'!$T307,Conduit,2,FALSE),VLOOKUP('Whip Data'!$S307,Conduit,2,FALSE))&\"-\"&'Whip Data'!$R307,\"\")","v":""},{"$f":"IF($B294=\"\",\"\",IFERROR(VLOOKUP('Whip Data'!$T307,Conduit,3,FALSE),VLOOKUP('Whip Data'!$S307,Conduit,3,FALSE)))","v":""},{"$f":"IF(B294=\"\",\"\",'Whip Data'!O307)","v":""},{"$f":"IF(C294=\"\",\"\",'Whip Data'!P307)","v":""},{"$f":"IF($B294=\"\",\"\",IF(ISTEXT('Whip Data'!V307),'Whip Data'!V307,'Whip Data'!U307))","v":""},{"$f":"IF(B294=\"\",\"\",IF(ISBLANK('Whip Data'!X307),'Whip Data'!W307,'Whip Data'!X307))","v":""},"","",{"$f":"IF($B294=\"\",\"\",IF('Whip Data'!Q307=\"\",\"None\",'Whip Data'!Q307))","v":""},{"$f":"IF(O294=\"\",\"\",IF($O294=\"None\",\"NA\",INDEX(Breakers!$A$1:$I$75,MATCH(BOM!C294,Breakers!$A$1:$A$75,0),MATCH(BOM!O294,Breakers!$A$1:$I$1,0))))","v":""},{"$f":"IF(B294=\"\",\"\",VLOOKUP(H294,Standards!$X$3:$Y$6,2,FALSE))","v":""}]
[{"$f":"IF($B295=\"\",\"\",'Whip Data'!$Z308)","v":""},{"$f":"IFERROR('Whip Data'!A308,\"\")","v":""},{"$f":"IF(B295=\"\",\"\",'Whip Data'!L308)","v":""},"",{"$f":"IF($B295=\"\",\"\",VLOOKUP($C295,Materials,'Whip Data'!$M$10+11,FALSE))","v":""},{"$f":"IF($B295=\"\",\"\",VLOOKUP($C295,Materials,'Whip Data'!$M$10+13,FALSE))","v":""},{"$f":"IFERROR(\"LTUA-\"&IF(ISTEXT('Whip Data'!$T308),VLOOKUP('Whip Data'!$T308,Conduit,2,FALSE),VLOOKUP('Whip Data'!$S308,Conduit,2,FALSE))&\"-\"&'Whip Data'!$R308,\"\")","v":""},{"$f":"IF($B295=\"\",\"\",IFERROR(VLOOKUP('Whip Data'!$T308,Conduit,3,FALSE),VLOOKUP('Whip Data'!$S308,Conduit,3,FALSE)))","v":""},{"$f":"IF(B295=\"\",\"\",'Whip Data'!O308)","v":""},{"$f":"IF(C295=\"\",\"\",'Whip Data'!P308)","v":""},{"$f":"IF($B295=\"\",\"\",IF(ISTEXT('Whip Data'!V308),'Whip Data'!V308,'Whip Data'!U308))","v":""},{"$f":"IF(B295=\"\",\"\",IF(ISBLANK('Whip Data'!X308),'Whip Data'!W308,'Whip Data'!X308))","v":""},"","",{"$f":"IF($B295=\"\",\"\",IF('Whip Data'!Q308=\"\",\"None\",'Whip Data'!Q308))","v":""},{"$f":"IF(O295=\"\",\"\",IF($O295=\"None\",\"NA\",INDEX(Breakers!$A$1:$I$75,MATCH(BOM!C295,Breakers!$A$1:$A$75,0),MATCH(BOM!O295,Breakers!$A$1:$I$1,0))))","v":""},{"$f":"IF(B295=\"\",\"\",VLOOKUP(H295,Standards!$X$3:$Y$6,2,FALSE))","v":""}]
[{"$f":"IF($B296=\"\",\"\",'Whip Data'!$Z309)","v":""},{"$f":"IFERROR('Whip Data'!A309,\"\")","v":""},{"$f":"IF(B296=\"\",\"\",'Whip Data'!L309)","v":""},"",{"$f":"IF($B296=\"\",\"\",VLOOKUP($C296,Materials,'Whip Data'!$M$10+11,FALSE))","v":""},{"$f":"IF($B296=\"\",\"\",VLOOKUP($C296,Materials,'Whip Data'!$M$10+13,FALSE))","v":""},{"$f":"IFERROR(\"LTUA-\"&IF(ISTEXT('Whip Data'!$T309),VLOOKUP('Whip Data'!$T309,Conduit,2,FALSE),VLOOKUP('Whip Data'!$S309,Conduit,2,FALSE))&\"-\"&'Whip Data'!$R309,\"\")","v":""},{"$f":"IF($B296=\"\",\"\",IFERROR(VLOOKUP('Whip Data'!$T309,Conduit,3,FALSE),VLOOKUP('Whip Data'!$S309,Conduit,3,FALSE)))","v":""},{"$f":"IF(B296=\"\",\"\",'Whip Data'!O309)","v":""},{"$f":"IF(C296=\"\",\"\",'Whip Data'!P309)","v":""},{"$f":"IF($B296=\"\",\"\",IF(ISTEXT('Whip Data'!V309),'Whip Data'!V309,'Whip Data'!U309))","v":""},{"$f":"IF(B296=\"\",\"\",IF(ISBLANK('Whip Data'!X309),'Whip Data'!W309,'Whip Data'!X309))","v":""},"","",{"$f":"IF($B296=\"\",\"\",IF('Whip Data'!Q309=\"\",\"None\",'Whip Data'!Q309))","v":""},{"$f":"IF(O296=\"\",\"\",IF($O296=\"None\",\"NA\",INDEX(Breakers!$A$1:$I$75,MATCH(BOM!C296,Breakers!$A$1:$A$75,0),MATCH(BOM!O296,Breakers!$A$1:$I$1,0))))","v":""},{"$f":"IF(B296=\"\",\"\",VLOOKUP(H296,Standards!$X$3:$Y$6,2,FALSE))","v":""}]
[{"$f":"IF($B297=\"\",\"\",'Whip Data'!$Z310)","v":""},{"$f":"IFERROR('Whip Data'!A310,\"\")","v":""},{"$f":"IF(B297=\"\",\"\",'Whip Data'!L310)","v":""},"",{"$f":"IF($B297=\"\",\"\",VLOOKUP($C297,Materials,'Whip Data'!$M$10+11,FALSE))","v":""},{"$f":"IF($B297=\"\",\"\",VLOOKUP($C297,Materials,'Whip Data'!$M$10+13,FALSE))","v":""},{"$f":"IFERROR(\"LTUA-\"&IF(ISTEXT('Whip Data'!$T310),VLOOKUP('Whip Data'!$T310,Conduit,2,FALSE),VLOOKUP('Whip Data'!$S310,Conduit,2,FALSE))&\"-\"&'Whip Data'!$R310,\"\")","v":""},{"$f":"IF($B297=\"\",\"\",IFERROR(VLOOKUP('Whip Data'!$T310,Conduit,3,FALSE),VLOOKUP('Whip Data'!$S310,Conduit,3,FALSE)))","v":""},{"$f":"IF(B297=\"\",\"\",'Whip Data'!O310)","v":""},{"$f":"IF(C297=\"\",\"\",'Whip Data'!P310)","v":""},{"$f":"IF($B297=\"\",\"\",IF(ISTEXT('Whip Data'!V310),'Whip Data'!V310,'Whip Data'!U310))","v":""},{"$f":"IF(B297=\"\",\"\",IF(ISBLANK('Whip Data'!X310),'Whip Data'!W310,'Whip Data'!X310))","v":""},"","",{"$f":"IF($B297=\"\",\"\",IF('Whip Data'!Q310=\"\",\"None\",'Whip Data'!Q310))","v":""},{"$f":"IF(O297=\"\",\"\",IF($O297=\"None\",\"NA\",INDEX(Breakers!$A$1:$I$75,MATCH(BOM!C297,Breakers!$A$1:$A$75,0),MATCH(BOM!O297,Breakers!$A$1:$I$1,0))))","v":""},{"$f":"IF(B297=\"\",\"\",VLOOKUP(H297,Standards!$X$3:$Y$6,2,FALSE))","v":""}]
[{"$f":"IF($B298=\"\",\"\",'Whip Data'!$Z311)","v":""},{"$f":"IFERROR('Whip Data'!A311,\"\")","v":""},{"$f":"IF(B298=\"\",\"\",'Whip Data'!L311)","v":""},"",{"$f":"IF($B298=\"\",\"\",VLOOKUP($C298,Materials,'Whip Data'!$M$10+11,FALSE))","v":""},{"$f":"IF($B298=\"\",\"\",VLOOKUP($C298,Materials,'Whip Data'!$M$10+13,FALSE))","v":""},{"$f":"IFERROR(\"LTUA-\"&IF(ISTEXT('Whip Data'!$T311),VLOOKUP('Whip Data'!$T311,Conduit,2,FALSE),VLOOKUP('Whip Data'!$S311,Conduit,2,FALSE))&\"-\"&'Whip Data'!$R311,\"\")","v":""},{"$f":"IF($B298=\"\",\"\",IFERROR(VLOOKUP('Whip Data'!$T311,Conduit,3,FALSE),VLOOKUP('Whip Data'!$S311,Conduit,3,FALSE)))","v":""},{"$f":"IF(B298=\"\",\"\",'Whip Data'!O311)","v":""},{"$f":"IF(C298=\"\",\"\",'Whip Data'!P311)","v":""},{"$f":"IF($B298=\"\",\"\",IF(ISTEXT('Whip Data'!V311),'Whip Data'!V311,'Whip Data'!U311))","v":""},{"$f":"IF(B298=\"\",\"\",IF(ISBLANK('Whip Data'!X311),'Whip Data'!W311,'Whip Data'!X311))","v":""},"","",{"$f":"IF($B298=\"\",\"\",IF('Whip Data'!Q311=\"\",\"None\",'Whip Data'!Q311))","v":""},{"$f":"IF(O298=\"\",\"\",IF($O298=\"None\",\"NA\",INDEX(Breakers!$A$1:$I$75,MATCH(BOM!C298,Breakers!$A$1:$A$75,0),MATCH(BOM!O298,Breakers!$A$1:$I$1,0))))","v":""},{"$f":"IF(B298=\"\",\"\",VLOOKUP(H298,Standards!$X$3:$Y$6,2,FALSE))","v":""}]
[{"$f":"IF($B299=\"\",\"\",'Whip Data'!$Z312)","v":""},{"$f":"IFERROR('Whip Data'!A312,\"\")","v":""},{"$f":"IF(B299=\"\",\"\",'Whip Data'!L312)","v":""},"",{"$f":"IF($B299=\"\",\"\",VLOOKUP($C299,Materials,'Whip Data'!$M$10+11,FALSE))","v":""},{"$f":"IF($B299=\"\",\"\",VLOOKUP($C299,Materials,'Whip Data'!$M$10+13,FALSE))","v":""},{"$f":"IFERROR(\"LTUA-\"&IF(ISTEXT('Whip Data'!$T312),VLOOKUP('Whip Data'!$T312,Conduit,2,FALSE),VLOOKUP('Whip Data'!$S312,Conduit,2,FALSE))&\"-\"&'Whip Data'!$R312,\"\")","v":""},{"$f":"IF($B299=\"\",\"\",IFERROR(VLOOKUP('Whip Data'!$T312,Conduit,3,FALSE),VLOOKUP('Whip Data'!$S312,Conduit,3,FALSE)))","v":""},{"$f":"IF(B299=\"\",\"\",'Whip Data'!O312)","v":""},{"$f":"IF(C299=\"\",\"\",'Whip Data'!P312)","v":""},{"$f":"IF($B299=\"\",\"\",IF(ISTEXT('Whip Data'!V312),'Whip Data'!V312,'Whip Data'!U312))","v":""},{"$f":"IF(B299=\"\",\"\",IF(ISBLANK('Whip Data'!X312),'Whip Data'!W312,'Whip Data'!X312))","v":""},"","",{"$f":"IF($B299=\"\",\"\",IF('Whip Data'!Q312=\"\",\"None\",'Whip Data'!Q312))","v":""},{"$f":"IF(O299=\"\",\"\",IF($O299=\"None\",\"NA\",INDEX(Breakers!$A$1:$I$75,MATCH(BOM!C299,Breakers!$A$1:$A$75,0),MATCH(BOM!O299,Breakers!$A$1:$I$1,0))))","v":""},{"$f":"IF(B299=\"\",\"\",VLOOKUP(H299,Standards!$X$3:$Y$6,2,FALSE))","v":""}]
[{"$f":"IF($B300=\"\",\"\",'Whip Data'!$Z313)","v":""},{"$f":"IFERROR('Whip Data'!A313,\"\")","v":""},{"$f":"IF(B300=\"\",\"\",'Whip Data'!L313)","v":""},"",{"$f":"IF($B300=\"\",\"\",VLOOKUP($C300,Materials,'Whip Data'!$M$10+11,FALSE))","v":""},{"$f":"IF($B300=\"\",\"\",VLOOKUP($C300,Materials,'Whip Data'!$M$10+13,FALSE))","v":""},{"$f":"IFERROR(\"LTUA-\"&IF(ISTEXT('Whip Data'!$T313),VLOOKUP('Whip Data'!$T313,Conduit,2,FALSE),VLOOKUP('Whip Data'!$S313,Conduit,2,FALSE))&\"-\"&'Whip Data'!$R313,\"\")","v":""},{"$f":"IF($B300=\"\",\"\",IFERROR(VLOOKUP('Whip Data'!$T313,Conduit,3,FALSE),VLOOKUP('Whip Data'!$S313,Conduit,3,FALSE)))","v":""},{"$f":"IF(B300=\"\",\"\",'Whip Data'!O313)","v":""},{"$f":"IF(C300=\"\",\"\",'Whip Data'!P313)","v":""},{"$f":"IF($B300=\"\",\"\",IF(ISTEXT('Whip Data'!V313),'Whip Data'!V313,'Whip Data'!U313))","v":""},{"$f":"IF(B300=\"\",\"\",IF(ISBLANK('Whip Data'!X313),'Whip Data'!W313,'Whip Data'!X313))","v":""},"","",{"$f":"IF($B300=\"\",\"\",IF('Whip Data'!Q313=\"\",\"None\",'Whip Data'!Q313))","v":""},{"$f":"IF(O300=\"\",\"\",IF($O300=\"None\",\"NA\",INDEX(Breakers!$A$1:$I$75,MATCH(BOM!C300,Breakers!$A$1:$A$75,0),MATCH(BOM!O300,Breakers!$A$1:$I$1,0))))","v":""},{"$f":"IF(B300=\"\",\"\",VLOOKUP(H300,Standards!$X$3:$Y$6,2,FALSE))","v":""}]
[{"$f":"IF($B301=\"\",\"\",'Whip Data'!$Z314)","v":""},{"$f":"IFERROR('Whip Data'!A314,\"\")","v":""},{"$f":"IF(B301=\"\",\"\",'Whip Data'!L314)","v":""},"",{"$f":"IF($B301=\"\",\"\",VLOOKUP($C301,Materials,'Whip Data'!$M$10+11,FALSE))","v":""},{"$f":"IF($B301=\"\",\"\",VLOOKUP($C301,Materials,'Whip Data'!$M$10+13,FALSE))","v":""},{"$f":"IFERROR(\"LTUA-\"&IF(ISTEXT('Whip Data'!$T314),VLOOKUP('Whip Data'!$T314,Conduit,2,FALSE),VLOOKUP('Whip Data'!$S314,Conduit,2,FALSE))&\"-\"&'Whip Data'!$R314,\"\")","v":""},{"$f":"IF($B301=\"\",\"\",IFERROR(VLOOKUP('Whip Data'!$T314,Conduit,3,FALSE),VLOOKUP('Whip Data'!$S314,Conduit,3,FALSE)))","v":""},{"$f":"IF(B301=\"\",\"\",'Whip Data'!O314)","v":""},{"$f":"IF(C301=\"\",\"\",'Whip Data'!P314)","v":""},{"$f":"IF($B301=\"\",\"\",IF(ISTEXT('Whip Data'!V314),'Whip Data'!V314,'Whip Data'!U314))","v":""},{"$f":"IF(B301=\"\",\"\",IF(ISBLANK('Whip Data'!X314),'Whip Data'!W314,'Whip Data'!X314))","v":""},"","",{"$f":"IF($B301=\"\",\"\",IF('Whip Data'!Q314=\"\",\"None\",'Whip Data'!Q314))","v":""},{"$f":"IF(O301=\"\",\"\",IF($O301=\"None\",\"NA\",INDEX(Breakers!$A$1:$I$75,MATCH(BOM!C301,Breakers!$A$1:$A$75,0),MATCH(BOM!O301,Breakers!$A$1:$I$1,0))))","v":""},{"$f":"IF(B301=\"\",\"\",VLOOKUP(H301,Standards!$X$3:$Y$6,2,FALSE))","v":""}]
[{"$f":"IF($B302=\"\",\"\",'Whip Data'!$Z315)","v":""},{"$f":"IFERROR('Whip Data'!A315,\"\")","v":""},{"$f":"IF(B302=\"\",\"\",'Whip Data'!L315)","v":""},"",{"$f":"IF($B302=\"\",\"\",VLOOKUP($C302,Materials,'Whip Data'!$M$10+11,FALSE))","v":""},{"$f":"IF($B302=\"\",\"\",VLOOKUP($C302,Materials,'Whip Data'!$M$10+13,FALSE))","v":""},{"$f":"IFERROR(\"LTUA-\"&IF(ISTEXT('Whip Data'!$T315),VLOOKUP('Whip Data'!$T315,Conduit,2,FALSE),VLOOKUP('Whip Data'!$S315,Conduit,2,FALSE))&\"-\"&'Whip Data'!$R315,\"\")","v":""},{"$f":"IF($B302=\"\",\"\",IFERROR(VLOOKUP('Whip Data'!$T315,Conduit,3,FALSE),VLOOKUP('Whip Data'!$S315,Conduit,3,FALSE)))","v":""},{"$f":"IF(B302=\"\",\"\",'Whip Data'!O315)","v":""},{"$f":"IF(C302=\"\",\"\",'Whip Data'!P315)","v":""},{"$f":"IF($B302=\"\",\"\",IF(ISTEXT('Whip Data'!V315),'Whip Data'!V315,'Whip Data'!U315))","v":""},{"$f":"IF(B302=\"\",\"\",IF(ISBLANK('Whip Data'!X315),'Whip Data'!W315,'Whip Data'!X315))","v":""},"","",{"$f":"IF($B302=\"\",\"\",IF('Whip Data'!Q315=\"\",\"None\",'Whip Data'!Q315))","v":""},{"$f":"IF(O302=\"\",\"\",IF($O302=\"None\",\"NA\",INDEX(Breakers!$A$1:$I$75,MATCH(BOM!C302,Breakers!$A$1:$A$75,0),MATCH(BOM!O302,Breakers!$A$1:$I$1,0))))","v":""},{"$f":"IF(B302=\"\",\"\",VLOOKUP(H302,Standards!$X$3:$Y$6,2,FALSE))","v":""}]
[{"$f":"IF($B303=\"\",\"\",'Whip Data'!$Z316)","v":""},{"$f":"IFERROR('Whip Data'!A316,\"\")","v":""},{"$f":"IF(B303=\"\",\"\",'Whip Data'!L316)","v":""},"",{"$f":"IF($B303=\"\",\"\",VLOOKUP($C303,Materials,'Whip Data'!$M$10+11,FALSE))","v":""},{"$f":"IF($B303=\"\",\"\",VLOOKUP($C303,Materials,'Whip Data'!$M$10+13,FALSE))","v":""},{"$f":"IFERROR(\"LTUA-\"&IF(ISTEXT('Whip Data'!$T316),VLOOKUP('Whip Data'!$T316,Conduit,2,FALSE),VLOOKUP('Whip Data'!$S316,Conduit,2,FALSE))&\"-\"&'Whip Data'!$R316,\"\")","v":""},{"$f":"IF($B303=\"\",\"\",IFERROR(VLOOKUP('Whip Data'!$T316,Conduit,3,FALSE),VLOOKUP('Whip Data'!$S316,Conduit,3,FALSE)))","v":""},{"$f":"IF(B303=\"\",\"\",'Whip Data'!O316)","v":""},{"$f":"IF(C303=\"\",\"\",'Whip Data'!P316)","v":""},{"$f":"IF($B303=\"\",\"\",IF(ISTEXT('Whip Data'!V316),'Whip Data'!V316,'Whip Data'!U316))","v":""},{"$f":"IF(B303=\"\",\"\",IF(ISBLANK('Whip Data'!X316),'Whip Data'!W316,'Whip Data'!X316))","v":""},"","",{"$f":"IF($B303=\"\",\"\",IF('Whip Data'!Q316=\"\",\"None\",'Whip Data'!Q316))","v":""},{"$f":"IF(O303=\"\",\"\",IF($O303=\"None\",\"NA\",INDEX(Breakers!$A$1:$I$75,MATCH(BOM!C303,Breakers!$A$1:$A$75,0),MATCH(BOM!O303,Breakers!$A$1:$I$1,0))))","v":""},{"$f":"IF(B303=\"\",\"\",VLOOKUP(H303,Standards!$X$3:$Y$6,2,FALSE))","v":""}]
[{"$f":"IF($B304=\"\",\"\",'Whip Data'!$Z317)","v":""},{"$f":"IFERROR('Whip Data'!A317,\"\")","v":""},{"$f":"IF(B304=\"\",\"\",'Whip Data'!L317)","v":""},"",{"$f":"IF($B304=\"\",\"\",VLOOKUP($C304,Materials,'Whip Data'!$M$10+11,FALSE))","v":""},{"$f":"IF($B304=\"\",\"\",VLOOKUP($C304,Materials,'Whip Data'!$M$10+13,FALSE))","v":""},{"$f":"IFERROR(\"LTUA-\"&IF(ISTEXT('Whip Data'!$T317),VLOOKUP('Whip Data'!$T317,Conduit,2,FALSE),VLOOKUP('Whip Data'!$S317,Conduit,2,FALSE))&\"-\"&'Whip Data'!$R317,\"\")","v":""},{"$f":"IF($B304=\"\",\"\",IFERROR(VLOOKUP('Whip Data'!$T317,Conduit,3,FALSE),VLOOKUP('Whip Data'!$S317,Conduit,3,FALSE)))","v":""},{"$f":"IF(B304=\"\",\"\",'Whip Data'!O317)","v":""},{"$f":"IF(C304=\"\",\"\",'Whip Data'!P317)","v":""},{"$f":"IF($B304=\"\",\"\",IF(ISTEXT('Whip Data'!V317),'Whip Data'!V317,'Whip Data'!U317))","v":""},{"$f":"IF(B304=\"\",\"\",IF(ISBLANK('Whip Data'!X317),'Whip Data'!W317,'Whip Data'!X317))","v":""},"","",{"$f":"IF($B304=\"\",\"\",IF('Whip Data'!Q317=\"\",\"None\",'Whip Data'!Q317))","v":""},{"$f":"IF(O304=\"\",\"\",IF($O304=\"None\",\"NA\",INDEX(Breakers!$A$1:$I$75,MATCH(BOM!C304,Breakers!$A$1:$A$75,0),MATCH(BOM!O304,Breakers!$A$1:$I$1,0))))","v":""},{"$f":"IF(B304=\"\",\"\",VLOOKUP(H304,Standards!$X$3:$Y$6,2,FALSE))","v":""}]
[{"$f":"IF($B305=\"\",\"\",'Whip Data'!$Z318)","v":""},{"$f":"IFERROR('Whip Data'!A318,\"\")","v":""},{"$f":"IF(B305=\"\",\"\",'Whip Data'!L318)","v":""},"",{"$f":"IF($B305=\"\",\"\",VLOOKUP($C305,Materials,'Whip Data'!$M$10+11,FALSE))","v":""},{"$f":"IF($B305=\"\",\"\",VLOOKUP($C305,Materials,'Whip Data'!$M$10+13,FALSE))","v":""},{"$f":"IFERROR(\"LTUA-\"&IF(ISTEXT('Whip Data'!$T318),VLOOKUP('Whip Data'!$T318,Conduit,2,FALSE),VLOOKUP('Whip Data'!$S318,Conduit,2,FALSE))&\"-\"&'Whip Data'!$R318,\"\")","v":""},{"$f":"IF($B305=\"\",\"\",IFERROR(VLOOKUP('Whip Data'!$T318,Conduit,3,FALSE),VLOOKUP('Whip Data'!$S318,Conduit,3,FALSE)))","v":""},{"$f":"IF(B305=\"\",\"\",'Whip Data'!O318)","v":""},{"$f":"IF(C305=\"\",\"\",'Whip Data'!P318)","v":""},{"$f":"IF($B305=\"\",\"\",IF(ISTEXT('Whip Data'!V318),'Whip Data'!V318,'Whip Data'!U318))","v":""},{"$f":"IF(B305=\"\",\"\",IF(ISBLANK('Whip Data'!X318),'Whip Data'!W318,'Whip Data'!X318))","v":""},"","",{"$f":"IF($B305=\"\",\"\",IF('Whip Data'!Q318=\"\",\"None\",'Whip Data'!Q318))","v":""},{"$f":"IF(O305=\"\",\"\",IF($O305=\"None\",\"NA\",INDEX(Breakers!$A$1:$I$75,MATCH(BOM!C305,Breakers!$A$1:$A$75,0),MATCH(BOM!O305,Breakers!$A$1:$I$1,0))))","v":""},{"$f":"IF(B305=\"\",\"\",VLOOKUP(H305,Standards!$X$3:$Y$6,2,FALSE))","v":""}]
[{"$f":"IF($B306=\"\",\"\",'Whip Data'!$Z319)","v":""},{"$f":"IFERROR('Whip Data'!A319,\"\")","v":""},{"$f":"IF(B306=\"\",\"\",'Whip Data'!L319)","v":""},"",{"$f":"IF($B306=\"\",\"\",VLOOKUP($C306,Materials,'Whip Data'!$M$10+11,FALSE))","v":""},{"$f":"IF($B306=\"\",\"\",VLOOKUP($C306,Materials,'Whip Data'!$M$10+13,FALSE))","v":""},{"$f":"IFERROR(\"LTUA-\"&IF(ISTEXT('Whip Data'!$T319),VLOOKUP('Whip Data'!$T319,Conduit,2,FALSE),VLOOKUP('Whip Data'!$S319,Conduit,2,FALSE))&\"-\"&'Whip Data'!$R319,\"\")","v":""},{"$f":"IF($B306=\"\",\"\",IFERROR(VLOOKUP('Whip Data'!$T319,Conduit,3,FALSE),VLOOKUP('Whip Data'!$S319,Conduit,3,FALSE)))","v":""},{"$f":"IF(B306=\"\",\"\",'Whip Data'!O319)","v":""},{"$f":"IF(C306=\"\",\"\",'Whip Data'!P319)","v":""},{"$f":"IF($B306=\"\",\"\",IF(ISTEXT('Whip Data'!V319),'Whip Data'!V319,'Whip Data'!U319))","v":""},{"$f":"IF(B306=\"\",\"\",IF(ISBLANK('Whip Data'!X319),'Whip Data'!W319,'Whip Data'!X319))","v":""},"","",{"$f":"IF($B306=\"\",\"\",IF('Whip Data'!Q319=\"\",\"None\",'Whip Data'!Q319))","v":""},{"$f":"IF(O306=\"\",\"\",IF($O306=\"None\",\"NA\",INDEX(Breakers!$A$1:$I$75,MATCH(BOM!C306,Breakers!$A$1:$A$75,0),MATCH(BOM!O306,Breakers!$A$1:$I$1,0))))","v":""},{"$f":"IF(B306=\"\",\"\",VLOOKUP(H306,Standards!$X$3:$Y$6,2,FALSE))","v":""}]
[{"$f":"IF($B307=\"\",\"\",'Whip Data'!$Z320)","v":""},{"$f":"IFERROR('Whip Data'!A320,\"\")","v":""},{"$f":"IF(B307=\"\",\"\",'Whip Data'!L320)","v":""},"",{"$f":"IF($B307=\"\",\"\",VLOOKUP($C307,Materials,'Whip Data'!$M$10+11,FALSE))","v":""},{"$f":"IF($B307=\"\",\"\",VLOOKUP($C307,Materials,'Whip Data'!$M$10+13,FALSE))","v":""},{"$f":"IFERROR(\"LTUA-\"&IF(ISTEXT('Whip Data'!$T320),VLOOKUP('Whip Data'!$T320,Conduit,2,FALSE),VLOOKUP('Whip Data'!$S320,Conduit,2,FALSE))&\"-\"&'Whip Data'!$R320,\"\")","v":""},{"$f":"IF($B307=\"\",\"\",IFERROR(VLOOKUP('Whip Data'!$T320,Conduit,3,FALSE),VLOOKUP('Whip Data'!$S320,Conduit,3,FALSE)))","v":""},{"$f":"IF(B307=\"\",\"\",'Whip Data'!O320)","v":""},{"$f":"IF(C307=\"\",\"\",'Whip Data'!P320)","v":""},{"$f":"IF($B307=\"\",\"\",IF(ISTEXT('Whip Data'!V320),'Whip Data'!V320,'Whip Data'!U320))","v":""},{"$f":"IF(B307=\"\",\"\",IF(ISBLANK('Whip Data'!X320),'Whip Data'!W320,'Whip Data'!X320))","v":""},"","",{"$f":"IF($B307=\"\",\"\",IF('Whip Data'!Q320=\"\",\"None\",'Whip Data'!Q320))","v":""},{"$f":"IF(O307=\"\",\"\",IF($O307=\"None\",\"NA\",INDEX(Breakers!$A$1:$I$75,MATCH(BOM!C307,Breakers!$A$1:$A$75,0),MATCH(BOM!O307,Breakers!$A$1:$I$1,0))))","v":""},{"$f":"IF(B307=\"\",\"\",VLOOKUP(H307,Standards!$X$3:$Y$6,2,FALSE))","v":""}]
[{"$f":"IF($B308=\"\",\"\",'Whip Data'!$Z321)","v":""},{"$f":"IFERROR('Whip Data'!A321,\"\")","v":""},{"$f":"IF(B308=\"\",\"\",'Whip Data'!L321)","v":""},"",{"$f":"IF($B308=\"\",\"\",VLOOKUP($C308,Materials,'Whip Data'!$M$10+11,FALSE))","v":""},{"$f":"IF($B308=\"\",\"\",VLOOKUP($C308,Materials,'Whip Data'!$M$10+13,FALSE))","v":""},{"$f":"IFERROR(\"LTUA-\"&IF(ISTEXT('Whip Data'!$T321),VLOOKUP('Whip Data'!$T321,Conduit,2,FALSE),VLOOKUP('Whip Data'!$S321,Conduit,2,FALSE))&\"-\"&'Whip Data'!$R321,\"\")","v":""},{"$f":"IF($B308=\"\",\"\",IFERROR(VLOOKUP('Whip Data'!$T321,Conduit,3,FALSE),VLOOKUP('Whip Data'!$S321,Conduit,3,FALSE)))","v":""},{"$f":"IF(B308=\"\",\"\",'Whip Data'!O321)","v":""},{"$f":"IF(C308=\"\",\"\",'Whip Data'!P321)","v":""},{"$f":"IF($B308=\"\",\"\",IF(ISTEXT('Whip Data'!V321),'Whip Data'!V321,'Whip Data'!U321))","v":""},{"$f":"IF(B308=\"\",\"\",IF(ISBLANK('Whip Data'!X321),'Whip Data'!W321,'Whip Data'!X321))","v":""},"","",{"$f":"IF($B308=\"\",\"\",IF('Whip Data'!Q321=\"\",\"None\",'Whip Data'!Q321))","v":""},{"$f":"IF(O308=\"\",\"\",IF($O308=\"None\",\"NA\",INDEX(Breakers!$A$1:$I$75,MATCH(BOM!C308,Breakers!$A$1:$A$75,0),MATCH(BOM!O308,Breakers!$A$1:$I$1,0))))","v":""},{"$f":"IF(B308=\"\",\"\",VLOOKUP(H308,Standards!$X$3:$Y$6,2,FALSE))","v":""}]
[{"$f":"IF($B309=\"\",\"\",'Whip Data'!$Z322)","v":""},{"$f":"IFERROR('Whip Data'!A322,\"\")","v":""},{"$f":"IF(B309=\"\",\"\",'Whip Data'!L322)","v":""},"",{"$f":"IF($B309=\"\",\"\",VLOOKUP($C309,Materials,'Whip Data'!$M$10+11,FALSE))","v":""},{"$f":"IF($B309=\"\",\"\",VLOOKUP($C309,Materials,'Whip Data'!$M$10+13,FALSE))","v":""},{"$f":"IFERROR(\"LTUA-\"&IF(ISTEXT('Whip Data'!$T322),VLOOKUP('Whip Data'!$T322,Conduit,2,FALSE),VLOOKUP('Whip Data'!$S322,Conduit,2,FALSE))&\"-\"&'Whip Data'!$R322,\"\")","v":""},{"$f":"IF($B309=\"\",\"\",IFERROR(VLOOKUP('Whip Data'!$T322,Conduit,3,FALSE),VLOOKUP('Whip Data'!$S322,Conduit,3,FALSE)))","v":""},{"$f":"IF(B309=\"\",\"\",'Whip Data'!O322)","v":""},{"$f":"IF(C309=\"\",\"\",'Whip Data'!P322)","v":""},{"$f":"IF($B309=\"\",\"\",IF(ISTEXT('Whip Data'!V322),'Whip Data'!V322,'Whip Data'!U322))","v":""},{"$f":"IF(B309=\"\",\"\",IF(ISBLANK('Whip Data'!X322),'Whip Data'!W322,'Whip Data'!X322))","v":""},"","",{"$f":"IF($B309=\"\",\"\",IF('Whip Data'!Q322=\"\",\"None\",'Whip Data'!Q322))","v":""},{"$f":"IF(O309=\"\",\"\",IF($O309=\"None\",\"NA\",INDEX(Breakers!$A$1:$I$75,MATCH(BOM!C309,Breakers!$A$1:$A$75,0),MATCH(BOM!O309,Breakers!$A$1:$I$1,0))))","v":""},{"$f":"IF(B309=\"\",\"\",VLOOKUP(H309,Standards!$X$3:$Y$6,2,FALSE))","v":""}]
[{"$f":"IF($B310=\"\",\"\",'Whip Data'!$Z323)","v":""},{"$f":"IFERROR('Whip Data'!A323,\"\")","v":""},{"$f":"IF(B310=\"\",\"\",'Whip Data'!L323)","v":""},"",{"$f":"IF($B310=\"\",\"\",VLOOKUP($C310,Materials,'Whip Data'!$M$10+11,FALSE))","v":""},{"$f":"IF($B310=\"\",\"\",VLOOKUP($C310,Materials,'Whip Data'!$M$10+13,FALSE))","v":""},{"$f":"IFERROR(\"LTUA-\"&IF(ISTEXT('Whip Data'!$T323),VLOOKUP('Whip Data'!$T323,Conduit,2,FALSE),VLOOKUP('Whip Data'!$S323,Conduit,2,FALSE))&\"-\"&'Whip Data'!$R323,\"\")","v":""},{"$f":"IF($B310=\"\",\"\",IFERROR(VLOOKUP('Whip Data'!$T323,Conduit,3,FALSE),VLOOKUP('Whip Data'!$S323,Conduit,3,FALSE)))","v":""},{"$f":"IF(B310=\"\",\"\",'Whip Data'!O323)","v":""},{"$f":"IF(C310=\"\",\"\",'Whip Data'!P323)","v":""},{"$f":"IF($B310=\"\",\"\",IF(ISTEXT('Whip Data'!V323),'Whip Data'!V323,'Whip Data'!U323))","v":""},{"$f":"IF(B310=\"\",\"\",IF(ISBLANK('Whip Data'!X323),'Whip Data'!W323,'Whip Data'!X323))","v":""},"","",{"$f":"IF($B310=\"\",\"\",IF('Whip Data'!Q323=\"\",\"None\",'Whip Data'!Q323))","v":""},{"$f":"IF(O310=\"\",\"\",IF($O310=\"None\",\"NA\",INDEX(Breakers!$A$1:$I$75,MATCH(BOM!C310,Breakers!$A$1:$A$75,0),MATCH(BOM!O310,Breakers!$A$1:$I$1,0))))","v":""},{"$f":"IF(B310=\"\",\"\",VLOOKUP(H310,Standards!$X$3:$Y$6,2,FALSE))","v":""}]
[{"$f":"IF($B311=\"\",\"\",'Whip Data'!$Z324)","v":""},{"$f":"IFERROR('Whip Data'!A324,\"\")","v":""},{"$f":"IF(B311=\"\",\"\",'Whip Data'!L324)","v":""},"",{"$f":"IF($B311=\"\",\"\",VLOOKUP($C311,Materials,'Whip Data'!$M$10+11,FALSE))","v":""},{"$f":"IF($B311=\"\",\"\",VLOOKUP($C311,Materials,'Whip Data'!$M$10+13,FALSE))","v":""},{"$f":"IFERROR(\"LTUA-\"&IF(ISTEXT('Whip Data'!$T324),VLOOKUP('Whip Data'!$T324,Conduit,2,FALSE),VLOOKUP('Whip Data'!$S324,Conduit,2,FALSE))&\"-\"&'Whip Data'!$R324,\"\")","v":""},{"$f":"IF($B311=\"\",\"\",IFERROR(VLOOKUP('Whip Data'!$T324,Conduit,3,FALSE),VLOOKUP('Whip Data'!$S324,Conduit,3,FALSE)))","v":""},{"$f":"IF(B311=\"\",\"\",'Whip Data'!O324)","v":""},{"$f":"IF(C311=\"\",\"\",'Whip Data'!P324)","v":""},{"$f":"IF($B311=\"\",\"\",IF(ISTEXT('Whip Data'!V324),'Whip Data'!V324,'Whip Data'!U324))","v":""},{"$f":"IF(B311=\"\",\"\",IF(ISBLANK('Whip Data'!X324),'Whip Data'!W324,'Whip Data'!X324))","v":""},"","",{"$f":"IF($B311=\"\",\"\",IF('Whip Data'!Q324=\"\",\"None\",'Whip Data'!Q324))","v":""},{"$f":"IF(O311=\"\",\"\",IF($O311=\"None\",\"NA\",INDEX(Breakers!$A$1:$I$75,MATCH(BOM!C311,Breakers!$A$1:$A$75,0),MATCH(BOM!O311,Breakers!$A$1:$I$1,0))))","v":""},{"$f":"IF(B311=\"\",\"\",VLOOKUP(H311,Standards!$X$3:$Y$6,2,FALSE))","v":""}]
[{"$f":"IF($B312=\"\",\"\",'Whip Data'!$Z325)","v":""},{"$f":"IFERROR('Whip Data'!A325,\"\")","v":""},{"$f":"IF(B312=\"\",\"\",'Whip Data'!L325)","v":""},"",{"$f":"IF($B312=\"\",\"\",VLOOKUP($C312,Materials,'Whip Data'!$M$10+11,FALSE))","v":""},{"$f":"IF($B312=\"\",\"\",VLOOKUP($C312,Materials,'Whip Data'!$M$10+13,FALSE))","v":""},{"$f":"IFERROR(\"LTUA-\"&IF(ISTEXT('Whip Data'!$T325),VLOOKUP('Whip Data'!$T325,Conduit,2,FALSE),VLOOKUP('Whip Data'!$S325,Conduit,2,FALSE))&\"-\"&'Whip Data'!$R325,\"\")","v":""},{"$f":"IF($B312=\"\",\"\",IFERROR(VLOOKUP('Whip Data'!$T325,Conduit,3,FALSE),VLOOKUP('Whip Data'!$S325,Conduit,3,FALSE)))","v":""},{"$f":"IF(B312=\"\",\"\",'Whip Data'!O325)","v":""},{"$f":"IF(C312=\"\",\"\",'Whip Data'!P325)","v":""},{"$f":"IF($B312=\"\",\"\",IF(ISTEXT('Whip Data'!V325),'Whip Data'!V325,'Whip Data'!U325))","v":""},{"$f":"IF(B312=\"\",\"\",IF(ISBLANK('Whip Data'!X325),'Whip Data'!W325,'Whip Data'!X325))","v":""},"","",{"$f":"IF($B312=\"\",\"\",IF('Whip Data'!Q325=\"\",\"None\",'Whip Data'!Q325))","v":""},{"$f":"IF(O312=\"\",\"\",IF($O312=\"None\",\"NA\",INDEX(Breakers!$A$1:$I$75,MATCH(BOM!C312,Breakers!$A$1:$A$75,0),MATCH(BOM!O312,Breakers!$A$1:$I$1,0))))","v":""},{"$f":"IF(B312=\"\",\"\",VLOOKUP(H312,Standards!$X$3:$Y$6,2,FALSE))","v":""}]
[{"$f":"IF($B313=\"\",\"\",'Whip Data'!$Z326)","v":""},{"$f":"IFERROR('Whip Data'!A326,\"\")","v":""},{"$f":"IF(B313=\"\",\"\",'Whip Data'!L326)","v":""},"",{"$f":"IF($B313=\"\",\"\",VLOOKUP($C313,Materials,'Whip Data'!$M$10+11,FALSE))","v":""},{"$f":"IF($B313=\"\",\"\",VLOOKUP($C313,Materials,'Whip Data'!$M$10+13,FALSE))","v":""},{"$f":"IFERROR(\"LTUA-\"&IF(ISTEXT('Whip Data'!$T326),VLOOKUP('Whip Data'!$T326,Conduit,2,FALSE),VLOOKUP('Whip Data'!$S326,Conduit,2,FALSE))&\"-\"&'Whip Data'!$R326,\"\")","v":""},{"$f":"IF($B313=\"\",\"\",IFERROR(VLOOKUP('Whip Data'!$T326,Conduit,3,FALSE),VLOOKUP('Whip Data'!$S326,Conduit,3,FALSE)))","v":""},{"$f":"IF(B313=\"\",\"\",'Whip Data'!O326)","v":""},{"$f":"IF(C313=\"\",\"\",'Whip Data'!P326)","v":""},{"$f":"IF($B313=\"\",\"\",IF(ISTEXT('Whip Data'!V326),'Whip Data'!V326,'Whip Data'!U326))","v":""},{"$f":"IF(B313=\"\",\"\",IF(ISBLANK('Whip Data'!X326),'Whip Data'!W326,'Whip Data'!X326))","v":""},"","",{"$f":"IF($B313=\"\",\"\",IF('Whip Data'!Q326=\"\",\"None\",'Whip Data'!Q326))","v":""},{"$f":"IF(O313=\"\",\"\",IF($O313=\"None\",\"NA\",INDEX(Breakers!$A$1:$I$75,MATCH(BOM!C313,Breakers!$A$1:$A$75,0),MATCH(BOM!O313,Breakers!$A$1:$I$1,0))))","v":""},{"$f":"IF(B313=\"\",\"\",VLOOKUP(H313,Standards!$X$3:$Y$6,2,FALSE))","v":""}]
[{"$f":"IF($B314=\"\",\"\",'Whip Data'!$Z327)","v":""},{"$f":"IFERROR('Whip Data'!A327,\"\")","v":""},{"$f":"IF(B314=\"\",\"\",'Whip Data'!L327)","v":""},"",{"$f":"IF($B314=\"\",\"\",VLOOKUP($C314,Materials,'Whip Data'!$M$10+11,FALSE))","v":""},{"$f":"IF($B314=\"\",\"\",VLOOKUP($C314,Materials,'Whip Data'!$M$10+13,FALSE))","v":""},{"$f":"IFERROR(\"LTUA-\"&IF(ISTEXT('Whip Data'!$T327),VLOOKUP('Whip Data'!$T327,Conduit,2,FALSE),VLOOKUP('Whip Data'!$S327,Conduit,2,FALSE))&\"-\"&'Whip Data'!$R327,\"\")","v":""},{"$f":"IF($B314=\"\",\"\",IFERROR(VLOOKUP('Whip Data'!$T327,Conduit,3,FALSE),VLOOKUP('Whip Data'!$S327,Conduit,3,FALSE)))","v":""},{"$f":"IF(B314=\"\",\"\",'Whip Data'!O327)","v":""},{"$f":"IF(C314=\"\",\"\",'Whip Data'!P327)","v":""},{"$f":"IF($B314=\"\",\"\",IF(ISTEXT('Whip Data'!V327),'Whip Data'!V327,'Whip Data'!U327))","v":""},{"$f":"IF(B314=\"\",\"\",IF(ISBLANK('Whip Data'!X327),'Whip Data'!W327,'Whip Data'!X327))","v":""},"","",{"$f":"IF($B314=\"\",\"\",IF('Whip Data'!Q327=\"\",\"None\",'Whip Data'!Q327))","v":""},{"$f":"IF(O314=\"\",\"\",IF($O314=\"None\",\"NA\",INDEX(Breakers!$A$1:$I$75,MATCH(BOM!C314,Breakers!$A$1:$A$75,0),MATCH(BOM!O314,Breakers!$A$1:$I$1,0))))","v":""},{"$f":"IF(B314=\"\",\"\",VLOOKUP(H314,Standards!$X$3:$Y$6,2,FALSE))","v":""}]
[{"$f":"IF($B315=\"\",\"\",'Whip Data'!$Z328)","v":""},{"$f":"IFERROR('Whip Data'!A328,\"\")","v":""},{"$f":"IF(B315=\"\",\"\",'Whip Data'!L328)","v":""},"",{"$f":"IF($B315=\"\",\"\",VLOOKUP($C315,Materials,'Whip Data'!$M$10+11,FALSE))","v":""},{"$f":"IF($B315=\"\",\"\",VLOOKUP($C315,Materials,'Whip Data'!$M$10+13,FALSE))","v":""},{"$f":"IFERROR(\"LTUA-\"&IF(ISTEXT('Whip Data'!$T328),VLOOKUP('Whip Data'!$T328,Conduit,2,FALSE),VLOOKUP('Whip Data'!$S328,Conduit,2,FALSE))&\"-\"&'Whip Data'!$R328,\"\")","v":""},{"$f":"IF($B315=\"\",\"\",IFERROR(VLOOKUP('Whip Data'!$T328,Conduit,3,FALSE),VLOOKUP('Whip Data'!$S328,Conduit,3,FALSE)))","v":""},{"$f":"IF(B315=\"\",\"\",'Whip Data'!O328)","v":""},{"$f":"IF(C315=\"\",\"\",'Whip Data'!P328)","v":""},{"$f":"IF($B315=\"\",\"\",IF(ISTEXT('Whip Data'!V328),'Whip Data'!V328,'Whip Data'!U328))","v":""},{"$f":"IF(B315=\"\",\"\",IF(ISBLANK('Whip Data'!X328),'Whip Data'!W328,'Whip Data'!X328))","v":""},"","",{"$f":"IF($B315=\"\",\"\",IF('Whip Data'!Q328=\"\",\"None\",'Whip Data'!Q328))","v":""},{"$f":"IF(O315=\"\",\"\",IF($O315=\"None\",\"NA\",INDEX(Breakers!$A$1:$I$75,MATCH(BOM!C315,Breakers!$A$1:$A$75,0),MATCH(BOM!O315,Breakers!$A$1:$I$1,0))))","v":""},{"$f":"IF(B315=\"\",\"\",VLOOKUP(H315,Standards!$X$3:$Y$6,2,FALSE))","v":""}]
[{"$f":"IF($B316=\"\",\"\",'Whip Data'!$Z329)","v":""},{"$f":"IFERROR('Whip Data'!A329,\"\")","v":""},{"$f":"IF(B316=\"\",\"\",'Whip Data'!L329)","v":""},"",{"$f":"IF($B316=\"\",\"\",VLOOKUP($C316,Materials,'Whip Data'!$M$10+11,FALSE))","v":""},{"$f":"IF($B316=\"\",\"\",VLOOKUP($C316,Materials,'Whip Data'!$M$10+13,FALSE))","v":""},{"$f":"IFERROR(\"LTUA-\"&IF(ISTEXT('Whip Data'!$T329),VLOOKUP('Whip Data'!$T329,Conduit,2,FALSE),VLOOKUP('Whip Data'!$S329,Conduit,2,FALSE))&\"-\"&'Whip Data'!$R329,\"\")","v":""},{"$f":"IF($B316=\"\",\"\",IFERROR(VLOOKUP('Whip Data'!$T329,Conduit,3,FALSE),VLOOKUP('Whip Data'!$S329,Conduit,3,FALSE)))","v":""},{"$f":"IF(B316=\"\",\"\",'Whip Data'!O329)","v":""},{"$f":"IF(C316=\"\",\"\",'Whip Data'!P329)","v":""},{"$f":"IF($B316=\"\",\"\",IF(ISTEXT('Whip Data'!V329),'Whip Data'!V329,'Whip Data'!U329))","v":""},{"$f":"IF(B316=\"\",\"\",IF(ISBLANK('Whip Data'!X329),'Whip Data'!W329,'Whip Data'!X329))","v":""},"","",{"$f":"IF($B316=\"\",\"\",IF('Whip Data'!Q329=\"\",\"None\",'Whip Data'!Q329))","v":""},{"$f":"IF(O316=\"\",\"\",IF($O316=\"None\",\"NA\",INDEX(Breakers!$A$1:$I$75,MATCH(BOM!C316,Breakers!$A$1:$A$75,0),MATCH(BOM!O316,Breakers!$A$1:$I$1,0))))","v":""},{"$f":"IF(B316=\"\",\"\",VLOOKUP(H316,Standards!$X$3:$Y$6,2,FALSE))","v":""}]
[{"$f":"IF($B317=\"\",\"\",'Whip Data'!$Z330)","v":""},{"$f":"IFERROR('Whip Data'!A330,\"\")","v":""},{"$f":"IF(B317=\"\",\"\",'Whip Data'!L330)","v":""},"",{"$f":"IF($B317=\"\",\"\",VLOOKUP($C317,Materials,'Whip Data'!$M$10+11,FALSE))","v":""},{"$f":"IF($B317=\"\",\"\",VLOOKUP($C317,Materials,'Whip Data'!$M$10+13,FALSE))","v":""},{"$f":"IFERROR(\"LTUA-\"&IF(ISTEXT('Whip Data'!$T330),VLOOKUP('Whip Data'!$T330,Conduit,2,FALSE),VLOOKUP('Whip Data'!$S330,Conduit,2,FALSE))&\"-\"&'Whip Data'!$R330,\"\")","v":""},{"$f":"IF($B317=\"\",\"\",IFERROR(VLOOKUP('Whip Data'!$T330,Conduit,3,FALSE),VLOOKUP('Whip Data'!$S330,Conduit,3,FALSE)))","v":""},{"$f":"IF(B317=\"\",\"\",'Whip Data'!O330)","v":""},{"$f":"IF(C317=\"\",\"\",'Whip Data'!P330)","v":""},{"$f":"IF($B317=\"\",\"\",IF(ISTEXT('Whip Data'!V330),'Whip Data'!V330,'Whip Data'!U330))","v":""},{"$f":"IF(B317=\"\",\"\",IF(ISBLANK('Whip Data'!X330),'Whip Data'!W330,'Whip Data'!X330))","v":""},"","",{"$f":"IF($B317=\"\",\"\",IF('Whip Data'!Q330=\"\",\"None\",'Whip Data'!Q330))","v":""},{"$f":"IF(O317=\"\",\"\",IF($O317=\"None\",\"NA\",INDEX(Breakers!$A$1:$I$75,MATCH(BOM!C317,Breakers!$A$1:$A$75,0),MATCH(BOM!O317,Breakers!$A$1:$I$1,0))))","v":""},{"$f":"IF(B317=\"\",\"\",VLOOKUP(H317,Standards!$X$3:$Y$6,2,FALSE))","v":""}]
[{"$f":"IF($B318=\"\",\"\",'Whip Data'!$Z331)","v":""},{"$f":"IFERROR('Whip Data'!A331,\"\")","v":""},{"$f":"IF(B318=\"\",\"\",'Whip Data'!L331)","v":""},"",{"$f":"IF($B318=\"\",\"\",VLOOKUP($C318,Materials,'Whip Data'!$M$10+11,FALSE))","v":""},{"$f":"IF($B318=\"\",\"\",VLOOKUP($C318,Materials,'Whip Data'!$M$10+13,FALSE))","v":""},{"$f":"IFERROR(\"LTUA-\"&IF(ISTEXT('Whip Data'!$T331),VLOOKUP('Whip Data'!$T331,Conduit,2,FALSE),VLOOKUP('Whip Data'!$S331,Conduit,2,FALSE))&\"-\"&'Whip Data'!$R331,\"\")","v":""},{"$f":"IF($B318=\"\",\"\",IFERROR(VLOOKUP('Whip Data'!$T331,Conduit,3,FALSE),VLOOKUP('Whip Data'!$S331,Conduit,3,FALSE)))","v":""},{"$f":"IF(B318=\"\",\"\",'Whip Data'!O331)","v":""},{"$f":"IF(C318=\"\",\"\",'Whip Data'!P331)","v":""},{"$f":"IF($B318=\"\",\"\",IF(ISTEXT('Whip Data'!V331),'Whip Data'!V331,'Whip Data'!U331))","v":""},{"$f":"IF(B318=\"\",\"\",IF(ISBLANK('Whip Data'!X331),'Whip Data'!W331,'Whip Data'!X331))","v":""},"","",{"$f":"IF($B318=\"\",\"\",IF('Whip Data'!Q331=\"\",\"None\",'Whip Data'!Q331))","v":""},{"$f":"IF(O318=\"\",\"\",IF($O318=\"None\",\"NA\",INDEX(Breakers!$A$1:$I$75,MATCH(BOM!C318,Breakers!$A$1:$A$75,0),MATCH(BOM!O318,Breakers!$A$1:$I$1,0))))","v":""},{"$f":"IF(B318=\"\",\"\",VLOOKUP(H318,Standards!$X$3:$Y$6,2,FALSE))","v":""}]
[{"$f":"IF($B319=\"\",\"\",'Whip Data'!$Z332)","v":""},{"$f":"IFERROR('Whip Data'!A332,\"\")","v":""},{"$f":"IF(B319=\"\",\"\",'Whip Data'!L332)","v":""},"",{"$f":"IF($B319=\"\",\"\",VLOOKUP($C319,Materials,'Whip Data'!$M$10+11,FALSE))","v":""},{"$f":"IF($B319=\"\",\"\",VLOOKUP($C319,Materials,'Whip Data'!$M$10+13,FALSE))","v":""},{"$f":"IFERROR(\"LTUA-\"&IF(ISTEXT('Whip Data'!$T332),VLOOKUP('Whip Data'!$T332,Conduit,2,FALSE),VLOOKUP('Whip Data'!$S332,Conduit,2,FALSE))&\"-\"&'Whip Data'!$R332,\"\")","v":""},{"$f":"IF($B319=\"\",\"\",IFERROR(VLOOKUP('Whip Data'!$T332,Conduit,3,FALSE),VLOOKUP('Whip Data'!$S332,Conduit,3,FALSE)))","v":""},{"$f":"IF(B319=\"\",\"\",'Whip Data'!O332)","v":""},{"$f":"IF(C319=\"\",\"\",'Whip Data'!P332)","v":""},{"$f":"IF($B319=\"\",\"\",IF(ISTEXT('Whip Data'!V332),'Whip Data'!V332,'Whip Data'!U332))","v":""},{"$f":"IF(B319=\"\",\"\",IF(ISBLANK('Whip Data'!X332),'Whip Data'!W332,'Whip Data'!X332))","v":""},"","",{"$f":"IF($B319=\"\",\"\",IF('Whip Data'!Q332=\"\",\"None\",'Whip Data'!Q332))","v":""},{"$f":"IF(O319=\"\",\"\",IF($O319=\"None\",\"NA\",INDEX(Breakers!$A$1:$I$75,MATCH(BOM!C319,Breakers!$A$1:$A$75,0),MATCH(BOM!O319,Breakers!$A$1:$I$1,0))))","v":""},{"$f":"IF(B319=\"\",\"\",VLOOKUP(H319,Standards!$X$3:$Y$6,2,FALSE))","v":""}]
[{"$f":"IF($B320=\"\",\"\",'Whip Data'!$Z333)","v":""},{"$f":"IFERROR('Whip Data'!A333,\"\")","v":""},{"$f":"IF(B320=\"\",\"\",'Whip Data'!L333)","v":""},"",{"$f":"IF($B320=\"\",\"\",VLOOKUP($C320,Materials,'Whip Data'!$M$10+11,FALSE))","v":""},{"$f":"IF($B320=\"\",\"\",VLOOKUP($C320,Materials,'Whip Data'!$M$10+13,FALSE))","v":""},{"$f":"IFERROR(\"LTUA-\"&IF(ISTEXT('Whip Data'!$T333),VLOOKUP('Whip Data'!$T333,Conduit,2,FALSE),VLOOKUP('Whip Data'!$S333,Conduit,2,FALSE))&\"-\"&'Whip Data'!$R333,\"\")","v":""},{"$f":"IF($B320=\"\",\"\",IFERROR(VLOOKUP('Whip Data'!$T333,Conduit,3,FALSE),VLOOKUP('Whip Data'!$S333,Conduit,3,FALSE)))","v":""},{"$f":"IF(B320=\"\",\"\",'Whip Data'!O333)","v":""},{"$f":"IF(C320=\"\",\"\",'Whip Data'!P333)","v":""},{"$f":"IF($B320=\"\",\"\",IF(ISTEXT('Whip Data'!V333),'Whip Data'!V333,'Whip Data'!U333))","v":""},{"$f":"IF(B320=\"\",\"\",IF(ISBLANK('Whip Data'!X333),'Whip Data'!W333,'Whip Data'!X333))","v":""},"","",{"$f":"IF($B320=\"\",\"\",IF('Whip Data'!Q333=\"\",\"None\",'Whip Data'!Q333))","v":""},{"$f":"IF(O320=\"\",\"\",IF($O320=\"None\",\"NA\",INDEX(Breakers!$A$1:$I$75,MATCH(BOM!C320,Breakers!$A$1:$A$75,0),MATCH(BOM!O320,Breakers!$A$1:$I$1,0))))","v":""},{"$f":"IF(B320=\"\",\"\",VLOOKUP(H320,Standards!$X$3:$Y$6,2,FALSE))","v":""}]
[{"$f":"IF($B321=\"\",\"\",'Whip Data'!$Z334)","v":""},{"$f":"IFERROR('Whip Data'!A334,\"\")","v":""},{"$f":"IF(B321=\"\",\"\",'Whip Data'!L334)","v":""},"",{"$f":"IF($B321=\"\",\"\",VLOOKUP($C321,Materials,'Whip Data'!$M$10+11,FALSE))","v":""},{"$f":"IF($B321=\"\",\"\",VLOOKUP($C321,Materials,'Whip Data'!$M$10+13,FALSE))","v":""},{"$f":"IFERROR(\"LTUA-\"&IF(ISTEXT('Whip Data'!$T334),VLOOKUP('Whip Data'!$T334,Conduit,2,FALSE),VLOOKUP('Whip Data'!$S334,Conduit,2,FALSE))&\"-\"&'Whip Data'!$R334,\"\")","v":""},{"$f":"IF($B321=\"\",\"\",IFERROR(VLOOKUP('Whip Data'!$T334,Conduit,3,FALSE),VLOOKUP('Whip Data'!$S334,Conduit,3,FALSE)))","v":""},{"$f":"IF(B321=\"\",\"\",'Whip Data'!O334)","v":""},{"$f":"IF(C321=\"\",\"\",'Whip Data'!P334)","v":""},{"$f":"IF($B321=\"\",\"\",IF(ISTEXT('Whip Data'!V334),'Whip Data'!V334,'Whip Data'!U334))","v":""},{"$f":"IF(B321=\"\",\"\",IF(ISBLANK('Whip Data'!X334),'Whip Data'!W334,'Whip Data'!X334))","v":""},"","",{"$f":"IF($B321=\"\",\"\",IF('Whip Data'!Q334=\"\",\"None\",'Whip Data'!Q334))","v":""},{"$f":"IF(O321=\"\",\"\",IF($O321=\"None\",\"NA\",INDEX(Breakers!$A$1:$I$75,MATCH(BOM!C321,Breakers!$A$1:$A$75,0),MATCH(BOM!O321,Breakers!$A$1:$I$1,0))))","v":""},{"$f":"IF(B321=\"\",\"\",VLOOKUP(H321,Standards!$X$3:$Y$6,2,FALSE))","v":""}]
[{"$f":"IF($B322=\"\",\"\",'Whip Data'!$Z335)","v":""},{"$f":"IFERROR('Whip Data'!A335,\"\")","v":""},{"$f":"IF(B322=\"\",\"\",'Whip Data'!L335)","v":""},{"$f":"IF(B322=\"\",\"\",VLOOKUP(C322,Materials,11,FALSE))","v":""},{"$f":"IF($B322=\"\",\"\",VLOOKUP($C322,Materials,'Whip Data'!$M$10+11,FALSE))","v":""},{"$f":"IF($B322=\"\",\"\",VLOOKUP($C322,Materials,'Whip Data'!$M$10+13,FALSE))","v":""},{"$f":"IFERROR(\"LTUA-\"&IF(ISTEXT('Whip Data'!$T335),VLOOKUP('Whip Data'!$T335,Conduit,2,FALSE),VLOOKUP('Whip Data'!$S335,Conduit,2,FALSE))&\"-\"&'Whip Data'!$R335,\"\")","v":""},{"$f":"IF($B322=\"\",\"\",IFERROR(VLOOKUP('Whip Data'!$T335,Conduit,3,FALSE),VLOOKUP('Whip Data'!$S335,Conduit,3,FALSE)))","v":""},{"$f":"IF(B322=\"\",\"\",'Whip Data'!O335)","v":""},{"$f":"IF(C322=\"\",\"\",'Whip Data'!P335)","v":""},{"$f":"IF($B322=\"\",\"\",IF(ISTEXT('Whip Data'!V335),'Whip Data'!V335,'Whip Data'!U335))","v":""},{"$f":"IF(B322=\"\",\"\",IF(ISBLANK('Whip Data'!X335),'Whip Data'!W335,'Whip Data'!X335))","v":""},"","",{"$f":"IF($B322=\"\",\"\",IF('Whip Data'!Q335=\"\",\"None\",'Whip Data'!Q335))","v":""},{"$f":"IF(O322=\"\",\"\",IF($O322=\"None\",\"NA\",INDEX(Breakers!$A$1:$I$75,MATCH(BOM!C322,Breakers!$A$1:$A$75,0),MATCH(BOM!O322,Breakers!$A$1:$I$1,0))))","v":""},{"$f":"IF(B322=\"\",\"\",VLOOKUP(H322,Standards!$X$3:$Y$6,2,FALSE))","v":""}]
[{"$f":"IF($B323=\"\",\"\",'Whip Data'!$Z336)","v":""},{"$f":"IFERROR('Whip Data'!A336,\"\")","v":""},{"$f":"IF(B323=\"\",\"\",'Whip Data'!L336)","v":""},"",{"$f":"IF($B323=\"\",\"\",VLOOKUP($C323,Materials,'Whip Data'!$M$10+11,FALSE))","v":""},{"$f":"IF($B323=\"\",\"\",VLOOKUP($C323,Materials,'Whip Data'!$M$10+13,FALSE))","v":""},{"$f":"IFERROR(\"LTUA-\"&IF(ISTEXT('Whip Data'!$T336),VLOOKUP('Whip Data'!$T336,Conduit,2,FALSE),VLOOKUP('Whip Data'!$S336,Conduit,2,FALSE))&\"-\"&'Whip Data'!$R336,\"\")","v":""},{"$f":"IF($B323=\"\",\"\",IFERROR(VLOOKUP('Whip Data'!$T336,Conduit,3,FALSE),VLOOKUP('Whip Data'!$S336,Conduit,3,FALSE)))","v":""},{"$f":"IF(B323=\"\",\"\",'Whip Data'!O336)","v":""},{"$f":"IF(C323=\"\",\"\",'Whip Data'!P336)","v":""},{"$f":"IF($B323=\"\",\"\",IF(ISTEXT('Whip Data'!V336),'Whip Data'!V336,'Whip Data'!U336))","v":""},{"$f":"IF(B323=\"\",\"\",IF(ISBLANK('Whip Data'!X336),'Whip Data'!W336,'Whip Data'!X336))","v":""},{"$f":"IF(B323=\"\",\"\",SUM(I323:J323))","v":""},{"$f":"IF(B323=\"\",\"\",LEFT(K323,1)*M323)","v":""},{"$f":"IF($B323=\"\",\"\",IF('Whip Data'!Q336=\"\",\"None\",'Whip Data'!Q336))","v":""},{"$f":"IF(O323=\"\",\"\",IF($O323=\"None\",\"NA\",INDEX(Breakers!$A$1:$I$75,MATCH(BOM!C323,Breakers!$A$1:$A$75,0),MATCH(BOM!O323,Breakers!$A$1:$I$1,0))))","v":""},{"$f":"IF(B323=\"\",\"\",VLOOKUP(H323,Standards!$X$3:$Y$6,2,FALSE))","v":""}]
[{"$f":"IF($B324=\"\",\"\",'Whip Data'!$Z337)","v":""},{"$f":"IFERROR('Whip Data'!A337,\"\")","v":""},{"$f":"IF(B324=\"\",\"\",'Whip Data'!L337)","v":""},"",{"$f":"IF($B324=\"\",\"\",VLOOKUP($C324,Materials,'Whip Data'!$M$10+11,FALSE))","v":""},{"$f":"IF($B324=\"\",\"\",VLOOKUP($C324,Materials,'Whip Data'!$M$10+13,FALSE))","v":""},{"$f":"IFERROR(\"LTUA-\"&IF(ISTEXT('Whip Data'!$T337),VLOOKUP('Whip Data'!$T337,Conduit,2,FALSE),VLOOKUP('Whip Data'!$S337,Conduit,2,FALSE))&\"-\"&'Whip Data'!$R337,\"\")","v":""},{"$f":"IF($B324=\"\",\"\",IFERROR(VLOOKUP('Whip Data'!$T337,Conduit,3,FALSE),VLOOKUP('Whip Data'!$S337,Conduit,3,FALSE)))","v":""},{"$f":"IF(B324=\"\",\"\",'Whip Data'!O337)","v":""},{"$f":"IF(C324=\"\",\"\",'Whip Data'!P337)","v":""},{"$f":"IF($B324=\"\",\"\",IF(ISTEXT('Whip Data'!V337),'Whip Data'!V337,'Whip Data'!U337))","v":""},{"$f":"IF(B324=\"\",\"\",IF(ISBLANK('Whip Data'!X337),'Whip Data'!W337,'Whip Data'!X337))","v":""},"","",{"$f":"IF($B324=\"\",\"\",IF('Whip Data'!Q337=\"\",\"None\",'Whip Data'!Q337))","v":""},{"$f":"IF(O324=\"\",\"\",IF($O324=\"None\",\"NA\",INDEX(Breakers!$A$1:$I$75,MATCH(BOM!C324,Breakers!$A$1:$A$75,0),MATCH(BOM!O324,Breakers!$A$1:$I$1,0))))","v":""},{"$f":"IF(B324=\"\",\"\",VLOOKUP(H324,Standards!$X$3:$Y$6,2,FALSE))","v":""}]
[{"$f":"IF($B325=\"\",\"\",'Whip Data'!$Z338)","v":""},{"$f":"IFERROR('Whip Data'!A338,\"\")","v":""},{"$f":"IF(B325=\"\",\"\",'Whip Data'!L338)","v":""},"",{"$f":"IF($B325=\"\",\"\",VLOOKUP($C325,Materials,'Whip Data'!$M$10+11,FALSE))","v":""},{"$f":"IF($B325=\"\",\"\",VLOOKUP($C325,Materials,'Whip Data'!$M$10+13,FALSE))","v":""},{"$f":"IFERROR(\"LTUA-\"&IF(ISTEXT('Whip Data'!$T338),VLOOKUP('Whip Data'!$T338,Conduit,2,FALSE),VLOOKUP('Whip Data'!$S338,Conduit,2,FALSE))&\"-\"&'Whip Data'!$R338,\"\")","v":""},{"$f":"IF($B325=\"\",\"\",IFERROR(VLOOKUP('Whip Data'!$T338,Conduit,3,FALSE),VLOOKUP('Whip Data'!$S338,Conduit,3,FALSE)))","v":""},{"$f":"IF(B325=\"\",\"\",'Whip Data'!O338)","v":""},{"$f":"IF(C325=\"\",\"\",'Whip Data'!P338)","v":""},{"$f":"IF($B325=\"\",\"\",IF(ISTEXT('Whip Data'!V338),'Whip Data'!V338,'Whip Data'!U338))","v":""},{"$f":"IF(B325=\"\",\"\",IF(ISBLANK('Whip Data'!X338),'Whip Data'!W338,'Whip Data'!X338))","v":""},"","",{"$f":"IF($B325=\"\",\"\",IF('Whip Data'!Q338=\"\",\"None\",'Whip Data'!Q338))","v":""},{"$f":"IF(O325=\"\",\"\",IF($O325=\"None\",\"NA\",INDEX(Breakers!$A$1:$I$75,MATCH(BOM!C325,Breakers!$A$1:$A$75,0),MATCH(BOM!O325,Breakers!$A$1:$I$1,0))))","v":""},{"$f":"IF(B325=\"\",\"\",VLOOKUP(H325,Standards!$X$3:$Y$6,2,FALSE))","v":""}]
[{"$f":"IF($B326=\"\",\"\",'Whip Data'!$Z339)","v":""},{"$f":"IFERROR('Whip Data'!A339,\"\")","v":""},{"$f":"IF(B326=\"\",\"\",'Whip Data'!L339)","v":""},"",{"$f":"IF($B326=\"\",\"\",VLOOKUP($C326,Materials,'Whip Data'!$M$10+11,FALSE))","v":""},{"$f":"IF($B326=\"\",\"\",VLOOKUP($C326,Materials,'Whip Data'!$M$10+13,FALSE))","v":""},{"$f":"IFERROR(\"LTUA-\"&IF(ISTEXT('Whip Data'!$T339),VLOOKUP('Whip Data'!$T339,Conduit,2,FALSE),VLOOKUP('Whip Data'!$S339,Conduit,2,FALSE))&\"-\"&'Whip Data'!$R339,\"\")","v":""},{"$f":"IF($B326=\"\",\"\",IFERROR(VLOOKUP('Whip Data'!$T339,Conduit,3,FALSE),VLOOKUP('Whip Data'!$S339,Conduit,3,FALSE)))","v":""},{"$f":"IF(B326=\"\",\"\",'Whip Data'!O339)","v":""},{"$f":"IF(C326=\"\",\"\",'Whip Data'!P339)","v":""},{"$f":"IF($B326=\"\",\"\",IF(ISTEXT('Whip Data'!V339),'Whip Data'!V339,'Whip Data'!U339))","v":""},{"$f":"IF(B326=\"\",\"\",IF(ISBLANK('Whip Data'!X339),'Whip Data'!W339,'Whip Data'!X339))","v":""},"","",{"$f":"IF($B326=\"\",\"\",IF('Whip Data'!Q339=\"\",\"None\",'Whip Data'!Q339))","v":""},{"$f":"IF(O326=\"\",\"\",IF($O326=\"None\",\"NA\",INDEX(Breakers!$A$1:$I$75,MATCH(BOM!C326,Breakers!$A$1:$A$75,0),MATCH(BOM!O326,Breakers!$A$1:$I$1,0))))","v":""},{"$f":"IF(B326=\"\",\"\",VLOOKUP(H326,Standards!$X$3:$Y$6,2,FALSE))","v":""}]
[{"$f":"IF($B327=\"\",\"\",'Whip Data'!$Z340)","v":""},{"$f":"IFERROR('Whip Data'!A340,\"\")","v":""},{"$f":"IF(B327=\"\",\"\",'Whip Data'!L340)","v":""},"",{"$f":"IF($B327=\"\",\"\",VLOOKUP($C327,Materials,'Whip Data'!$M$10+11,FALSE))","v":""},{"$f":"IF($B327=\"\",\"\",VLOOKUP($C327,Materials,'Whip Data'!$M$10+13,FALSE))","v":""},{"$f":"IFERROR(\"LTUA-\"&IF(ISTEXT('Whip Data'!$T340),VLOOKUP('Whip Data'!$T340,Conduit,2,FALSE),VLOOKUP('Whip Data'!$S340,Conduit,2,FALSE))&\"-\"&'Whip Data'!$R340,\"\")","v":""},{"$f":"IF($B327=\"\",\"\",IFERROR(VLOOKUP('Whip Data'!$T340,Conduit,3,FALSE),VLOOKUP('Whip Data'!$S340,Conduit,3,FALSE)))","v":""},{"$f":"IF(B327=\"\",\"\",'Whip Data'!O340)","v":""},{"$f":"IF(C327=\"\",\"\",'Whip Data'!P340)","v":""},{"$f":"IF($B327=\"\",\"\",IF(ISTEXT('Whip Data'!V340),'Whip Data'!V340,'Whip Data'!U340))","v":""},{"$f":"IF(B327=\"\",\"\",IF(ISBLANK('Whip Data'!X340),'Whip Data'!W340,'Whip Data'!X340))","v":""},"","",{"$f":"IF($B327=\"\",\"\",IF('Whip Data'!Q340=\"\",\"None\",'Whip Data'!Q340))","v":""},{"$f":"IF(O327=\"\",\"\",IF($O327=\"None\",\"NA\",INDEX(Breakers!$A$1:$I$75,MATCH(BOM!C327,Breakers!$A$1:$A$75,0),MATCH(BOM!O327,Breakers!$A$1:$I$1,0))))","v":""},{"$f":"IF(B327=\"\",\"\",VLOOKUP(H327,Standards!$X$3:$Y$6,2,FALSE))","v":""}]
[{"$f":"IF($B328=\"\",\"\",'Whip Data'!$Z341)","v":""},{"$f":"IFERROR('Whip Data'!A341,\"\")","v":""},{"$f":"IF(B328=\"\",\"\",'Whip Data'!L341)","v":""},"",{"$f":"IF($B328=\"\",\"\",VLOOKUP($C328,Materials,'Whip Data'!$M$10+11,FALSE))","v":""},{"$f":"IF($B328=\"\",\"\",VLOOKUP($C328,Materials,'Whip Data'!$M$10+13,FALSE))","v":""},{"$f":"IFERROR(\"LTUA-\"&IF(ISTEXT('Whip Data'!$T341),VLOOKUP('Whip Data'!$T341,Conduit,2,FALSE),VLOOKUP('Whip Data'!$S341,Conduit,2,FALSE))&\"-\"&'Whip Data'!$R341,\"\")","v":""},{"$f":"IF($B328=\"\",\"\",IFERROR(VLOOKUP('Whip Data'!$T341,Conduit,3,FALSE),VLOOKUP('Whip Data'!$S341,Conduit,3,FALSE)))","v":""},{"$f":"IF(B328=\"\",\"\",'Whip Data'!O341)","v":""},{"$f":"IF(C328=\"\",\"\",'Whip Data'!P341)","v":""},{"$f":"IF($B328=\"\",\"\",IF(ISTEXT('Whip Data'!V341),'Whip Data'!V341,'Whip Data'!U341))","v":""},{"$f":"IF(B328=\"\",\"\",IF(ISBLANK('Whip Data'!X341),'Whip Data'!W341,'Whip Data'!X341))","v":""},"","",{"$f":"IF($B328=\"\",\"\",IF('Whip Data'!Q341=\"\",\"None\",'Whip Data'!Q341))","v":""},{"$f":"IF(O328=\"\",\"\",IF($O328=\"None\",\"NA\",INDEX(Breakers!$A$1:$I$75,MATCH(BOM!C328,Breakers!$A$1:$A$75,0),MATCH(BOM!O328,Breakers!$A$1:$I$1,0))))","v":""},{"$f":"IF(B328=\"\",\"\",VLOOKUP(H328,Standards!$X$3:$Y$6,2,FALSE))","v":""}]
[{"$f":"IF($B329=\"\",\"\",'Whip Data'!$Z342)","v":""},{"$f":"IFERROR('Whip Data'!A342,\"\")","v":""},{"$f":"IF(B329=\"\",\"\",'Whip Data'!L342)","v":""},"",{"$f":"IF($B329=\"\",\"\",VLOOKUP($C329,Materials,'Whip Data'!$M$10+11,FALSE))","v":""},{"$f":"IF($B329=\"\",\"\",VLOOKUP($C329,Materials,'Whip Data'!$M$10+13,FALSE))","v":""},{"$f":"IFERROR(\"LTUA-\"&IF(ISTEXT('Whip Data'!$T342),VLOOKUP('Whip Data'!$T342,Conduit,2,FALSE),VLOOKUP('Whip Data'!$S342,Conduit,2,FALSE))&\"-\"&'Whip Data'!$R342,\"\")","v":""},{"$f":"IF($B329=\"\",\"\",IFERROR(VLOOKUP('Whip Data'!$T342,Conduit,3,FALSE),VLOOKUP('Whip Data'!$S342,Conduit,3,FALSE)))","v":""},{"$f":"IF(B329=\"\",\"\",'Whip Data'!O342)","v":""},{"$f":"IF(C329=\"\",\"\",'Whip Data'!P342)","v":""},{"$f":"IF($B329=\"\",\"\",IF(ISTEXT('Whip Data'!V342),'Whip Data'!V342,'Whip Data'!U342))","v":""},{"$f":"IF(B329=\"\",\"\",IF(ISBLANK('Whip Data'!X342),'Whip Data'!W342,'Whip Data'!X342))","v":""},"","",{"$f":"IF($B329=\"\",\"\",IF('Whip Data'!Q342=\"\",\"None\",'Whip Data'!Q342))","v":""},{"$f":"IF(O329=\"\",\"\",IF($O329=\"None\",\"NA\",INDEX(Breakers!$A$1:$I$75,MATCH(BOM!C329,Breakers!$A$1:$A$75,0),MATCH(BOM!O329,Breakers!$A$1:$I$1,0))))","v":""},{"$f":"IF(B329=\"\",\"\",VLOOKUP(H329,Standards!$X$3:$Y$6,2,FALSE))","v":""}]
[{"$f":"IF($B330=\"\",\"\",'Whip Data'!$Z343)","v":""},{"$f":"IFERROR('Whip Data'!A343,\"\")","v":""},{"$f":"IF(B330=\"\",\"\",'Whip Data'!L343)","v":""},"",{"$f":"IF($B330=\"\",\"\",VLOOKUP($C330,Materials,'Whip Data'!$M$10+11,FALSE))","v":""},{"$f":"IF($B330=\"\",\"\",VLOOKUP($C330,Materials,'Whip Data'!$M$10+13,FALSE))","v":""},{"$f":"IFERROR(\"LTUA-\"&IF(ISTEXT('Whip Data'!$T343),VLOOKUP('Whip Data'!$T343,Conduit,2,FALSE),VLOOKUP('Whip Data'!$S343,Conduit,2,FALSE))&\"-\"&'Whip Data'!$R343,\"\")","v":""},{"$f":"IF($B330=\"\",\"\",IFERROR(VLOOKUP('Whip Data'!$T343,Conduit,3,FALSE),VLOOKUP('Whip Data'!$S343,Conduit,3,FALSE)))","v":""},{"$f":"IF(B330=\"\",\"\",'Whip Data'!O343)","v":""},{"$f":"IF(C330=\"\",\"\",'Whip Data'!P343)","v":""},{"$f":"IF($B330=\"\",\"\",IF(ISTEXT('Whip Data'!V343),'Whip Data'!V343,'Whip Data'!U343))","v":""},{"$f":"IF(B330=\"\",\"\",IF(ISBLANK('Whip Data'!X343),'Whip Data'!W343,'Whip Data'!X343))","v":""},"","",{"$f":"IF($B330=\"\",\"\",IF('Whip Data'!Q343=\"\",\"None\",'Whip Data'!Q343))","v":""},{"$f":"IF(O330=\"\",\"\",IF($O330=\"None\",\"NA\",INDEX(Breakers!$A$1:$I$75,MATCH(BOM!C330,Breakers!$A$1:$A$75,0),MATCH(BOM!O330,Breakers!$A$1:$I$1,0))))","v":""},{"$f":"IF(B330=\"\",\"\",VLOOKUP(H330,Standards!$X$3:$Y$6,2,FALSE))","v":""}]
[{"$f":"IF($B331=\"\",\"\",'Whip Data'!$Z344)","v":""},{"$f":"IFERROR('Whip Data'!A344,\"\")","v":""},{"$f":"IF(B331=\"\",\"\",'Whip Data'!L344)","v":""},"",{"$f":"IF($B331=\"\",\"\",VLOOKUP($C331,Materials,'Whip Data'!$M$10+11,FALSE))","v":""},{"$f":"IF($B331=\"\",\"\",VLOOKUP($C331,Materials,'Whip Data'!$M$10+13,FALSE))","v":""},{"$f":"IFERROR(\"LTUA-\"&IF(ISTEXT('Whip Data'!$T344),VLOOKUP('Whip Data'!$T344,Conduit,2,FALSE),VLOOKUP('Whip Data'!$S344,Conduit,2,FALSE))&\"-\"&'Whip Data'!$R344,\"\")","v":""},{"$f":"IF($B331=\"\",\"\",IFERROR(VLOOKUP('Whip Data'!$T344,Conduit,3,FALSE),VLOOKUP('Whip Data'!$S344,Conduit,3,FALSE)))","v":""},{"$f":"IF(B331=\"\",\"\",'Whip Data'!O344)","v":""},{"$f":"IF(C331=\"\",\"\",'Whip Data'!P344)","v":""},{"$f":"IF($B331=\"\",\"\",IF(ISTEXT('Whip Data'!V344),'Whip Data'!V344,'Whip Data'!U344))","v":""},{"$f":"IF(B331=\"\",\"\",IF(ISBLANK('Whip Data'!X344),'Whip Data'!W344,'Whip Data'!X344))","v":""},"","",{"$f":"IF($B331=\"\",\"\",IF('Whip Data'!Q344=\"\",\"None\",'Whip Data'!Q344))","v":""},{"$f":"IF(O331=\"\",\"\",IF($O331=\"None\",\"NA\",INDEX(Breakers!$A$1:$I$75,MATCH(BOM!C331,Breakers!$A$1:$A$75,0),MATCH(BOM!O331,Breakers!$A$1:$I$1,0))))","v":""},{"$f":"IF(B331=\"\",\"\",VLOOKUP(H331,Standards!$X$3:$Y$6,2,FALSE))","v":""}]
[{"$f":"IF($B332=\"\",\"\",'Whip Data'!$Z345)","v":""},{"$f":"IFERROR('Whip Data'!A345,\"\")","v":""},{"$f":"IF(B332=\"\",\"\",'Whip Data'!L345)","v":""},"",{"$f":"IF($B332=\"\",\"\",VLOOKUP($C332,Materials,'Whip Data'!$M$10+11,FALSE))","v":""},{"$f":"IF($B332=\"\",\"\",VLOOKUP($C332,Materials,'Whip Data'!$M$10+13,FALSE))","v":""},{"$f":"IFERROR(\"LTUA-\"&IF(ISTEXT('Whip Data'!$T345),VLOOKUP('Whip Data'!$T345,Conduit,2,FALSE),VLOOKUP('Whip Data'!$S345,Conduit,2,FALSE))&\"-\"&'Whip Data'!$R345,\"\")","v":""},{"$f":"IF($B332=\"\",\"\",IFERROR(VLOOKUP('Whip Data'!$T345,Conduit,3,FALSE),VLOOKUP('Whip Data'!$S345,Conduit,3,FALSE)))","v":""},{"$f":"IF(B332=\"\",\"\",'Whip Data'!O345)","v":""},{"$f":"IF(C332=\"\",\"\",'Whip Data'!P345)","v":""},{"$f":"IF($B332=\"\",\"\",IF(ISTEXT('Whip Data'!V345),'Whip Data'!V345,'Whip Data'!U345))","v":""},{"$f":"IF(B332=\"\",\"\",IF(ISBLANK('Whip Data'!X345),'Whip Data'!W345,'Whip Data'!X345))","v":""},"","",{"$f":"IF($B332=\"\",\"\",IF('Whip Data'!Q345=\"\",\"None\",'Whip Data'!Q345))","v":""},{"$f":"IF(O332=\"\",\"\",IF($O332=\"None\",\"NA\",INDEX(Breakers!$A$1:$I$75,MATCH(BOM!C332,Breakers!$A$1:$A$75,0),MATCH(BOM!O332,Breakers!$A$1:$I$1,0))))","v":""},{"$f":"IF(B332=\"\",\"\",VLOOKUP(H332,Standards!$X$3:$Y$6,2,FALSE))","v":""}]
[{"$f":"IF($B333=\"\",\"\",'Whip Data'!$Z346)","v":""},{"$f":"IFERROR('Whip Data'!A346,\"\")","v":""},{"$f":"IF(B333=\"\",\"\",'Whip Data'!L346)","v":""},"",{"$f":"IF($B333=\"\",\"\",VLOOKUP($C333,Materials,'Whip Data'!$M$10+11,FALSE))","v":""},{"$f":"IF($B333=\"\",\"\",VLOOKUP($C333,Materials,'Whip Data'!$M$10+13,FALSE))","v":""},{"$f":"IFERROR(\"LTUA-\"&IF(ISTEXT('Whip Data'!$T346),VLOOKUP('Whip Data'!$T346,Conduit,2,FALSE),VLOOKUP('Whip Data'!$S346,Conduit,2,FALSE))&\"-\"&'Whip Data'!$R346,\"\")","v":""},{"$f":"IF($B333=\"\",\"\",IFERROR(VLOOKUP('Whip Data'!$T346,Conduit,3,FALSE),VLOOKUP('Whip Data'!$S346,Conduit,3,FALSE)))","v":""},{"$f":"IF(B333=\"\",\"\",'Whip Data'!O346)","v":""},{"$f":"IF(C333=\"\",\"\",'Whip Data'!P346)","v":""},{"$f":"IF($B333=\"\",\"\",IF(ISTEXT('Whip Data'!V346),'Whip Data'!V346,'Whip Data'!U346))","v":""},{"$f":"IF(B333=\"\",\"\",IF(ISBLANK('Whip Data'!X346),'Whip Data'!W346,'Whip Data'!X346))","v":""},"","",{"$f":"IF($B333=\"\",\"\",IF('Whip Data'!Q346=\"\",\"None\",'Whip Data'!Q346))","v":""},{"$f":"IF(O333=\"\",\"\",IF($O333=\"None\",\"NA\",INDEX(Breakers!$A$1:$I$75,MATCH(BOM!C333,Breakers!$A$1:$A$75,0),MATCH(BOM!O333,Breakers!$A$1:$I$1,0))))","v":""},{"$f":"IF(B333=\"\",\"\",VLOOKUP(H333,Standards!$X$3:$Y$6,2,FALSE))","v":""}]
[{"$f":"IF($B334=\"\",\"\",'Whip Data'!$Z347)","v":""},{"$f":"IFERROR('Whip Data'!A347,\"\")","v":""},{"$f":"IF(B334=\"\",\"\",'Whip Data'!L347)","v":""},"",{"$f":"IF($B334=\"\",\"\",VLOOKUP($C334,Materials,'Whip Data'!$M$10+11,FALSE))","v":""},{"$f":"IF($B334=\"\",\"\",VLOOKUP($C334,Materials,'Whip Data'!$M$10+13,FALSE))","v":""},{"$f":"IFERROR(\"LTUA-\"&IF(ISTEXT('Whip Data'!$T347),VLOOKUP('Whip Data'!$T347,Conduit,2,FALSE),VLOOKUP('Whip Data'!$S347,Conduit,2,FALSE))&\"-\"&'Whip Data'!$R347,\"\")","v":""},{"$f":"IF($B334=\"\",\"\",IFERROR(VLOOKUP('Whip Data'!$T347,Conduit,3,FALSE),VLOOKUP('Whip Data'!$S347,Conduit,3,FALSE)))","v":""},{"$f":"IF(B334=\"\",\"\",'Whip Data'!O347)","v":""},{"$f":"IF(C334=\"\",\"\",'Whip Data'!P347)","v":""},{"$f":"IF($B334=\"\",\"\",IF(ISTEXT('Whip Data'!V347),'Whip Data'!V347,'Whip Data'!U347))","v":""},{"$f":"IF(B334=\"\",\"\",IF(ISBLANK('Whip Data'!X347),'Whip Data'!W347,'Whip Data'!X347))","v":""},"","",{"$f":"IF($B334=\"\",\"\",IF('Whip Data'!Q347=\"\",\"None\",'Whip Data'!Q347))","v":""},{"$f":"IF(O334=\"\",\"\",IF($O334=\"None\",\"NA\",INDEX(Breakers!$A$1:$I$75,MATCH(BOM!C334,Breakers!$A$1:$A$75,0),MATCH(BOM!O334,Breakers!$A$1:$I$1,0))))","v":""},{"$f":"IF(B334=\"\",\"\",VLOOKUP(H334,Standards!$X$3:$Y$6,2,FALSE))","v":""}]
[{"$f":"IF($B335=\"\",\"\",'Whip Data'!$Z348)","v":""},{"$f":"IFERROR('Whip Data'!A348,\"\")","v":""},{"$f":"IF(B335=\"\",\"\",'Whip Data'!L348)","v":""},"",{"$f":"IF($B335=\"\",\"\",VLOOKUP($C335,Materials,'Whip Data'!$M$10+11,FALSE))","v":""},{"$f":"IF($B335=\"\",\"\",VLOOKUP($C335,Materials,'Whip Data'!$M$10+13,FALSE))","v":""},{"$f":"IFERROR(\"LTUA-\"&IF(ISTEXT('Whip Data'!$T348),VLOOKUP('Whip Data'!$T348,Conduit,2,FALSE),VLOOKUP('Whip Data'!$S348,Conduit,2,FALSE))&\"-\"&'Whip Data'!$R348,\"\")","v":""},{"$f":"IF($B335=\"\",\"\",IFERROR(VLOOKUP('Whip Data'!$T348,Conduit,3,FALSE),VLOOKUP('Whip Data'!$S348,Conduit,3,FALSE)))","v":""},{"$f":"IF(B335=\"\",\"\",'Whip Data'!O348)","v":""},{"$f":"IF(C335=\"\",\"\",'Whip Data'!P348)","v":""},{"$f":"IF($B335=\"\",\"\",IF(ISTEXT('Whip Data'!V348),'Whip Data'!V348,'Whip Data'!U348))","v":""},{"$f":"IF(B335=\"\",\"\",IF(ISBLANK('Whip Data'!X348),'Whip Data'!W348,'Whip Data'!X348))","v":""},"","",{"$f":"IF($B335=\"\",\"\",IF('Whip Data'!Q348=\"\",\"None\",'Whip Data'!Q348))","v":""},{"$f":"IF(O335=\"\",\"\",IF($O335=\"None\",\"NA\",INDEX(Breakers!$A$1:$I$75,MATCH(BOM!C335,Breakers!$A$1:$A$75,0),MATCH(BOM!O335,Breakers!$A$1:$I$1,0))))","v":""},{"$f":"IF(B335=\"\",\"\",VLOOKUP(H335,Standards!$X$3:$Y$6,2,FALSE))","v":""}]
[{"$f":"IF($B336=\"\",\"\",'Whip Data'!$Z349)","v":""},{"$f":"IFERROR('Whip Data'!A349,\"\")","v":""},{"$f":"IF(B336=\"\",\"\",'Whip Data'!L349)","v":""},"",{"$f":"IF($B336=\"\",\"\",VLOOKUP($C336,Materials,'Whip Data'!$M$10+11,FALSE))","v":""},{"$f":"IF($B336=\"\",\"\",VLOOKUP($C336,Materials,'Whip Data'!$M$10+13,FALSE))","v":""},{"$f":"IFERROR(\"LTUA-\"&IF(ISTEXT('Whip Data'!$T349),VLOOKUP('Whip Data'!$T349,Conduit,2,FALSE),VLOOKUP('Whip Data'!$S349,Conduit,2,FALSE))&\"-\"&'Whip Data'!$R349,\"\")","v":""},{"$f":"IF($B336=\"\",\"\",IFERROR(VLOOKUP('Whip Data'!$T349,Conduit,3,FALSE),VLOOKUP('Whip Data'!$S349,Conduit,3,FALSE)))","v":""},{"$f":"IF(B336=\"\",\"\",'Whip Data'!O349)","v":""},{"$f":"IF(C336=\"\",\"\",'Whip Data'!P349)","v":""},{"$f":"IF($B336=\"\",\"\",IF(ISTEXT('Whip Data'!V349),'Whip Data'!V349,'Whip Data'!U349))","v":""},{"$f":"IF(B336=\"\",\"\",IF(ISBLANK('Whip Data'!X349),'Whip Data'!W349,'Whip Data'!X349))","v":""},"","",{"$f":"IF($B336=\"\",\"\",IF('Whip Data'!Q349=\"\",\"None\",'Whip Data'!Q349))","v":""},{"$f":"IF(O336=\"\",\"\",IF($O336=\"None\",\"NA\",INDEX(Breakers!$A$1:$I$75,MATCH(BOM!C336,Breakers!$A$1:$A$75,0),MATCH(BOM!O336,Breakers!$A$1:$I$1,0))))","v":""},{"$f":"IF(B336=\"\",\"\",VLOOKUP(H336,Standards!$X$3:$Y$6,2,FALSE))","v":""}]
[{"$f":"IF($B337=\"\",\"\",'Whip Data'!$Z350)","v":""},{"$f":"IFERROR('Whip Data'!A350,\"\")","v":""},{"$f":"IF(B337=\"\",\"\",'Whip Data'!L350)","v":""},"",{"$f":"IF($B337=\"\",\"\",VLOOKUP($C337,Materials,'Whip Data'!$M$10+11,FALSE))","v":""},{"$f":"IF($B337=\"\",\"\",VLOOKUP($C337,Materials,'Whip Data'!$M$10+13,FALSE))","v":""},{"$f":"IFERROR(\"LTUA-\"&IF(ISTEXT('Whip Data'!$T350),VLOOKUP('Whip Data'!$T350,Conduit,2,FALSE),VLOOKUP('Whip Data'!$S350,Conduit,2,FALSE))&\"-\"&'Whip Data'!$R350,\"\")","v":""},{"$f":"IF($B337=\"\",\"\",IFERROR(VLOOKUP('Whip Data'!$T350,Conduit,3,FALSE),VLOOKUP('Whip Data'!$S350,Conduit,3,FALSE)))","v":""},{"$f":"IF(B337=\"\",\"\",'Whip Data'!O350)","v":""},{"$f":"IF(C337=\"\",\"\",'Whip Data'!P350)","v":""},{"$f":"IF($B337=\"\",\"\",IF(ISTEXT('Whip Data'!V350),'Whip Data'!V350,'Whip Data'!U350))","v":""},{"$f":"IF(B337=\"\",\"\",IF(ISBLANK('Whip Data'!X350),'Whip Data'!W350,'Whip Data'!X350))","v":""},"","",{"$f":"IF($B337=\"\",\"\",IF('Whip Data'!Q350=\"\",\"None\",'Whip Data'!Q350))","v":""},{"$f":"IF(O337=\"\",\"\",IF($O337=\"None\",\"NA\",INDEX(Breakers!$A$1:$I$75,MATCH(BOM!C337,Breakers!$A$1:$A$75,0),MATCH(BOM!O337,Breakers!$A$1:$I$1,0))))","v":""},{"$f":"IF(B337=\"\",\"\",VLOOKUP(H337,Standards!$X$3:$Y$6,2,FALSE))","v":""}]
[{"$f":"IF($B338=\"\",\"\",'Whip Data'!$Z351)","v":""},{"$f":"IFERROR('Whip Data'!A351,\"\")","v":""},{"$f":"IF(B338=\"\",\"\",'Whip Data'!L351)","v":""},"",{"$f":"IF($B338=\"\",\"\",VLOOKUP($C338,Materials,'Whip Data'!$M$10+11,FALSE))","v":""},{"$f":"IF($B338=\"\",\"\",VLOOKUP($C338,Materials,'Whip Data'!$M$10+13,FALSE))","v":""},{"$f":"IFERROR(\"LTUA-\"&IF(ISTEXT('Whip Data'!$T351),VLOOKUP('Whip Data'!$T351,Conduit,2,FALSE),VLOOKUP('Whip Data'!$S351,Conduit,2,FALSE))&\"-\"&'Whip Data'!$R351,\"\")","v":""},{"$f":"IF($B338=\"\",\"\",IFERROR(VLOOKUP('Whip Data'!$T351,Conduit,3,FALSE),VLOOKUP('Whip Data'!$S351,Conduit,3,FALSE)))","v":""},{"$f":"IF(B338=\"\",\"\",'Whip Data'!O351)","v":""},{"$f":"IF(C338=\"\",\"\",'Whip Data'!P351)","v":""},{"$f":"IF($B338=\"\",\"\",IF(ISTEXT('Whip Data'!V351),'Whip Data'!V351,'Whip Data'!U351))","v":""},{"$f":"IF(B338=\"\",\"\",IF(ISBLANK('Whip Data'!X351),'Whip Data'!W351,'Whip Data'!X351))","v":""},"","",{"$f":"IF($B338=\"\",\"\",IF('Whip Data'!Q351=\"\",\"None\",'Whip Data'!Q351))","v":""},{"$f":"IF(O338=\"\",\"\",IF($O338=\"None\",\"NA\",INDEX(Breakers!$A$1:$I$75,MATCH(BOM!C338,Breakers!$A$1:$A$75,0),MATCH(BOM!O338,Breakers!$A$1:$I$1,0))))","v":""},{"$f":"IF(B338=\"\",\"\",VLOOKUP(H338,Standards!$X$3:$Y$6,2,FALSE))","v":""}]
[{"$f":"IF($B339=\"\",\"\",'Whip Data'!$Z352)","v":""},{"$f":"IFERROR('Whip Data'!A352,\"\")","v":""},{"$f":"IF(B339=\"\",\"\",'Whip Data'!L352)","v":""},"",{"$f":"IF($B339=\"\",\"\",VLOOKUP($C339,Materials,'Whip Data'!$M$10+11,FALSE))","v":""},{"$f":"IF($B339=\"\",\"\",VLOOKUP($C339,Materials,'Whip Data'!$M$10+13,FALSE))","v":""},{"$f":"IFERROR(\"LTUA-\"&IF(ISTEXT('Whip Data'!$T352),VLOOKUP('Whip Data'!$T352,Conduit,2,FALSE),VLOOKUP('Whip Data'!$S352,Conduit,2,FALSE))&\"-\"&'Whip Data'!$R352,\"\")","v":""},{"$f":"IF($B339=\"\",\"\",IFERROR(VLOOKUP('Whip Data'!$T352,Conduit,3,FALSE),VLOOKUP('Whip Data'!$S352,Conduit,3,FALSE)))","v":""},{"$f":"IF(B339=\"\",\"\",'Whip Data'!O352)","v":""},{"$f":"IF(C339=\"\",\"\",'Whip Data'!P352)","v":""},{"$f":"IF($B339=\"\",\"\",IF(ISTEXT('Whip Data'!V352),'Whip Data'!V352,'Whip Data'!U352))","v":""},{"$f":"IF(B339=\"\",\"\",IF(ISBLANK('Whip Data'!X352),'Whip Data'!W352,'Whip Data'!X352))","v":""},"","",{"$f":"IF($B339=\"\",\"\",IF('Whip Data'!Q352=\"\",\"None\",'Whip Data'!Q352))","v":""},{"$f":"IF(O339=\"\",\"\",IF($O339=\"None\",\"NA\",INDEX(Breakers!$A$1:$I$75,MATCH(BOM!C339,Breakers!$A$1:$A$75,0),MATCH(BOM!O339,Breakers!$A$1:$I$1,0))))","v":""},{"$f":"IF(B339=\"\",\"\",VLOOKUP(H339,Standards!$X$3:$Y$6,2,FALSE))","v":""}]
[{"$f":"IF($B340=\"\",\"\",'Whip Data'!$Z353)","v":""},{"$f":"IFERROR('Whip Data'!A353,\"\")","v":""},{"$f":"IF(B340=\"\",\"\",'Whip Data'!L353)","v":""},"",{"$f":"IF($B340=\"\",\"\",VLOOKUP($C340,Materials,'Whip Data'!$M$10+11,FALSE))","v":""},{"$f":"IF($B340=\"\",\"\",VLOOKUP($C340,Materials,'Whip Data'!$M$10+13,FALSE))","v":""},{"$f":"IFERROR(\"LTUA-\"&IF(ISTEXT('Whip Data'!$T353),VLOOKUP('Whip Data'!$T353,Conduit,2,FALSE),VLOOKUP('Whip Data'!$S353,Conduit,2,FALSE))&\"-\"&'Whip Data'!$R353,\"\")","v":""},{"$f":"IF($B340=\"\",\"\",IFERROR(VLOOKUP('Whip Data'!$T353,Conduit,3,FALSE),VLOOKUP('Whip Data'!$S353,Conduit,3,FALSE)))","v":""},{"$f":"IF(B340=\"\",\"\",'Whip Data'!O353)","v":""},{"$f":"IF(C340=\"\",\"\",'Whip Data'!P353)","v":""},{"$f":"IF($B340=\"\",\"\",IF(ISTEXT('Whip Data'!V353),'Whip Data'!V353,'Whip Data'!U353))","v":""},{"$f":"IF(B340=\"\",\"\",IF(ISBLANK('Whip Data'!X353),'Whip Data'!W353,'Whip Data'!X353))","v":""},"","",{"$f":"IF($B340=\"\",\"\",IF('Whip Data'!Q353=\"\",\"None\",'Whip Data'!Q353))","v":""},{"$f":"IF(O340=\"\",\"\",IF($O340=\"None\",\"NA\",INDEX(Breakers!$A$1:$I$75,MATCH(BOM!C340,Breakers!$A$1:$A$75,0),MATCH(BOM!O340,Breakers!$A$1:$I$1,0))))","v":""},{"$f":"IF(B340=\"\",\"\",VLOOKUP(H340,Standards!$X$3:$Y$6,2,FALSE))","v":""}]
[{"$f":"IF($B341=\"\",\"\",'Whip Data'!$Z354)","v":""},{"$f":"IFERROR('Whip Data'!A354,\"\")","v":""},{"$f":"IF(B341=\"\",\"\",'Whip Data'!L354)","v":""},"",{"$f":"IF($B341=\"\",\"\",VLOOKUP($C341,Materials,'Whip Data'!$M$10+11,FALSE))","v":""},{"$f":"IF($B341=\"\",\"\",VLOOKUP($C341,Materials,'Whip Data'!$M$10+13,FALSE))","v":""},{"$f":"IFERROR(\"LTUA-\"&IF(ISTEXT('Whip Data'!$T354),VLOOKUP('Whip Data'!$T354,Conduit,2,FALSE),VLOOKUP('Whip Data'!$S354,Conduit,2,FALSE))&\"-\"&'Whip Data'!$R354,\"\")","v":""},{"$f":"IF($B341=\"\",\"\",IFERROR(VLOOKUP('Whip Data'!$T354,Conduit,3,FALSE),VLOOKUP('Whip Data'!$S354,Conduit,3,FALSE)))","v":""},{"$f":"IF(B341=\"\",\"\",'Whip Data'!O354)","v":""},{"$f":"IF(C341=\"\",\"\",'Whip Data'!P354)","v":""},{"$f":"IF($B341=\"\",\"\",IF(ISTEXT('Whip Data'!V354),'Whip Data'!V354,'Whip Data'!U354))","v":""},{"$f":"IF(B341=\"\",\"\",IF(ISBLANK('Whip Data'!X354),'Whip Data'!W354,'Whip Data'!X354))","v":""},"","",{"$f":"IF($B341=\"\",\"\",IF('Whip Data'!Q354=\"\",\"None\",'Whip Data'!Q354))","v":""},{"$f":"IF(O341=\"\",\"\",IF($O341=\"None\",\"NA\",INDEX(Breakers!$A$1:$I$75,MATCH(BOM!C341,Breakers!$A$1:$A$75,0),MATCH(BOM!O341,Breakers!$A$1:$I$1,0))))","v":""},{"$f":"IF(B341=\"\",\"\",VLOOKUP(H341,Standards!$X$3:$Y$6,2,FALSE))","v":""}]
[{"$f":"IF($B342=\"\",\"\",'Whip Data'!$Z355)","v":""},{"$f":"IFERROR('Whip Data'!A355,\"\")","v":""},{"$f":"IF(B342=\"\",\"\",'Whip Data'!L355)","v":""},"",{"$f":"IF($B342=\"\",\"\",VLOOKUP($C342,Materials,'Whip Data'!$M$10+11,FALSE))","v":""},{"$f":"IF($B342=\"\",\"\",VLOOKUP($C342,Materials,'Whip Data'!$M$10+13,FALSE))","v":""},{"$f":"IFERROR(\"LTUA-\"&IF(ISTEXT('Whip Data'!$T355),VLOOKUP('Whip Data'!$T355,Conduit,2,FALSE),VLOOKUP('Whip Data'!$S355,Conduit,2,FALSE))&\"-\"&'Whip Data'!$R355,\"\")","v":""},{"$f":"IF($B342=\"\",\"\",IFERROR(VLOOKUP('Whip Data'!$T355,Conduit,3,FALSE),VLOOKUP('Whip Data'!$S355,Conduit,3,FALSE)))","v":""},{"$f":"IF(B342=\"\",\"\",'Whip Data'!O355)","v":""},{"$f":"IF(C342=\"\",\"\",'Whip Data'!P355)","v":""},{"$f":"IF($B342=\"\",\"\",IF(ISTEXT('Whip Data'!V355),'Whip Data'!V355,'Whip Data'!U355))","v":""},{"$f":"IF(B342=\"\",\"\",IF(ISBLANK('Whip Data'!X355),'Whip Data'!W355,'Whip Data'!X355))","v":""},"","",{"$f":"IF($B342=\"\",\"\",IF('Whip Data'!Q355=\"\",\"None\",'Whip Data'!Q355))","v":""},{"$f":"IF(O342=\"\",\"\",IF($O342=\"None\",\"NA\",INDEX(Breakers!$A$1:$I$75,MATCH(BOM!C342,Breakers!$A$1:$A$75,0),MATCH(BOM!O342,Breakers!$A$1:$I$1,0))))","v":""},{"$f":"IF(B342=\"\",\"\",VLOOKUP(H342,Standards!$X$3:$Y$6,2,FALSE))","v":""}]
[{"$f":"IF($B343=\"\",\"\",'Whip Data'!$Z356)","v":""},{"$f":"IFERROR('Whip Data'!A356,\"\")","v":""},{"$f":"IF(B343=\"\",\"\",'Whip Data'!L356)","v":""},"",{"$f":"IF($B343=\"\",\"\",VLOOKUP($C343,Materials,'Whip Data'!$M$10+11,FALSE))","v":""},{"$f":"IF($B343=\"\",\"\",VLOOKUP($C343,Materials,'Whip Data'!$M$10+13,FALSE))","v":""},{"$f":"IFERROR(\"LTUA-\"&IF(ISTEXT('Whip Data'!$T356),VLOOKUP('Whip Data'!$T356,Conduit,2,FALSE),VLOOKUP('Whip Data'!$S356,Conduit,2,FALSE))&\"-\"&'Whip Data'!$R356,\"\")","v":""},{"$f":"IF($B343=\"\",\"\",IFERROR(VLOOKUP('Whip Data'!$T356,Conduit,3,FALSE),VLOOKUP('Whip Data'!$S356,Conduit,3,FALSE)))","v":""},{"$f":"IF(B343=\"\",\"\",'Whip Data'!O356)","v":""},{"$f":"IF(C343=\"\",\"\",'Whip Data'!P356)","v":""},{"$f":"IF($B343=\"\",\"\",IF(ISTEXT('Whip Data'!V356),'Whip Data'!V356,'Whip Data'!U356))","v":""},{"$f":"IF(B343=\"\",\"\",IF(ISBLANK('Whip Data'!X356),'Whip Data'!W356,'Whip Data'!X356))","v":""},"","",{"$f":"IF($B343=\"\",\"\",IF('Whip Data'!Q356=\"\",\"None\",'Whip Data'!Q356))","v":""},{"$f":"IF(O343=\"\",\"\",IF($O343=\"None\",\"NA\",INDEX(Breakers!$A$1:$I$75,MATCH(BOM!C343,Breakers!$A$1:$A$75,0),MATCH(BOM!O343,Breakers!$A$1:$I$1,0))))","v":""},{"$f":"IF(B343=\"\",\"\",VLOOKUP(H343,Standards!$X$3:$Y$6,2,FALSE))","v":""}]
[{"$f":"IF($B344=\"\",\"\",'Whip Data'!$Z357)","v":""},{"$f":"IFERROR('Whip Data'!A357,\"\")","v":""},{"$f":"IF(B344=\"\",\"\",'Whip Data'!L357)","v":""},"",{"$f":"IF($B344=\"\",\"\",VLOOKUP($C344,Materials,'Whip Data'!$M$10+11,FALSE))","v":""},{"$f":"IF($B344=\"\",\"\",VLOOKUP($C344,Materials,'Whip Data'!$M$10+13,FALSE))","v":""},{"$f":"IFERROR(\"LTUA-\"&IF(ISTEXT('Whip Data'!$T357),VLOOKUP('Whip Data'!$T357,Conduit,2,FALSE),VLOOKUP('Whip Data'!$S357,Conduit,2,FALSE))&\"-\"&'Whip Data'!$R357,\"\")","v":""},{"$f":"IF($B344=\"\",\"\",IFERROR(VLOOKUP('Whip Data'!$T357,Conduit,3,FALSE),VLOOKUP('Whip Data'!$S357,Conduit,3,FALSE)))","v":""},{"$f":"IF(B344=\"\",\"\",'Whip Data'!O357)","v":""},{"$f":"IF(C344=\"\",\"\",'Whip Data'!P357)","v":""},{"$f":"IF($B344=\"\",\"\",IF(ISTEXT('Whip Data'!V357),'Whip Data'!V357,'Whip Data'!U357))","v":""},{"$f":"IF(B344=\"\",\"\",IF(ISBLANK('Whip Data'!X357),'Whip Data'!W357,'Whip Data'!X357))","v":""},"","",{"$f":"IF($B344=\"\",\"\",IF('Whip Data'!Q357=\"\",\"None\",'Whip Data'!Q357))","v":""},{"$f":"IF(O344=\"\",\"\",IF($O344=\"None\",\"NA\",INDEX(Breakers!$A$1:$I$75,MATCH(BOM!C344,Breakers!$A$1:$A$75,0),MATCH(BOM!O344,Breakers!$A$1:$I$1,0))))","v":""},{"$f":"IF(B344=\"\",\"\",VLOOKUP(H344,Standards!$X$3:$Y$6,2,FALSE))","v":""}]
[{"$f":"IF($B345=\"\",\"\",'Whip Data'!$Z358)","v":""},{"$f":"IFERROR('Whip Data'!A358,\"\")","v":""},{"$f":"IF(B345=\"\",\"\",'Whip Data'!L358)","v":""},"",{"$f":"IF($B345=\"\",\"\",VLOOKUP($C345,Materials,'Whip Data'!$M$10+11,FALSE))","v":""},{"$f":"IF($B345=\"\",\"\",VLOOKUP($C345,Materials,'Whip Data'!$M$10+13,FALSE))","v":""},{"$f":"IFERROR(\"LTUA-\"&IF(ISTEXT('Whip Data'!$T358),VLOOKUP('Whip Data'!$T358,Conduit,2,FALSE),VLOOKUP('Whip Data'!$S358,Conduit,2,FALSE))&\"-\"&'Whip Data'!$R358,\"\")","v":""},{"$f":"IF($B345=\"\",\"\",IFERROR(VLOOKUP('Whip Data'!$T358,Conduit,3,FALSE),VLOOKUP('Whip Data'!$S358,Conduit,3,FALSE)))","v":""},{"$f":"IF(B345=\"\",\"\",'Whip Data'!O358)","v":""},{"$f":"IF(C345=\"\",\"\",'Whip Data'!P358)","v":""},{"$f":"IF($B345=\"\",\"\",IF(ISTEXT('Whip Data'!V358),'Whip Data'!V358,'Whip Data'!U358))","v":""},{"$f":"IF(B345=\"\",\"\",IF(ISBLANK('Whip Data'!X358),'Whip Data'!W358,'Whip Data'!X358))","v":""},"","",{"$f":"IF($B345=\"\",\"\",IF('Whip Data'!Q358=\"\",\"None\",'Whip Data'!Q358))","v":""},{"$f":"IF(O345=\"\",\"\",IF($O345=\"None\",\"NA\",INDEX(Breakers!$A$1:$I$75,MATCH(BOM!C345,Breakers!$A$1:$A$75,0),MATCH(BOM!O345,Breakers!$A$1:$I$1,0))))","v":""},{"$f":"IF(B345=\"\",\"\",VLOOKUP(H345,Standards!$X$3:$Y$6,2,FALSE))","v":""}]
[{"$f":"IF($B346=\"\",\"\",'Whip Data'!$Z359)","v":""},{"$f":"IFERROR('Whip Data'!A359,\"\")","v":""},{"$f":"IF(B346=\"\",\"\",'Whip Data'!L359)","v":""},"",{"$f":"IF($B346=\"\",\"\",VLOOKUP($C346,Materials,'Whip Data'!$M$10+11,FALSE))","v":""},{"$f":"IF($B346=\"\",\"\",VLOOKUP($C346,Materials,'Whip Data'!$M$10+13,FALSE))","v":""},{"$f":"IFERROR(\"LTUA-\"&IF(ISTEXT('Whip Data'!$T359),VLOOKUP('Whip Data'!$T359,Conduit,2,FALSE),VLOOKUP('Whip Data'!$S359,Conduit,2,FALSE))&\"-\"&'Whip Data'!$R359,\"\")","v":""},{"$f":"IF($B346=\"\",\"\",IFERROR(VLOOKUP('Whip Data'!$T359,Conduit,3,FALSE),VLOOKUP('Whip Data'!$S359,Conduit,3,FALSE)))","v":""},{"$f":"IF(B346=\"\",\"\",'Whip Data'!O359)","v":""},{"$f":"IF(C346=\"\",\"\",'Whip Data'!P359)","v":""},{"$f":"IF($B346=\"\",\"\",IF(ISTEXT('Whip Data'!V359),'Whip Data'!V359,'Whip Data'!U359))","v":""},{"$f":"IF(B346=\"\",\"\",IF(ISBLANK('Whip Data'!X359),'Whip Data'!W359,'Whip Data'!X359))","v":""},"","",{"$f":"IF($B346=\"\",\"\",IF('Whip Data'!Q359=\"\",\"None\",'Whip Data'!Q359))","v":""},{"$f":"IF(O346=\"\",\"\",IF($O346=\"None\",\"NA\",INDEX(Breakers!$A$1:$I$75,MATCH(BOM!C346,Breakers!$A$1:$A$75,0),MATCH(BOM!O346,Breakers!$A$1:$I$1,0))))","v":""},{"$f":"IF(B346=\"\",\"\",VLOOKUP(H346,Standards!$X$3:$Y$6,2,FALSE))","v":""}]
[{"$f":"IF($B347=\"\",\"\",'Whip Data'!$Z360)","v":""},{"$f":"IFERROR('Whip Data'!A360,\"\")","v":""},{"$f":"IF(B347=\"\",\"\",'Whip Data'!L360)","v":""},"",{"$f":"IF($B347=\"\",\"\",VLOOKUP($C347,Materials,'Whip Data'!$M$10+11,FALSE))","v":""},{"$f":"IF($B347=\"\",\"\",VLOOKUP($C347,Materials,'Whip Data'!$M$10+13,FALSE))","v":""},{"$f":"IFERROR(\"LTUA-\"&IF(ISTEXT('Whip Data'!$T360),VLOOKUP('Whip Data'!$T360,Conduit,2,FALSE),VLOOKUP('Whip Data'!$S360,Conduit,2,FALSE))&\"-\"&'Whip Data'!$R360,\"\")","v":""},{"$f":"IF($B347=\"\",\"\",IFERROR(VLOOKUP('Whip Data'!$T360,Conduit,3,FALSE),VLOOKUP('Whip Data'!$S360,Conduit,3,FALSE)))","v":""},{"$f":"IF(B347=\"\",\"\",'Whip Data'!O360)","v":""},{"$f":"IF(C347=\"\",\"\",'Whip Data'!P360)","v":""},{"$f":"IF($B347=\"\",\"\",IF(ISTEXT('Whip Data'!V360),'Whip Data'!V360,'Whip Data'!U360))","v":""},{"$f":"IF(B347=\"\",\"\",IF(ISBLANK('Whip Data'!X360),'Whip Data'!W360,'Whip Data'!X360))","v":""},"","",{"$f":"IF($B347=\"\",\"\",IF('Whip Data'!Q360=\"\",\"None\",'Whip Data'!Q360))","v":""},{"$f":"IF(O347=\"\",\"\",IF($O347=\"None\",\"NA\",INDEX(Breakers!$A$1:$I$75,MATCH(BOM!C347,Breakers!$A$1:$A$75,0),MATCH(BOM!O347,Breakers!$A$1:$I$1,0))))","v":""},{"$f":"IF(B347=\"\",\"\",VLOOKUP(H347,Standards!$X$3:$Y$6,2,FALSE))","v":""}]
[{"$f":"IF($B348=\"\",\"\",'Whip Data'!$Z361)","v":""},{"$f":"IFERROR('Whip Data'!A361,\"\")","v":""},{"$f":"IF(B348=\"\",\"\",'Whip Data'!L361)","v":""},"",{"$f":"IF($B348=\"\",\"\",VLOOKUP($C348,Materials,'Whip Data'!$M$10+11,FALSE))","v":""},{"$f":"IF($B348=\"\",\"\",VLOOKUP($C348,Materials,'Whip Data'!$M$10+13,FALSE))","v":""},{"$f":"IFERROR(\"LTUA-\"&IF(ISTEXT('Whip Data'!$T361),VLOOKUP('Whip Data'!$T361,Conduit,2,FALSE),VLOOKUP('Whip Data'!$S361,Conduit,2,FALSE))&\"-\"&'Whip Data'!$R361,\"\")","v":""},{"$f":"IF($B348=\"\",\"\",IFERROR(VLOOKUP('Whip Data'!$T361,Conduit,3,FALSE),VLOOKUP('Whip Data'!$S361,Conduit,3,FALSE)))","v":""},{"$f":"IF(B348=\"\",\"\",'Whip Data'!O361)","v":""},{"$f":"IF(C348=\"\",\"\",'Whip Data'!P361)","v":""},{"$f":"IF($B348=\"\",\"\",IF(ISTEXT('Whip Data'!V361),'Whip Data'!V361,'Whip Data'!U361))","v":""},{"$f":"IF(B348=\"\",\"\",IF(ISBLANK('Whip Data'!X361),'Whip Data'!W361,'Whip Data'!X361))","v":""},"","",{"$f":"IF($B348=\"\",\"\",IF('Whip Data'!Q361=\"\",\"None\",'Whip Data'!Q361))","v":""},{"$f":"IF(O348=\"\",\"\",IF($O348=\"None\",\"NA\",INDEX(Breakers!$A$1:$I$75,MATCH(BOM!C348,Breakers!$A$1:$A$75,0),MATCH(BOM!O348,Breakers!$A$1:$I$1,0))))","v":""},{"$f":"IF(B348=\"\",\"\",VLOOKUP(H348,Standards!$X$3:$Y$6,2,FALSE))","v":""}]
[{"$f":"IF($B349=\"\",\"\",'Whip Data'!$Z362)","v":""},{"$f":"IFERROR('Whip Data'!A362,\"\")","v":""},{"$f":"IF(B349=\"\",\"\",'Whip Data'!L362)","v":""},"",{"$f":"IF($B349=\"\",\"\",VLOOKUP($C349,Materials,'Whip Data'!$M$10+11,FALSE))","v":""},{"$f":"IF($B349=\"\",\"\",VLOOKUP($C349,Materials,'Whip Data'!$M$10+13,FALSE))","v":""},{"$f":"IFERROR(\"LTUA-\"&IF(ISTEXT('Whip Data'!$T362),VLOOKUP('Whip Data'!$T362,Conduit,2,FALSE),VLOOKUP('Whip Data'!$S362,Conduit,2,FALSE))&\"-\"&'Whip Data'!$R362,\"\")","v":""},{"$f":"IF($B349=\"\",\"\",IFERROR(VLOOKUP('Whip Data'!$T362,Conduit,3,FALSE),VLOOKUP('Whip Data'!$S362,Conduit,3,FALSE)))","v":""},{"$f":"IF(B349=\"\",\"\",'Whip Data'!O362)","v":""},{"$f":"IF(C349=\"\",\"\",'Whip Data'!P362)","v":""},{"$f":"IF($B349=\"\",\"\",IF(ISTEXT('Whip Data'!V362),'Whip Data'!V362,'Whip Data'!U362))","v":""},{"$f":"IF(B349=\"\",\"\",IF(ISBLANK('Whip Data'!X362),'Whip Data'!W362,'Whip Data'!X362))","v":""},"","",{"$f":"IF($B349=\"\",\"\",IF('Whip Data'!Q362=\"\",\"None\",'Whip Data'!Q362))","v":""},{"$f":"IF(O349=\"\",\"\",IF($O349=\"None\",\"NA\",INDEX(Breakers!$A$1:$I$75,MATCH(BOM!C349,Breakers!$A$1:$A$75,0),MATCH(BOM!O349,Breakers!$A$1:$I$1,0))))","v":""},{"$f":"IF(B349=\"\",\"\",VLOOKUP(H349,Standards!$X$3:$Y$6,2,FALSE))","v":""}]
[{"$f":"IF($B350=\"\",\"\",'Whip Data'!$Z363)","v":""},{"$f":"IFERROR('Whip Data'!A363,\"\")","v":""},{"$f":"IF(B350=\"\",\"\",'Whip Data'!L363)","v":""},"",{"$f":"IF($B350=\"\",\"\",VLOOKUP($C350,Materials,'Whip Data'!$M$10+11,FALSE))","v":""},{"$f":"IF($B350=\"\",\"\",VLOOKUP($C350,Materials,'Whip Data'!$M$10+13,FALSE))","v":""},{"$f":"IFERROR(\"LTUA-\"&IF(ISTEXT('Whip Data'!$T363),VLOOKUP('Whip Data'!$T363,Conduit,2,FALSE),VLOOKUP('Whip Data'!$S363,Conduit,2,FALSE))&\"-\"&'Whip Data'!$R363,\"\")","v":""},{"$f":"IF($B350=\"\",\"\",IFERROR(VLOOKUP('Whip Data'!$T363,Conduit,3,FALSE),VLOOKUP('Whip Data'!$S363,Conduit,3,FALSE)))","v":""},{"$f":"IF(B350=\"\",\"\",'Whip Data'!O363)","v":""},{"$f":"IF(C350=\"\",\"\",'Whip Data'!P363)","v":""},{"$f":"IF($B350=\"\",\"\",IF(ISTEXT('Whip Data'!V363),'Whip Data'!V363,'Whip Data'!U363))","v":""},{"$f":"IF(B350=\"\",\"\",IF(ISBLANK('Whip Data'!X363),'Whip Data'!W363,'Whip Data'!X363))","v":""},"","",{"$f":"IF($B350=\"\",\"\",IF('Whip Data'!Q363=\"\",\"None\",'Whip Data'!Q363))","v":""},{"$f":"IF(O350=\"\",\"\",IF($O350=\"None\",\"NA\",INDEX(Breakers!$A$1:$I$75,MATCH(BOM!C350,Breakers!$A$1:$A$75,0),MATCH(BOM!O350,Breakers!$A$1:$I$1,0))))","v":""},{"$f":"IF(B350=\"\",\"\",VLOOKUP(H350,Standards!$X$3:$Y$6,2,FALSE))","v":""}]
[{"$f":"IF($B351=\"\",\"\",'Whip Data'!$Z364)","v":""},{"$f":"IFERROR('Whip Data'!A364,\"\")","v":""},{"$f":"IF(B351=\"\",\"\",'Whip Data'!L364)","v":""},"",{"$f":"IF($B351=\"\",\"\",VLOOKUP($C351,Materials,'Whip Data'!$M$10+11,FALSE))","v":""},{"$f":"IF($B351=\"\",\"\",VLOOKUP($C351,Materials,'Whip Data'!$M$10+13,FALSE))","v":""},{"$f":"IFERROR(\"LTUA-\"&IF(ISTEXT('Whip Data'!$T364),VLOOKUP('Whip Data'!$T364,Conduit,2,FALSE),VLOOKUP('Whip Data'!$S364,Conduit,2,FALSE))&\"-\"&'Whip Data'!$R364,\"\")","v":""},{"$f":"IF($B351=\"\",\"\",IFERROR(VLOOKUP('Whip Data'!$T364,Conduit,3,FALSE),VLOOKUP('Whip Data'!$S364,Conduit,3,FALSE)))","v":""},{"$f":"IF(B351=\"\",\"\",'Whip Data'!O364)","v":""},{"$f":"IF(C351=\"\",\"\",'Whip Data'!P364)","v":""},{"$f":"IF($B351=\"\",\"\",IF(ISTEXT('Whip Data'!V364),'Whip Data'!V364,'Whip Data'!U364))","v":""},{"$f":"IF(B351=\"\",\"\",IF(ISBLANK('Whip Data'!X364),'Whip Data'!W364,'Whip Data'!X364))","v":""},"","",{"$f":"IF($B351=\"\",\"\",IF('Whip Data'!Q364=\"\",\"None\",'Whip Data'!Q364))","v":""},{"$f":"IF(O351=\"\",\"\",IF($O351=\"None\",\"NA\",INDEX(Breakers!$A$1:$I$75,MATCH(BOM!C351,Breakers!$A$1:$A$75,0),MATCH(BOM!O351,Breakers!$A$1:$I$1,0))))","v":""},{"$f":"IF(B351=\"\",\"\",VLOOKUP(H351,Standards!$X$3:$Y$6,2,FALSE))","v":""}]
[{"$f":"IF($B352=\"\",\"\",'Whip Data'!$Z365)","v":""},{"$f":"IFERROR('Whip Data'!A365,\"\")","v":""},{"$f":"IF(B352=\"\",\"\",'Whip Data'!L365)","v":""},"",{"$f":"IF($B352=\"\",\"\",VLOOKUP($C352,Materials,'Whip Data'!$M$10+11,FALSE))","v":""},{"$f":"IF($B352=\"\",\"\",VLOOKUP($C352,Materials,'Whip Data'!$M$10+13,FALSE))","v":""},{"$f":"IFERROR(\"LTUA-\"&IF(ISTEXT('Whip Data'!$T365),VLOOKUP('Whip Data'!$T365,Conduit,2,FALSE),VLOOKUP('Whip Data'!$S365,Conduit,2,FALSE))&\"-\"&'Whip Data'!$R365,\"\")","v":""},{"$f":"IF($B352=\"\",\"\",IFERROR(VLOOKUP('Whip Data'!$T365,Conduit,3,FALSE),VLOOKUP('Whip Data'!$S365,Conduit,3,FALSE)))","v":""},{"$f":"IF(B352=\"\",\"\",'Whip Data'!O365)","v":""},{"$f":"IF(C352=\"\",\"\",'Whip Data'!P365)","v":""},{"$f":"IF($B352=\"\",\"\",IF(ISTEXT('Whip Data'!V365),'Whip Data'!V365,'Whip Data'!U365))","v":""},{"$f":"IF(B352=\"\",\"\",IF(ISBLANK('Whip Data'!X365),'Whip Data'!W365,'Whip Data'!X365))","v":""},"","",{"$f":"IF($B352=\"\",\"\",IF('Whip Data'!Q365=\"\",\"None\",'Whip Data'!Q365))","v":""},{"$f":"IF(O352=\"\",\"\",IF($O352=\"None\",\"NA\",INDEX(Breakers!$A$1:$I$75,MATCH(BOM!C352,Breakers!$A$1:$A$75,0),MATCH(BOM!O352,Breakers!$A$1:$I$1,0))))","v":""},{"$f":"IF(B352=\"\",\"\",VLOOKUP(H352,Standards!$X$3:$Y$6,2,FALSE))","v":""}]
[{"$f":"IF($B353=\"\",\"\",'Whip Data'!$Z366)","v":""},{"$f":"IFERROR('Whip Data'!A366,\"\")","v":""},{"$f":"IF(B353=\"\",\"\",'Whip Data'!L366)","v":""},"",{"$f":"IF($B353=\"\",\"\",VLOOKUP($C353,Materials,'Whip Data'!$M$10+11,FALSE))","v":""},{"$f":"IF($B353=\"\",\"\",VLOOKUP($C353,Materials,'Whip Data'!$M$10+13,FALSE))","v":""},{"$f":"IFERROR(\"LTUA-\"&IF(ISTEXT('Whip Data'!$T366),VLOOKUP('Whip Data'!$T366,Conduit,2,FALSE),VLOOKUP('Whip Data'!$S366,Conduit,2,FALSE))&\"-\"&'Whip Data'!$R366,\"\")","v":""},{"$f":"IF($B353=\"\",\"\",IFERROR(VLOOKUP('Whip Data'!$T366,Conduit,3,FALSE),VLOOKUP('Whip Data'!$S366,Conduit,3,FALSE)))","v":""},{"$f":"IF(B353=\"\",\"\",'Whip Data'!O366)","v":""},{"$f":"IF(C353=\"\",\"\",'Whip Data'!P366)","v":""},{"$f":"IF($B353=\"\",\"\",IF(ISTEXT('Whip Data'!V366),'Whip Data'!V366,'Whip Data'!U366))","v":""},{"$f":"IF(B353=\"\",\"\",IF(ISBLANK('Whip Data'!X366),'Whip Data'!W366,'Whip Data'!X366))","v":""},"","",{"$f":"IF($B353=\"\",\"\",IF('Whip Data'!Q366=\"\",\"None\",'Whip Data'!Q366))","v":""},{"$f":"IF(O353=\"\",\"\",IF($O353=\"None\",\"NA\",INDEX(Breakers!$A$1:$I$75,MATCH(BOM!C353,Breakers!$A$1:$A$75,0),MATCH(BOM!O353,Breakers!$A$1:$I$1,0))))","v":""},{"$f":"IF(B353=\"\",\"\",VLOOKUP(H353,Standards!$X$3:$Y$6,2,FALSE))","v":""}]
[{"$f":"IF($B354=\"\",\"\",'Whip Data'!$Z367)","v":""},{"$f":"IFERROR('Whip Data'!A367,\"\")","v":""},{"$f":"IF(B354=\"\",\"\",'Whip Data'!L367)","v":""},"",{"$f":"IF($B354=\"\",\"\",VLOOKUP($C354,Materials,'Whip Data'!$M$10+11,FALSE))","v":""},{"$f":"IF($B354=\"\",\"\",VLOOKUP($C354,Materials,'Whip Data'!$M$10+13,FALSE))","v":""},{"$f":"IFERROR(\"LTUA-\"&IF(ISTEXT('Whip Data'!$T367),VLOOKUP('Whip Data'!$T367,Conduit,2,FALSE),VLOOKUP('Whip Data'!$S367,Conduit,2,FALSE))&\"-\"&'Whip Data'!$R367,\"\")","v":""},{"$f":"IF($B354=\"\",\"\",IFERROR(VLOOKUP('Whip Data'!$T367,Conduit,3,FALSE),VLOOKUP('Whip Data'!$S367,Conduit,3,FALSE)))","v":""},{"$f":"IF(B354=\"\",\"\",'Whip Data'!O367)","v":""},{"$f":"IF(C354=\"\",\"\",'Whip Data'!P367)","v":""},{"$f":"IF($B354=\"\",\"\",IF(ISTEXT('Whip Data'!V367),'Whip Data'!V367,'Whip Data'!U367))","v":""},{"$f":"IF(B354=\"\",\"\",IF(ISBLANK('Whip Data'!X367),'Whip Data'!W367,'Whip Data'!X367))","v":""},"","",{"$f":"IF($B354=\"\",\"\",IF('Whip Data'!Q367=\"\",\"None\",'Whip Data'!Q367))","v":""},{"$f":"IF(O354=\"\",\"\",IF($O354=\"None\",\"NA\",INDEX(Breakers!$A$1:$I$75,MATCH(BOM!C354,Breakers!$A$1:$A$75,0),MATCH(BOM!O354,Breakers!$A$1:$I$1,0))))","v":""},{"$f":"IF(B354=\"\",\"\",VLOOKUP(H354,Standards!$X$3:$Y$6,2,FALSE))","v":""}]
[{"$f":"IF($B355=\"\",\"\",'Whip Data'!$Z368)","v":""},{"$f":"IFERROR('Whip Data'!A368,\"\")","v":""},{"$f":"IF(B355=\"\",\"\",'Whip Data'!L368)","v":""},"",{"$f":"IF($B355=\"\",\"\",VLOOKUP($C355,Materials,'Whip Data'!$M$10+11,FALSE))","v":""},{"$f":"IF($B355=\"\",\"\",VLOOKUP($C355,Materials,'Whip Data'!$M$10+13,FALSE))","v":""},{"$f":"IFERROR(\"LTUA-\"&IF(ISTEXT('Whip Data'!$T368),VLOOKUP('Whip Data'!$T368,Conduit,2,FALSE),VLOOKUP('Whip Data'!$S368,Conduit,2,FALSE))&\"-\"&'Whip Data'!$R368,\"\")","v":""},{"$f":"IF($B355=\"\",\"\",IFERROR(VLOOKUP('Whip Data'!$T368,Conduit,3,FALSE),VLOOKUP('Whip Data'!$S368,Conduit,3,FALSE)))","v":""},{"$f":"IF(B355=\"\",\"\",'Whip Data'!O368)","v":""},{"$f":"IF(C355=\"\",\"\",'Whip Data'!P368)","v":""},{"$f":"IF($B355=\"\",\"\",IF(ISTEXT('Whip Data'!V368),'Whip Data'!V368,'Whip Data'!U368))","v":""},{"$f":"IF(B355=\"\",\"\",IF(ISBLANK('Whip Data'!X368),'Whip Data'!W368,'Whip Data'!X368))","v":""},"","",{"$f":"IF($B355=\"\",\"\",IF('Whip Data'!Q368=\"\",\"None\",'Whip Data'!Q368))","v":""},{"$f":"IF(O355=\"\",\"\",IF($O355=\"None\",\"NA\",INDEX(Breakers!$A$1:$I$75,MATCH(BOM!C355,Breakers!$A$1:$A$75,0),MATCH(BOM!O355,Breakers!$A$1:$I$1,0))))","v":""},{"$f":"IF(B355=\"\",\"\",VLOOKUP(H355,Standards!$X$3:$Y$6,2,FALSE))","v":""}]
[{"$f":"IF($B356=\"\",\"\",'Whip Data'!$Z369)","v":""},{"$f":"IFERROR('Whip Data'!A369,\"\")","v":""},{"$f":"IF(B356=\"\",\"\",'Whip Data'!L369)","v":""},"",{"$f":"IF($B356=\"\",\"\",VLOOKUP($C356,Materials,'Whip Data'!$M$10+11,FALSE))","v":""},{"$f":"IF($B356=\"\",\"\",VLOOKUP($C356,Materials,'Whip Data'!$M$10+13,FALSE))","v":""},{"$f":"IFERROR(\"LTUA-\"&IF(ISTEXT('Whip Data'!$T369),VLOOKUP('Whip Data'!$T369,Conduit,2,FALSE),VLOOKUP('Whip Data'!$S369,Conduit,2,FALSE))&\"-\"&'Whip Data'!$R369,\"\")","v":""},{"$f":"IF($B356=\"\",\"\",IFERROR(VLOOKUP('Whip Data'!$T369,Conduit,3,FALSE),VLOOKUP('Whip Data'!$S369,Conduit,3,FALSE)))","v":""},{"$f":"IF(B356=\"\",\"\",'Whip Data'!O369)","v":""},{"$f":"IF(C356=\"\",\"\",'Whip Data'!P369)","v":""},{"$f":"IF($B356=\"\",\"\",IF(ISTEXT('Whip Data'!V369),'Whip Data'!V369,'Whip Data'!U369))","v":""},{"$f":"IF(B356=\"\",\"\",IF(ISBLANK('Whip Data'!X369),'Whip Data'!W369,'Whip Data'!X369))","v":""},"","",{"$f":"IF($B356=\"\",\"\",IF('Whip Data'!Q369=\"\",\"None\",'Whip Data'!Q369))","v":""},{"$f":"IF(O356=\"\",\"\",IF($O356=\"None\",\"NA\",INDEX(Breakers!$A$1:$I$75,MATCH(BOM!C356,Breakers!$A$1:$A$75,0),MATCH(BOM!O356,Breakers!$A$1:$I$1,0))))","v":""},{"$f":"IF(B356=\"\",\"\",VLOOKUP(H356,Standards!$X$3:$Y$6,2,FALSE))","v":""}]
[{"$f":"IF($B357=\"\",\"\",'Whip Data'!$Z370)","v":""},{"$f":"IFERROR('Whip Data'!A370,\"\")","v":""},{"$f":"IF(B357=\"\",\"\",'Whip Data'!L370)","v":""},"",{"$f":"IF($B357=\"\",\"\",VLOOKUP($C357,Materials,'Whip Data'!$M$10+11,FALSE))","v":""},{"$f":"IF($B357=\"\",\"\",VLOOKUP($C357,Materials,'Whip Data'!$M$10+13,FALSE))","v":""},{"$f":"IFERROR(\"LTUA-\"&IF(ISTEXT('Whip Data'!$T370),VLOOKUP('Whip Data'!$T370,Conduit,2,FALSE),VLOOKUP('Whip Data'!$S370,Conduit,2,FALSE))&\"-\"&'Whip Data'!$R370,\"\")","v":""},{"$f":"IF($B357=\"\",\"\",IFERROR(VLOOKUP('Whip Data'!$T370,Conduit,3,FALSE),VLOOKUP('Whip Data'!$S370,Conduit,3,FALSE)))","v":""},{"$f":"IF(B357=\"\",\"\",'Whip Data'!O370)","v":""},{"$f":"IF(C357=\"\",\"\",'Whip Data'!P370)","v":""},{"$f":"IF($B357=\"\",\"\",IF(ISTEXT('Whip Data'!V370),'Whip Data'!V370,'Whip Data'!U370))","v":""},{"$f":"IF(B357=\"\",\"\",IF(ISBLANK('Whip Data'!X370),'Whip Data'!W370,'Whip Data'!X370))","v":""},"","",{"$f":"IF($B357=\"\",\"\",IF('Whip Data'!Q370=\"\",\"None\",'Whip Data'!Q370))","v":""},{"$f":"IF(O357=\"\",\"\",IF($O357=\"None\",\"NA\",INDEX(Breakers!$A$1:$I$75,MATCH(BOM!C357,Breakers!$A$1:$A$75,0),MATCH(BOM!O357,Breakers!$A$1:$I$1,0))))","v":""},{"$f":"IF(B357=\"\",\"\",VLOOKUP(H357,Standards!$X$3:$Y$6,2,FALSE))","v":""}]
[{"$f":"IF($B358=\"\",\"\",'Whip Data'!$Z371)","v":""},{"$f":"IFERROR('Whip Data'!A371,\"\")","v":""},{"$f":"IF(B358=\"\",\"\",'Whip Data'!L371)","v":""},"",{"$f":"IF($B358=\"\",\"\",VLOOKUP($C358,Materials,'Whip Data'!$M$10+11,FALSE))","v":""},{"$f":"IF($B358=\"\",\"\",VLOOKUP($C358,Materials,'Whip Data'!$M$10+13,FALSE))","v":""},{"$f":"IFERROR(\"LTUA-\"&IF(ISTEXT('Whip Data'!$T371),VLOOKUP('Whip Data'!$T371,Conduit,2,FALSE),VLOOKUP('Whip Data'!$S371,Conduit,2,FALSE))&\"-\"&'Whip Data'!$R371,\"\")","v":""},{"$f":"IF($B358=\"\",\"\",IFERROR(VLOOKUP('Whip Data'!$T371,Conduit,3,FALSE),VLOOKUP('Whip Data'!$S371,Conduit,3,FALSE)))","v":""},{"$f":"IF(B358=\"\",\"\",'Whip Data'!O371)","v":""},{"$f":"IF(C358=\"\",\"\",'Whip Data'!P371)","v":""},{"$f":"IF($B358=\"\",\"\",IF(ISTEXT('Whip Data'!V371),'Whip Data'!V371,'Whip Data'!U371))","v":""},{"$f":"IF(B358=\"\",\"\",IF(ISBLANK('Whip Data'!X371),'Whip Data'!W371,'Whip Data'!X371))","v":""},"","",{"$f":"IF($B358=\"\",\"\",IF('Whip Data'!Q371=\"\",\"None\",'Whip Data'!Q371))","v":""},{"$f":"IF(O358=\"\",\"\",IF($O358=\"None\",\"NA\",INDEX(Breakers!$A$1:$I$75,MATCH(BOM!C358,Breakers!$A$1:$A$75,0),MATCH(BOM!O358,Breakers!$A$1:$I$1,0))))","v":""},{"$f":"IF(B358=\"\",\"\",VLOOKUP(H358,Standards!$X$3:$Y$6,2,FALSE))","v":""}]
[{"$f":"IF($B359=\"\",\"\",'Whip Data'!$Z372)","v":""},{"$f":"IFERROR('Whip Data'!A372,\"\")","v":""},{"$f":"IF(B359=\"\",\"\",'Whip Data'!L372)","v":""},"",{"$f":"IF($B359=\"\",\"\",VLOOKUP($C359,Materials,'Whip Data'!$M$10+11,FALSE))","v":""},{"$f":"IF($B359=\"\",\"\",VLOOKUP($C359,Materials,'Whip Data'!$M$10+13,FALSE))","v":""},{"$f":"IFERROR(\"LTUA-\"&IF(ISTEXT('Whip Data'!$T372),VLOOKUP('Whip Data'!$T372,Conduit,2,FALSE),VLOOKUP('Whip Data'!$S372,Conduit,2,FALSE))&\"-\"&'Whip Data'!$R372,\"\")","v":""},{"$f":"IF($B359=\"\",\"\",IFERROR(VLOOKUP('Whip Data'!$T372,Conduit,3,FALSE),VLOOKUP('Whip Data'!$S372,Conduit,3,FALSE)))","v":""},{"$f":"IF(B359=\"\",\"\",'Whip Data'!O372)","v":""},{"$f":"IF(C359=\"\",\"\",'Whip Data'!P372)","v":""},{"$f":"IF($B359=\"\",\"\",IF(ISTEXT('Whip Data'!V372),'Whip Data'!V372,'Whip Data'!U372))","v":""},{"$f":"IF(B359=\"\",\"\",IF(ISBLANK('Whip Data'!X372),'Whip Data'!W372,'Whip Data'!X372))","v":""},"","",{"$f":"IF($B359=\"\",\"\",IF('Whip Data'!Q372=\"\",\"None\",'Whip Data'!Q372))","v":""},{"$f":"IF(O359=\"\",\"\",IF($O359=\"None\",\"NA\",INDEX(Breakers!$A$1:$I$75,MATCH(BOM!C359,Breakers!$A$1:$A$75,0),MATCH(BOM!O359,Breakers!$A$1:$I$1,0))))","v":""},{"$f":"IF(B359=\"\",\"\",VLOOKUP(H359,Standards!$X$3:$Y$6,2,FALSE))","v":""}]
[{"$f":"IF($B360=\"\",\"\",'Whip Data'!$Z373)","v":""},{"$f":"IFERROR('Whip Data'!A373,\"\")","v":""},{"$f":"IF(B360=\"\",\"\",'Whip Data'!L373)","v":""},"",{"$f":"IF($B360=\"\",\"\",VLOOKUP($C360,Materials,'Whip Data'!$M$10+11,FALSE))","v":""},{"$f":"IF($B360=\"\",\"\",VLOOKUP($C360,Materials,'Whip Data'!$M$10+13,FALSE))","v":""},{"$f":"IFERROR(\"LTUA-\"&IF(ISTEXT('Whip Data'!$T373),VLOOKUP('Whip Data'!$T373,Conduit,2,FALSE),VLOOKUP('Whip Data'!$S373,Conduit,2,FALSE))&\"-\"&'Whip Data'!$R373,\"\")","v":""},{"$f":"IF($B360=\"\",\"\",IFERROR(VLOOKUP('Whip Data'!$T373,Conduit,3,FALSE),VLOOKUP('Whip Data'!$S373,Conduit,3,FALSE)))","v":""},{"$f":"IF(B360=\"\",\"\",'Whip Data'!O373)","v":""},{"$f":"IF(C360=\"\",\"\",'Whip Data'!P373)","v":""},{"$f":"IF($B360=\"\",\"\",IF(ISTEXT('Whip Data'!V373),'Whip Data'!V373,'Whip Data'!U373))","v":""},{"$f":"IF(B360=\"\",\"\",IF(ISBLANK('Whip Data'!X373),'Whip Data'!W373,'Whip Data'!X373))","v":""},"","",{"$f":"IF($B360=\"\",\"\",IF('Whip Data'!Q373=\"\",\"None\",'Whip Data'!Q373))","v":""},{"$f":"IF(O360=\"\",\"\",IF($O360=\"None\",\"NA\",INDEX(Breakers!$A$1:$I$75,MATCH(BOM!C360,Breakers!$A$1:$A$75,0),MATCH(BOM!O360,Breakers!$A$1:$I$1,0))))","v":""},{"$f":"IF(B360=\"\",\"\",VLOOKUP(H360,Standards!$X$3:$Y$6,2,FALSE))","v":""}]
[{"$f":"IF($B361=\"\",\"\",'Whip Data'!$Z374)","v":""},{"$f":"IFERROR('Whip Data'!A374,\"\")","v":""},{"$f":"IF(B361=\"\",\"\",'Whip Data'!L374)","v":""},"",{"$f":"IF($B361=\"\",\"\",VLOOKUP($C361,Materials,'Whip Data'!$M$10+11,FALSE))","v":""},{"$f":"IF($B361=\"\",\"\",VLOOKUP($C361,Materials,'Whip Data'!$M$10+13,FALSE))","v":""},{"$f":"IFERROR(\"LTUA-\"&IF(ISTEXT('Whip Data'!$T374),VLOOKUP('Whip Data'!$T374,Conduit,2,FALSE),VLOOKUP('Whip Data'!$S374,Conduit,2,FALSE))&\"-\"&'Whip Data'!$R374,\"\")","v":""},{"$f":"IF($B361=\"\",\"\",IFERROR(VLOOKUP('Whip Data'!$T374,Conduit,3,FALSE),VLOOKUP('Whip Data'!$S374,Conduit,3,FALSE)))","v":""},{"$f":"IF(B361=\"\",\"\",'Whip Data'!O374)","v":""},{"$f":"IF(C361=\"\",\"\",'Whip Data'!P374)","v":""},{"$f":"IF($B361=\"\",\"\",IF(ISTEXT('Whip Data'!V374),'Whip Data'!V374,'Whip Data'!U374))","v":""},{"$f":"IF(B361=\"\",\"\",IF(ISBLANK('Whip Data'!X374),'Whip Data'!W374,'Whip Data'!X374))","v":""},"","",{"$f":"IF($B361=\"\",\"\",IF('Whip Data'!Q374=\"\",\"None\",'Whip Data'!Q374))","v":""},{"$f":"IF(O361=\"\",\"\",IF($O361=\"None\",\"NA\",INDEX(Breakers!$A$1:$I$75,MATCH(BOM!C361,Breakers!$A$1:$A$75,0),MATCH(BOM!O361,Breakers!$A$1:$I$1,0))))","v":""},{"$f":"IF(B361=\"\",\"\",VLOOKUP(H361,Standards!$X$3:$Y$6,2,FALSE))","v":""}]
[{"$f":"IF($B362=\"\",\"\",'Whip Data'!$Z375)","v":""},{"$f":"IFERROR('Whip Data'!A375,\"\")","v":""},{"$f":"IF(B362=\"\",\"\",'Whip Data'!L375)","v":""},"",{"$f":"IF($B362=\"\",\"\",VLOOKUP($C362,Materials,'Whip Data'!$M$10+11,FALSE))","v":""},{"$f":"IF($B362=\"\",\"\",VLOOKUP($C362,Materials,'Whip Data'!$M$10+13,FALSE))","v":""},{"$f":"IFERROR(\"LTUA-\"&IF(ISTEXT('Whip Data'!$T375),VLOOKUP('Whip Data'!$T375,Conduit,2,FALSE),VLOOKUP('Whip Data'!$S375,Conduit,2,FALSE))&\"-\"&'Whip Data'!$R375,\"\")","v":""},{"$f":"IF($B362=\"\",\"\",IFERROR(VLOOKUP('Whip Data'!$T375,Conduit,3,FALSE),VLOOKUP('Whip Data'!$S375,Conduit,3,FALSE)))","v":""},{"$f":"IF(B362=\"\",\"\",'Whip Data'!O375)","v":""},{"$f":"IF(C362=\"\",\"\",'Whip Data'!P375)","v":""},{"$f":"IF($B362=\"\",\"\",IF(ISTEXT('Whip Data'!V375),'Whip Data'!V375,'Whip Data'!U375))","v":""},{"$f":"IF(B362=\"\",\"\",IF(ISBLANK('Whip Data'!X375),'Whip Data'!W375,'Whip Data'!X375))","v":""},"","",{"$f":"IF($B362=\"\",\"\",IF('Whip Data'!Q375=\"\",\"None\",'Whip Data'!Q375))","v":""},{"$f":"IF(O362=\"\",\"\",IF($O362=\"None\",\"NA\",INDEX(Breakers!$A$1:$I$75,MATCH(BOM!C362,Breakers!$A$1:$A$75,0),MATCH(BOM!O362,Breakers!$A$1:$I$1,0))))","v":""},{"$f":"IF(B362=\"\",\"\",VLOOKUP(H362,Standards!$X$3:$Y$6,2,FALSE))","v":""}]
[{"$f":"IF($B363=\"\",\"\",'Whip Data'!$Z376)","v":""},{"$f":"IFERROR('Whip Data'!A376,\"\")","v":""},{"$f":"IF(B363=\"\",\"\",'Whip Data'!L376)","v":""},"",{"$f":"IF($B363=\"\",\"\",VLOOKUP($C363,Materials,'Whip Data'!$M$10+11,FALSE))","v":""},{"$f":"IF($B363=\"\",\"\",VLOOKUP($C363,Materials,'Whip Data'!$M$10+13,FALSE))","v":""},{"$f":"IFERROR(\"LTUA-\"&IF(ISTEXT('Whip Data'!$T376),VLOOKUP('Whip Data'!$T376,Conduit,2,FALSE),VLOOKUP('Whip Data'!$S376,Conduit,2,FALSE))&\"-\"&'Whip Data'!$R376,\"\")","v":""},{"$f":"IF($B363=\"\",\"\",IFERROR(VLOOKUP('Whip Data'!$T376,Conduit,3,FALSE),VLOOKUP('Whip Data'!$S376,Conduit,3,FALSE)))","v":""},{"$f":"IF(B363=\"\",\"\",'Whip Data'!O376)","v":""},{"$f":"IF(C363=\"\",\"\",'Whip Data'!P376)","v":""},{"$f":"IF($B363=\"\",\"\",IF(ISTEXT('Whip Data'!V376),'Whip Data'!V376,'Whip Data'!U376))","v":""},{"$f":"IF(B363=\"\",\"\",IF(ISBLANK('Whip Data'!X376),'Whip Data'!W376,'Whip Data'!X376))","v":""},"","",{"$f":"IF($B363=\"\",\"\",IF('Whip Data'!Q376=\"\",\"None\",'Whip Data'!Q376))","v":""},{"$f":"IF(O363=\"\",\"\",IF($O363=\"None\",\"NA\",INDEX(Breakers!$A$1:$I$75,MATCH(BOM!C363,Breakers!$A$1:$A$75,0),MATCH(BOM!O363,Breakers!$A$1:$I$1,0))))","v":""},{"$f":"IF(B363=\"\",\"\",VLOOKUP(H363,Standards!$X$3:$Y$6,2,FALSE))","v":""}]
[{"$f":"IF($B364=\"\",\"\",'Whip Data'!$Z377)","v":""},{"$f":"IFERROR('Whip Data'!A377,\"\")","v":""},{"$f":"IF(B364=\"\",\"\",'Whip Data'!L377)","v":""},"",{"$f":"IF($B364=\"\",\"\",VLOOKUP($C364,Materials,'Whip Data'!$M$10+11,FALSE))","v":""},{"$f":"IF($B364=\"\",\"\",VLOOKUP($C364,Materials,'Whip Data'!$M$10+13,FALSE))","v":""},{"$f":"IFERROR(\"LTUA-\"&IF(ISTEXT('Whip Data'!$T377),VLOOKUP('Whip Data'!$T377,Conduit,2,FALSE),VLOOKUP('Whip Data'!$S377,Conduit,2,FALSE))&\"-\"&'Whip Data'!$R377,\"\")","v":""},{"$f":"IF($B364=\"\",\"\",IFERROR(VLOOKUP('Whip Data'!$T377,Conduit,3,FALSE),VLOOKUP('Whip Data'!$S377,Conduit,3,FALSE)))","v":""},{"$f":"IF(B364=\"\",\"\",'Whip Data'!O377)","v":""},{"$f":"IF(C364=\"\",\"\",'Whip Data'!P377)","v":""},{"$f":"IF($B364=\"\",\"\",IF(ISTEXT('Whip Data'!V377),'Whip Data'!V377,'Whip Data'!U377))","v":""},{"$f":"IF(B364=\"\",\"\",IF(ISBLANK('Whip Data'!X377),'Whip Data'!W377,'Whip Data'!X377))","v":""},"","",{"$f":"IF($B364=\"\",\"\",IF('Whip Data'!Q377=\"\",\"None\",'Whip Data'!Q377))","v":""},{"$f":"IF(O364=\"\",\"\",IF($O364=\"None\",\"NA\",INDEX(Breakers!$A$1:$I$75,MATCH(BOM!C364,Breakers!$A$1:$A$75,0),MATCH(BOM!O364,Breakers!$A$1:$I$1,0))))","v":""},{"$f":"IF(B364=\"\",\"\",VLOOKUP(H364,Standards!$X$3:$Y$6,2,FALSE))","v":""}]
[{"$f":"IF($B365=\"\",\"\",'Whip Data'!$Z378)","v":""},{"$f":"IFERROR('Whip Data'!A378,\"\")","v":""},{"$f":"IF(B365=\"\",\"\",'Whip Data'!L378)","v":""},"",{"$f":"IF($B365=\"\",\"\",VLOOKUP($C365,Materials,'Whip Data'!$M$10+11,FALSE))","v":""},{"$f":"IF($B365=\"\",\"\",VLOOKUP($C365,Materials,'Whip Data'!$M$10+13,FALSE))","v":""},{"$f":"IFERROR(\"LTUA-\"&IF(ISTEXT('Whip Data'!$T378),VLOOKUP('Whip Data'!$T378,Conduit,2,FALSE),VLOOKUP('Whip Data'!$S378,Conduit,2,FALSE))&\"-\"&'Whip Data'!$R378,\"\")","v":""},{"$f":"IF($B365=\"\",\"\",IFERROR(VLOOKUP('Whip Data'!$T378,Conduit,3,FALSE),VLOOKUP('Whip Data'!$S378,Conduit,3,FALSE)))","v":""},{"$f":"IF(B365=\"\",\"\",'Whip Data'!O378)","v":""},{"$f":"IF(C365=\"\",\"\",'Whip Data'!P378)","v":""},{"$f":"IF($B365=\"\",\"\",IF(ISTEXT('Whip Data'!V378),'Whip Data'!V378,'Whip Data'!U378))","v":""},{"$f":"IF(B365=\"\",\"\",IF(ISBLANK('Whip Data'!X378),'Whip Data'!W378,'Whip Data'!X378))","v":""},"","",{"$f":"IF($B365=\"\",\"\",IF('Whip Data'!Q378=\"\",\"None\",'Whip Data'!Q378))","v":""},{"$f":"IF(O365=\"\",\"\",IF($O365=\"None\",\"NA\",INDEX(Breakers!$A$1:$I$75,MATCH(BOM!C365,Breakers!$A$1:$A$75,0),MATCH(BOM!O365,Breakers!$A$1:$I$1,0))))","v":""},{"$f":"IF(B365=\"\",\"\",VLOOKUP(H365,Standards!$X$3:$Y$6,2,FALSE))","v":""}]
[{"$f":"IF($B366=\"\",\"\",'Whip Data'!$Z379)","v":""},{"$f":"IFERROR('Whip Data'!A379,\"\")","v":""},{"$f":"IF(B366=\"\",\"\",'Whip Data'!L379)","v":""},"",{"$f":"IF($B366=\"\",\"\",VLOOKUP($C366,Materials,'Whip Data'!$M$10+11,FALSE))","v":""},{"$f":"IF($B366=\"\",\"\",VLOOKUP($C366,Materials,'Whip Data'!$M$10+13,FALSE))","v":""},{"$f":"IFERROR(\"LTUA-\"&IF(ISTEXT('Whip Data'!$T379),VLOOKUP('Whip Data'!$T379,Conduit,2,FALSE),VLOOKUP('Whip Data'!$S379,Conduit,2,FALSE))&\"-\"&'Whip Data'!$R379,\"\")","v":""},{"$f":"IF($B366=\"\",\"\",IFERROR(VLOOKUP('Whip Data'!$T379,Conduit,3,FALSE),VLOOKUP('Whip Data'!$S379,Conduit,3,FALSE)))","v":""},{"$f":"IF(B366=\"\",\"\",'Whip Data'!O379)","v":""},{"$f":"IF(C366=\"\",\"\",'Whip Data'!P379)","v":""},{"$f":"IF($B366=\"\",\"\",IF(ISTEXT('Whip Data'!V379),'Whip Data'!V379,'Whip Data'!U379))","v":""},{"$f":"IF(B366=\"\",\"\",IF(ISBLANK('Whip Data'!X379),'Whip Data'!W379,'Whip Data'!X379))","v":""},"","",{"$f":"IF($B366=\"\",\"\",IF('Whip Data'!Q379=\"\",\"None\",'Whip Data'!Q379))","v":""},{"$f":"IF(O366=\"\",\"\",IF($O366=\"None\",\"NA\",INDEX(Breakers!$A$1:$I$75,MATCH(BOM!C366,Breakers!$A$1:$A$75,0),MATCH(BOM!O366,Breakers!$A$1:$I$1,0))))","v":""},{"$f":"IF(B366=\"\",\"\",VLOOKUP(H366,Standards!$X$3:$Y$6,2,FALSE))","v":""}]
[{"$f":"IF($B367=\"\",\"\",'Whip Data'!$Z380)","v":""},{"$f":"IFERROR('Whip Data'!A380,\"\")","v":""},{"$f":"IF(B367=\"\",\"\",'Whip Data'!L380)","v":""},"",{"$f":"IF($B367=\"\",\"\",VLOOKUP($C367,Materials,'Whip Data'!$M$10+11,FALSE))","v":""},{"$f":"IF($B367=\"\",\"\",VLOOKUP($C367,Materials,'Whip Data'!$M$10+13,FALSE))","v":""},{"$f":"IFERROR(\"LTUA-\"&IF(ISTEXT('Whip Data'!$T380),VLOOKUP('Whip Data'!$T380,Conduit,2,FALSE),VLOOKUP('Whip Data'!$S380,Conduit,2,FALSE))&\"-\"&'Whip Data'!$R380,\"\")","v":""},{"$f":"IF($B367=\"\",\"\",IFERROR(VLOOKUP('Whip Data'!$T380,Conduit,3,FALSE),VLOOKUP('Whip Data'!$S380,Conduit,3,FALSE)))","v":""},{"$f":"IF(B367=\"\",\"\",'Whip Data'!O380)","v":""},{"$f":"IF(C367=\"\",\"\",'Whip Data'!P380)","v":""},{"$f":"IF($B367=\"\",\"\",IF(ISTEXT('Whip Data'!V380),'Whip Data'!V380,'Whip Data'!U380))","v":""},{"$f":"IF(B367=\"\",\"\",IF(ISBLANK('Whip Data'!X380),'Whip Data'!W380,'Whip Data'!X380))","v":""},"","",{"$f":"IF($B367=\"\",\"\",IF('Whip Data'!Q380=\"\",\"None\",'Whip Data'!Q380))","v":""},{"$f":"IF(O367=\"\",\"\",IF($O367=\"None\",\"NA\",INDEX(Breakers!$A$1:$I$75,MATCH(BOM!C367,Breakers!$A$1:$A$75,0),MATCH(BOM!O367,Breakers!$A$1:$I$1,0))))","v":""},{"$f":"IF(B367=\"\",\"\",VLOOKUP(H367,Standards!$X$3:$Y$6,2,FALSE))","v":""}]
[{"$f":"IF($B368=\"\",\"\",'Whip Data'!$Z381)","v":""},{"$f":"IFERROR('Whip Data'!A381,\"\")","v":""},{"$f":"IF(B368=\"\",\"\",'Whip Data'!L381)","v":""},"",{"$f":"IF($B368=\"\",\"\",VLOOKUP($C368,Materials,'Whip Data'!$M$10+11,FALSE))","v":""},{"$f":"IF($B368=\"\",\"\",VLOOKUP($C368,Materials,'Whip Data'!$M$10+13,FALSE))","v":""},{"$f":"IFERROR(\"LTUA-\"&IF(ISTEXT('Whip Data'!$T381),VLOOKUP('Whip Data'!$T381,Conduit,2,FALSE),VLOOKUP('Whip Data'!$S381,Conduit,2,FALSE))&\"-\"&'Whip Data'!$R381,\"\")","v":""},{"$f":"IF($B368=\"\",\"\",IFERROR(VLOOKUP('Whip Data'!$T381,Conduit,3,FALSE),VLOOKUP('Whip Data'!$S381,Conduit,3,FALSE)))","v":""},{"$f":"IF(B368=\"\",\"\",'Whip Data'!O381)","v":""},{"$f":"IF(C368=\"\",\"\",'Whip Data'!P381)","v":""},{"$f":"IF($B368=\"\",\"\",IF(ISTEXT('Whip Data'!V381),'Whip Data'!V381,'Whip Data'!U381))","v":""},{"$f":"IF(B368=\"\",\"\",IF(ISBLANK('Whip Data'!X381),'Whip Data'!W381,'Whip Data'!X381))","v":""},"","",{"$f":"IF($B368=\"\",\"\",IF('Whip Data'!Q381=\"\",\"None\",'Whip Data'!Q381))","v":""},{"$f":"IF(O368=\"\",\"\",IF($O368=\"None\",\"NA\",INDEX(Breakers!$A$1:$I$75,MATCH(BOM!C368,Breakers!$A$1:$A$75,0),MATCH(BOM!O368,Breakers!$A$1:$I$1,0))))","v":""},{"$f":"IF(B368=\"\",\"\",VLOOKUP(H368,Standards!$X$3:$Y$6,2,FALSE))","v":""}]
[{"$f":"IF($B369=\"\",\"\",'Whip Data'!$Z382)","v":""},{"$f":"IFERROR('Whip Data'!A382,\"\")","v":""},{"$f":"IF(B369=\"\",\"\",'Whip Data'!L382)","v":""},"",{"$f":"IF($B369=\"\",\"\",VLOOKUP($C369,Materials,'Whip Data'!$M$10+11,FALSE))","v":""},{"$f":"IF($B369=\"\",\"\",VLOOKUP($C369,Materials,'Whip Data'!$M$10+13,FALSE))","v":""},{"$f":"IFERROR(\"LTUA-\"&IF(ISTEXT('Whip Data'!$T382),VLOOKUP('Whip Data'!$T382,Conduit,2,FALSE),VLOOKUP('Whip Data'!$S382,Conduit,2,FALSE))&\"-\"&'Whip Data'!$R382,\"\")","v":""},{"$f":"IF($B369=\"\",\"\",IFERROR(VLOOKUP('Whip Data'!$T382,Conduit,3,FALSE),VLOOKUP('Whip Data'!$S382,Conduit,3,FALSE)))","v":""},{"$f":"IF(B369=\"\",\"\",'Whip Data'!O382)","v":""},{"$f":"IF(C369=\"\",\"\",'Whip Data'!P382)","v":""},{"$f":"IF($B369=\"\",\"\",IF(ISTEXT('Whip Data'!V382),'Whip Data'!V382,'Whip Data'!U382))","v":""},{"$f":"IF(B369=\"\",\"\",IF(ISBLANK('Whip Data'!X382),'Whip Data'!W382,'Whip Data'!X382))","v":""},"","",{"$f":"IF($B369=\"\",\"\",IF('Whip Data'!Q382=\"\",\"None\",'Whip Data'!Q382))","v":""},{"$f":"IF(O369=\"\",\"\",IF($O369=\"None\",\"NA\",INDEX(Breakers!$A$1:$I$75,MATCH(BOM!C369,Breakers!$A$1:$A$75,0),MATCH(BOM!O369,Breakers!$A$1:$I$1,0))))","v":""},{"$f":"IF(B369=\"\",\"\",VLOOKUP(H369,Standards!$X$3:$Y$6,2,FALSE))","v":""}]
[{"$f":"IF($B370=\"\",\"\",'Whip Data'!$Z383)","v":""},{"$f":"IFERROR('Whip Data'!A383,\"\")","v":""},{"$f":"IF(B370=\"\",\"\",'Whip Data'!L383)","v":""},"",{"$f":"IF($B370=\"\",\"\",VLOOKUP($C370,Materials,'Whip Data'!$M$10+11,FALSE))","v":""},{"$f":"IF($B370=\"\",\"\",VLOOKUP($C370,Materials,'Whip Data'!$M$10+13,FALSE))","v":""},{"$f":"IFERROR(\"LTUA-\"&IF(ISTEXT('Whip Data'!$T383),VLOOKUP('Whip Data'!$T383,Conduit,2,FALSE),VLOOKUP('Whip Data'!$S383,Conduit,2,FALSE))&\"-\"&'Whip Data'!$R383,\"\")","v":""},{"$f":"IF($B370=\"\",\"\",IFERROR(VLOOKUP('Whip Data'!$T383,Conduit,3,FALSE),VLOOKUP('Whip Data'!$S383,Conduit,3,FALSE)))","v":""},{"$f":"IF(B370=\"\",\"\",'Whip Data'!O383)","v":""},{"$f":"IF(C370=\"\",\"\",'Whip Data'!P383)","v":""},{"$f":"IF($B370=\"\",\"\",IF(ISTEXT('Whip Data'!V383),'Whip Data'!V383,'Whip Data'!U383))","v":""},{"$f":"IF(B370=\"\",\"\",IF(ISBLANK('Whip Data'!X383),'Whip Data'!W383,'Whip Data'!X383))","v":""},"","",{"$f":"IF($B370=\"\",\"\",IF('Whip Data'!Q383=\"\",\"None\",'Whip Data'!Q383))","v":""},{"$f":"IF(O370=\"\",\"\",IF($O370=\"None\",\"NA\",INDEX(Breakers!$A$1:$I$75,MATCH(BOM!C370,Breakers!$A$1:$A$75,0),MATCH(BOM!O370,Breakers!$A$1:$I$1,0))))","v":""},{"$f":"IF(B370=\"\",\"\",VLOOKUP(H370,Standards!$X$3:$Y$6,2,FALSE))","v":""}]
[{"$f":"IF($B371=\"\",\"\",'Whip Data'!$Z384)","v":""},{"$f":"IFERROR('Whip Data'!A384,\"\")","v":""},{"$f":"IF(B371=\"\",\"\",'Whip Data'!L384)","v":""},"",{"$f":"IF($B371=\"\",\"\",VLOOKUP($C371,Materials,'Whip Data'!$M$10+11,FALSE))","v":""},{"$f":"IF($B371=\"\",\"\",VLOOKUP($C371,Materials,'Whip Data'!$M$10+13,FALSE))","v":""},{"$f":"IFERROR(\"LTUA-\"&IF(ISTEXT('Whip Data'!$T384),VLOOKUP('Whip Data'!$T384,Conduit,2,FALSE),VLOOKUP('Whip Data'!$S384,Conduit,2,FALSE))&\"-\"&'Whip Data'!$R384,\"\")","v":""},{"$f":"IF($B371=\"\",\"\",IFERROR(VLOOKUP('Whip Data'!$T384,Conduit,3,FALSE),VLOOKUP('Whip Data'!$S384,Conduit,3,FALSE)))","v":""},{"$f":"IF(B371=\"\",\"\",'Whip Data'!O384)","v":""},{"$f":"IF(C371=\"\",\"\",'Whip Data'!P384)","v":""},{"$f":"IF($B371=\"\",\"\",IF(ISTEXT('Whip Data'!V384),'Whip Data'!V384,'Whip Data'!U384))","v":""},{"$f":"IF(B371=\"\",\"\",IF(ISBLANK('Whip Data'!X384),'Whip Data'!W384,'Whip Data'!X384))","v":""},"","",{"$f":"IF($B371=\"\",\"\",IF('Whip Data'!Q384=\"\",\"None\",'Whip Data'!Q384))","v":""},{"$f":"IF(O371=\"\",\"\",IF($O371=\"None\",\"NA\",INDEX(Breakers!$A$1:$I$75,MATCH(BOM!C371,Breakers!$A$1:$A$75,0),MATCH(BOM!O371,Breakers!$A$1:$I$1,0))))","v":""},{"$f":"IF(B371=\"\",\"\",VLOOKUP(H371,Standards!$X$3:$Y$6,2,FALSE))","v":""}]
[{"$f":"IF($B372=\"\",\"\",'Whip Data'!$Z385)","v":""},{"$f":"IFERROR('Whip Data'!A385,\"\")","v":""},{"$f":"IF(B372=\"\",\"\",'Whip Data'!L385)","v":""},"",{"$f":"IF($B372=\"\",\"\",VLOOKUP($C372,Materials,'Whip Data'!$M$10+11,FALSE))","v":""},{"$f":"IF($B372=\"\",\"\",VLOOKUP($C372,Materials,'Whip Data'!$M$10+13,FALSE))","v":""},{"$f":"IFERROR(\"LTUA-\"&IF(ISTEXT('Whip Data'!$T385),VLOOKUP('Whip Data'!$T385,Conduit,2,FALSE),VLOOKUP('Whip Data'!$S385,Conduit,2,FALSE))&\"-\"&'Whip Data'!$R385,\"\")","v":""},{"$f":"IF($B372=\"\",\"\",IFERROR(VLOOKUP('Whip Data'!$T385,Conduit,3,FALSE),VLOOKUP('Whip Data'!$S385,Conduit,3,FALSE)))","v":""},{"$f":"IF(B372=\"\",\"\",'Whip Data'!O385)","v":""},{"$f":"IF(C372=\"\",\"\",'Whip Data'!P385)","v":""},{"$f":"IF($B372=\"\",\"\",IF(ISTEXT('Whip Data'!V385),'Whip Data'!V385,'Whip Data'!U385))","v":""},{"$f":"IF(B372=\"\",\"\",IF(ISBLANK('Whip Data'!X385),'Whip Data'!W385,'Whip Data'!X385))","v":""},"","",{"$f":"IF($B372=\"\",\"\",IF('Whip Data'!Q385=\"\",\"None\",'Whip Data'!Q385))","v":""},{"$f":"IF(O372=\"\",\"\",IF($O372=\"None\",\"NA\",INDEX(Breakers!$A$1:$I$75,MATCH(BOM!C372,Breakers!$A$1:$A$75,0),MATCH(BOM!O372,Breakers!$A$1:$I$1,0))))","v":""},{"$f":"IF(B372=\"\",\"\",VLOOKUP(H372,Standards!$X$3:$Y$6,2,FALSE))","v":""}]
[{"$f":"IF($B373=\"\",\"\",'Whip Data'!$Z386)","v":""},{"$f":"IFERROR('Whip Data'!A386,\"\")","v":""},{"$f":"IF(B373=\"\",\"\",'Whip Data'!L386)","v":""},"",{"$f":"IF($B373=\"\",\"\",VLOOKUP($C373,Materials,'Whip Data'!$M$10+11,FALSE))","v":""},{"$f":"IF($B373=\"\",\"\",VLOOKUP($C373,Materials,'Whip Data'!$M$10+13,FALSE))","v":""},{"$f":"IFERROR(\"LTUA-\"&IF(ISTEXT('Whip Data'!$T386),VLOOKUP('Whip Data'!$T386,Conduit,2,FALSE),VLOOKUP('Whip Data'!$S386,Conduit,2,FALSE))&\"-\"&'Whip Data'!$R386,\"\")","v":""},{"$f":"IF($B373=\"\",\"\",IFERROR(VLOOKUP('Whip Data'!$T386,Conduit,3,FALSE),VLOOKUP('Whip Data'!$S386,Conduit,3,FALSE)))","v":""},{"$f":"IF(B373=\"\",\"\",'Whip Data'!O386)","v":""},{"$f":"IF(C373=\"\",\"\",'Whip Data'!P386)","v":""},{"$f":"IF($B373=\"\",\"\",IF(ISTEXT('Whip Data'!V386),'Whip Data'!V386,'Whip Data'!U386))","v":""},{"$f":"IF(B373=\"\",\"\",IF(ISBLANK('Whip Data'!X386),'Whip Data'!W386,'Whip Data'!X386))","v":""},"","",{"$f":"IF($B373=\"\",\"\",IF('Whip Data'!Q386=\"\",\"None\",'Whip Data'!Q386))","v":""},{"$f":"IF(O373=\"\",\"\",IF($O373=\"None\",\"NA\",INDEX(Breakers!$A$1:$I$75,MATCH(BOM!C373,Breakers!$A$1:$A$75,0),MATCH(BOM!O373,Breakers!$A$1:$I$1,0))))","v":""},{"$f":"IF(B373=\"\",\"\",VLOOKUP(H373,Standards!$X$3:$Y$6,2,FALSE))","v":""}]
[{"$f":"IF($B374=\"\",\"\",'Whip Data'!$Z387)","v":""},{"$f":"IFERROR('Whip Data'!A387,\"\")","v":""},{"$f":"IF(B374=\"\",\"\",'Whip Data'!L387)","v":""},"",{"$f":"IF($B374=\"\",\"\",VLOOKUP($C374,Materials,'Whip Data'!$M$10+11,FALSE))","v":""},{"$f":"IF($B374=\"\",\"\",VLOOKUP($C374,Materials,'Whip Data'!$M$10+13,FALSE))","v":""},{"$f":"IFERROR(\"LTUA-\"&IF(ISTEXT('Whip Data'!$T387),VLOOKUP('Whip Data'!$T387,Conduit,2,FALSE),VLOOKUP('Whip Data'!$S387,Conduit,2,FALSE))&\"-\"&'Whip Data'!$R387,\"\")","v":""},{"$f":"IF($B374=\"\",\"\",IFERROR(VLOOKUP('Whip Data'!$T387,Conduit,3,FALSE),VLOOKUP('Whip Data'!$S387,Conduit,3,FALSE)))","v":""},{"$f":"IF(B374=\"\",\"\",'Whip Data'!O387)","v":""},{"$f":"IF(C374=\"\",\"\",'Whip Data'!P387)","v":""},{"$f":"IF($B374=\"\",\"\",IF(ISTEXT('Whip Data'!V387),'Whip Data'!V387,'Whip Data'!U387))","v":""},{"$f":"IF(B374=\"\",\"\",IF(ISBLANK('Whip Data'!X387),'Whip Data'!W387,'Whip Data'!X387))","v":""},"","",{"$f":"IF($B374=\"\",\"\",IF('Whip Data'!Q387=\"\",\"None\",'Whip Data'!Q387))","v":""},{"$f":"IF(O374=\"\",\"\",IF($O374=\"None\",\"NA\",INDEX(Breakers!$A$1:$I$75,MATCH(BOM!C374,Breakers!$A$1:$A$75,0),MATCH(BOM!O374,Breakers!$A$1:$I$1,0))))","v":""},{"$f":"IF(B374=\"\",\"\",VLOOKUP(H374,Standards!$X$3:$Y$6,2,FALSE))","v":""}]
[{"$f":"IF($B375=\"\",\"\",'Whip Data'!$Z388)","v":""},{"$f":"IFERROR('Whip Data'!A388,\"\")","v":""},{"$f":"IF(B375=\"\",\"\",'Whip Data'!L388)","v":""},"",{"$f":"IF($B375=\"\",\"\",VLOOKUP($C375,Materials,'Whip Data'!$M$10+11,FALSE))","v":""},{"$f":"IF($B375=\"\",\"\",VLOOKUP($C375,Materials,'Whip Data'!$M$10+13,FALSE))","v":""},{"$f":"IFERROR(\"LTUA-\"&IF(ISTEXT('Whip Data'!$T388),VLOOKUP('Whip Data'!$T388,Conduit,2,FALSE),VLOOKUP('Whip Data'!$S388,Conduit,2,FALSE))&\"-\"&'Whip Data'!$R388,\"\")","v":""},{"$f":"IF($B375=\"\",\"\",IFERROR(VLOOKUP('Whip Data'!$T388,Conduit,3,FALSE),VLOOKUP('Whip Data'!$S388,Conduit,3,FALSE)))","v":""},{"$f":"IF(B375=\"\",\"\",'Whip Data'!O388)","v":""},{"$f":"IF(C375=\"\",\"\",'Whip Data'!P388)","v":""},{"$f":"IF($B375=\"\",\"\",IF(ISTEXT('Whip Data'!V388),'Whip Data'!V388,'Whip Data'!U388))","v":""},{"$f":"IF(B375=\"\",\"\",IF(ISBLANK('Whip Data'!X388),'Whip Data'!W388,'Whip Data'!X388))","v":""},"","",{"$f":"IF($B375=\"\",\"\",IF('Whip Data'!Q388=\"\",\"None\",'Whip Data'!Q388))","v":""},{"$f":"IF(O375=\"\",\"\",IF($O375=\"None\",\"NA\",INDEX(Breakers!$A$1:$I$75,MATCH(BOM!C375,Breakers!$A$1:$A$75,0),MATCH(BOM!O375,Breakers!$A$1:$I$1,0))))","v":""},{"$f":"IF(B375=\"\",\"\",VLOOKUP(H375,Standards!$X$3:$Y$6,2,FALSE))","v":""}]
[{"$f":"IF($B376=\"\",\"\",'Whip Data'!$Z389)","v":""},{"$f":"IFERROR('Whip Data'!A389,\"\")","v":""},{"$f":"IF(B376=\"\",\"\",'Whip Data'!L389)","v":""},"",{"$f":"IF($B376=\"\",\"\",VLOOKUP($C376,Materials,'Whip Data'!$M$10+11,FALSE))","v":""},{"$f":"IF($B376=\"\",\"\",VLOOKUP($C376,Materials,'Whip Data'!$M$10+13,FALSE))","v":""},{"$f":"IFERROR(\"LTUA-\"&IF(ISTEXT('Whip Data'!$T389),VLOOKUP('Whip Data'!$T389,Conduit,2,FALSE),VLOOKUP('Whip Data'!$S389,Conduit,2,FALSE))&\"-\"&'Whip Data'!$R389,\"\")","v":""},{"$f":"IF($B376=\"\",\"\",IFERROR(VLOOKUP('Whip Data'!$T389,Conduit,3,FALSE),VLOOKUP('Whip Data'!$S389,Conduit,3,FALSE)))","v":""},{"$f":"IF(B376=\"\",\"\",'Whip Data'!O389)","v":""},{"$f":"IF(C376=\"\",\"\",'Whip Data'!P389)","v":""},{"$f":"IF($B376=\"\",\"\",IF(ISTEXT('Whip Data'!V389),'Whip Data'!V389,'Whip Data'!U389))","v":""},{"$f":"IF(B376=\"\",\"\",IF(ISBLANK('Whip Data'!X389),'Whip Data'!W389,'Whip Data'!X389))","v":""},"","",{"$f":"IF($B376=\"\",\"\",IF('Whip Data'!Q389=\"\",\"None\",'Whip Data'!Q389))","v":""},{"$f":"IF(O376=\"\",\"\",IF($O376=\"None\",\"NA\",INDEX(Breakers!$A$1:$I$75,MATCH(BOM!C376,Breakers!$A$1:$A$75,0),MATCH(BOM!O376,Breakers!$A$1:$I$1,0))))","v":""},{"$f":"IF(B376=\"\",\"\",VLOOKUP(H376,Standards!$X$3:$Y$6,2,FALSE))","v":""}]
[{"$f":"IF($B377=\"\",\"\",'Whip Data'!$Z390)","v":""},{"$f":"IFERROR('Whip Data'!A390,\"\")","v":""},{"$f":"IF(B377=\"\",\"\",'Whip Data'!L390)","v":""},"",{"$f":"IF($B377=\"\",\"\",VLOOKUP($C377,Materials,'Whip Data'!$M$10+11,FALSE))","v":""},{"$f":"IF($B377=\"\",\"\",VLOOKUP($C377,Materials,'Whip Data'!$M$10+13,FALSE))","v":""},{"$f":"IFERROR(\"LTUA-\"&IF(ISTEXT('Whip Data'!$T390),VLOOKUP('Whip Data'!$T390,Conduit,2,FALSE),VLOOKUP('Whip Data'!$S390,Conduit,2,FALSE))&\"-\"&'Whip Data'!$R390,\"\")","v":""},{"$f":"IF($B377=\"\",\"\",IFERROR(VLOOKUP('Whip Data'!$T390,Conduit,3,FALSE),VLOOKUP('Whip Data'!$S390,Conduit,3,FALSE)))","v":""},{"$f":"IF(B377=\"\",\"\",'Whip Data'!O390)","v":""},{"$f":"IF(C377=\"\",\"\",'Whip Data'!P390)","v":""},{"$f":"IF($B377=\"\",\"\",IF(ISTEXT('Whip Data'!V390),'Whip Data'!V390,'Whip Data'!U390))","v":""},{"$f":"IF(B377=\"\",\"\",IF(ISBLANK('Whip Data'!X390),'Whip Data'!W390,'Whip Data'!X390))","v":""},"","",{"$f":"IF($B377=\"\",\"\",IF('Whip Data'!Q390=\"\",\"None\",'Whip Data'!Q390))","v":""},{"$f":"IF(O377=\"\",\"\",IF($O377=\"None\",\"NA\",INDEX(Breakers!$A$1:$I$75,MATCH(BOM!C377,Breakers!$A$1:$A$75,0),MATCH(BOM!O377,Breakers!$A$1:$I$1,0))))","v":""},{"$f":"IF(B377=\"\",\"\",VLOOKUP(H377,Standards!$X$3:$Y$6,2,FALSE))","v":""}]
[{"$f":"IF($B378=\"\",\"\",'Whip Data'!$Z391)","v":""},{"$f":"IFERROR('Whip Data'!A391,\"\")","v":""},{"$f":"IF(B378=\"\",\"\",'Whip Data'!L391)","v":""},"",{"$f":"IF($B378=\"\",\"\",VLOOKUP($C378,Materials,'Whip Data'!$M$10+11,FALSE))","v":""},{"$f":"IF($B378=\"\",\"\",VLOOKUP($C378,Materials,'Whip Data'!$M$10+13,FALSE))","v":""},{"$f":"IFERROR(\"LTUA-\"&IF(ISTEXT('Whip Data'!$T391),VLOOKUP('Whip Data'!$T391,Conduit,2,FALSE),VLOOKUP('Whip Data'!$S391,Conduit,2,FALSE))&\"-\"&'Whip Data'!$R391,\"\")","v":""},{"$f":"IF($B378=\"\",\"\",IFERROR(VLOOKUP('Whip Data'!$T391,Conduit,3,FALSE),VLOOKUP('Whip Data'!$S391,Conduit,3,FALSE)))","v":""},{"$f":"IF(B378=\"\",\"\",'Whip Data'!O391)","v":""},{"$f":"IF(C378=\"\",\"\",'Whip Data'!P391)","v":""},{"$f":"IF($B378=\"\",\"\",IF(ISTEXT('Whip Data'!V391),'Whip Data'!V391,'Whip Data'!U391))","v":""},{"$f":"IF(B378=\"\",\"\",IF(ISBLANK('Whip Data'!X391),'Whip Data'!W391,'Whip Data'!X391))","v":""},"","",{"$f":"IF($B378=\"\",\"\",IF('Whip Data'!Q391=\"\",\"None\",'Whip Data'!Q391))","v":""},{"$f":"IF(O378=\"\",\"\",IF($O378=\"None\",\"NA\",INDEX(Breakers!$A$1:$I$75,MATCH(BOM!C378,Breakers!$A$1:$A$75,0),MATCH(BOM!O378,Breakers!$A$1:$I$1,0))))","v":""},{"$f":"IF(B378=\"\",\"\",VLOOKUP(H378,Standards!$X$3:$Y$6,2,FALSE))","v":""}]
[{"$f":"IF($B379=\"\",\"\",'Whip Data'!$Z392)","v":""},{"$f":"IFERROR('Whip Data'!A392,\"\")","v":""},{"$f":"IF(B379=\"\",\"\",'Whip Data'!L392)","v":""},"",{"$f":"IF($B379=\"\",\"\",VLOOKUP($C379,Materials,'Whip Data'!$M$10+11,FALSE))","v":""},{"$f":"IF($B379=\"\",\"\",VLOOKUP($C379,Materials,'Whip Data'!$M$10+13,FALSE))","v":""},{"$f":"IFERROR(\"LTUA-\"&IF(ISTEXT('Whip Data'!$T392),VLOOKUP('Whip Data'!$T392,Conduit,2,FALSE),VLOOKUP('Whip Data'!$S392,Conduit,2,FALSE))&\"-\"&'Whip Data'!$R392,\"\")","v":""},{"$f":"IF($B379=\"\",\"\",IFERROR(VLOOKUP('Whip Data'!$T392,Conduit,3,FALSE),VLOOKUP('Whip Data'!$S392,Conduit,3,FALSE)))","v":""},{"$f":"IF(B379=\"\",\"\",'Whip Data'!O392)","v":""},{"$f":"IF(C379=\"\",\"\",'Whip Data'!P392)","v":""},{"$f":"IF($B379=\"\",\"\",IF(ISTEXT('Whip Data'!V392),'Whip Data'!V392,'Whip Data'!U392))","v":""},{"$f":"IF(B379=\"\",\"\",IF(ISBLANK('Whip Data'!X392),'Whip Data'!W392,'Whip Data'!X392))","v":""},"","",{"$f":"IF($B379=\"\",\"\",IF('Whip Data'!Q392=\"\",\"None\",'Whip Data'!Q392))","v":""},{"$f":"IF(O379=\"\",\"\",IF($O379=\"None\",\"NA\",INDEX(Breakers!$A$1:$I$75,MATCH(BOM!C379,Breakers!$A$1:$A$75,0),MATCH(BOM!O379,Breakers!$A$1:$I$1,0))))","v":""},{"$f":"IF(B379=\"\",\"\",VLOOKUP(H379,Standards!$X$3:$Y$6,2,FALSE))","v":""}]
[{"$f":"IF($B380=\"\",\"\",'Whip Data'!$Z393)","v":""},{"$f":"IFERROR('Whip Data'!A393,\"\")","v":""},{"$f":"IF(B380=\"\",\"\",'Whip Data'!L393)","v":""},"",{"$f":"IF($B380=\"\",\"\",VLOOKUP($C380,Materials,'Whip Data'!$M$10+11,FALSE))","v":""},{"$f":"IF($B380=\"\",\"\",VLOOKUP($C380,Materials,'Whip Data'!$M$10+13,FALSE))","v":""},{"$f":"IFERROR(\"LTUA-\"&IF(ISTEXT('Whip Data'!$T393),VLOOKUP('Whip Data'!$T393,Conduit,2,FALSE),VLOOKUP('Whip Data'!$S393,Conduit,2,FALSE))&\"-\"&'Whip Data'!$R393,\"\")","v":""},{"$f":"IF($B380=\"\",\"\",IFERROR(VLOOKUP('Whip Data'!$T393,Conduit,3,FALSE),VLOOKUP('Whip Data'!$S393,Conduit,3,FALSE)))","v":""},{"$f":"IF(B380=\"\",\"\",'Whip Data'!O393)","v":""},{"$f":"IF(C380=\"\",\"\",'Whip Data'!P393)","v":""},{"$f":"IF($B380=\"\",\"\",IF(ISTEXT('Whip Data'!V393),'Whip Data'!V393,'Whip Data'!U393))","v":""},{"$f":"IF(B380=\"\",\"\",IF(ISBLANK('Whip Data'!X393),'Whip Data'!W393,'Whip Data'!X393))","v":""},"","",{"$f":"IF($B380=\"\",\"\",IF('Whip Data'!Q393=\"\",\"None\",'Whip Data'!Q393))","v":""},{"$f":"IF(O380=\"\",\"\",IF($O380=\"None\",\"NA\",INDEX(Breakers!$A$1:$I$75,MATCH(BOM!C380,Breakers!$A$1:$A$75,0),MATCH(BOM!O380,Breakers!$A$1:$I$1,0))))","v":""},{"$f":"IF(B380=\"\",\"\",VLOOKUP(H380,Standards!$X$3:$Y$6,2,FALSE))","v":""}]
[{"$f":"IF($B381=\"\",\"\",'Whip Data'!$Z394)","v":""},{"$f":"IFERROR('Whip Data'!A394,\"\")","v":""},{"$f":"IF(B381=\"\",\"\",'Whip Data'!L394)","v":""},"",{"$f":"IF($B381=\"\",\"\",VLOOKUP($C381,Materials,'Whip Data'!$M$10+11,FALSE))","v":""},{"$f":"IF($B381=\"\",\"\",VLOOKUP($C381,Materials,'Whip Data'!$M$10+13,FALSE))","v":""},{"$f":"IFERROR(\"LTUA-\"&IF(ISTEXT('Whip Data'!$T394),VLOOKUP('Whip Data'!$T394,Conduit,2,FALSE),VLOOKUP('Whip Data'!$S394,Conduit,2,FALSE))&\"-\"&'Whip Data'!$R394,\"\")","v":""},{"$f":"IF($B381=\"\",\"\",IFERROR(VLOOKUP('Whip Data'!$T394,Conduit,3,FALSE),VLOOKUP('Whip Data'!$S394,Conduit,3,FALSE)))","v":""},{"$f":"IF(B381=\"\",\"\",'Whip Data'!O394)","v":""},{"$f":"IF(C381=\"\",\"\",'Whip Data'!P394)","v":""},{"$f":"IF($B381=\"\",\"\",IF(ISTEXT('Whip Data'!V394),'Whip Data'!V394,'Whip Data'!U394))","v":""},{"$f":"IF(B381=\"\",\"\",IF(ISBLANK('Whip Data'!X394),'Whip Data'!W394,'Whip Data'!X394))","v":""},"","",{"$f":"IF($B381=\"\",\"\",IF('Whip Data'!Q394=\"\",\"None\",'Whip Data'!Q394))","v":""},{"$f":"IF(O381=\"\",\"\",IF($O381=\"None\",\"NA\",INDEX(Breakers!$A$1:$I$75,MATCH(BOM!C381,Breakers!$A$1:$A$75,0),MATCH(BOM!O381,Breakers!$A$1:$I$1,0))))","v":""},{"$f":"IF(B381=\"\",\"\",VLOOKUP(H381,Standards!$X$3:$Y$6,2,FALSE))","v":""}]
[{"$f":"IF($B382=\"\",\"\",'Whip Data'!$Z395)","v":""},{"$f":"IFERROR('Whip Data'!A395,\"\")","v":""},{"$f":"IF(B382=\"\",\"\",'Whip Data'!L395)","v":""},"",{"$f":"IF($B382=\"\",\"\",VLOOKUP($C382,Materials,'Whip Data'!$M$10+11,FALSE))","v":""},{"$f":"IF($B382=\"\",\"\",VLOOKUP($C382,Materials,'Whip Data'!$M$10+13,FALSE))","v":""},{"$f":"IFERROR(\"LTUA-\"&IF(ISTEXT('Whip Data'!$T395),VLOOKUP('Whip Data'!$T395,Conduit,2,FALSE),VLOOKUP('Whip Data'!$S395,Conduit,2,FALSE))&\"-\"&'Whip Data'!$R395,\"\")","v":""},{"$f":"IF($B382=\"\",\"\",IFERROR(VLOOKUP('Whip Data'!$T395,Conduit,3,FALSE),VLOOKUP('Whip Data'!$S395,Conduit,3,FALSE)))","v":""},{"$f":"IF(B382=\"\",\"\",'Whip Data'!O395)","v":""},{"$f":"IF(C382=\"\",\"\",'Whip Data'!P395)","v":""},{"$f":"IF($B382=\"\",\"\",IF(ISTEXT('Whip Data'!V395),'Whip Data'!V395,'Whip Data'!U395))","v":""},{"$f":"IF(B382=\"\",\"\",IF(ISBLANK('Whip Data'!X395),'Whip Data'!W395,'Whip Data'!X395))","v":""},"","",{"$f":"IF($B382=\"\",\"\",IF('Whip Data'!Q395=\"\",\"None\",'Whip Data'!Q395))","v":""},{"$f":"IF(O382=\"\",\"\",IF($O382=\"None\",\"NA\",INDEX(Breakers!$A$1:$I$75,MATCH(BOM!C382,Breakers!$A$1:$A$75,0),MATCH(BOM!O382,Breakers!$A$1:$I$1,0))))","v":""},{"$f":"IF(B382=\"\",\"\",VLOOKUP(H382,Standards!$X$3:$Y$6,2,FALSE))","v":""}]
[{"$f":"IF($B383=\"\",\"\",'Whip Data'!$Z396)","v":""},{"$f":"IFERROR('Whip Data'!A396,\"\")","v":""},{"$f":"IF(B383=\"\",\"\",'Whip Data'!L396)","v":""},"",{"$f":"IF($B383=\"\",\"\",VLOOKUP($C383,Materials,'Whip Data'!$M$10+11,FALSE))","v":""},{"$f":"IF($B383=\"\",\"\",VLOOKUP($C383,Materials,'Whip Data'!$M$10+13,FALSE))","v":""},{"$f":"IFERROR(\"LTUA-\"&IF(ISTEXT('Whip Data'!$T396),VLOOKUP('Whip Data'!$T396,Conduit,2,FALSE),VLOOKUP('Whip Data'!$S396,Conduit,2,FALSE))&\"-\"&'Whip Data'!$R396,\"\")","v":""},{"$f":"IF($B383=\"\",\"\",IFERROR(VLOOKUP('Whip Data'!$T396,Conduit,3,FALSE),VLOOKUP('Whip Data'!$S396,Conduit,3,FALSE)))","v":""},{"$f":"IF(B383=\"\",\"\",'Whip Data'!O396)","v":""},{"$f":"IF(C383=\"\",\"\",'Whip Data'!P396)","v":""},{"$f":"IF($B383=\"\",\"\",IF(ISTEXT('Whip Data'!V396),'Whip Data'!V396,'Whip Data'!U396))","v":""},{"$f":"IF(B383=\"\",\"\",IF(ISBLANK('Whip Data'!X396),'Whip Data'!W396,'Whip Data'!X396))","v":""},"","",{"$f":"IF($B383=\"\",\"\",IF('Whip Data'!Q396=\"\",\"None\",'Whip Data'!Q396))","v":""},{"$f":"IF(O383=\"\",\"\",IF($O383=\"None\",\"NA\",INDEX(Breakers!$A$1:$I$75,MATCH(BOM!C383,Breakers!$A$1:$A$75,0),MATCH(BOM!O383,Breakers!$A$1:$I$1,0))))","v":""},{"$f":"IF(B383=\"\",\"\",VLOOKUP(H383,Standards!$X$3:$Y$6,2,FALSE))","v":""}]
[{"$f":"IF($B384=\"\",\"\",'Whip Data'!$Z397)","v":""},{"$f":"IFERROR('Whip Data'!A397,\"\")","v":""},{"$f":"IF(B384=\"\",\"\",'Whip Data'!L397)","v":""},"",{"$f":"IF($B384=\"\",\"\",VLOOKUP($C384,Materials,'Whip Data'!$M$10+11,FALSE))","v":""},{"$f":"IF($B384=\"\",\"\",VLOOKUP($C384,Materials,'Whip Data'!$M$10+13,FALSE))","v":""},{"$f":"IFERROR(\"LTUA-\"&IF(ISTEXT('Whip Data'!$T397),VLOOKUP('Whip Data'!$T397,Conduit,2,FALSE),VLOOKUP('Whip Data'!$S397,Conduit,2,FALSE))&\"-\"&'Whip Data'!$R397,\"\")","v":""},{"$f":"IF($B384=\"\",\"\",IFERROR(VLOOKUP('Whip Data'!$T397,Conduit,3,FALSE),VLOOKUP('Whip Data'!$S397,Conduit,3,FALSE)))","v":""},{"$f":"IF(B384=\"\",\"\",'Whip Data'!O397)","v":""},{"$f":"IF(C384=\"\",\"\",'Whip Data'!P397)","v":""},{"$f":"IF($B384=\"\",\"\",IF(ISTEXT('Whip Data'!V397),'Whip Data'!V397,'Whip Data'!U397))","v":""},{"$f":"IF(B384=\"\",\"\",IF(ISBLANK('Whip Data'!X397),'Whip Data'!W397,'Whip Data'!X397))","v":""},"","",{"$f":"IF($B384=\"\",\"\",IF('Whip Data'!Q397=\"\",\"None\",'Whip Data'!Q397))","v":""},{"$f":"IF(O384=\"\",\"\",IF($O384=\"None\",\"NA\",INDEX(Breakers!$A$1:$I$75,MATCH(BOM!C384,Breakers!$A$1:$A$75,0),MATCH(BOM!O384,Breakers!$A$1:$I$1,0))))","v":""},{"$f":"IF(B384=\"\",\"\",VLOOKUP(H384,Standards!$X$3:$Y$6,2,FALSE))","v":""}]
[{"$f":"IF($B385=\"\",\"\",'Whip Data'!$Z398)","v":""},{"$f":"IFERROR('Whip Data'!A398,\"\")","v":""},{"$f":"IF(B385=\"\",\"\",'Whip Data'!L398)","v":""},"",{"$f":"IF($B385=\"\",\"\",VLOOKUP($C385,Materials,'Whip Data'!$M$10+11,FALSE))","v":""},{"$f":"IF($B385=\"\",\"\",VLOOKUP($C385,Materials,'Whip Data'!$M$10+13,FALSE))","v":""},{"$f":"IFERROR(\"LTUA-\"&IF(ISTEXT('Whip Data'!$T398),VLOOKUP('Whip Data'!$T398,Conduit,2,FALSE),VLOOKUP('Whip Data'!$S398,Conduit,2,FALSE))&\"-\"&'Whip Data'!$R398,\"\")","v":""},{"$f":"IF($B385=\"\",\"\",IFERROR(VLOOKUP('Whip Data'!$T398,Conduit,3,FALSE),VLOOKUP('Whip Data'!$S398,Conduit,3,FALSE)))","v":""},{"$f":"IF(B385=\"\",\"\",'Whip Data'!O398)","v":""},{"$f":"IF(C385=\"\",\"\",'Whip Data'!P398)","v":""},{"$f":"IF($B385=\"\",\"\",IF(ISTEXT('Whip Data'!V398),'Whip Data'!V398,'Whip Data'!U398))","v":""},{"$f":"IF(B385=\"\",\"\",IF(ISBLANK('Whip Data'!X398),'Whip Data'!W398,'Whip Data'!X398))","v":""},"","",{"$f":"IF($B385=\"\",\"\",IF('Whip Data'!Q398=\"\",\"None\",'Whip Data'!Q398))","v":""},{"$f":"IF(O385=\"\",\"\",IF($O385=\"None\",\"NA\",INDEX(Breakers!$A$1:$I$75,MATCH(BOM!C385,Breakers!$A$1:$A$75,0),MATCH(BOM!O385,Breakers!$A$1:$I$1,0))))","v":""},{"$f":"IF(B385=\"\",\"\",VLOOKUP(H385,Standards!$X$3:$Y$6,2,FALSE))","v":""}]
[{"$f":"IF($B386=\"\",\"\",'Whip Data'!$Z399)","v":""},{"$f":"IFERROR('Whip Data'!A399,\"\")","v":""},{"$f":"IF(B386=\"\",\"\",'Whip Data'!L399)","v":""},{"$f":"IF(B386=\"\",\"\",VLOOKUP(C386,Materials,11,FALSE))","v":""},{"$f":"IF($B386=\"\",\"\",VLOOKUP($C386,Materials,'Whip Data'!$M$10+11,FALSE))","v":""},{"$f":"IF($B386=\"\",\"\",VLOOKUP($C386,Materials,'Whip Data'!$M$10+13,FALSE))","v":""},{"$f":"IFERROR(\"LTUA-\"&IF(ISTEXT('Whip Data'!$T399),VLOOKUP('Whip Data'!$T399,Conduit,2,FALSE),VLOOKUP('Whip Data'!$S399,Conduit,2,FALSE))&\"-\"&'Whip Data'!$R399,\"\")","v":""},{"$f":"IF($B386=\"\",\"\",IFERROR(VLOOKUP('Whip Data'!$T399,Conduit,3,FALSE),VLOOKUP('Whip Data'!$S399,Conduit,3,FALSE)))","v":""},{"$f":"IF(B386=\"\",\"\",'Whip Data'!O399)","v":""},{"$f":"IF(C386=\"\",\"\",'Whip Data'!P399)","v":""},{"$f":"IF($B386=\"\",\"\",IF(ISTEXT('Whip Data'!V399),'Whip Data'!V399,'Whip Data'!U399))","v":""},{"$f":"IF(B386=\"\",\"\",IF(ISBLANK('Whip Data'!X399),'Whip Data'!W399,'Whip Data'!X399))","v":""},"","",{"$f":"IF($B386=\"\",\"\",IF('Whip Data'!Q399=\"\",\"None\",'Whip Data'!Q399))","v":""},{"$f":"IF(O386=\"\",\"\",IF($O386=\"None\",\"NA\",INDEX(Breakers!$A$1:$I$75,MATCH(BOM!C386,Breakers!$A$1:$A$75,0),MATCH(BOM!O386,Breakers!$A$1:$I$1,0))))","v":""},{"$f":"IF(B386=\"\",\"\",VLOOKUP(H386,Standards!$X$3:$Y$6,2,FALSE))","v":""}]
[{"$f":"IF($B387=\"\",\"\",'Whip Data'!$Z400)","v":""},{"$f":"IFERROR('Whip Data'!A400,\"\")","v":""},{"$f":"IF(B387=\"\",\"\",'Whip Data'!L400)","v":""},"",{"$f":"IF($B387=\"\",\"\",VLOOKUP($C387,Materials,'Whip Data'!$M$10+11,FALSE))","v":""},{"$f":"IF($B387=\"\",\"\",VLOOKUP($C387,Materials,'Whip Data'!$M$10+13,FALSE))","v":""},{"$f":"IFERROR(\"LTUA-\"&IF(ISTEXT('Whip Data'!$T400),VLOOKUP('Whip Data'!$T400,Conduit,2,FALSE),VLOOKUP('Whip Data'!$S400,Conduit,2,FALSE))&\"-\"&'Whip Data'!$R400,\"\")","v":""},{"$f":"IF($B387=\"\",\"\",IFERROR(VLOOKUP('Whip Data'!$T400,Conduit,3,FALSE),VLOOKUP('Whip Data'!$S400,Conduit,3,FALSE)))","v":""},{"$f":"IF(B387=\"\",\"\",'Whip Data'!O400)","v":""},{"$f":"IF(C387=\"\",\"\",'Whip Data'!P400)","v":""},{"$f":"IF($B387=\"\",\"\",IF(ISTEXT('Whip Data'!V400),'Whip Data'!V400,'Whip Data'!U400))","v":""},{"$f":"IF(B387=\"\",\"\",IF(ISBLANK('Whip Data'!X400),'Whip Data'!W400,'Whip Data'!X400))","v":""},{"$f":"IF(B387=\"\",\"\",SUM(I387:J387))","v":""},{"$f":"IF(B387=\"\",\"\",LEFT(K387,1)*M387)","v":""},{"$f":"IF($B387=\"\",\"\",IF('Whip Data'!Q400=\"\",\"None\",'Whip Data'!Q400))","v":""},{"$f":"IF(O387=\"\",\"\",IF($O387=\"None\",\"NA\",INDEX(Breakers!$A$1:$I$75,MATCH(BOM!C387,Breakers!$A$1:$A$75,0),MATCH(BOM!O387,Breakers!$A$1:$I$1,0))))","v":""},{"$f":"IF(B387=\"\",\"\",VLOOKUP(H387,Standards!$X$3:$Y$6,2,FALSE))","v":""}]
[{"$f":"IF($B388=\"\",\"\",'Whip Data'!$Z401)","v":""},{"$f":"IFERROR('Whip Data'!A401,\"\")","v":""},{"$f":"IF(B388=\"\",\"\",'Whip Data'!L401)","v":""},"",{"$f":"IF($B388=\"\",\"\",VLOOKUP($C388,Materials,'Whip Data'!$M$10+11,FALSE))","v":""},{"$f":"IF($B388=\"\",\"\",VLOOKUP($C388,Materials,'Whip Data'!$M$10+13,FALSE))","v":""},{"$f":"IFERROR(\"LTUA-\"&IF(ISTEXT('Whip Data'!$T401),VLOOKUP('Whip Data'!$T401,Conduit,2,FALSE),VLOOKUP('Whip Data'!$S401,Conduit,2,FALSE))&\"-\"&'Whip Data'!$R401,\"\")","v":""},{"$f":"IF($B388=\"\",\"\",IFERROR(VLOOKUP('Whip Data'!$T401,Conduit,3,FALSE),VLOOKUP('Whip Data'!$S401,Conduit,3,FALSE)))","v":""},{"$f":"IF(B388=\"\",\"\",'Whip Data'!O401)","v":""},{"$f":"IF(C388=\"\",\"\",'Whip Data'!P401)","v":""},{"$f":"IF($B388=\"\",\"\",IF(ISTEXT('Whip Data'!V401),'Whip Data'!V401,'Whip Data'!U401))","v":""},{"$f":"IF(B388=\"\",\"\",IF(ISBLANK('Whip Data'!X401),'Whip Data'!W401,'Whip Data'!X401))","v":""},"","",{"$f":"IF($B388=\"\",\"\",IF('Whip Data'!Q401=\"\",\"None\",'Whip Data'!Q401))","v":""},{"$f":"IF(O388=\"\",\"\",IF($O388=\"None\",\"NA\",INDEX(Breakers!$A$1:$I$75,MATCH(BOM!C388,Breakers!$A$1:$A$75,0),MATCH(BOM!O388,Breakers!$A$1:$I$1,0))))","v":""},{"$f":"IF(B388=\"\",\"\",VLOOKUP(H388,Standards!$X$3:$Y$6,2,FALSE))","v":""}]
[{"$f":"IF($B389=\"\",\"\",'Whip Data'!$Z402)","v":""},{"$f":"IFERROR('Whip Data'!A402,\"\")","v":""},{"$f":"IF(B389=\"\",\"\",'Whip Data'!L402)","v":""},"",{"$f":"IF($B389=\"\",\"\",VLOOKUP($C389,Materials,'Whip Data'!$M$10+11,FALSE))","v":""},{"$f":"IF($B389=\"\",\"\",VLOOKUP($C389,Materials,'Whip Data'!$M$10+13,FALSE))","v":""},{"$f":"IFERROR(\"LTUA-\"&IF(ISTEXT('Whip Data'!$T402),VLOOKUP('Whip Data'!$T402,Conduit,2,FALSE),VLOOKUP('Whip Data'!$S402,Conduit,2,FALSE))&\"-\"&'Whip Data'!$R402,\"\")","v":""},{"$f":"IF($B389=\"\",\"\",IFERROR(VLOOKUP('Whip Data'!$T402,Conduit,3,FALSE),VLOOKUP('Whip Data'!$S402,Conduit,3,FALSE)))","v":""},{"$f":"IF(B389=\"\",\"\",'Whip Data'!O402)","v":""},{"$f":"IF(C389=\"\",\"\",'Whip Data'!P402)","v":""},{"$f":"IF($B389=\"\",\"\",IF(ISTEXT('Whip Data'!V402),'Whip Data'!V402,'Whip Data'!U402))","v":""},{"$f":"IF(B389=\"\",\"\",IF(ISBLANK('Whip Data'!X402),'Whip Data'!W402,'Whip Data'!X402))","v":""},"","",{"$f":"IF($B389=\"\",\"\",IF('Whip Data'!Q402=\"\",\"None\",'Whip Data'!Q402))","v":""},{"$f":"IF(O389=\"\",\"\",IF($O389=\"None\",\"NA\",INDEX(Breakers!$A$1:$I$75,MATCH(BOM!C389,Breakers!$A$1:$A$75,0),MATCH(BOM!O389,Breakers!$A$1:$I$1,0))))","v":""},{"$f":"IF(B389=\"\",\"\",VLOOKUP(H389,Standards!$X$3:$Y$6,2,FALSE))","v":""}]
[{"$f":"IF($B390=\"\",\"\",'Whip Data'!$Z403)","v":""},{"$f":"IFERROR('Whip Data'!A403,\"\")","v":""},{"$f":"IF(B390=\"\",\"\",'Whip Data'!L403)","v":""},"",{"$f":"IF($B390=\"\",\"\",VLOOKUP($C390,Materials,'Whip Data'!$M$10+11,FALSE))","v":""},{"$f":"IF($B390=\"\",\"\",VLOOKUP($C390,Materials,'Whip Data'!$M$10+13,FALSE))","v":""},{"$f":"IFERROR(\"LTUA-\"&IF(ISTEXT('Whip Data'!$T403),VLOOKUP('Whip Data'!$T403,Conduit,2,FALSE),VLOOKUP('Whip Data'!$S403,Conduit,2,FALSE))&\"-\"&'Whip Data'!$R403,\"\")","v":""},{"$f":"IF($B390=\"\",\"\",IFERROR(VLOOKUP('Whip Data'!$T403,Conduit,3,FALSE),VLOOKUP('Whip Data'!$S403,Conduit,3,FALSE)))","v":""},{"$f":"IF(B390=\"\",\"\",'Whip Data'!O403)","v":""},{"$f":"IF(C390=\"\",\"\",'Whip Data'!P403)","v":""},{"$f":"IF($B390=\"\",\"\",IF(ISTEXT('Whip Data'!V403),'Whip Data'!V403,'Whip Data'!U403))","v":""},{"$f":"IF(B390=\"\",\"\",IF(ISBLANK('Whip Data'!X403),'Whip Data'!W403,'Whip Data'!X403))","v":""},"","",{"$f":"IF($B390=\"\",\"\",IF('Whip Data'!Q403=\"\",\"None\",'Whip Data'!Q403))","v":""},{"$f":"IF(O390=\"\",\"\",IF($O390=\"None\",\"NA\",INDEX(Breakers!$A$1:$I$75,MATCH(BOM!C390,Breakers!$A$1:$A$75,0),MATCH(BOM!O390,Breakers!$A$1:$I$1,0))))","v":""},{"$f":"IF(B390=\"\",\"\",VLOOKUP(H390,Standards!$X$3:$Y$6,2,FALSE))","v":""}]
[{"$f":"IF($B391=\"\",\"\",'Whip Data'!$Z404)","v":""},{"$f":"IFERROR('Whip Data'!A404,\"\")","v":""},{"$f":"IF(B391=\"\",\"\",'Whip Data'!L404)","v":""},"",{"$f":"IF($B391=\"\",\"\",VLOOKUP($C391,Materials,'Whip Data'!$M$10+11,FALSE))","v":""},{"$f":"IF($B391=\"\",\"\",VLOOKUP($C391,Materials,'Whip Data'!$M$10+13,FALSE))","v":""},{"$f":"IFERROR(\"LTUA-\"&IF(ISTEXT('Whip Data'!$T404),VLOOKUP('Whip Data'!$T404,Conduit,2,FALSE),VLOOKUP('Whip Data'!$S404,Conduit,2,FALSE))&\"-\"&'Whip Data'!$R404,\"\")","v":""},{"$f":"IF($B391=\"\",\"\",IFERROR(VLOOKUP('Whip Data'!$T404,Conduit,3,FALSE),VLOOKUP('Whip Data'!$S404,Conduit,3,FALSE)))","v":""},{"$f":"IF(B391=\"\",\"\",'Whip Data'!O404)","v":""},{"$f":"IF(C391=\"\",\"\",'Whip Data'!P404)","v":""},{"$f":"IF($B391=\"\",\"\",IF(ISTEXT('Whip Data'!V404),'Whip Data'!V404,'Whip Data'!U404))","v":""},{"$f":"IF(B391=\"\",\"\",IF(ISBLANK('Whip Data'!X404),'Whip Data'!W404,'Whip Data'!X404))","v":""},"","",{"$f":"IF($B391=\"\",\"\",IF('Whip Data'!Q404=\"\",\"None\",'Whip Data'!Q404))","v":""},{"$f":"IF(O391=\"\",\"\",IF($O391=\"None\",\"NA\",INDEX(Breakers!$A$1:$I$75,MATCH(BOM!C391,Breakers!$A$1:$A$75,0),MATCH(BOM!O391,Breakers!$A$1:$I$1,0))))","v":""},{"$f":"IF(B391=\"\",\"\",VLOOKUP(H391,Standards!$X$3:$Y$6,2,FALSE))","v":""}]
[{"$f":"IF($B392=\"\",\"\",'Whip Data'!$Z405)","v":""},{"$f":"IFERROR('Whip Data'!A405,\"\")","v":""},{"$f":"IF(B392=\"\",\"\",'Whip Data'!L405)","v":""},"",{"$f":"IF($B392=\"\",\"\",VLOOKUP($C392,Materials,'Whip Data'!$M$10+11,FALSE))","v":""},{"$f":"IF($B392=\"\",\"\",VLOOKUP($C392,Materials,'Whip Data'!$M$10+13,FALSE))","v":""},{"$f":"IFERROR(\"LTUA-\"&IF(ISTEXT('Whip Data'!$T405),VLOOKUP('Whip Data'!$T405,Conduit,2,FALSE),VLOOKUP('Whip Data'!$S405,Conduit,2,FALSE))&\"-\"&'Whip Data'!$R405,\"\")","v":""},{"$f":"IF($B392=\"\",\"\",IFERROR(VLOOKUP('Whip Data'!$T405,Conduit,3,FALSE),VLOOKUP('Whip Data'!$S405,Conduit,3,FALSE)))","v":""},{"$f":"IF(B392=\"\",\"\",'Whip Data'!O405)","v":""},{"$f":"IF(C392=\"\",\"\",'Whip Data'!P405)","v":""},{"$f":"IF($B392=\"\",\"\",IF(ISTEXT('Whip Data'!V405),'Whip Data'!V405,'Whip Data'!U405))","v":""},{"$f":"IF(B392=\"\",\"\",IF(ISBLANK('Whip Data'!X405),'Whip Data'!W405,'Whip Data'!X405))","v":""},"","",{"$f":"IF($B392=\"\",\"\",IF('Whip Data'!Q405=\"\",\"None\",'Whip Data'!Q405))","v":""},{"$f":"IF(O392=\"\",\"\",IF($O392=\"None\",\"NA\",INDEX(Breakers!$A$1:$I$75,MATCH(BOM!C392,Breakers!$A$1:$A$75,0),MATCH(BOM!O392,Breakers!$A$1:$I$1,0))))","v":""},{"$f":"IF(B392=\"\",\"\",VLOOKUP(H392,Standards!$X$3:$Y$6,2,FALSE))","v":""}]
[{"$f":"IF($B393=\"\",\"\",'Whip Data'!$Z406)","v":""},{"$f":"IFERROR('Whip Data'!A406,\"\")","v":""},{"$f":"IF(B393=\"\",\"\",'Whip Data'!L406)","v":""},"",{"$f":"IF($B393=\"\",\"\",VLOOKUP($C393,Materials,'Whip Data'!$M$10+11,FALSE))","v":""},{"$f":"IF($B393=\"\",\"\",VLOOKUP($C393,Materials,'Whip Data'!$M$10+13,FALSE))","v":""},{"$f":"IFERROR(\"LTUA-\"&IF(ISTEXT('Whip Data'!$T406),VLOOKUP('Whip Data'!$T406,Conduit,2,FALSE),VLOOKUP('Whip Data'!$S406,Conduit,2,FALSE))&\"-\"&'Whip Data'!$R406,\"\")","v":""},{"$f":"IF($B393=\"\",\"\",IFERROR(VLOOKUP('Whip Data'!$T406,Conduit,3,FALSE),VLOOKUP('Whip Data'!$S406,Conduit,3,FALSE)))","v":""},{"$f":"IF(B393=\"\",\"\",'Whip Data'!O406)","v":""},{"$f":"IF(C393=\"\",\"\",'Whip Data'!P406)","v":""},{"$f":"IF($B393=\"\",\"\",IF(ISTEXT('Whip Data'!V406),'Whip Data'!V406,'Whip Data'!U406))","v":""},{"$f":"IF(B393=\"\",\"\",IF(ISBLANK('Whip Data'!X406),'Whip Data'!W406,'Whip Data'!X406))","v":""},"","",{"$f":"IF($B393=\"\",\"\",IF('Whip Data'!Q406=\"\",\"None\",'Whip Data'!Q406))","v":""},{"$f":"IF(O393=\"\",\"\",IF($O393=\"None\",\"NA\",INDEX(Breakers!$A$1:$I$75,MATCH(BOM!C393,Breakers!$A$1:$A$75,0),MATCH(BOM!O393,Breakers!$A$1:$I$1,0))))","v":""},{"$f":"IF(B393=\"\",\"\",VLOOKUP(H393,Standards!$X$3:$Y$6,2,FALSE))","v":""}]
[{"$f":"IF($B394=\"\",\"\",'Whip Data'!$Z407)","v":""},{"$f":"IFERROR('Whip Data'!A407,\"\")","v":""},{"$f":"IF(B394=\"\",\"\",'Whip Data'!L407)","v":""},"",{"$f":"IF($B394=\"\",\"\",VLOOKUP($C394,Materials,'Whip Data'!$M$10+11,FALSE))","v":""},{"$f":"IF($B394=\"\",\"\",VLOOKUP($C394,Materials,'Whip Data'!$M$10+13,FALSE))","v":""},{"$f":"IFERROR(\"LTUA-\"&IF(ISTEXT('Whip Data'!$T407),VLOOKUP('Whip Data'!$T407,Conduit,2,FALSE),VLOOKUP('Whip Data'!$S407,Conduit,2,FALSE))&\"-\"&'Whip Data'!$R407,\"\")","v":""},{"$f":"IF($B394=\"\",\"\",IFERROR(VLOOKUP('Whip Data'!$T407,Conduit,3,FALSE),VLOOKUP('Whip Data'!$S407,Conduit,3,FALSE)))","v":""},{"$f":"IF(B394=\"\",\"\",'Whip Data'!O407)","v":""},{"$f":"IF(C394=\"\",\"\",'Whip Data'!P407)","v":""},{"$f":"IF($B394=\"\",\"\",IF(ISTEXT('Whip Data'!V407),'Whip Data'!V407,'Whip Data'!U407))","v":""},{"$f":"IF(B394=\"\",\"\",IF(ISBLANK('Whip Data'!X407),'Whip Data'!W407,'Whip Data'!X407))","v":""},"","",{"$f":"IF($B394=\"\",\"\",IF('Whip Data'!Q407=\"\",\"None\",'Whip Data'!Q407))","v":""},{"$f":"IF(O394=\"\",\"\",IF($O394=\"None\",\"NA\",INDEX(Breakers!$A$1:$I$75,MATCH(BOM!C394,Breakers!$A$1:$A$75,0),MATCH(BOM!O394,Breakers!$A$1:$I$1,0))))","v":""},{"$f":"IF(B394=\"\",\"\",VLOOKUP(H394,Standards!$X$3:$Y$6,2,FALSE))","v":""}]
[{"$f":"IF($B395=\"\",\"\",'Whip Data'!$Z408)","v":""},{"$f":"IFERROR('Whip Data'!A408,\"\")","v":""},{"$f":"IF(B395=\"\",\"\",'Whip Data'!L408)","v":""},"",{"$f":"IF($B395=\"\",\"\",VLOOKUP($C395,Materials,'Whip Data'!$M$10+11,FALSE))","v":""},{"$f":"IF($B395=\"\",\"\",VLOOKUP($C395,Materials,'Whip Data'!$M$10+13,FALSE))","v":""},{"$f":"IFERROR(\"LTUA-\"&IF(ISTEXT('Whip Data'!$T408),VLOOKUP('Whip Data'!$T408,Conduit,2,FALSE),VLOOKUP('Whip Data'!$S408,Conduit,2,FALSE))&\"-\"&'Whip Data'!$R408,\"\")","v":""},{"$f":"IF($B395=\"\",\"\",IFERROR(VLOOKUP('Whip Data'!$T408,Conduit,3,FALSE),VLOOKUP('Whip Data'!$S408,Conduit,3,FALSE)))","v":""},{"$f":"IF(B395=\"\",\"\",'Whip Data'!O408)","v":""},{"$f":"IF(C395=\"\",\"\",'Whip Data'!P408)","v":""},{"$f":"IF($B395=\"\",\"\",IF(ISTEXT('Whip Data'!V408),'Whip Data'!V408,'Whip Data'!U408))","v":""},{"$f":"IF(B395=\"\",\"\",IF(ISBLANK('Whip Data'!X408),'Whip Data'!W408,'Whip Data'!X408))","v":""},"","",{"$f":"IF($B395=\"\",\"\",IF('Whip Data'!Q408=\"\",\"None\",'Whip Data'!Q408))","v":""},{"$f":"IF(O395=\"\",\"\",IF($O395=\"None\",\"NA\",INDEX(Breakers!$A$1:$I$75,MATCH(BOM!C395,Breakers!$A$1:$A$75,0),MATCH(BOM!O395,Breakers!$A$1:$I$1,0))))","v":""},{"$f":"IF(B395=\"\",\"\",VLOOKUP(H395,Standards!$X$3:$Y$6,2,FALSE))","v":""}]
[{"$f":"IF($B396=\"\",\"\",'Whip Data'!$Z409)","v":""},{"$f":"IFERROR('Whip Data'!A409,\"\")","v":""},{"$f":"IF(B396=\"\",\"\",'Whip Data'!L409)","v":""},"",{"$f":"IF($B396=\"\",\"\",VLOOKUP($C396,Materials,'Whip Data'!$M$10+11,FALSE))","v":""},{"$f":"IF($B396=\"\",\"\",VLOOKUP($C396,Materials,'Whip Data'!$M$10+13,FALSE))","v":""},{"$f":"IFERROR(\"LTUA-\"&IF(ISTEXT('Whip Data'!$T409),VLOOKUP('Whip Data'!$T409,Conduit,2,FALSE),VLOOKUP('Whip Data'!$S409,Conduit,2,FALSE))&\"-\"&'Whip Data'!$R409,\"\")","v":""},{"$f":"IF($B396=\"\",\"\",IFERROR(VLOOKUP('Whip Data'!$T409,Conduit,3,FALSE),VLOOKUP('Whip Data'!$S409,Conduit,3,FALSE)))","v":""},{"$f":"IF(B396=\"\",\"\",'Whip Data'!O409)","v":""},{"$f":"IF(C396=\"\",\"\",'Whip Data'!P409)","v":""},{"$f":"IF($B396=\"\",\"\",IF(ISTEXT('Whip Data'!V409),'Whip Data'!V409,'Whip Data'!U409))","v":""},{"$f":"IF(B396=\"\",\"\",IF(ISBLANK('Whip Data'!X409),'Whip Data'!W409,'Whip Data'!X409))","v":""},"","",{"$f":"IF($B396=\"\",\"\",IF('Whip Data'!Q409=\"\",\"None\",'Whip Data'!Q409))","v":""},{"$f":"IF(O396=\"\",\"\",IF($O396=\"None\",\"NA\",INDEX(Breakers!$A$1:$I$75,MATCH(BOM!C396,Breakers!$A$1:$A$75,0),MATCH(BOM!O396,Breakers!$A$1:$I$1,0))))","v":""},{"$f":"IF(B396=\"\",\"\",VLOOKUP(H396,Standards!$X$3:$Y$6,2,FALSE))","v":""}]
[{"$f":"IF($B397=\"\",\"\",'Whip Data'!$Z410)","v":""},{"$f":"IFERROR('Whip Data'!A410,\"\")","v":""},{"$f":"IF(B397=\"\",\"\",'Whip Data'!L410)","v":""},"",{"$f":"IF($B397=\"\",\"\",VLOOKUP($C397,Materials,'Whip Data'!$M$10+11,FALSE))","v":""},{"$f":"IF($B397=\"\",\"\",VLOOKUP($C397,Materials,'Whip Data'!$M$10+13,FALSE))","v":""},{"$f":"IFERROR(\"LTUA-\"&IF(ISTEXT('Whip Data'!$T410),VLOOKUP('Whip Data'!$T410,Conduit,2,FALSE),VLOOKUP('Whip Data'!$S410,Conduit,2,FALSE))&\"-\"&'Whip Data'!$R410,\"\")","v":""},{"$f":"IF($B397=\"\",\"\",IFERROR(VLOOKUP('Whip Data'!$T410,Conduit,3,FALSE),VLOOKUP('Whip Data'!$S410,Conduit,3,FALSE)))","v":""},{"$f":"IF(B397=\"\",\"\",'Whip Data'!O410)","v":""},{"$f":"IF(C397=\"\",\"\",'Whip Data'!P410)","v":""},{"$f":"IF($B397=\"\",\"\",IF(ISTEXT('Whip Data'!V410),'Whip Data'!V410,'Whip Data'!U410))","v":""},{"$f":"IF(B397=\"\",\"\",IF(ISBLANK('Whip Data'!X410),'Whip Data'!W410,'Whip Data'!X410))","v":""},"","",{"$f":"IF($B397=\"\",\"\",IF('Whip Data'!Q410=\"\",\"None\",'Whip Data'!Q410))","v":""},{"$f":"IF(O397=\"\",\"\",IF($O397=\"None\",\"NA\",INDEX(Breakers!$A$1:$I$75,MATCH(BOM!C397,Breakers!$A$1:$A$75,0),MATCH(BOM!O397,Breakers!$A$1:$I$1,0))))","v":""},{"$f":"IF(B397=\"\",\"\",VLOOKUP(H397,Standards!$X$3:$Y$6,2,FALSE))","v":""}]
[{"$f":"IF($B398=\"\",\"\",'Whip Data'!$Z411)","v":""},{"$f":"IFERROR('Whip Data'!A411,\"\")","v":""},{"$f":"IF(B398=\"\",\"\",'Whip Data'!L411)","v":""},"",{"$f":"IF($B398=\"\",\"\",VLOOKUP($C398,Materials,'Whip Data'!$M$10+11,FALSE))","v":""},{"$f":"IF($B398=\"\",\"\",VLOOKUP($C398,Materials,'Whip Data'!$M$10+13,FALSE))","v":""},{"$f":"IFERROR(\"LTUA-\"&IF(ISTEXT('Whip Data'!$T411),VLOOKUP('Whip Data'!$T411,Conduit,2,FALSE),VLOOKUP('Whip Data'!$S411,Conduit,2,FALSE))&\"-\"&'Whip Data'!$R411,\"\")","v":""},{"$f":"IF($B398=\"\",\"\",IFERROR(VLOOKUP('Whip Data'!$T411,Conduit,3,FALSE),VLOOKUP('Whip Data'!$S411,Conduit,3,FALSE)))","v":""},{"$f":"IF(B398=\"\",\"\",'Whip Data'!O411)","v":""},{"$f":"IF(C398=\"\",\"\",'Whip Data'!P411)","v":""},{"$f":"IF($B398=\"\",\"\",IF(ISTEXT('Whip Data'!V411),'Whip Data'!V411,'Whip Data'!U411))","v":""},{"$f":"IF(B398=\"\",\"\",IF(ISBLANK('Whip Data'!X411),'Whip Data'!W411,'Whip Data'!X411))","v":""},"","",{"$f":"IF($B398=\"\",\"\",IF('Whip Data'!Q411=\"\",\"None\",'Whip Data'!Q411))","v":""},{"$f":"IF(O398=\"\",\"\",IF($O398=\"None\",\"NA\",INDEX(Breakers!$A$1:$I$75,MATCH(BOM!C398,Breakers!$A$1:$A$75,0),MATCH(BOM!O398,Breakers!$A$1:$I$1,0))))","v":""},{"$f":"IF(B398=\"\",\"\",VLOOKUP(H398,Standards!$X$3:$Y$6,2,FALSE))","v":""}]
[{"$f":"IF($B399=\"\",\"\",'Whip Data'!$Z412)","v":""},{"$f":"IFERROR('Whip Data'!A412,\"\")","v":""},{"$f":"IF(B399=\"\",\"\",'Whip Data'!L412)","v":""},"",{"$f":"IF($B399=\"\",\"\",VLOOKUP($C399,Materials,'Whip Data'!$M$10+11,FALSE))","v":""},{"$f":"IF($B399=\"\",\"\",VLOOKUP($C399,Materials,'Whip Data'!$M$10+13,FALSE))","v":""},{"$f":"IFERROR(\"LTUA-\"&IF(ISTEXT('Whip Data'!$T412),VLOOKUP('Whip Data'!$T412,Conduit,2,FALSE),VLOOKUP('Whip Data'!$S412,Conduit,2,FALSE))&\"-\"&'Whip Data'!$R412,\"\")","v":""},{"$f":"IF($B399=\"\",\"\",IFERROR(VLOOKUP('Whip Data'!$T412,Conduit,3,FALSE),VLOOKUP('Whip Data'!$S412,Conduit,3,FALSE)))","v":""},{"$f":"IF(B399=\"\",\"\",'Whip Data'!O412)","v":""},{"$f":"IF(C399=\"\",\"\",'Whip Data'!P412)","v":""},{"$f":"IF($B399=\"\",\"\",IF(ISTEXT('Whip Data'!V412),'Whip Data'!V412,'Whip Data'!U412))","v":""},{"$f":"IF(B399=\"\",\"\",IF(ISBLANK('Whip Data'!X412),'Whip Data'!W412,'Whip Data'!X412))","v":""},"","",{"$f":"IF($B399=\"\",\"\",IF('Whip Data'!Q412=\"\",\"None\",'Whip Data'!Q412))","v":""},{"$f":"IF(O399=\"\",\"\",IF($O399=\"None\",\"NA\",INDEX(Breakers!$A$1:$I$75,MATCH(BOM!C399,Breakers!$A$1:$A$75,0),MATCH(BOM!O399,Breakers!$A$1:$I$1,0))))","v":""},{"$f":"IF(B399=\"\",\"\",VLOOKUP(H399,Standards!$X$3:$Y$6,2,FALSE))","v":""}]
[{"$f":"IF($B400=\"\",\"\",'Whip Data'!$Z413)","v":""},{"$f":"IFERROR('Whip Data'!A413,\"\")","v":""},{"$f":"IF(B400=\"\",\"\",'Whip Data'!L413)","v":""},"",{"$f":"IF($B400=\"\",\"\",VLOOKUP($C400,Materials,'Whip Data'!$M$10+11,FALSE))","v":""},{"$f":"IF($B400=\"\",\"\",VLOOKUP($C400,Materials,'Whip Data'!$M$10+13,FALSE))","v":""},{"$f":"IFERROR(\"LTUA-\"&IF(ISTEXT('Whip Data'!$T413),VLOOKUP('Whip Data'!$T413,Conduit,2,FALSE),VLOOKUP('Whip Data'!$S413,Conduit,2,FALSE))&\"-\"&'Whip Data'!$R413,\"\")","v":""},{"$f":"IF($B400=\"\",\"\",IFERROR(VLOOKUP('Whip Data'!$T413,Conduit,3,FALSE),VLOOKUP('Whip Data'!$S413,Conduit,3,FALSE)))","v":""},{"$f":"IF(B400=\"\",\"\",'Whip Data'!O413)","v":""},{"$f":"IF(C400=\"\",\"\",'Whip Data'!P413)","v":""},{"$f":"IF($B400=\"\",\"\",IF(ISTEXT('Whip Data'!V413),'Whip Data'!V413,'Whip Data'!U413))","v":""},{"$f":"IF(B400=\"\",\"\",IF(ISBLANK('Whip Data'!X413),'Whip Data'!W413,'Whip Data'!X413))","v":""},"","",{"$f":"IF($B400=\"\",\"\",IF('Whip Data'!Q413=\"\",\"None\",'Whip Data'!Q413))","v":""},{"$f":"IF(O400=\"\",\"\",IF($O400=\"None\",\"NA\",INDEX(Breakers!$A$1:$I$75,MATCH(BOM!C400,Breakers!$A$1:$A$75,0),MATCH(BOM!O400,Breakers!$A$1:$I$1,0))))","v":""},{"$f":"IF(B400=\"\",\"\",VLOOKUP(H400,Standards!$X$3:$Y$6,2,FALSE))","v":""}]
[{"$f":"IF($B401=\"\",\"\",'Whip Data'!$Z414)","v":""},{"$f":"IFERROR('Whip Data'!A414,\"\")","v":""},{"$f":"IF(B401=\"\",\"\",'Whip Data'!L414)","v":""},"",{"$f":"IF($B401=\"\",\"\",VLOOKUP($C401,Materials,'Whip Data'!$M$10+11,FALSE))","v":""},{"$f":"IF($B401=\"\",\"\",VLOOKUP($C401,Materials,'Whip Data'!$M$10+13,FALSE))","v":""},{"$f":"IFERROR(\"LTUA-\"&IF(ISTEXT('Whip Data'!$T414),VLOOKUP('Whip Data'!$T414,Conduit,2,FALSE),VLOOKUP('Whip Data'!$S414,Conduit,2,FALSE))&\"-\"&'Whip Data'!$R414,\"\")","v":""},{"$f":"IF($B401=\"\",\"\",IFERROR(VLOOKUP('Whip Data'!$T414,Conduit,3,FALSE),VLOOKUP('Whip Data'!$S414,Conduit,3,FALSE)))","v":""},{"$f":"IF(B401=\"\",\"\",'Whip Data'!O414)","v":""},{"$f":"IF(C401=\"\",\"\",'Whip Data'!P414)","v":""},{"$f":"IF($B401=\"\",\"\",IF(ISTEXT('Whip Data'!V414),'Whip Data'!V414,'Whip Data'!U414))","v":""},{"$f":"IF(B401=\"\",\"\",IF(ISBLANK('Whip Data'!X414),'Whip Data'!W414,'Whip Data'!X414))","v":""},"","",{"$f":"IF($B401=\"\",\"\",IF('Whip Data'!Q414=\"\",\"None\",'Whip Data'!Q414))","v":""},{"$f":"IF(O401=\"\",\"\",IF($O401=\"None\",\"NA\",INDEX(Breakers!$A$1:$I$75,MATCH(BOM!C401,Breakers!$A$1:$A$75,0),MATCH(BOM!O401,Breakers!$A$1:$I$1,0))))","v":""},{"$f":"IF(B401=\"\",\"\",VLOOKUP(H401,Standards!$X$3:$Y$6,2,FALSE))","v":""}]
[{"$f":"IF($B402=\"\",\"\",'Whip Data'!$Z415)","v":""},{"$f":"IFERROR('Whip Data'!A415,\"\")","v":""},{"$f":"IF(B402=\"\",\"\",'Whip Data'!L415)","v":""},"",{"$f":"IF($B402=\"\",\"\",VLOOKUP($C402,Materials,'Whip Data'!$M$10+11,FALSE))","v":""},{"$f":"IF($B402=\"\",\"\",VLOOKUP($C402,Materials,'Whip Data'!$M$10+13,FALSE))","v":""},{"$f":"IFERROR(\"LTUA-\"&IF(ISTEXT('Whip Data'!$T415),VLOOKUP('Whip Data'!$T415,Conduit,2,FALSE),VLOOKUP('Whip Data'!$S415,Conduit,2,FALSE))&\"-\"&'Whip Data'!$R415,\"\")","v":""},{"$f":"IF($B402=\"\",\"\",IFERROR(VLOOKUP('Whip Data'!$T415,Conduit,3,FALSE),VLOOKUP('Whip Data'!$S415,Conduit,3,FALSE)))","v":""},{"$f":"IF(B402=\"\",\"\",'Whip Data'!O415)","v":""},{"$f":"IF(C402=\"\",\"\",'Whip Data'!P415)","v":""},{"$f":"IF($B402=\"\",\"\",IF(ISTEXT('Whip Data'!V415),'Whip Data'!V415,'Whip Data'!U415))","v":""},{"$f":"IF(B402=\"\",\"\",IF(ISBLANK('Whip Data'!X415),'Whip Data'!W415,'Whip Data'!X415))","v":""},"","",{"$f":"IF($B402=\"\",\"\",IF('Whip Data'!Q415=\"\",\"None\",'Whip Data'!Q415))","v":""},{"$f":"IF(O402=\"\",\"\",IF($O402=\"None\",\"NA\",INDEX(Breakers!$A$1:$I$75,MATCH(BOM!C402,Breakers!$A$1:$A$75,0),MATCH(BOM!O402,Breakers!$A$1:$I$1,0))))","v":""},{"$f":"IF(B402=\"\",\"\",VLOOKUP(H402,Standards!$X$3:$Y$6,2,FALSE))","v":""}]
[{"$f":"IF($B403=\"\",\"\",'Whip Data'!$Z416)","v":""},{"$f":"IFERROR('Whip Data'!A416,\"\")","v":""},{"$f":"IF(B403=\"\",\"\",'Whip Data'!L416)","v":""},"",{"$f":"IF($B403=\"\",\"\",VLOOKUP($C403,Materials,'Whip Data'!$M$10+11,FALSE))","v":""},{"$f":"IF($B403=\"\",\"\",VLOOKUP($C403,Materials,'Whip Data'!$M$10+13,FALSE))","v":""},{"$f":"IFERROR(\"LTUA-\"&IF(ISTEXT('Whip Data'!$T416),VLOOKUP('Whip Data'!$T416,Conduit,2,FALSE),VLOOKUP('Whip Data'!$S416,Conduit,2,FALSE))&\"-\"&'Whip Data'!$R416,\"\")","v":""},{"$f":"IF($B403=\"\",\"\",IFERROR(VLOOKUP('Whip Data'!$T416,Conduit,3,FALSE),VLOOKUP('Whip Data'!$S416,Conduit,3,FALSE)))","v":""},{"$f":"IF(B403=\"\",\"\",'Whip Data'!O416)","v":""},{"$f":"IF(C403=\"\",\"\",'Whip Data'!P416)","v":""},{"$f":"IF($B403=\"\",\"\",IF(ISTEXT('Whip Data'!V416),'Whip Data'!V416,'Whip Data'!U416))","v":""},{"$f":"IF(B403=\"\",\"\",IF(ISBLANK('Whip Data'!X416),'Whip Data'!W416,'Whip Data'!X416))","v":""},"","",{"$f":"IF($B403=\"\",\"\",IF('Whip Data'!Q416=\"\",\"None\",'Whip Data'!Q416))","v":""},{"$f":"IF(O403=\"\",\"\",IF($O403=\"None\",\"NA\",INDEX(Breakers!$A$1:$I$75,MATCH(BOM!C403,Breakers!$A$1:$A$75,0),MATCH(BOM!O403,Breakers!$A$1:$I$1,0))))","v":""},{"$f":"IF(B403=\"\",\"\",VLOOKUP(H403,Standards!$X$3:$Y$6,2,FALSE))","v":""}]
[{"$f":"IF($B404=\"\",\"\",'Whip Data'!$Z417)","v":""},{"$f":"IFERROR('Whip Data'!A417,\"\")","v":""},{"$f":"IF(B404=\"\",\"\",'Whip Data'!L417)","v":""},"",{"$f":"IF($B404=\"\",\"\",VLOOKUP($C404,Materials,'Whip Data'!$M$10+11,FALSE))","v":""},{"$f":"IF($B404=\"\",\"\",VLOOKUP($C404,Materials,'Whip Data'!$M$10+13,FALSE))","v":""},{"$f":"IFERROR(\"LTUA-\"&IF(ISTEXT('Whip Data'!$T417),VLOOKUP('Whip Data'!$T417,Conduit,2,FALSE),VLOOKUP('Whip Data'!$S417,Conduit,2,FALSE))&\"-\"&'Whip Data'!$R417,\"\")","v":""},{"$f":"IF($B404=\"\",\"\",IFERROR(VLOOKUP('Whip Data'!$T417,Conduit,3,FALSE),VLOOKUP('Whip Data'!$S417,Conduit,3,FALSE)))","v":""},{"$f":"IF(B404=\"\",\"\",'Whip Data'!O417)","v":""},{"$f":"IF(C404=\"\",\"\",'Whip Data'!P417)","v":""},{"$f":"IF($B404=\"\",\"\",IF(ISTEXT('Whip Data'!V417),'Whip Data'!V417,'Whip Data'!U417))","v":""},{"$f":"IF(B404=\"\",\"\",IF(ISBLANK('Whip Data'!X417),'Whip Data'!W417,'Whip Data'!X417))","v":""},"","",{"$f":"IF($B404=\"\",\"\",IF('Whip Data'!Q417=\"\",\"None\",'Whip Data'!Q417))","v":""},{"$f":"IF(O404=\"\",\"\",IF($O404=\"None\",\"NA\",INDEX(Breakers!$A$1:$I$75,MATCH(BOM!C404,Breakers!$A$1:$A$75,0),MATCH(BOM!O404,Breakers!$A$1:$I$1,0))))","v":""},{"$f":"IF(B404=\"\",\"\",VLOOKUP(H404,Standards!$X$3:$Y$6,2,FALSE))","v":""}]
[{"$f":"IF($B405=\"\",\"\",'Whip Data'!$Z418)","v":""},{"$f":"IFERROR('Whip Data'!A418,\"\")","v":""},{"$f":"IF(B405=\"\",\"\",'Whip Data'!L418)","v":""},"",{"$f":"IF($B405=\"\",\"\",VLOOKUP($C405,Materials,'Whip Data'!$M$10+11,FALSE))","v":""},{"$f":"IF($B405=\"\",\"\",VLOOKUP($C405,Materials,'Whip Data'!$M$10+13,FALSE))","v":""},{"$f":"IFERROR(\"LTUA-\"&IF(ISTEXT('Whip Data'!$T418),VLOOKUP('Whip Data'!$T418,Conduit,2,FALSE),VLOOKUP('Whip Data'!$S418,Conduit,2,FALSE))&\"-\"&'Whip Data'!$R418,\"\")","v":""},{"$f":"IF($B405=\"\",\"\",IFERROR(VLOOKUP('Whip Data'!$T418,Conduit,3,FALSE),VLOOKUP('Whip Data'!$S418,Conduit,3,FALSE)))","v":""},{"$f":"IF(B405=\"\",\"\",'Whip Data'!O418)","v":""},{"$f":"IF(C405=\"\",\"\",'Whip Data'!P418)","v":""},{"$f":"IF($B405=\"\",\"\",IF(ISTEXT('Whip Data'!V418),'Whip Data'!V418,'Whip Data'!U418))","v":""},{"$f":"IF(B405=\"\",\"\",IF(ISBLANK('Whip Data'!X418),'Whip Data'!W418,'Whip Data'!X418))","v":""},"","",{"$f":"IF($B405=\"\",\"\",IF('Whip Data'!Q418=\"\",\"None\",'Whip Data'!Q418))","v":""},{"$f":"IF(O405=\"\",\"\",IF($O405=\"None\",\"NA\",INDEX(Breakers!$A$1:$I$75,MATCH(BOM!C405,Breakers!$A$1:$A$75,0),MATCH(BOM!O405,Breakers!$A$1:$I$1,0))))","v":""},{"$f":"IF(B405=\"\",\"\",VLOOKUP(H405,Standards!$X$3:$Y$6,2,FALSE))","v":""}]
[{"$f":"IF($B406=\"\",\"\",'Whip Data'!$Z419)","v":""},{"$f":"IFERROR('Whip Data'!A419,\"\")","v":""},{"$f":"IF(B406=\"\",\"\",'Whip Data'!L419)","v":""},"",{"$f":"IF($B406=\"\",\"\",VLOOKUP($C406,Materials,'Whip Data'!$M$10+11,FALSE))","v":""},{"$f":"IF($B406=\"\",\"\",VLOOKUP($C406,Materials,'Whip Data'!$M$10+13,FALSE))","v":""},{"$f":"IFERROR(\"LTUA-\"&IF(ISTEXT('Whip Data'!$T419),VLOOKUP('Whip Data'!$T419,Conduit,2,FALSE),VLOOKUP('Whip Data'!$S419,Conduit,2,FALSE))&\"-\"&'Whip Data'!$R419,\"\")","v":""},{"$f":"IF($B406=\"\",\"\",IFERROR(VLOOKUP('Whip Data'!$T419,Conduit,3,FALSE),VLOOKUP('Whip Data'!$S419,Conduit,3,FALSE)))","v":""},{"$f":"IF(B406=\"\",\"\",'Whip Data'!O419)","v":""},{"$f":"IF(C406=\"\",\"\",'Whip Data'!P419)","v":""},{"$f":"IF($B406=\"\",\"\",IF(ISTEXT('Whip Data'!V419),'Whip Data'!V419,'Whip Data'!U419))","v":""},{"$f":"IF(B406=\"\",\"\",IF(ISBLANK('Whip Data'!X419),'Whip Data'!W419,'Whip Data'!X419))","v":""},"","",{"$f":"IF($B406=\"\",\"\",IF('Whip Data'!Q419=\"\",\"None\",'Whip Data'!Q419))","v":""},{"$f":"IF(O406=\"\",\"\",IF($O406=\"None\",\"NA\",INDEX(Breakers!$A$1:$I$75,MATCH(BOM!C406,Breakers!$A$1:$A$75,0),MATCH(BOM!O406,Breakers!$A$1:$I$1,0))))","v":""},{"$f":"IF(B406=\"\",\"\",VLOOKUP(H406,Standards!$X$3:$Y$6,2,FALSE))","v":""}]
[{"$f":"IF($B407=\"\",\"\",'Whip Data'!$Z420)","v":""},{"$f":"IFERROR('Whip Data'!A420,\"\")","v":""},{"$f":"IF(B407=\"\",\"\",'Whip Data'!L420)","v":""},"",{"$f":"IF($B407=\"\",\"\",VLOOKUP($C407,Materials,'Whip Data'!$M$10+11,FALSE))","v":""},{"$f":"IF($B407=\"\",\"\",VLOOKUP($C407,Materials,'Whip Data'!$M$10+13,FALSE))","v":""},{"$f":"IFERROR(\"LTUA-\"&IF(ISTEXT('Whip Data'!$T420),VLOOKUP('Whip Data'!$T420,Conduit,2,FALSE),VLOOKUP('Whip Data'!$S420,Conduit,2,FALSE))&\"-\"&'Whip Data'!$R420,\"\")","v":""},{"$f":"IF($B407=\"\",\"\",IFERROR(VLOOKUP('Whip Data'!$T420,Conduit,3,FALSE),VLOOKUP('Whip Data'!$S420,Conduit,3,FALSE)))","v":""},{"$f":"IF(B407=\"\",\"\",'Whip Data'!O420)","v":""},{"$f":"IF(C407=\"\",\"\",'Whip Data'!P420)","v":""},{"$f":"IF($B407=\"\",\"\",IF(ISTEXT('Whip Data'!V420),'Whip Data'!V420,'Whip Data'!U420))","v":""},{"$f":"IF(B407=\"\",\"\",IF(ISBLANK('Whip Data'!X420),'Whip Data'!W420,'Whip Data'!X420))","v":""},"","",{"$f":"IF($B407=\"\",\"\",IF('Whip Data'!Q420=\"\",\"None\",'Whip Data'!Q420))","v":""},{"$f":"IF(O407=\"\",\"\",IF($O407=\"None\",\"NA\",INDEX(Breakers!$A$1:$I$75,MATCH(BOM!C407,Breakers!$A$1:$A$75,0),MATCH(BOM!O407,Breakers!$A$1:$I$1,0))))","v":""},{"$f":"IF(B407=\"\",\"\",VLOOKUP(H407,Standards!$X$3:$Y$6,2,FALSE))","v":""}]
[{"$f":"IF($B408=\"\",\"\",'Whip Data'!$Z421)","v":""},{"$f":"IFERROR('Whip Data'!A421,\"\")","v":""},{"$f":"IF(B408=\"\",\"\",'Whip Data'!L421)","v":""},"",{"$f":"IF($B408=\"\",\"\",VLOOKUP($C408,Materials,'Whip Data'!$M$10+11,FALSE))","v":""},{"$f":"IF($B408=\"\",\"\",VLOOKUP($C408,Materials,'Whip Data'!$M$10+13,FALSE))","v":""},{"$f":"IFERROR(\"LTUA-\"&IF(ISTEXT('Whip Data'!$T421),VLOOKUP('Whip Data'!$T421,Conduit,2,FALSE),VLOOKUP('Whip Data'!$S421,Conduit,2,FALSE))&\"-\"&'Whip Data'!$R421,\"\")","v":""},{"$f":"IF($B408=\"\",\"\",IFERROR(VLOOKUP('Whip Data'!$T421,Conduit,3,FALSE),VLOOKUP('Whip Data'!$S421,Conduit,3,FALSE)))","v":""},{"$f":"IF(B408=\"\",\"\",'Whip Data'!O421)","v":""},{"$f":"IF(C408=\"\",\"\",'Whip Data'!P421)","v":""},{"$f":"IF($B408=\"\",\"\",IF(ISTEXT('Whip Data'!V421),'Whip Data'!V421,'Whip Data'!U421))","v":""},{"$f":"IF(B408=\"\",\"\",IF(ISBLANK('Whip Data'!X421),'Whip Data'!W421,'Whip Data'!X421))","v":""},"","",{"$f":"IF($B408=\"\",\"\",IF('Whip Data'!Q421=\"\",\"None\",'Whip Data'!Q421))","v":""},{"$f":"IF(O408=\"\",\"\",IF($O408=\"None\",\"NA\",INDEX(Breakers!$A$1:$I$75,MATCH(BOM!C408,Breakers!$A$1:$A$75,0),MATCH(BOM!O408,Breakers!$A$1:$I$1,0))))","v":""},{"$f":"IF(B408=\"\",\"\",VLOOKUP(H408,Standards!$X$3:$Y$6,2,FALSE))","v":""}]
[{"$f":"IF($B409=\"\",\"\",'Whip Data'!$Z422)","v":""},{"$f":"IFERROR('Whip Data'!A422,\"\")","v":""},{"$f":"IF(B409=\"\",\"\",'Whip Data'!L422)","v":""},"",{"$f":"IF($B409=\"\",\"\",VLOOKUP($C409,Materials,'Whip Data'!$M$10+11,FALSE))","v":""},{"$f":"IF($B409=\"\",\"\",VLOOKUP($C409,Materials,'Whip Data'!$M$10+13,FALSE))","v":""},{"$f":"IFERROR(\"LTUA-\"&IF(ISTEXT('Whip Data'!$T422),VLOOKUP('Whip Data'!$T422,Conduit,2,FALSE),VLOOKUP('Whip Data'!$S422,Conduit,2,FALSE))&\"-\"&'Whip Data'!$R422,\"\")","v":""},{"$f":"IF($B409=\"\",\"\",IFERROR(VLOOKUP('Whip Data'!$T422,Conduit,3,FALSE),VLOOKUP('Whip Data'!$S422,Conduit,3,FALSE)))","v":""},{"$f":"IF(B409=\"\",\"\",'Whip Data'!O422)","v":""},{"$f":"IF(C409=\"\",\"\",'Whip Data'!P422)","v":""},{"$f":"IF($B409=\"\",\"\",IF(ISTEXT('Whip Data'!V422),'Whip Data'!V422,'Whip Data'!U422))","v":""},{"$f":"IF(B409=\"\",\"\",IF(ISBLANK('Whip Data'!X422),'Whip Data'!W422,'Whip Data'!X422))","v":""},"","",{"$f":"IF($B409=\"\",\"\",IF('Whip Data'!Q422=\"\",\"None\",'Whip Data'!Q422))","v":""},{"$f":"IF(O409=\"\",\"\",IF($O409=\"None\",\"NA\",INDEX(Breakers!$A$1:$I$75,MATCH(BOM!C409,Breakers!$A$1:$A$75,0),MATCH(BOM!O409,Breakers!$A$1:$I$1,0))))","v":""},{"$f":"IF(B409=\"\",\"\",VLOOKUP(H409,Standards!$X$3:$Y$6,2,FALSE))","v":""}]
[{"$f":"IF($B410=\"\",\"\",'Whip Data'!$Z423)","v":""},{"$f":"IFERROR('Whip Data'!A423,\"\")","v":""},{"$f":"IF(B410=\"\",\"\",'Whip Data'!L423)","v":""},"",{"$f":"IF($B410=\"\",\"\",VLOOKUP($C410,Materials,'Whip Data'!$M$10+11,FALSE))","v":""},{"$f":"IF($B410=\"\",\"\",VLOOKUP($C410,Materials,'Whip Data'!$M$10+13,FALSE))","v":""},{"$f":"IFERROR(\"LTUA-\"&IF(ISTEXT('Whip Data'!$T423),VLOOKUP('Whip Data'!$T423,Conduit,2,FALSE),VLOOKUP('Whip Data'!$S423,Conduit,2,FALSE))&\"-\"&'Whip Data'!$R423,\"\")","v":""},{"$f":"IF($B410=\"\",\"\",IFERROR(VLOOKUP('Whip Data'!$T423,Conduit,3,FALSE),VLOOKUP('Whip Data'!$S423,Conduit,3,FALSE)))","v":""},{"$f":"IF(B410=\"\",\"\",'Whip Data'!O423)","v":""},{"$f":"IF(C410=\"\",\"\",'Whip Data'!P423)","v":""},{"$f":"IF($B410=\"\",\"\",IF(ISTEXT('Whip Data'!V423),'Whip Data'!V423,'Whip Data'!U423))","v":""},{"$f":"IF(B410=\"\",\"\",IF(ISBLANK('Whip Data'!X423),'Whip Data'!W423,'Whip Data'!X423))","v":""},"","",{"$f":"IF($B410=\"\",\"\",IF('Whip Data'!Q423=\"\",\"None\",'Whip Data'!Q423))","v":""},{"$f":"IF(O410=\"\",\"\",IF($O410=\"None\",\"NA\",INDEX(Breakers!$A$1:$I$75,MATCH(BOM!C410,Breakers!$A$1:$A$75,0),MATCH(BOM!O410,Breakers!$A$1:$I$1,0))))","v":""},{"$f":"IF(B410=\"\",\"\",VLOOKUP(H410,Standards!$X$3:$Y$6,2,FALSE))","v":""}]
[{"$f":"IF($B411=\"\",\"\",'Whip Data'!$Z424)","v":""},{"$f":"IFERROR('Whip Data'!A424,\"\")","v":""},{"$f":"IF(B411=\"\",\"\",'Whip Data'!L424)","v":""},"",{"$f":"IF($B411=\"\",\"\",VLOOKUP($C411,Materials,'Whip Data'!$M$10+11,FALSE))","v":""},{"$f":"IF($B411=\"\",\"\",VLOOKUP($C411,Materials,'Whip Data'!$M$10+13,FALSE))","v":""},{"$f":"IFERROR(\"LTUA-\"&IF(ISTEXT('Whip Data'!$T424),VLOOKUP('Whip Data'!$T424,Conduit,2,FALSE),VLOOKUP('Whip Data'!$S424,Conduit,2,FALSE))&\"-\"&'Whip Data'!$R424,\"\")","v":""},{"$f":"IF($B411=\"\",\"\",IFERROR(VLOOKUP('Whip Data'!$T424,Conduit,3,FALSE),VLOOKUP('Whip Data'!$S424,Conduit,3,FALSE)))","v":""},{"$f":"IF(B411=\"\",\"\",'Whip Data'!O424)","v":""},{"$f":"IF(C411=\"\",\"\",'Whip Data'!P424)","v":""},{"$f":"IF($B411=\"\",\"\",IF(ISTEXT('Whip Data'!V424),'Whip Data'!V424,'Whip Data'!U424))","v":""},{"$f":"IF(B411=\"\",\"\",IF(ISBLANK('Whip Data'!X424),'Whip Data'!W424,'Whip Data'!X424))","v":""},"","",{"$f":"IF($B411=\"\",\"\",IF('Whip Data'!Q424=\"\",\"None\",'Whip Data'!Q424))","v":""},{"$f":"IF(O411=\"\",\"\",IF($O411=\"None\",\"NA\",INDEX(Breakers!$A$1:$I$75,MATCH(BOM!C411,Breakers!$A$1:$A$75,0),MATCH(BOM!O411,Breakers!$A$1:$I$1,0))))","v":""},{"$f":"IF(B411=\"\",\"\",VLOOKUP(H411,Standards!$X$3:$Y$6,2,FALSE))","v":""}]
[{"$f":"IF($B412=\"\",\"\",'Whip Data'!$Z425)","v":""},{"$f":"IFERROR('Whip Data'!A425,\"\")","v":""},{"$f":"IF(B412=\"\",\"\",'Whip Data'!L425)","v":""},"",{"$f":"IF($B412=\"\",\"\",VLOOKUP($C412,Materials,'Whip Data'!$M$10+11,FALSE))","v":""},{"$f":"IF($B412=\"\",\"\",VLOOKUP($C412,Materials,'Whip Data'!$M$10+13,FALSE))","v":""},{"$f":"IFERROR(\"LTUA-\"&IF(ISTEXT('Whip Data'!$T425),VLOOKUP('Whip Data'!$T425,Conduit,2,FALSE),VLOOKUP('Whip Data'!$S425,Conduit,2,FALSE))&\"-\"&'Whip Data'!$R425,\"\")","v":""},{"$f":"IF($B412=\"\",\"\",IFERROR(VLOOKUP('Whip Data'!$T425,Conduit,3,FALSE),VLOOKUP('Whip Data'!$S425,Conduit,3,FALSE)))","v":""},{"$f":"IF(B412=\"\",\"\",'Whip Data'!O425)","v":""},{"$f":"IF(C412=\"\",\"\",'Whip Data'!P425)","v":""},{"$f":"IF($B412=\"\",\"\",IF(ISTEXT('Whip Data'!V425),'Whip Data'!V425,'Whip Data'!U425))","v":""},{"$f":"IF(B412=\"\",\"\",IF(ISBLANK('Whip Data'!X425),'Whip Data'!W425,'Whip Data'!X425))","v":""},"","",{"$f":"IF($B412=\"\",\"\",IF('Whip Data'!Q425=\"\",\"None\",'Whip Data'!Q425))","v":""},{"$f":"IF(O412=\"\",\"\",IF($O412=\"None\",\"NA\",INDEX(Breakers!$A$1:$I$75,MATCH(BOM!C412,Breakers!$A$1:$A$75,0),MATCH(BOM!O412,Breakers!$A$1:$I$1,0))))","v":""},{"$f":"IF(B412=\"\",\"\",VLOOKUP(H412,Standards!$X$3:$Y$6,2,FALSE))","v":""}]
[{"$f":"IF($B413=\"\",\"\",'Whip Data'!$Z426)","v":""},{"$f":"IFERROR('Whip Data'!A426,\"\")","v":""},{"$f":"IF(B413=\"\",\"\",'Whip Data'!L426)","v":""},"",{"$f":"IF($B413=\"\",\"\",VLOOKUP($C413,Materials,'Whip Data'!$M$10+11,FALSE))","v":""},{"$f":"IF($B413=\"\",\"\",VLOOKUP($C413,Materials,'Whip Data'!$M$10+13,FALSE))","v":""},{"$f":"IFERROR(\"LTUA-\"&IF(ISTEXT('Whip Data'!$T426),VLOOKUP('Whip Data'!$T426,Conduit,2,FALSE),VLOOKUP('Whip Data'!$S426,Conduit,2,FALSE))&\"-\"&'Whip Data'!$R426,\"\")","v":""},{"$f":"IF($B413=\"\",\"\",IFERROR(VLOOKUP('Whip Data'!$T426,Conduit,3,FALSE),VLOOKUP('Whip Data'!$S426,Conduit,3,FALSE)))","v":""},{"$f":"IF(B413=\"\",\"\",'Whip Data'!O426)","v":""},{"$f":"IF(C413=\"\",\"\",'Whip Data'!P426)","v":""},{"$f":"IF($B413=\"\",\"\",IF(ISTEXT('Whip Data'!V426),'Whip Data'!V426,'Whip Data'!U426))","v":""},{"$f":"IF(B413=\"\",\"\",IF(ISBLANK('Whip Data'!X426),'Whip Data'!W426,'Whip Data'!X426))","v":""},"","",{"$f":"IF($B413=\"\",\"\",IF('Whip Data'!Q426=\"\",\"None\",'Whip Data'!Q426))","v":""},{"$f":"IF(O413=\"\",\"\",IF($O413=\"None\",\"NA\",INDEX(Breakers!$A$1:$I$75,MATCH(BOM!C413,Breakers!$A$1:$A$75,0),MATCH(BOM!O413,Breakers!$A$1:$I$1,0))))","v":""},{"$f":"IF(B413=\"\",\"\",VLOOKUP(H413,Standards!$X$3:$Y$6,2,FALSE))","v":""}]
[{"$f":"IF($B414=\"\",\"\",'Whip Data'!$Z427)","v":""},{"$f":"IFERROR('Whip Data'!A427,\"\")","v":""},{"$f":"IF(B414=\"\",\"\",'Whip Data'!L427)","v":""},"",{"$f":"IF($B414=\"\",\"\",VLOOKUP($C414,Materials,'Whip Data'!$M$10+11,FALSE))","v":""},{"$f":"IF($B414=\"\",\"\",VLOOKUP($C414,Materials,'Whip Data'!$M$10+13,FALSE))","v":""},{"$f":"IFERROR(\"LTUA-\"&IF(ISTEXT('Whip Data'!$T427),VLOOKUP('Whip Data'!$T427,Conduit,2,FALSE),VLOOKUP('Whip Data'!$S427,Conduit,2,FALSE))&\"-\"&'Whip Data'!$R427,\"\")","v":""},{"$f":"IF($B414=\"\",\"\",IFERROR(VLOOKUP('Whip Data'!$T427,Conduit,3,FALSE),VLOOKUP('Whip Data'!$S427,Conduit,3,FALSE)))","v":""},{"$f":"IF(B414=\"\",\"\",'Whip Data'!O427)","v":""},{"$f":"IF(C414=\"\",\"\",'Whip Data'!P427)","v":""},{"$f":"IF($B414=\"\",\"\",IF(ISTEXT('Whip Data'!V427),'Whip Data'!V427,'Whip Data'!U427))","v":""},{"$f":"IF(B414=\"\",\"\",IF(ISBLANK('Whip Data'!X427),'Whip Data'!W427,'Whip Data'!X427))","v":""},"","",{"$f":"IF($B414=\"\",\"\",IF('Whip Data'!Q427=\"\",\"None\",'Whip Data'!Q427))","v":""},{"$f":"IF(O414=\"\",\"\",IF($O414=\"None\",\"NA\",INDEX(Breakers!$A$1:$I$75,MATCH(BOM!C414,Breakers!$A$1:$A$75,0),MATCH(BOM!O414,Breakers!$A$1:$I$1,0))))","v":""},{"$f":"IF(B414=\"\",\"\",VLOOKUP(H414,Standards!$X$3:$Y$6,2,FALSE))","v":""}]
[{"$f":"IF($B415=\"\",\"\",'Whip Data'!$Z428)","v":""},{"$f":"IFERROR('Whip Data'!A428,\"\")","v":""},{"$f":"IF(B415=\"\",\"\",'Whip Data'!L428)","v":""},"",{"$f":"IF($B415=\"\",\"\",VLOOKUP($C415,Materials,'Whip Data'!$M$10+11,FALSE))","v":""},{"$f":"IF($B415=\"\",\"\",VLOOKUP($C415,Materials,'Whip Data'!$M$10+13,FALSE))","v":""},{"$f":"IFERROR(\"LTUA-\"&IF(ISTEXT('Whip Data'!$T428),VLOOKUP('Whip Data'!$T428,Conduit,2,FALSE),VLOOKUP('Whip Data'!$S428,Conduit,2,FALSE))&\"-\"&'Whip Data'!$R428,\"\")","v":""},{"$f":"IF($B415=\"\",\"\",IFERROR(VLOOKUP('Whip Data'!$T428,Conduit,3,FALSE),VLOOKUP('Whip Data'!$S428,Conduit,3,FALSE)))","v":""},{"$f":"IF(B415=\"\",\"\",'Whip Data'!O428)","v":""},{"$f":"IF(C415=\"\",\"\",'Whip Data'!P428)","v":""},{"$f":"IF($B415=\"\",\"\",IF(ISTEXT('Whip Data'!V428),'Whip Data'!V428,'Whip Data'!U428))","v":""},{"$f":"IF(B415=\"\",\"\",IF(ISBLANK('Whip Data'!X428),'Whip Data'!W428,'Whip Data'!X428))","v":""},"","",{"$f":"IF($B415=\"\",\"\",IF('Whip Data'!Q428=\"\",\"None\",'Whip Data'!Q428))","v":""},{"$f":"IF(O415=\"\",\"\",IF($O415=\"None\",\"NA\",INDEX(Breakers!$A$1:$I$75,MATCH(BOM!C415,Breakers!$A$1:$A$75,0),MATCH(BOM!O415,Breakers!$A$1:$I$1,0))))","v":""},{"$f":"IF(B415=\"\",\"\",VLOOKUP(H415,Standards!$X$3:$Y$6,2,FALSE))","v":""}]
[{"$f":"IF($B416=\"\",\"\",'Whip Data'!$Z429)","v":""},{"$f":"IFERROR('Whip Data'!A429,\"\")","v":""},{"$f":"IF(B416=\"\",\"\",'Whip Data'!L429)","v":""},"",{"$f":"IF($B416=\"\",\"\",VLOOKUP($C416,Materials,'Whip Data'!$M$10+11,FALSE))","v":""},{"$f":"IF($B416=\"\",\"\",VLOOKUP($C416,Materials,'Whip Data'!$M$10+13,FALSE))","v":""},{"$f":"IFERROR(\"LTUA-\"&IF(ISTEXT('Whip Data'!$T429),VLOOKUP('Whip Data'!$T429,Conduit,2,FALSE),VLOOKUP('Whip Data'!$S429,Conduit,2,FALSE))&\"-\"&'Whip Data'!$R429,\"\")","v":""},{"$f":"IF($B416=\"\",\"\",IFERROR(VLOOKUP('Whip Data'!$T429,Conduit,3,FALSE),VLOOKUP('Whip Data'!$S429,Conduit,3,FALSE)))","v":""},{"$f":"IF(B416=\"\",\"\",'Whip Data'!O429)","v":""},{"$f":"IF(C416=\"\",\"\",'Whip Data'!P429)","v":""},{"$f":"IF($B416=\"\",\"\",IF(ISTEXT('Whip Data'!V429),'Whip Data'!V429,'Whip Data'!U429))","v":""},{"$f":"IF(B416=\"\",\"\",IF(ISBLANK('Whip Data'!X429),'Whip Data'!W429,'Whip Data'!X429))","v":""},"","",{"$f":"IF($B416=\"\",\"\",IF('Whip Data'!Q429=\"\",\"None\",'Whip Data'!Q429))","v":""},{"$f":"IF(O416=\"\",\"\",IF($O416=\"None\",\"NA\",INDEX(Breakers!$A$1:$I$75,MATCH(BOM!C416,Breakers!$A$1:$A$75,0),MATCH(BOM!O416,Breakers!$A$1:$I$1,0))))","v":""},{"$f":"IF(B416=\"\",\"\",VLOOKUP(H416,Standards!$X$3:$Y$6,2,FALSE))","v":""}]
[{"$f":"IF($B417=\"\",\"\",'Whip Data'!$Z430)","v":""},{"$f":"IFERROR('Whip Data'!A430,\"\")","v":""},{"$f":"IF(B417=\"\",\"\",'Whip Data'!L430)","v":""},"",{"$f":"IF($B417=\"\",\"\",VLOOKUP($C417,Materials,'Whip Data'!$M$10+11,FALSE))","v":""},{"$f":"IF($B417=\"\",\"\",VLOOKUP($C417,Materials,'Whip Data'!$M$10+13,FALSE))","v":""},{"$f":"IFERROR(\"LTUA-\"&IF(ISTEXT('Whip Data'!$T430),VLOOKUP('Whip Data'!$T430,Conduit,2,FALSE),VLOOKUP('Whip Data'!$S430,Conduit,2,FALSE))&\"-\"&'Whip Data'!$R430,\"\")","v":""},{"$f":"IF($B417=\"\",\"\",IFERROR(VLOOKUP('Whip Data'!$T430,Conduit,3,FALSE),VLOOKUP('Whip Data'!$S430,Conduit,3,FALSE)))","v":""},{"$f":"IF(B417=\"\",\"\",'Whip Data'!O430)","v":""},{"$f":"IF(C417=\"\",\"\",'Whip Data'!P430)","v":""},{"$f":"IF($B417=\"\",\"\",IF(ISTEXT('Whip Data'!V430),'Whip Data'!V430,'Whip Data'!U430))","v":""},{"$f":"IF(B417=\"\",\"\",IF(ISBLANK('Whip Data'!X430),'Whip Data'!W430,'Whip Data'!X430))","v":""},"","",{"$f":"IF($B417=\"\",\"\",IF('Whip Data'!Q430=\"\",\"None\",'Whip Data'!Q430))","v":""},{"$f":"IF(O417=\"\",\"\",IF($O417=\"None\",\"NA\",INDEX(Breakers!$A$1:$I$75,MATCH(BOM!C417,Breakers!$A$1:$A$75,0),MATCH(BOM!O417,Breakers!$A$1:$I$1,0))))","v":""},{"$f":"IF(B417=\"\",\"\",VLOOKUP(H417,Standards!$X$3:$Y$6,2,FALSE))","v":""}]
[{"$f":"IF($B418=\"\",\"\",'Whip Data'!$Z431)","v":""},{"$f":"IFERROR('Whip Data'!A431,\"\")","v":""},{"$f":"IF(B418=\"\",\"\",'Whip Data'!L431)","v":""},"",{"$f":"IF($B418=\"\",\"\",VLOOKUP($C418,Materials,'Whip Data'!$M$10+11,FALSE))","v":""},{"$f":"IF($B418=\"\",\"\",VLOOKUP($C418,Materials,'Whip Data'!$M$10+13,FALSE))","v":""},{"$f":"IFERROR(\"LTUA-\"&IF(ISTEXT('Whip Data'!$T431),VLOOKUP('Whip Data'!$T431,Conduit,2,FALSE),VLOOKUP('Whip Data'!$S431,Conduit,2,FALSE))&\"-\"&'Whip Data'!$R431,\"\")","v":""},{"$f":"IF($B418=\"\",\"\",IFERROR(VLOOKUP('Whip Data'!$T431,Conduit,3,FALSE),VLOOKUP('Whip Data'!$S431,Conduit,3,FALSE)))","v":""},{"$f":"IF(B418=\"\",\"\",'Whip Data'!O431)","v":""},{"$f":"IF(C418=\"\",\"\",'Whip Data'!P431)","v":""},{"$f":"IF($B418=\"\",\"\",IF(ISTEXT('Whip Data'!V431),'Whip Data'!V431,'Whip Data'!U431))","v":""},{"$f":"IF(B418=\"\",\"\",IF(ISBLANK('Whip Data'!X431),'Whip Data'!W431,'Whip Data'!X431))","v":""},"","",{"$f":"IF($B418=\"\",\"\",IF('Whip Data'!Q431=\"\",\"None\",'Whip Data'!Q431))","v":""},{"$f":"IF(O418=\"\",\"\",IF($O418=\"None\",\"NA\",INDEX(Breakers!$A$1:$I$75,MATCH(BOM!C418,Breakers!$A$1:$A$75,0),MATCH(BOM!O418,Breakers!$A$1:$I$1,0))))","v":""},{"$f":"IF(B418=\"\",\"\",VLOOKUP(H418,Standards!$X$3:$Y$6,2,FALSE))","v":""}]
[{"$f":"IF($B419=\"\",\"\",'Whip Data'!$Z432)","v":""},{"$f":"IFERROR('Whip Data'!A432,\"\")","v":""},{"$f":"IF(B419=\"\",\"\",'Whip Data'!L432)","v":""},"",{"$f":"IF($B419=\"\",\"\",VLOOKUP($C419,Materials,'Whip Data'!$M$10+11,FALSE))","v":""},{"$f":"IF($B419=\"\",\"\",VLOOKUP($C419,Materials,'Whip Data'!$M$10+13,FALSE))","v":""},{"$f":"IFERROR(\"LTUA-\"&IF(ISTEXT('Whip Data'!$T432),VLOOKUP('Whip Data'!$T432,Conduit,2,FALSE),VLOOKUP('Whip Data'!$S432,Conduit,2,FALSE))&\"-\"&'Whip Data'!$R432,\"\")","v":""},{"$f":"IF($B419=\"\",\"\",IFERROR(VLOOKUP('Whip Data'!$T432,Conduit,3,FALSE),VLOOKUP('Whip Data'!$S432,Conduit,3,FALSE)))","v":""},{"$f":"IF(B419=\"\",\"\",'Whip Data'!O432)","v":""},{"$f":"IF(C419=\"\",\"\",'Whip Data'!P432)","v":""},{"$f":"IF($B419=\"\",\"\",IF(ISTEXT('Whip Data'!V432),'Whip Data'!V432,'Whip Data'!U432))","v":""},{"$f":"IF(B419=\"\",\"\",IF(ISBLANK('Whip Data'!X432),'Whip Data'!W432,'Whip Data'!X432))","v":""},"","",{"$f":"IF($B419=\"\",\"\",IF('Whip Data'!Q432=\"\",\"None\",'Whip Data'!Q432))","v":""},{"$f":"IF(O419=\"\",\"\",IF($O419=\"None\",\"NA\",INDEX(Breakers!$A$1:$I$75,MATCH(BOM!C419,Breakers!$A$1:$A$75,0),MATCH(BOM!O419,Breakers!$A$1:$I$1,0))))","v":""},{"$f":"IF(B419=\"\",\"\",VLOOKUP(H419,Standards!$X$3:$Y$6,2,FALSE))","v":""}]
[{"$f":"IF($B420=\"\",\"\",'Whip Data'!$Z433)","v":""},{"$f":"IFERROR('Whip Data'!A433,\"\")","v":""},{"$f":"IF(B420=\"\",\"\",'Whip Data'!L433)","v":""},"",{"$f":"IF($B420=\"\",\"\",VLOOKUP($C420,Materials,'Whip Data'!$M$10+11,FALSE))","v":""},{"$f":"IF($B420=\"\",\"\",VLOOKUP($C420,Materials,'Whip Data'!$M$10+13,FALSE))","v":""},{"$f":"IFERROR(\"LTUA-\"&IF(ISTEXT('Whip Data'!$T433),VLOOKUP('Whip Data'!$T433,Conduit,2,FALSE),VLOOKUP('Whip Data'!$S433,Conduit,2,FALSE))&\"-\"&'Whip Data'!$R433,\"\")","v":""},{"$f":"IF($B420=\"\",\"\",IFERROR(VLOOKUP('Whip Data'!$T433,Conduit,3,FALSE),VLOOKUP('Whip Data'!$S433,Conduit,3,FALSE)))","v":""},{"$f":"IF(B420=\"\",\"\",'Whip Data'!O433)","v":""},{"$f":"IF(C420=\"\",\"\",'Whip Data'!P433)","v":""},{"$f":"IF($B420=\"\",\"\",IF(ISTEXT('Whip Data'!V433),'Whip Data'!V433,'Whip Data'!U433))","v":""},{"$f":"IF(B420=\"\",\"\",IF(ISBLANK('Whip Data'!X433),'Whip Data'!W433,'Whip Data'!X433))","v":""},"","",{"$f":"IF($B420=\"\",\"\",IF('Whip Data'!Q433=\"\",\"None\",'Whip Data'!Q433))","v":""},{"$f":"IF(O420=\"\",\"\",IF($O420=\"None\",\"NA\",INDEX(Breakers!$A$1:$I$75,MATCH(BOM!C420,Breakers!$A$1:$A$75,0),MATCH(BOM!O420,Breakers!$A$1:$I$1,0))))","v":""},{"$f":"IF(B420=\"\",\"\",VLOOKUP(H420,Standards!$X$3:$Y$6,2,FALSE))","v":""}]
[{"$f":"IF($B421=\"\",\"\",'Whip Data'!$Z434)","v":""},{"$f":"IFERROR('Whip Data'!A434,\"\")","v":""},{"$f":"IF(B421=\"\",\"\",'Whip Data'!L434)","v":""},"",{"$f":"IF($B421=\"\",\"\",VLOOKUP($C421,Materials,'Whip Data'!$M$10+11,FALSE))","v":""},{"$f":"IF($B421=\"\",\"\",VLOOKUP($C421,Materials,'Whip Data'!$M$10+13,FALSE))","v":""},{"$f":"IFERROR(\"LTUA-\"&IF(ISTEXT('Whip Data'!$T434),VLOOKUP('Whip Data'!$T434,Conduit,2,FALSE),VLOOKUP('Whip Data'!$S434,Conduit,2,FALSE))&\"-\"&'Whip Data'!$R434,\"\")","v":""},{"$f":"IF($B421=\"\",\"\",IFERROR(VLOOKUP('Whip Data'!$T434,Conduit,3,FALSE),VLOOKUP('Whip Data'!$S434,Conduit,3,FALSE)))","v":""},{"$f":"IF(B421=\"\",\"\",'Whip Data'!O434)","v":""},{"$f":"IF(C421=\"\",\"\",'Whip Data'!P434)","v":""},{"$f":"IF($B421=\"\",\"\",IF(ISTEXT('Whip Data'!V434),'Whip Data'!V434,'Whip Data'!U434))","v":""},{"$f":"IF(B421=\"\",\"\",IF(ISBLANK('Whip Data'!X434),'Whip Data'!W434,'Whip Data'!X434))","v":""},"","",{"$f":"IF($B421=\"\",\"\",IF('Whip Data'!Q434=\"\",\"None\",'Whip Data'!Q434))","v":""},{"$f":"IF(O421=\"\",\"\",IF($O421=\"None\",\"NA\",INDEX(Breakers!$A$1:$I$75,MATCH(BOM!C421,Breakers!$A$1:$A$75,0),MATCH(BOM!O421,Breakers!$A$1:$I$1,0))))","v":""},{"$f":"IF(B421=\"\",\"\",VLOOKUP(H421,Standards!$X$3:$Y$6,2,FALSE))","v":""}]
[{"$f":"IF($B422=\"\",\"\",'Whip Data'!$Z435)","v":""},{"$f":"IFERROR('Whip Data'!A435,\"\")","v":""},{"$f":"IF(B422=\"\",\"\",'Whip Data'!L435)","v":""},"",{"$f":"IF($B422=\"\",\"\",VLOOKUP($C422,Materials,'Whip Data'!$M$10+11,FALSE))","v":""},{"$f":"IF($B422=\"\",\"\",VLOOKUP($C422,Materials,'Whip Data'!$M$10+13,FALSE))","v":""},{"$f":"IFERROR(\"LTUA-\"&IF(ISTEXT('Whip Data'!$T435),VLOOKUP('Whip Data'!$T435,Conduit,2,FALSE),VLOOKUP('Whip Data'!$S435,Conduit,2,FALSE))&\"-\"&'Whip Data'!$R435,\"\")","v":""},{"$f":"IF($B422=\"\",\"\",IFERROR(VLOOKUP('Whip Data'!$T435,Conduit,3,FALSE),VLOOKUP('Whip Data'!$S435,Conduit,3,FALSE)))","v":""},{"$f":"IF(B422=\"\",\"\",'Whip Data'!O435)","v":""},{"$f":"IF(C422=\"\",\"\",'Whip Data'!P435)","v":""},{"$f":"IF($B422=\"\",\"\",IF(ISTEXT('Whip Data'!V435),'Whip Data'!V435,'Whip Data'!U435))","v":""},{"$f":"IF(B422=\"\",\"\",IF(ISBLANK('Whip Data'!X435),'Whip Data'!W435,'Whip Data'!X435))","v":""},"","",{"$f":"IF($B422=\"\",\"\",IF('Whip Data'!Q435=\"\",\"None\",'Whip Data'!Q435))","v":""},{"$f":"IF(O422=\"\",\"\",IF($O422=\"None\",\"NA\",INDEX(Breakers!$A$1:$I$75,MATCH(BOM!C422,Breakers!$A$1:$A$75,0),MATCH(BOM!O422,Breakers!$A$1:$I$1,0))))","v":""},{"$f":"IF(B422=\"\",\"\",VLOOKUP(H422,Standards!$X$3:$Y$6,2,FALSE))","v":""}]
[{"$f":"IF($B423=\"\",\"\",'Whip Data'!$Z436)","v":""},{"$f":"IFERROR('Whip Data'!A436,\"\")","v":""},{"$f":"IF(B423=\"\",\"\",'Whip Data'!L436)","v":""},"",{"$f":"IF($B423=\"\",\"\",VLOOKUP($C423,Materials,'Whip Data'!$M$10+11,FALSE))","v":""},{"$f":"IF($B423=\"\",\"\",VLOOKUP($C423,Materials,'Whip Data'!$M$10+13,FALSE))","v":""},{"$f":"IFERROR(\"LTUA-\"&IF(ISTEXT('Whip Data'!$T436),VLOOKUP('Whip Data'!$T436,Conduit,2,FALSE),VLOOKUP('Whip Data'!$S436,Conduit,2,FALSE))&\"-\"&'Whip Data'!$R436,\"\")","v":""},{"$f":"IF($B423=\"\",\"\",IFERROR(VLOOKUP('Whip Data'!$T436,Conduit,3,FALSE),VLOOKUP('Whip Data'!$S436,Conduit,3,FALSE)))","v":""},{"$f":"IF(B423=\"\",\"\",'Whip Data'!O436)","v":""},{"$f":"IF(C423=\"\",\"\",'Whip Data'!P436)","v":""},{"$f":"IF($B423=\"\",\"\",IF(ISTEXT('Whip Data'!V436),'Whip Data'!V436,'Whip Data'!U436))","v":""},{"$f":"IF(B423=\"\",\"\",IF(ISBLANK('Whip Data'!X436),'Whip Data'!W436,'Whip Data'!X436))","v":""},"","",{"$f":"IF($B423=\"\",\"\",IF('Whip Data'!Q436=\"\",\"None\",'Whip Data'!Q436))","v":""},{"$f":"IF(O423=\"\",\"\",IF($O423=\"None\",\"NA\",INDEX(Breakers!$A$1:$I$75,MATCH(BOM!C423,Breakers!$A$1:$A$75,0),MATCH(BOM!O423,Breakers!$A$1:$I$1,0))))","v":""},{"$f":"IF(B423=\"\",\"\",VLOOKUP(H423,Standards!$X$3:$Y$6,2,FALSE))","v":""}]
[{"$f":"IF($B424=\"\",\"\",'Whip Data'!$Z437)","v":""},{"$f":"IFERROR('Whip Data'!A437,\"\")","v":""},{"$f":"IF(B424=\"\",\"\",'Whip Data'!L437)","v":""},"",{"$f":"IF($B424=\"\",\"\",VLOOKUP($C424,Materials,'Whip Data'!$M$10+11,FALSE))","v":""},{"$f":"IF($B424=\"\",\"\",VLOOKUP($C424,Materials,'Whip Data'!$M$10+13,FALSE))","v":""},{"$f":"IFERROR(\"LTUA-\"&IF(ISTEXT('Whip Data'!$T437),VLOOKUP('Whip Data'!$T437,Conduit,2,FALSE),VLOOKUP('Whip Data'!$S437,Conduit,2,FALSE))&\"-\"&'Whip Data'!$R437,\"\")","v":""},{"$f":"IF($B424=\"\",\"\",IFERROR(VLOOKUP('Whip Data'!$T437,Conduit,3,FALSE),VLOOKUP('Whip Data'!$S437,Conduit,3,FALSE)))","v":""},{"$f":"IF(B424=\"\",\"\",'Whip Data'!O437)","v":""},{"$f":"IF(C424=\"\",\"\",'Whip Data'!P437)","v":""},{"$f":"IF($B424=\"\",\"\",IF(ISTEXT('Whip Data'!V437),'Whip Data'!V437,'Whip Data'!U437))","v":""},{"$f":"IF(B424=\"\",\"\",IF(ISBLANK('Whip Data'!X437),'Whip Data'!W437,'Whip Data'!X437))","v":""},"","",{"$f":"IF($B424=\"\",\"\",IF('Whip Data'!Q437=\"\",\"None\",'Whip Data'!Q437))","v":""},{"$f":"IF(O424=\"\",\"\",IF($O424=\"None\",\"NA\",INDEX(Breakers!$A$1:$I$75,MATCH(BOM!C424,Breakers!$A$1:$A$75,0),MATCH(BOM!O424,Breakers!$A$1:$I$1,0))))","v":""},{"$f":"IF(B424=\"\",\"\",VLOOKUP(H424,Standards!$X$3:$Y$6,2,FALSE))","v":""}]
[{"$f":"IF($B425=\"\",\"\",'Whip Data'!$Z438)","v":""},{"$f":"IFERROR('Whip Data'!A438,\"\")","v":""},{"$f":"IF(B425=\"\",\"\",'Whip Data'!L438)","v":""},"",{"$f":"IF($B425=\"\",\"\",VLOOKUP($C425,Materials,'Whip Data'!$M$10+11,FALSE))","v":""},{"$f":"IF($B425=\"\",\"\",VLOOKUP($C425,Materials,'Whip Data'!$M$10+13,FALSE))","v":""},{"$f":"IFERROR(\"LTUA-\"&IF(ISTEXT('Whip Data'!$T438),VLOOKUP('Whip Data'!$T438,Conduit,2,FALSE),VLOOKUP('Whip Data'!$S438,Conduit,2,FALSE))&\"-\"&'Whip Data'!$R438,\"\")","v":""},{"$f":"IF($B425=\"\",\"\",IFERROR(VLOOKUP('Whip Data'!$T438,Conduit,3,FALSE),VLOOKUP('Whip Data'!$S438,Conduit,3,FALSE)))","v":""},{"$f":"IF(B425=\"\",\"\",'Whip Data'!O438)","v":""},{"$f":"IF(C425=\"\",\"\",'Whip Data'!P438)","v":""},{"$f":"IF($B425=\"\",\"\",IF(ISTEXT('Whip Data'!V438),'Whip Data'!V438,'Whip Data'!U438))","v":""},{"$f":"IF(B425=\"\",\"\",IF(ISBLANK('Whip Data'!X438),'Whip Data'!W438,'Whip Data'!X438))","v":""},"","",{"$f":"IF($B425=\"\",\"\",IF('Whip Data'!Q438=\"\",\"None\",'Whip Data'!Q438))","v":""},{"$f":"IF(O425=\"\",\"\",IF($O425=\"None\",\"NA\",INDEX(Breakers!$A$1:$I$75,MATCH(BOM!C425,Breakers!$A$1:$A$75,0),MATCH(BOM!O425,Breakers!$A$1:$I$1,0))))","v":""},{"$f":"IF(B425=\"\",\"\",VLOOKUP(H425,Standards!$X$3:$Y$6,2,FALSE))","v":""}]
[{"$f":"IF($B426=\"\",\"\",'Whip Data'!$Z439)","v":""},{"$f":"IFERROR('Whip Data'!A439,\"\")","v":""},{"$f":"IF(B426=\"\",\"\",'Whip Data'!L439)","v":""},"",{"$f":"IF($B426=\"\",\"\",VLOOKUP($C426,Materials,'Whip Data'!$M$10+11,FALSE))","v":""},{"$f":"IF($B426=\"\",\"\",VLOOKUP($C426,Materials,'Whip Data'!$M$10+13,FALSE))","v":""},{"$f":"IFERROR(\"LTUA-\"&IF(ISTEXT('Whip Data'!$T439),VLOOKUP('Whip Data'!$T439,Conduit,2,FALSE),VLOOKUP('Whip Data'!$S439,Conduit,2,FALSE))&\"-\"&'Whip Data'!$R439,\"\")","v":""},{"$f":"IF($B426=\"\",\"\",IFERROR(VLOOKUP('Whip Data'!$T439,Conduit,3,FALSE),VLOOKUP('Whip Data'!$S439,Conduit,3,FALSE)))","v":""},{"$f":"IF(B426=\"\",\"\",'Whip Data'!O439)","v":""},{"$f":"IF(C426=\"\",\"\",'Whip Data'!P439)","v":""},{"$f":"IF($B426=\"\",\"\",IF(ISTEXT('Whip Data'!V439),'Whip Data'!V439,'Whip Data'!U439))","v":""},{"$f":"IF(B426=\"\",\"\",IF(ISBLANK('Whip Data'!X439),'Whip Data'!W439,'Whip Data'!X439))","v":""},"","",{"$f":"IF($B426=\"\",\"\",IF('Whip Data'!Q439=\"\",\"None\",'Whip Data'!Q439))","v":""},{"$f":"IF(O426=\"\",\"\",IF($O426=\"None\",\"NA\",INDEX(Breakers!$A$1:$I$75,MATCH(BOM!C426,Breakers!$A$1:$A$75,0),MATCH(BOM!O426,Breakers!$A$1:$I$1,0))))","v":""},{"$f":"IF(B426=\"\",\"\",VLOOKUP(H426,Standards!$X$3:$Y$6,2,FALSE))","v":""}]
[{"$f":"IF($B427=\"\",\"\",'Whip Data'!$Z440)","v":""},{"$f":"IFERROR('Whip Data'!A440,\"\")","v":""},{"$f":"IF(B427=\"\",\"\",'Whip Data'!L440)","v":""},"",{"$f":"IF($B427=\"\",\"\",VLOOKUP($C427,Materials,'Whip Data'!$M$10+11,FALSE))","v":""},{"$f":"IF($B427=\"\",\"\",VLOOKUP($C427,Materials,'Whip Data'!$M$10+13,FALSE))","v":""},{"$f":"IFERROR(\"LTUA-\"&IF(ISTEXT('Whip Data'!$T440),VLOOKUP('Whip Data'!$T440,Conduit,2,FALSE),VLOOKUP('Whip Data'!$S440,Conduit,2,FALSE))&\"-\"&'Whip Data'!$R440,\"\")","v":""},{"$f":"IF($B427=\"\",\"\",IFERROR(VLOOKUP('Whip Data'!$T440,Conduit,3,FALSE),VLOOKUP('Whip Data'!$S440,Conduit,3,FALSE)))","v":""},{"$f":"IF(B427=\"\",\"\",'Whip Data'!O440)","v":""},{"$f":"IF(C427=\"\",\"\",'Whip Data'!P440)","v":""},{"$f":"IF($B427=\"\",\"\",IF(ISTEXT('Whip Data'!V440),'Whip Data'!V440,'Whip Data'!U440))","v":""},{"$f":"IF(B427=\"\",\"\",IF(ISBLANK('Whip Data'!X440),'Whip Data'!W440,'Whip Data'!X440))","v":""},"","",{"$f":"IF($B427=\"\",\"\",IF('Whip Data'!Q440=\"\",\"None\",'Whip Data'!Q440))","v":""},{"$f":"IF(O427=\"\",\"\",IF($O427=\"None\",\"NA\",INDEX(Breakers!$A$1:$I$75,MATCH(BOM!C427,Breakers!$A$1:$A$75,0),MATCH(BOM!O427,Breakers!$A$1:$I$1,0))))","v":""},{"$f":"IF(B427=\"\",\"\",VLOOKUP(H427,Standards!$X$3:$Y$6,2,FALSE))","v":""}]
[{"$f":"IF($B428=\"\",\"\",'Whip Data'!$Z441)","v":""},{"$f":"IFERROR('Whip Data'!A441,\"\")","v":""},{"$f":"IF(B428=\"\",\"\",'Whip Data'!L441)","v":""},"",{"$f":"IF($B428=\"\",\"\",VLOOKUP($C428,Materials,'Whip Data'!$M$10+11,FALSE))","v":""},{"$f":"IF($B428=\"\",\"\",VLOOKUP($C428,Materials,'Whip Data'!$M$10+13,FALSE))","v":""},{"$f":"IFERROR(\"LTUA-\"&IF(ISTEXT('Whip Data'!$T441),VLOOKUP('Whip Data'!$T441,Conduit,2,FALSE),VLOOKUP('Whip Data'!$S441,Conduit,2,FALSE))&\"-\"&'Whip Data'!$R441,\"\")","v":""},{"$f":"IF($B428=\"\",\"\",IFERROR(VLOOKUP('Whip Data'!$T441,Conduit,3,FALSE),VLOOKUP('Whip Data'!$S441,Conduit,3,FALSE)))","v":""},{"$f":"IF(B428=\"\",\"\",'Whip Data'!O441)","v":""},{"$f":"IF(C428=\"\",\"\",'Whip Data'!P441)","v":""},{"$f":"IF($B428=\"\",\"\",IF(ISTEXT('Whip Data'!V441),'Whip Data'!V441,'Whip Data'!U441))","v":""},{"$f":"IF(B428=\"\",\"\",IF(ISBLANK('Whip Data'!X441),'Whip Data'!W441,'Whip Data'!X441))","v":""},"","",{"$f":"IF($B428=\"\",\"\",IF('Whip Data'!Q441=\"\",\"None\",'Whip Data'!Q441))","v":""},{"$f":"IF(O428=\"\",\"\",IF($O428=\"None\",\"NA\",INDEX(Breakers!$A$1:$I$75,MATCH(BOM!C428,Breakers!$A$1:$A$75,0),MATCH(BOM!O428,Breakers!$A$1:$I$1,0))))","v":""},{"$f":"IF(B428=\"\",\"\",VLOOKUP(H428,Standards!$X$3:$Y$6,2,FALSE))","v":""}]
[{"$f":"IF($B429=\"\",\"\",'Whip Data'!$Z442)","v":""},{"$f":"IFERROR('Whip Data'!A442,\"\")","v":""},{"$f":"IF(B429=\"\",\"\",'Whip Data'!L442)","v":""},"",{"$f":"IF($B429=\"\",\"\",VLOOKUP($C429,Materials,'Whip Data'!$M$10+11,FALSE))","v":""},{"$f":"IF($B429=\"\",\"\",VLOOKUP($C429,Materials,'Whip Data'!$M$10+13,FALSE))","v":""},{"$f":"IFERROR(\"LTUA-\"&IF(ISTEXT('Whip Data'!$T442),VLOOKUP('Whip Data'!$T442,Conduit,2,FALSE),VLOOKUP('Whip Data'!$S442,Conduit,2,FALSE))&\"-\"&'Whip Data'!$R442,\"\")","v":""},{"$f":"IF($B429=\"\",\"\",IFERROR(VLOOKUP('Whip Data'!$T442,Conduit,3,FALSE),VLOOKUP('Whip Data'!$S442,Conduit,3,FALSE)))","v":""},{"$f":"IF(B429=\"\",\"\",'Whip Data'!O442)","v":""},{"$f":"IF(C429=\"\",\"\",'Whip Data'!P442)","v":""},{"$f":"IF($B429=\"\",\"\",IF(ISTEXT('Whip Data'!V442),'Whip Data'!V442,'Whip Data'!U442))","v":""},{"$f":"IF(B429=\"\",\"\",IF(ISBLANK('Whip Data'!X442),'Whip Data'!W442,'Whip Data'!X442))","v":""},"","",{"$f":"IF($B429=\"\",\"\",IF('Whip Data'!Q442=\"\",\"None\",'Whip Data'!Q442))","v":""},{"$f":"IF(O429=\"\",\"\",IF($O429=\"None\",\"NA\",INDEX(Breakers!$A$1:$I$75,MATCH(BOM!C429,Breakers!$A$1:$A$75,0),MATCH(BOM!O429,Breakers!$A$1:$I$1,0))))","v":""},{"$f":"IF(B429=\"\",\"\",VLOOKUP(H429,Standards!$X$3:$Y$6,2,FALSE))","v":""}]
[{"$f":"IF($B430=\"\",\"\",'Whip Data'!$Z443)","v":""},{"$f":"IFERROR('Whip Data'!A443,\"\")","v":""},{"$f":"IF(B430=\"\",\"\",'Whip Data'!L443)","v":""},"",{"$f":"IF($B430=\"\",\"\",VLOOKUP($C430,Materials,'Whip Data'!$M$10+11,FALSE))","v":""},{"$f":"IF($B430=\"\",\"\",VLOOKUP($C430,Materials,'Whip Data'!$M$10+13,FALSE))","v":""},{"$f":"IFERROR(\"LTUA-\"&IF(ISTEXT('Whip Data'!$T443),VLOOKUP('Whip Data'!$T443,Conduit,2,FALSE),VLOOKUP('Whip Data'!$S443,Conduit,2,FALSE))&\"-\"&'Whip Data'!$R443,\"\")","v":""},{"$f":"IF($B430=\"\",\"\",IFERROR(VLOOKUP('Whip Data'!$T443,Conduit,3,FALSE),VLOOKUP('Whip Data'!$S443,Conduit,3,FALSE)))","v":""},{"$f":"IF(B430=\"\",\"\",'Whip Data'!O443)","v":""},{"$f":"IF(C430=\"\",\"\",'Whip Data'!P443)","v":""},{"$f":"IF($B430=\"\",\"\",IF(ISTEXT('Whip Data'!V443),'Whip Data'!V443,'Whip Data'!U443))","v":""},{"$f":"IF(B430=\"\",\"\",IF(ISBLANK('Whip Data'!X443),'Whip Data'!W443,'Whip Data'!X443))","v":""},"","",{"$f":"IF($B430=\"\",\"\",IF('Whip Data'!Q443=\"\",\"None\",'Whip Data'!Q443))","v":""},{"$f":"IF(O430=\"\",\"\",IF($O430=\"None\",\"NA\",INDEX(Breakers!$A$1:$I$75,MATCH(BOM!C430,Breakers!$A$1:$A$75,0),MATCH(BOM!O430,Breakers!$A$1:$I$1,0))))","v":""},{"$f":"IF(B430=\"\",\"\",VLOOKUP(H430,Standards!$X$3:$Y$6,2,FALSE))","v":""}]
[{"$f":"IF($B431=\"\",\"\",'Whip Data'!$Z444)","v":""},{"$f":"IFERROR('Whip Data'!A444,\"\")","v":""},{"$f":"IF(B431=\"\",\"\",'Whip Data'!L444)","v":""},"",{"$f":"IF($B431=\"\",\"\",VLOOKUP($C431,Materials,'Whip Data'!$M$10+11,FALSE))","v":""},{"$f":"IF($B431=\"\",\"\",VLOOKUP($C431,Materials,'Whip Data'!$M$10+13,FALSE))","v":""},{"$f":"IFERROR(\"LTUA-\"&IF(ISTEXT('Whip Data'!$T444),VLOOKUP('Whip Data'!$T444,Conduit,2,FALSE),VLOOKUP('Whip Data'!$S444,Conduit,2,FALSE))&\"-\"&'Whip Data'!$R444,\"\")","v":""},{"$f":"IF($B431=\"\",\"\",IFERROR(VLOOKUP('Whip Data'!$T444,Conduit,3,FALSE),VLOOKUP('Whip Data'!$S444,Conduit,3,FALSE)))","v":""},{"$f":"IF(B431=\"\",\"\",'Whip Data'!O444)","v":""},{"$f":"IF(C431=\"\",\"\",'Whip Data'!P444)","v":""},{"$f":"IF($B431=\"\",\"\",IF(ISTEXT('Whip Data'!V444),'Whip Data'!V444,'Whip Data'!U444))","v":""},{"$f":"IF(B431=\"\",\"\",IF(ISBLANK('Whip Data'!X444),'Whip Data'!W444,'Whip Data'!X444))","v":""},"","",{"$f":"IF($B431=\"\",\"\",IF('Whip Data'!Q444=\"\",\"None\",'Whip Data'!Q444))","v":""},{"$f":"IF(O431=\"\",\"\",IF($O431=\"None\",\"NA\",INDEX(Breakers!$A$1:$I$75,MATCH(BOM!C431,Breakers!$A$1:$A$75,0),MATCH(BOM!O431,Breakers!$A$1:$I$1,0))))","v":""},{"$f":"IF(B431=\"\",\"\",VLOOKUP(H431,Standards!$X$3:$Y$6,2,FALSE))","v":""}]
[{"$f":"IF($B432=\"\",\"\",'Whip Data'!$Z445)","v":""},{"$f":"IFERROR('Whip Data'!A445,\"\")","v":""},{"$f":"IF(B432=\"\",\"\",'Whip Data'!L445)","v":""},"",{"$f":"IF($B432=\"\",\"\",VLOOKUP($C432,Materials,'Whip Data'!$M$10+11,FALSE))","v":""},{"$f":"IF($B432=\"\",\"\",VLOOKUP($C432,Materials,'Whip Data'!$M$10+13,FALSE))","v":""},{"$f":"IFERROR(\"LTUA-\"&IF(ISTEXT('Whip Data'!$T445),VLOOKUP('Whip Data'!$T445,Conduit,2,FALSE),VLOOKUP('Whip Data'!$S445,Conduit,2,FALSE))&\"-\"&'Whip Data'!$R445,\"\")","v":""},{"$f":"IF($B432=\"\",\"\",IFERROR(VLOOKUP('Whip Data'!$T445,Conduit,3,FALSE),VLOOKUP('Whip Data'!$S445,Conduit,3,FALSE)))","v":""},{"$f":"IF(B432=\"\",\"\",'Whip Data'!O445)","v":""},{"$f":"IF(C432=\"\",\"\",'Whip Data'!P445)","v":""},{"$f":"IF($B432=\"\",\"\",IF(ISTEXT('Whip Data'!V445),'Whip Data'!V445,'Whip Data'!U445))","v":""},{"$f":"IF(B432=\"\",\"\",IF(ISBLANK('Whip Data'!X445),'Whip Data'!W445,'Whip Data'!X445))","v":""},"","",{"$f":"IF($B432=\"\",\"\",IF('Whip Data'!Q445=\"\",\"None\",'Whip Data'!Q445))","v":""},{"$f":"IF(O432=\"\",\"\",IF($O432=\"None\",\"NA\",INDEX(Breakers!$A$1:$I$75,MATCH(BOM!C432,Breakers!$A$1:$A$75,0),MATCH(BOM!O432,Breakers!$A$1:$I$1,0))))","v":""},{"$f":"IF(B432=\"\",\"\",VLOOKUP(H432,Standards!$X$3:$Y$6,2,FALSE))","v":""}]
[{"$f":"IF($B433=\"\",\"\",'Whip Data'!$Z446)","v":""},{"$f":"IFERROR('Whip Data'!A446,\"\")","v":""},{"$f":"IF(B433=\"\",\"\",'Whip Data'!L446)","v":""},"",{"$f":"IF($B433=\"\",\"\",VLOOKUP($C433,Materials,'Whip Data'!$M$10+11,FALSE))","v":""},{"$f":"IF($B433=\"\",\"\",VLOOKUP($C433,Materials,'Whip Data'!$M$10+13,FALSE))","v":""},{"$f":"IFERROR(\"LTUA-\"&IF(ISTEXT('Whip Data'!$T446),VLOOKUP('Whip Data'!$T446,Conduit,2,FALSE),VLOOKUP('Whip Data'!$S446,Conduit,2,FALSE))&\"-\"&'Whip Data'!$R446,\"\")","v":""},{"$f":"IF($B433=\"\",\"\",IFERROR(VLOOKUP('Whip Data'!$T446,Conduit,3,FALSE),VLOOKUP('Whip Data'!$S446,Conduit,3,FALSE)))","v":""},{"$f":"IF(B433=\"\",\"\",'Whip Data'!O446)","v":""},{"$f":"IF(C433=\"\",\"\",'Whip Data'!P446)","v":""},{"$f":"IF($B433=\"\",\"\",IF(ISTEXT('Whip Data'!V446),'Whip Data'!V446,'Whip Data'!U446))","v":""},{"$f":"IF(B433=\"\",\"\",IF(ISBLANK('Whip Data'!X446),'Whip Data'!W446,'Whip Data'!X446))","v":""},"","",{"$f":"IF($B433=\"\",\"\",IF('Whip Data'!Q446=\"\",\"None\",'Whip Data'!Q446))","v":""},{"$f":"IF(O433=\"\",\"\",IF($O433=\"None\",\"NA\",INDEX(Breakers!$A$1:$I$75,MATCH(BOM!C433,Breakers!$A$1:$A$75,0),MATCH(BOM!O433,Breakers!$A$1:$I$1,0))))","v":""},{"$f":"IF(B433=\"\",\"\",VLOOKUP(H433,Standards!$X$3:$Y$6,2,FALSE))","v":""}]
[{"$f":"IF($B434=\"\",\"\",'Whip Data'!$Z447)","v":""},{"$f":"IFERROR('Whip Data'!A447,\"\")","v":""},{"$f":"IF(B434=\"\",\"\",'Whip Data'!L447)","v":""},"",{"$f":"IF($B434=\"\",\"\",VLOOKUP($C434,Materials,'Whip Data'!$M$10+11,FALSE))","v":""},{"$f":"IF($B434=\"\",\"\",VLOOKUP($C434,Materials,'Whip Data'!$M$10+13,FALSE))","v":""},{"$f":"IFERROR(\"LTUA-\"&IF(ISTEXT('Whip Data'!$T447),VLOOKUP('Whip Data'!$T447,Conduit,2,FALSE),VLOOKUP('Whip Data'!$S447,Conduit,2,FALSE))&\"-\"&'Whip Data'!$R447,\"\")","v":""},{"$f":"IF($B434=\"\",\"\",IFERROR(VLOOKUP('Whip Data'!$T447,Conduit,3,FALSE),VLOOKUP('Whip Data'!$S447,Conduit,3,FALSE)))","v":""},{"$f":"IF(B434=\"\",\"\",'Whip Data'!O447)","v":""},{"$f":"IF(C434=\"\",\"\",'Whip Data'!P447)","v":""},{"$f":"IF($B434=\"\",\"\",IF(ISTEXT('Whip Data'!V447),'Whip Data'!V447,'Whip Data'!U447))","v":""},{"$f":"IF(B434=\"\",\"\",IF(ISBLANK('Whip Data'!X447),'Whip Data'!W447,'Whip Data'!X447))","v":""},"","",{"$f":"IF($B434=\"\",\"\",IF('Whip Data'!Q447=\"\",\"None\",'Whip Data'!Q447))","v":""},{"$f":"IF(O434=\"\",\"\",IF($O434=\"None\",\"NA\",INDEX(Breakers!$A$1:$I$75,MATCH(BOM!C434,Breakers!$A$1:$A$75,0),MATCH(BOM!O434,Breakers!$A$1:$I$1,0))))","v":""},{"$f":"IF(B434=\"\",\"\",VLOOKUP(H434,Standards!$X$3:$Y$6,2,FALSE))","v":""}]
[{"$f":"IF($B435=\"\",\"\",'Whip Data'!$Z448)","v":""},{"$f":"IFERROR('Whip Data'!A448,\"\")","v":""},{"$f":"IF(B435=\"\",\"\",'Whip Data'!L448)","v":""},"",{"$f":"IF($B435=\"\",\"\",VLOOKUP($C435,Materials,'Whip Data'!$M$10+11,FALSE))","v":""},{"$f":"IF($B435=\"\",\"\",VLOOKUP($C435,Materials,'Whip Data'!$M$10+13,FALSE))","v":""},{"$f":"IFERROR(\"LTUA-\"&IF(ISTEXT('Whip Data'!$T448),VLOOKUP('Whip Data'!$T448,Conduit,2,FALSE),VLOOKUP('Whip Data'!$S448,Conduit,2,FALSE))&\"-\"&'Whip Data'!$R448,\"\")","v":""},{"$f":"IF($B435=\"\",\"\",IFERROR(VLOOKUP('Whip Data'!$T448,Conduit,3,FALSE),VLOOKUP('Whip Data'!$S448,Conduit,3,FALSE)))","v":""},{"$f":"IF(B435=\"\",\"\",'Whip Data'!O448)","v":""},{"$f":"IF(C435=\"\",\"\",'Whip Data'!P448)","v":""},{"$f":"IF($B435=\"\",\"\",IF(ISTEXT('Whip Data'!V448),'Whip Data'!V448,'Whip Data'!U448))","v":""},{"$f":"IF(B435=\"\",\"\",IF(ISBLANK('Whip Data'!X448),'Whip Data'!W448,'Whip Data'!X448))","v":""},"","",{"$f":"IF($B435=\"\",\"\",IF('Whip Data'!Q448=\"\",\"None\",'Whip Data'!Q448))","v":""},{"$f":"IF(O435=\"\",\"\",IF($O435=\"None\",\"NA\",INDEX(Breakers!$A$1:$I$75,MATCH(BOM!C435,Breakers!$A$1:$A$75,0),MATCH(BOM!O435,Breakers!$A$1:$I$1,0))))","v":""},{"$f":"IF(B435=\"\",\"\",VLOOKUP(H435,Standards!$X$3:$Y$6,2,FALSE))","v":""}]
[{"$f":"IF($B436=\"\",\"\",'Whip Data'!$Z449)","v":""},{"$f":"IFERROR('Whip Data'!A449,\"\")","v":""},{"$f":"IF(B436=\"\",\"\",'Whip Data'!L449)","v":""},"",{"$f":"IF($B436=\"\",\"\",VLOOKUP($C436,Materials,'Whip Data'!$M$10+11,FALSE))","v":""},{"$f":"IF($B436=\"\",\"\",VLOOKUP($C436,Materials,'Whip Data'!$M$10+13,FALSE))","v":""},{"$f":"IFERROR(\"LTUA-\"&IF(ISTEXT('Whip Data'!$T449),VLOOKUP('Whip Data'!$T449,Conduit,2,FALSE),VLOOKUP('Whip Data'!$S449,Conduit,2,FALSE))&\"-\"&'Whip Data'!$R449,\"\")","v":""},{"$f":"IF($B436=\"\",\"\",IFERROR(VLOOKUP('Whip Data'!$T449,Conduit,3,FALSE),VLOOKUP('Whip Data'!$S449,Conduit,3,FALSE)))","v":""},{"$f":"IF(B436=\"\",\"\",'Whip Data'!O449)","v":""},{"$f":"IF(C436=\"\",\"\",'Whip Data'!P449)","v":""},{"$f":"IF($B436=\"\",\"\",IF(ISTEXT('Whip Data'!V449),'Whip Data'!V449,'Whip Data'!U449))","v":""},{"$f":"IF(B436=\"\",\"\",IF(ISBLANK('Whip Data'!X449),'Whip Data'!W449,'Whip Data'!X449))","v":""},"","",{"$f":"IF($B436=\"\",\"\",IF('Whip Data'!Q449=\"\",\"None\",'Whip Data'!Q449))","v":""},{"$f":"IF(O436=\"\",\"\",IF($O436=\"None\",\"NA\",INDEX(Breakers!$A$1:$I$75,MATCH(BOM!C436,Breakers!$A$1:$A$75,0),MATCH(BOM!O436,Breakers!$A$1:$I$1,0))))","v":""},{"$f":"IF(B436=\"\",\"\",VLOOKUP(H436,Standards!$X$3:$Y$6,2,FALSE))","v":""}]
[{"$f":"IF($B437=\"\",\"\",'Whip Data'!$Z450)","v":""},{"$f":"IFERROR('Whip Data'!A450,\"\")","v":""},{"$f":"IF(B437=\"\",\"\",'Whip Data'!L450)","v":""},"",{"$f":"IF($B437=\"\",\"\",VLOOKUP($C437,Materials,'Whip Data'!$M$10+11,FALSE))","v":""},{"$f":"IF($B437=\"\",\"\",VLOOKUP($C437,Materials,'Whip Data'!$M$10+13,FALSE))","v":""},{"$f":"IFERROR(\"LTUA-\"&IF(ISTEXT('Whip Data'!$T450),VLOOKUP('Whip Data'!$T450,Conduit,2,FALSE),VLOOKUP('Whip Data'!$S450,Conduit,2,FALSE))&\"-\"&'Whip Data'!$R450,\"\")","v":""},{"$f":"IF($B437=\"\",\"\",IFERROR(VLOOKUP('Whip Data'!$T450,Conduit,3,FALSE),VLOOKUP('Whip Data'!$S450,Conduit,3,FALSE)))","v":""},{"$f":"IF(B437=\"\",\"\",'Whip Data'!O450)","v":""},{"$f":"IF(C437=\"\",\"\",'Whip Data'!P450)","v":""},{"$f":"IF($B437=\"\",\"\",IF(ISTEXT('Whip Data'!V450),'Whip Data'!V450,'Whip Data'!U450))","v":""},{"$f":"IF(B437=\"\",\"\",IF(ISBLANK('Whip Data'!X450),'Whip Data'!W450,'Whip Data'!X450))","v":""},"","",{"$f":"IF($B437=\"\",\"\",IF('Whip Data'!Q450=\"\",\"None\",'Whip Data'!Q450))","v":""},{"$f":"IF(O437=\"\",\"\",IF($O437=\"None\",\"NA\",INDEX(Breakers!$A$1:$I$75,MATCH(BOM!C437,Breakers!$A$1:$A$75,0),MATCH(BOM!O437,Breakers!$A$1:$I$1,0))))","v":""},{"$f":"IF(B437=\"\",\"\",VLOOKUP(H437,Standards!$X$3:$Y$6,2,FALSE))","v":""}]
[{"$f":"IF($B438=\"\",\"\",'Whip Data'!$Z451)","v":""},{"$f":"IFERROR('Whip Data'!A451,\"\")","v":""},{"$f":"IF(B438=\"\",\"\",'Whip Data'!L451)","v":""},"",{"$f":"IF($B438=\"\",\"\",VLOOKUP($C438,Materials,'Whip Data'!$M$10+11,FALSE))","v":""},{"$f":"IF($B438=\"\",\"\",VLOOKUP($C438,Materials,'Whip Data'!$M$10+13,FALSE))","v":""},{"$f":"IFERROR(\"LTUA-\"&IF(ISTEXT('Whip Data'!$T451),VLOOKUP('Whip Data'!$T451,Conduit,2,FALSE),VLOOKUP('Whip Data'!$S451,Conduit,2,FALSE))&\"-\"&'Whip Data'!$R451,\"\")","v":""},{"$f":"IF($B438=\"\",\"\",IFERROR(VLOOKUP('Whip Data'!$T451,Conduit,3,FALSE),VLOOKUP('Whip Data'!$S451,Conduit,3,FALSE)))","v":""},{"$f":"IF(B438=\"\",\"\",'Whip Data'!O451)","v":""},{"$f":"IF(C438=\"\",\"\",'Whip Data'!P451)","v":""},{"$f":"IF($B438=\"\",\"\",IF(ISTEXT('Whip Data'!V451),'Whip Data'!V451,'Whip Data'!U451))","v":""},{"$f":"IF(B438=\"\",\"\",IF(ISBLANK('Whip Data'!X451),'Whip Data'!W451,'Whip Data'!X451))","v":""},"","",{"$f":"IF($B438=\"\",\"\",IF('Whip Data'!Q451=\"\",\"None\",'Whip Data'!Q451))","v":""},{"$f":"IF(O438=\"\",\"\",IF($O438=\"None\",\"NA\",INDEX(Breakers!$A$1:$I$75,MATCH(BOM!C438,Breakers!$A$1:$A$75,0),MATCH(BOM!O438,Breakers!$A$1:$I$1,0))))","v":""},{"$f":"IF(B438=\"\",\"\",VLOOKUP(H438,Standards!$X$3:$Y$6,2,FALSE))","v":""}]
[{"$f":"IF($B439=\"\",\"\",'Whip Data'!$Z452)","v":""},{"$f":"IFERROR('Whip Data'!A452,\"\")","v":""},{"$f":"IF(B439=\"\",\"\",'Whip Data'!L452)","v":""},"",{"$f":"IF($B439=\"\",\"\",VLOOKUP($C439,Materials,'Whip Data'!$M$10+11,FALSE))","v":""},{"$f":"IF($B439=\"\",\"\",VLOOKUP($C439,Materials,'Whip Data'!$M$10+13,FALSE))","v":""},{"$f":"IFERROR(\"LTUA-\"&IF(ISTEXT('Whip Data'!$T452),VLOOKUP('Whip Data'!$T452,Conduit,2,FALSE),VLOOKUP('Whip Data'!$S452,Conduit,2,FALSE))&\"-\"&'Whip Data'!$R452,\"\")","v":""},{"$f":"IF($B439=\"\",\"\",IFERROR(VLOOKUP('Whip Data'!$T452,Conduit,3,FALSE),VLOOKUP('Whip Data'!$S452,Conduit,3,FALSE)))","v":""},{"$f":"IF(B439=\"\",\"\",'Whip Data'!O452)","v":""},{"$f":"IF(C439=\"\",\"\",'Whip Data'!P452)","v":""},{"$f":"IF($B439=\"\",\"\",IF(ISTEXT('Whip Data'!V452),'Whip Data'!V452,'Whip Data'!U452))","v":""},{"$f":"IF(B439=\"\",\"\",IF(ISBLANK('Whip Data'!X452),'Whip Data'!W452,'Whip Data'!X452))","v":""},"","",{"$f":"IF($B439=\"\",\"\",IF('Whip Data'!Q452=\"\",\"None\",'Whip Data'!Q452))","v":""},{"$f":"IF(O439=\"\",\"\",IF($O439=\"None\",\"NA\",INDEX(Breakers!$A$1:$I$75,MATCH(BOM!C439,Breakers!$A$1:$A$75,0),MATCH(BOM!O439,Breakers!$A$1:$I$1,0))))","v":""},{"$f":"IF(B439=\"\",\"\",VLOOKUP(H439,Standards!$X$3:$Y$6,2,FALSE))","v":""}]
[{"$f":"IF($B440=\"\",\"\",'Whip Data'!$Z453)","v":""},{"$f":"IFERROR('Whip Data'!A453,\"\")","v":""},{"$f":"IF(B440=\"\",\"\",'Whip Data'!L453)","v":""},"",{"$f":"IF($B440=\"\",\"\",VLOOKUP($C440,Materials,'Whip Data'!$M$10+11,FALSE))","v":""},{"$f":"IF($B440=\"\",\"\",VLOOKUP($C440,Materials,'Whip Data'!$M$10+13,FALSE))","v":""},{"$f":"IFERROR(\"LTUA-\"&IF(ISTEXT('Whip Data'!$T453),VLOOKUP('Whip Data'!$T453,Conduit,2,FALSE),VLOOKUP('Whip Data'!$S453,Conduit,2,FALSE))&\"-\"&'Whip Data'!$R453,\"\")","v":""},{"$f":"IF($B440=\"\",\"\",IFERROR(VLOOKUP('Whip Data'!$T453,Conduit,3,FALSE),VLOOKUP('Whip Data'!$S453,Conduit,3,FALSE)))","v":""},{"$f":"IF(B440=\"\",\"\",'Whip Data'!O453)","v":""},{"$f":"IF(C440=\"\",\"\",'Whip Data'!P453)","v":""},{"$f":"IF($B440=\"\",\"\",IF(ISTEXT('Whip Data'!V453),'Whip Data'!V453,'Whip Data'!U453))","v":""},{"$f":"IF(B440=\"\",\"\",IF(ISBLANK('Whip Data'!X453),'Whip Data'!W453,'Whip Data'!X453))","v":""},"","",{"$f":"IF($B440=\"\",\"\",IF('Whip Data'!Q453=\"\",\"None\",'Whip Data'!Q453))","v":""},{"$f":"IF(O440=\"\",\"\",IF($O440=\"None\",\"NA\",INDEX(Breakers!$A$1:$I$75,MATCH(BOM!C440,Breakers!$A$1:$A$75,0),MATCH(BOM!O440,Breakers!$A$1:$I$1,0))))","v":""},{"$f":"IF(B440=\"\",\"\",VLOOKUP(H440,Standards!$X$3:$Y$6,2,FALSE))","v":""}]
[{"$f":"IF($B441=\"\",\"\",'Whip Data'!$Z454)","v":""},{"$f":"IFERROR('Whip Data'!A454,\"\")","v":""},{"$f":"IF(B441=\"\",\"\",'Whip Data'!L454)","v":""},"",{"$f":"IF($B441=\"\",\"\",VLOOKUP($C441,Materials,'Whip Data'!$M$10+11,FALSE))","v":""},{"$f":"IF($B441=\"\",\"\",VLOOKUP($C441,Materials,'Whip Data'!$M$10+13,FALSE))","v":""},{"$f":"IFERROR(\"LTUA-\"&IF(ISTEXT('Whip Data'!$T454),VLOOKUP('Whip Data'!$T454,Conduit,2,FALSE),VLOOKUP('Whip Data'!$S454,Conduit,2,FALSE))&\"-\"&'Whip Data'!$R454,\"\")","v":""},{"$f":"IF($B441=\"\",\"\",IFERROR(VLOOKUP('Whip Data'!$T454,Conduit,3,FALSE),VLOOKUP('Whip Data'!$S454,Conduit,3,FALSE)))","v":""},{"$f":"IF(B441=\"\",\"\",'Whip Data'!O454)","v":""},{"$f":"IF(C441=\"\",\"\",'Whip Data'!P454)","v":""},{"$f":"IF($B441=\"\",\"\",IF(ISTEXT('Whip Data'!V454),'Whip Data'!V454,'Whip Data'!U454))","v":""},{"$f":"IF(B441=\"\",\"\",IF(ISBLANK('Whip Data'!X454),'Whip Data'!W454,'Whip Data'!X454))","v":""},"","",{"$f":"IF($B441=\"\",\"\",IF('Whip Data'!Q454=\"\",\"None\",'Whip Data'!Q454))","v":""},{"$f":"IF(O441=\"\",\"\",IF($O441=\"None\",\"NA\",INDEX(Breakers!$A$1:$I$75,MATCH(BOM!C441,Breakers!$A$1:$A$75,0),MATCH(BOM!O441,Breakers!$A$1:$I$1,0))))","v":""},{"$f":"IF(B441=\"\",\"\",VLOOKUP(H441,Standards!$X$3:$Y$6,2,FALSE))","v":""}]
[{"$f":"IF($B442=\"\",\"\",'Whip Data'!$Z455)","v":""},{"$f":"IFERROR('Whip Data'!A455,\"\")","v":""},{"$f":"IF(B442=\"\",\"\",'Whip Data'!L455)","v":""},"",{"$f":"IF($B442=\"\",\"\",VLOOKUP($C442,Materials,'Whip Data'!$M$10+11,FALSE))","v":""},{"$f":"IF($B442=\"\",\"\",VLOOKUP($C442,Materials,'Whip Data'!$M$10+13,FALSE))","v":""},{"$f":"IFERROR(\"LTUA-\"&IF(ISTEXT('Whip Data'!$T455),VLOOKUP('Whip Data'!$T455,Conduit,2,FALSE),VLOOKUP('Whip Data'!$S455,Conduit,2,FALSE))&\"-\"&'Whip Data'!$R455,\"\")","v":""},{"$f":"IF($B442=\"\",\"\",IFERROR(VLOOKUP('Whip Data'!$T455,Conduit,3,FALSE),VLOOKUP('Whip Data'!$S455,Conduit,3,FALSE)))","v":""},{"$f":"IF(B442=\"\",\"\",'Whip Data'!O455)","v":""},{"$f":"IF(C442=\"\",\"\",'Whip Data'!P455)","v":""},{"$f":"IF($B442=\"\",\"\",IF(ISTEXT('Whip Data'!V455),'Whip Data'!V455,'Whip Data'!U455))","v":""},{"$f":"IF(B442=\"\",\"\",IF(ISBLANK('Whip Data'!X455),'Whip Data'!W455,'Whip Data'!X455))","v":""},"","",{"$f":"IF($B442=\"\",\"\",IF('Whip Data'!Q455=\"\",\"None\",'Whip Data'!Q455))","v":""},{"$f":"IF(O442=\"\",\"\",IF($O442=\"None\",\"NA\",INDEX(Breakers!$A$1:$I$75,MATCH(BOM!C442,Breakers!$A$1:$A$75,0),MATCH(BOM!O442,Breakers!$A$1:$I$1,0))))","v":""},{"$f":"IF(B442=\"\",\"\",VLOOKUP(H442,Standards!$X$3:$Y$6,2,FALSE))","v":""}]
[{"$f":"IF($B443=\"\",\"\",'Whip Data'!$Z456)","v":""},{"$f":"IFERROR('Whip Data'!A456,\"\")","v":""},{"$f":"IF(B443=\"\",\"\",'Whip Data'!L456)","v":""},"",{"$f":"IF($B443=\"\",\"\",VLOOKUP($C443,Materials,'Whip Data'!$M$10+11,FALSE))","v":""},{"$f":"IF($B443=\"\",\"\",VLOOKUP($C443,Materials,'Whip Data'!$M$10+13,FALSE))","v":""},{"$f":"IFERROR(\"LTUA-\"&IF(ISTEXT('Whip Data'!$T456),VLOOKUP('Whip Data'!$T456,Conduit,2,FALSE),VLOOKUP('Whip Data'!$S456,Conduit,2,FALSE))&\"-\"&'Whip Data'!$R456,\"\")","v":""},{"$f":"IF($B443=\"\",\"\",IFERROR(VLOOKUP('Whip Data'!$T456,Conduit,3,FALSE),VLOOKUP('Whip Data'!$S456,Conduit,3,FALSE)))","v":""},{"$f":"IF(B443=\"\",\"\",'Whip Data'!O456)","v":""},{"$f":"IF(C443=\"\",\"\",'Whip Data'!P456)","v":""},{"$f":"IF($B443=\"\",\"\",IF(ISTEXT('Whip Data'!V456),'Whip Data'!V456,'Whip Data'!U456))","v":""},{"$f":"IF(B443=\"\",\"\",IF(ISBLANK('Whip Data'!X456),'Whip Data'!W456,'Whip Data'!X456))","v":""},"","",{"$f":"IF($B443=\"\",\"\",IF('Whip Data'!Q456=\"\",\"None\",'Whip Data'!Q456))","v":""},{"$f":"IF(O443=\"\",\"\",IF($O443=\"None\",\"NA\",INDEX(Breakers!$A$1:$I$75,MATCH(BOM!C443,Breakers!$A$1:$A$75,0),MATCH(BOM!O443,Breakers!$A$1:$I$1,0))))","v":""},{"$f":"IF(B443=\"\",\"\",VLOOKUP(H443,Standards!$X$3:$Y$6,2,FALSE))","v":""}]
[{"$f":"IF($B444=\"\",\"\",'Whip Data'!$Z457)","v":""},{"$f":"IFERROR('Whip Data'!A457,\"\")","v":""},{"$f":"IF(B444=\"\",\"\",'Whip Data'!L457)","v":""},"",{"$f":"IF($B444=\"\",\"\",VLOOKUP($C444,Materials,'Whip Data'!$M$10+11,FALSE))","v":""},{"$f":"IF($B444=\"\",\"\",VLOOKUP($C444,Materials,'Whip Data'!$M$10+13,FALSE))","v":""},{"$f":"IFERROR(\"LTUA-\"&IF(ISTEXT('Whip Data'!$T457),VLOOKUP('Whip Data'!$T457,Conduit,2,FALSE),VLOOKUP('Whip Data'!$S457,Conduit,2,FALSE))&\"-\"&'Whip Data'!$R457,\"\")","v":""},{"$f":"IF($B444=\"\",\"\",IFERROR(VLOOKUP('Whip Data'!$T457,Conduit,3,FALSE),VLOOKUP('Whip Data'!$S457,Conduit,3,FALSE)))","v":""},{"$f":"IF(B444=\"\",\"\",'Whip Data'!O457)","v":""},{"$f":"IF(C444=\"\",\"\",'Whip Data'!P457)","v":""},{"$f":"IF($B444=\"\",\"\",IF(ISTEXT('Whip Data'!V457),'Whip Data'!V457,'Whip Data'!U457))","v":""},{"$f":"IF(B444=\"\",\"\",IF(ISBLANK('Whip Data'!X457),'Whip Data'!W457,'Whip Data'!X457))","v":""},"","",{"$f":"IF($B444=\"\",\"\",IF('Whip Data'!Q457=\"\",\"None\",'Whip Data'!Q457))","v":""},{"$f":"IF(O444=\"\",\"\",IF($O444=\"None\",\"NA\",INDEX(Breakers!$A$1:$I$75,MATCH(BOM!C444,Breakers!$A$1:$A$75,0),MATCH(BOM!O444,Breakers!$A$1:$I$1,0))))","v":""},{"$f":"IF(B444=\"\",\"\",VLOOKUP(H444,Standards!$X$3:$Y$6,2,FALSE))","v":""}]
[{"$f":"IF($B445=\"\",\"\",'Whip Data'!$Z458)","v":""},{"$f":"IFERROR('Whip Data'!A458,\"\")","v":""},{"$f":"IF(B445=\"\",\"\",'Whip Data'!L458)","v":""},"",{"$f":"IF($B445=\"\",\"\",VLOOKUP($C445,Materials,'Whip Data'!$M$10+11,FALSE))","v":""},{"$f":"IF($B445=\"\",\"\",VLOOKUP($C445,Materials,'Whip Data'!$M$10+13,FALSE))","v":""},{"$f":"IFERROR(\"LTUA-\"&IF(ISTEXT('Whip Data'!$T458),VLOOKUP('Whip Data'!$T458,Conduit,2,FALSE),VLOOKUP('Whip Data'!$S458,Conduit,2,FALSE))&\"-\"&'Whip Data'!$R458,\"\")","v":""},{"$f":"IF($B445=\"\",\"\",IFERROR(VLOOKUP('Whip Data'!$T458,Conduit,3,FALSE),VLOOKUP('Whip Data'!$S458,Conduit,3,FALSE)))","v":""},{"$f":"IF(B445=\"\",\"\",'Whip Data'!O458)","v":""},{"$f":"IF(C445=\"\",\"\",'Whip Data'!P458)","v":""},{"$f":"IF($B445=\"\",\"\",IF(ISTEXT('Whip Data'!V458),'Whip Data'!V458,'Whip Data'!U458))","v":""},{"$f":"IF(B445=\"\",\"\",IF(ISBLANK('Whip Data'!X458),'Whip Data'!W458,'Whip Data'!X458))","v":""},"","",{"$f":"IF($B445=\"\",\"\",IF('Whip Data'!Q458=\"\",\"None\",'Whip Data'!Q458))","v":""},{"$f":"IF(O445=\"\",\"\",IF($O445=\"None\",\"NA\",INDEX(Breakers!$A$1:$I$75,MATCH(BOM!C445,Breakers!$A$1:$A$75,0),MATCH(BOM!O445,Breakers!$A$1:$I$1,0))))","v":""},{"$f":"IF(B445=\"\",\"\",VLOOKUP(H445,Standards!$X$3:$Y$6,2,FALSE))","v":""}]
[{"$f":"IF($B446=\"\",\"\",'Whip Data'!$Z459)","v":""},{"$f":"IFERROR('Whip Data'!A459,\"\")","v":""},{"$f":"IF(B446=\"\",\"\",'Whip Data'!L459)","v":""},"",{"$f":"IF($B446=\"\",\"\",VLOOKUP($C446,Materials,'Whip Data'!$M$10+11,FALSE))","v":""},{"$f":"IF($B446=\"\",\"\",VLOOKUP($C446,Materials,'Whip Data'!$M$10+13,FALSE))","v":""},{"$f":"IFERROR(\"LTUA-\"&IF(ISTEXT('Whip Data'!$T459),VLOOKUP('Whip Data'!$T459,Conduit,2,FALSE),VLOOKUP('Whip Data'!$S459,Conduit,2,FALSE))&\"-\"&'Whip Data'!$R459,\"\")","v":""},{"$f":"IF($B446=\"\",\"\",IFERROR(VLOOKUP('Whip Data'!$T459,Conduit,3,FALSE),VLOOKUP('Whip Data'!$S459,Conduit,3,FALSE)))","v":""},{"$f":"IF(B446=\"\",\"\",'Whip Data'!O459)","v":""},{"$f":"IF(C446=\"\",\"\",'Whip Data'!P459)","v":""},{"$f":"IF($B446=\"\",\"\",IF(ISTEXT('Whip Data'!V459),'Whip Data'!V459,'Whip Data'!U459))","v":""},{"$f":"IF(B446=\"\",\"\",IF(ISBLANK('Whip Data'!X459),'Whip Data'!W459,'Whip Data'!X459))","v":""},"","",{"$f":"IF($B446=\"\",\"\",IF('Whip Data'!Q459=\"\",\"None\",'Whip Data'!Q459))","v":""},{"$f":"IF(O446=\"\",\"\",IF($O446=\"None\",\"NA\",INDEX(Breakers!$A$1:$I$75,MATCH(BOM!C446,Breakers!$A$1:$A$75,0),MATCH(BOM!O446,Breakers!$A$1:$I$1,0))))","v":""},{"$f":"IF(B446=\"\",\"\",VLOOKUP(H446,Standards!$X$3:$Y$6,2,FALSE))","v":""}]
[{"$f":"IF($B447=\"\",\"\",'Whip Data'!$Z460)","v":""},{"$f":"IFERROR('Whip Data'!A460,\"\")","v":""},{"$f":"IF(B447=\"\",\"\",'Whip Data'!L460)","v":""},"",{"$f":"IF($B447=\"\",\"\",VLOOKUP($C447,Materials,'Whip Data'!$M$10+11,FALSE))","v":""},{"$f":"IF($B447=\"\",\"\",VLOOKUP($C447,Materials,'Whip Data'!$M$10+13,FALSE))","v":""},{"$f":"IFERROR(\"LTUA-\"&IF(ISTEXT('Whip Data'!$T460),VLOOKUP('Whip Data'!$T460,Conduit,2,FALSE),VLOOKUP('Whip Data'!$S460,Conduit,2,FALSE))&\"-\"&'Whip Data'!$R460,\"\")","v":""},{"$f":"IF($B447=\"\",\"\",IFERROR(VLOOKUP('Whip Data'!$T460,Conduit,3,FALSE),VLOOKUP('Whip Data'!$S460,Conduit,3,FALSE)))","v":""},{"$f":"IF(B447=\"\",\"\",'Whip Data'!O460)","v":""},{"$f":"IF(C447=\"\",\"\",'Whip Data'!P460)","v":""},{"$f":"IF($B447=\"\",\"\",IF(ISTEXT('Whip Data'!V460),'Whip Data'!V460,'Whip Data'!U460))","v":""},{"$f":"IF(B447=\"\",\"\",IF(ISBLANK('Whip Data'!X460),'Whip Data'!W460,'Whip Data'!X460))","v":""},"","",{"$f":"IF($B447=\"\",\"\",IF('Whip Data'!Q460=\"\",\"None\",'Whip Data'!Q460))","v":""},{"$f":"IF(O447=\"\",\"\",IF($O447=\"None\",\"NA\",INDEX(Breakers!$A$1:$I$75,MATCH(BOM!C447,Breakers!$A$1:$A$75,0),MATCH(BOM!O447,Breakers!$A$1:$I$1,0))))","v":""},{"$f":"IF(B447=\"\",\"\",VLOOKUP(H447,Standards!$X$3:$Y$6,2,FALSE))","v":""}]
[{"$f":"IF($B448=\"\",\"\",'Whip Data'!$Z461)","v":""},{"$f":"IFERROR('Whip Data'!A461,\"\")","v":""},{"$f":"IF(B448=\"\",\"\",'Whip Data'!L461)","v":""},"",{"$f":"IF($B448=\"\",\"\",VLOOKUP($C448,Materials,'Whip Data'!$M$10+11,FALSE))","v":""},{"$f":"IF($B448=\"\",\"\",VLOOKUP($C448,Materials,'Whip Data'!$M$10+13,FALSE))","v":""},{"$f":"IFERROR(\"LTUA-\"&IF(ISTEXT('Whip Data'!$T461),VLOOKUP('Whip Data'!$T461,Conduit,2,FALSE),VLOOKUP('Whip Data'!$S461,Conduit,2,FALSE))&\"-\"&'Whip Data'!$R461,\"\")","v":""},{"$f":"IF($B448=\"\",\"\",IFERROR(VLOOKUP('Whip Data'!$T461,Conduit,3,FALSE),VLOOKUP('Whip Data'!$S461,Conduit,3,FALSE)))","v":""},{"$f":"IF(B448=\"\",\"\",'Whip Data'!O461)","v":""},{"$f":"IF(C448=\"\",\"\",'Whip Data'!P461)","v":""},{"$f":"IF($B448=\"\",\"\",IF(ISTEXT('Whip Data'!V461),'Whip Data'!V461,'Whip Data'!U461))","v":""},{"$f":"IF(B448=\"\",\"\",IF(ISBLANK('Whip Data'!X461),'Whip Data'!W461,'Whip Data'!X461))","v":""},"","",{"$f":"IF($B448=\"\",\"\",IF('Whip Data'!Q461=\"\",\"None\",'Whip Data'!Q461))","v":""},{"$f":"IF(O448=\"\",\"\",IF($O448=\"None\",\"NA\",INDEX(Breakers!$A$1:$I$75,MATCH(BOM!C448,Breakers!$A$1:$A$75,0),MATCH(BOM!O448,Breakers!$A$1:$I$1,0))))","v":""},{"$f":"IF(B448=\"\",\"\",VLOOKUP(H448,Standards!$X$3:$Y$6,2,FALSE))","v":""}]
[{"$f":"IF($B449=\"\",\"\",'Whip Data'!$Z462)","v":""},{"$f":"IFERROR('Whip Data'!A462,\"\")","v":""},{"$f":"IF(B449=\"\",\"\",'Whip Data'!L462)","v":""},"",{"$f":"IF($B449=\"\",\"\",VLOOKUP($C449,Materials,'Whip Data'!$M$10+11,FALSE))","v":""},{"$f":"IF($B449=\"\",\"\",VLOOKUP($C449,Materials,'Whip Data'!$M$10+13,FALSE))","v":""},{"$f":"IFERROR(\"LTUA-\"&IF(ISTEXT('Whip Data'!$T462),VLOOKUP('Whip Data'!$T462,Conduit,2,FALSE),VLOOKUP('Whip Data'!$S462,Conduit,2,FALSE))&\"-\"&'Whip Data'!$R462,\"\")","v":""},{"$f":"IF($B449=\"\",\"\",IFERROR(VLOOKUP('Whip Data'!$T462,Conduit,3,FALSE),VLOOKUP('Whip Data'!$S462,Conduit,3,FALSE)))","v":""},{"$f":"IF(B449=\"\",\"\",'Whip Data'!O462)","v":""},{"$f":"IF(C449=\"\",\"\",'Whip Data'!P462)","v":""},{"$f":"IF($B449=\"\",\"\",IF(ISTEXT('Whip Data'!V462),'Whip Data'!V462,'Whip Data'!U462))","v":""},{"$f":"IF(B449=\"\",\"\",IF(ISBLANK('Whip Data'!X462),'Whip Data'!W462,'Whip Data'!X462))","v":""},"","",{"$f":"IF($B449=\"\",\"\",IF('Whip Data'!Q462=\"\",\"None\",'Whip Data'!Q462))","v":""},{"$f":"IF(O449=\"\",\"\",IF($O449=\"None\",\"NA\",INDEX(Breakers!$A$1:$I$75,MATCH(BOM!C449,Breakers!$A$1:$A$75,0),MATCH(BOM!O449,Breakers!$A$1:$I$1,0))))","v":""},{"$f":"IF(B449=\"\",\"\",VLOOKUP(H449,Standards!$X$3:$Y$6,2,FALSE))","v":""}]
[{"$f":"IF($B450=\"\",\"\",'Whip Data'!$Z463)","v":""},{"$f":"IFERROR('Whip Data'!A463,\"\")","v":""},{"$f":"IF(B450=\"\",\"\",'Whip Data'!L463)","v":""},{"$f":"IF(B450=\"\",\"\",VLOOKUP(C450,Materials,11,FALSE))","v":""},{"$f":"IF($B450=\"\",\"\",VLOOKUP($C450,Materials,'Whip Data'!$M$10+11,FALSE))","v":""},{"$f":"IF($B450=\"\",\"\",VLOOKUP($C450,Materials,'Whip Data'!$M$10+13,FALSE))","v":""},{"$f":"IFERROR(\"LTUA-\"&IF(ISTEXT('Whip Data'!$T463),VLOOKUP('Whip Data'!$T463,Conduit,2,FALSE),VLOOKUP('Whip Data'!$S463,Conduit,2,FALSE))&\"-\"&'Whip Data'!$R463,\"\")","v":""},{"$f":"IF($B450=\"\",\"\",IFERROR(VLOOKUP('Whip Data'!$T463,Conduit,3,FALSE),VLOOKUP('Whip Data'!$S463,Conduit,3,FALSE)))","v":""},{"$f":"IF(B450=\"\",\"\",'Whip Data'!O463)","v":""},{"$f":"IF(C450=\"\",\"\",'Whip Data'!P463)","v":""},{"$f":"IF($B450=\"\",\"\",IF(ISTEXT('Whip Data'!V463),'Whip Data'!V463,'Whip Data'!U463))","v":""},{"$f":"IF(B450=\"\",\"\",IF(ISBLANK('Whip Data'!X463),'Whip Data'!W463,'Whip Data'!X463))","v":""},"","",{"$f":"IF($B450=\"\",\"\",IF('Whip Data'!Q463=\"\",\"None\",'Whip Data'!Q463))","v":""},{"$f":"IF(O450=\"\",\"\",IF($O450=\"None\",\"NA\",INDEX(Breakers!$A$1:$I$75,MATCH(BOM!C450,Breakers!$A$1:$A$75,0),MATCH(BOM!O450,Breakers!$A$1:$I$1,0))))","v":""},{"$f":"IF(B450=\"\",\"\",VLOOKUP(H450,Standards!$X$3:$Y$6,2,FALSE))","v":""}]
[{"$f":"IF($B451=\"\",\"\",'Whip Data'!$Z464)","v":""},{"$f":"IFERROR('Whip Data'!A464,\"\")","v":""},{"$f":"IF(B451=\"\",\"\",'Whip Data'!L464)","v":""},"",{"$f":"IF($B451=\"\",\"\",VLOOKUP($C451,Materials,'Whip Data'!$M$10+11,FALSE))","v":""},{"$f":"IF($B451=\"\",\"\",VLOOKUP($C451,Materials,'Whip Data'!$M$10+13,FALSE))","v":""},{"$f":"IFERROR(\"LTUA-\"&IF(ISTEXT('Whip Data'!$T464),VLOOKUP('Whip Data'!$T464,Conduit,2,FALSE),VLOOKUP('Whip Data'!$S464,Conduit,2,FALSE))&\"-\"&'Whip Data'!$R464,\"\")","v":""},{"$f":"IF($B451=\"\",\"\",IFERROR(VLOOKUP('Whip Data'!$T464,Conduit,3,FALSE),VLOOKUP('Whip Data'!$S464,Conduit,3,FALSE)))","v":""},{"$f":"IF(B451=\"\",\"\",'Whip Data'!O464)","v":""},{"$f":"IF(C451=\"\",\"\",'Whip Data'!P464)","v":""},{"$f":"IF($B451=\"\",\"\",IF(ISTEXT('Whip Data'!V464),'Whip Data'!V464,'Whip Data'!U464))","v":""},{"$f":"IF(B451=\"\",\"\",IF(ISBLANK('Whip Data'!X464),'Whip Data'!W464,'Whip Data'!X464))","v":""},{"$f":"IF(B451=\"\",\"\",SUM(I451:J451))","v":""},{"$f":"IF(B451=\"\",\"\",LEFT(K451,1)*M451)","v":""},{"$f":"IF($B451=\"\",\"\",IF('Whip Data'!Q464=\"\",\"None\",'Whip Data'!Q464))","v":""},{"$f":"IF(O451=\"\",\"\",IF($O451=\"None\",\"NA\",INDEX(Breakers!$A$1:$I$75,MATCH(BOM!C451,Breakers!$A$1:$A$75,0),MATCH(BOM!O451,Breakers!$A$1:$I$1,0))))","v":""},{"$f":"IF(B451=\"\",\"\",VLOOKUP(H451,Standards!$X$3:$Y$6,2,FALSE))","v":""}]
[{"$f":"IF($B452=\"\",\"\",'Whip Data'!$Z465)","v":""},{"$f":"IFERROR('Whip Data'!A465,\"\")","v":""},{"$f":"IF(B452=\"\",\"\",'Whip Data'!L465)","v":""},"",{"$f":"IF($B452=\"\",\"\",VLOOKUP($C452,Materials,'Whip Data'!$M$10+11,FALSE))","v":""},{"$f":"IF($B452=\"\",\"\",VLOOKUP($C452,Materials,'Whip Data'!$M$10+13,FALSE))","v":""},{"$f":"IFERROR(\"LTUA-\"&IF(ISTEXT('Whip Data'!$T465),VLOOKUP('Whip Data'!$T465,Conduit,2,FALSE),VLOOKUP('Whip Data'!$S465,Conduit,2,FALSE))&\"-\"&'Whip Data'!$R465,\"\")","v":""},{"$f":"IF($B452=\"\",\"\",IFERROR(VLOOKUP('Whip Data'!$T465,Conduit,3,FALSE),VLOOKUP('Whip Data'!$S465,Conduit,3,FALSE)))","v":""},{"$f":"IF(B452=\"\",\"\",'Whip Data'!O465)","v":""},{"$f":"IF(C452=\"\",\"\",'Whip Data'!P465)","v":""},{"$f":"IF($B452=\"\",\"\",IF(ISTEXT('Whip Data'!V465),'Whip Data'!V465,'Whip Data'!U465))","v":""},{"$f":"IF(B452=\"\",\"\",IF(ISBLANK('Whip Data'!X465),'Whip Data'!W465,'Whip Data'!X465))","v":""},"","",{"$f":"IF($B452=\"\",\"\",IF('Whip Data'!Q465=\"\",\"None\",'Whip Data'!Q465))","v":""},{"$f":"IF(O452=\"\",\"\",IF($O452=\"None\",\"NA\",INDEX(Breakers!$A$1:$I$75,MATCH(BOM!C452,Breakers!$A$1:$A$75,0),MATCH(BOM!O452,Breakers!$A$1:$I$1,0))))","v":""},{"$f":"IF(B452=\"\",\"\",VLOOKUP(H452,Standards!$X$3:$Y$6,2,FALSE))","v":""}]
[{"$f":"IF($B453=\"\",\"\",'Whip Data'!$Z466)","v":""},{"$f":"IFERROR('Whip Data'!A466,\"\")","v":""},{"$f":"IF(B453=\"\",\"\",'Whip Data'!L466)","v":""},"",{"$f":"IF($B453=\"\",\"\",VLOOKUP($C453,Materials,'Whip Data'!$M$10+11,FALSE))","v":""},{"$f":"IF($B453=\"\",\"\",VLOOKUP($C453,Materials,'Whip Data'!$M$10+13,FALSE))","v":""},{"$f":"IFERROR(\"LTUA-\"&IF(ISTEXT('Whip Data'!$T466),VLOOKUP('Whip Data'!$T466,Conduit,2,FALSE),VLOOKUP('Whip Data'!$S466,Conduit,2,FALSE))&\"-\"&'Whip Data'!$R466,\"\")","v":""},{"$f":"IF($B453=\"\",\"\",IFERROR(VLOOKUP('Whip Data'!$T466,Conduit,3,FALSE),VLOOKUP('Whip Data'!$S466,Conduit,3,FALSE)))","v":""},{"$f":"IF(B453=\"\",\"\",'Whip Data'!O466)","v":""},{"$f":"IF(C453=\"\",\"\",'Whip Data'!P466)","v":""},{"$f":"IF($B453=\"\",\"\",IF(ISTEXT('Whip Data'!V466),'Whip Data'!V466,'Whip Data'!U466))","v":""},{"$f":"IF(B453=\"\",\"\",IF(ISBLANK('Whip Data'!X466),'Whip Data'!W466,'Whip Data'!X466))","v":""},"","",{"$f":"IF($B453=\"\",\"\",IF('Whip Data'!Q466=\"\",\"None\",'Whip Data'!Q466))","v":""},{"$f":"IF(O453=\"\",\"\",IF($O453=\"None\",\"NA\",INDEX(Breakers!$A$1:$I$75,MATCH(BOM!C453,Breakers!$A$1:$A$75,0),MATCH(BOM!O453,Breakers!$A$1:$I$1,0))))","v":""},{"$f":"IF(B453=\"\",\"\",VLOOKUP(H453,Standards!$X$3:$Y$6,2,FALSE))","v":""}]
[{"$f":"IF($B454=\"\",\"\",'Whip Data'!$Z467)","v":""},{"$f":"IFERROR('Whip Data'!A467,\"\")","v":""},{"$f":"IF(B454=\"\",\"\",'Whip Data'!L467)","v":""},"",{"$f":"IF($B454=\"\",\"\",VLOOKUP($C454,Materials,'Whip Data'!$M$10+11,FALSE))","v":""},{"$f":"IF($B454=\"\",\"\",VLOOKUP($C454,Materials,'Whip Data'!$M$10+13,FALSE))","v":""},{"$f":"IFERROR(\"LTUA-\"&IF(ISTEXT('Whip Data'!$T467),VLOOKUP('Whip Data'!$T467,Conduit,2,FALSE),VLOOKUP('Whip Data'!$S467,Conduit,2,FALSE))&\"-\"&'Whip Data'!$R467,\"\")","v":""},{"$f":"IF($B454=\"\",\"\",IFERROR(VLOOKUP('Whip Data'!$T467,Conduit,3,FALSE),VLOOKUP('Whip Data'!$S467,Conduit,3,FALSE)))","v":""},{"$f":"IF(B454=\"\",\"\",'Whip Data'!O467)","v":""},{"$f":"IF(C454=\"\",\"\",'Whip Data'!P467)","v":""},{"$f":"IF($B454=\"\",\"\",IF(ISTEXT('Whip Data'!V467),'Whip Data'!V467,'Whip Data'!U467))","v":""},{"$f":"IF(B454=\"\",\"\",IF(ISBLANK('Whip Data'!X467),'Whip Data'!W467,'Whip Data'!X467))","v":""},"","",{"$f":"IF($B454=\"\",\"\",IF('Whip Data'!Q467=\"\",\"None\",'Whip Data'!Q467))","v":""},{"$f":"IF(O454=\"\",\"\",IF($O454=\"None\",\"NA\",INDEX(Breakers!$A$1:$I$75,MATCH(BOM!C454,Breakers!$A$1:$A$75,0),MATCH(BOM!O454,Breakers!$A$1:$I$1,0))))","v":""},{"$f":"IF(B454=\"\",\"\",VLOOKUP(H454,Standards!$X$3:$Y$6,2,FALSE))","v":""}]
[{"$f":"IF($B455=\"\",\"\",'Whip Data'!$Z468)","v":""},{"$f":"IFERROR('Whip Data'!A468,\"\")","v":""},{"$f":"IF(B455=\"\",\"\",'Whip Data'!L468)","v":""},"",{"$f":"IF($B455=\"\",\"\",VLOOKUP($C455,Materials,'Whip Data'!$M$10+11,FALSE))","v":""},{"$f":"IF($B455=\"\",\"\",VLOOKUP($C455,Materials,'Whip Data'!$M$10+13,FALSE))","v":""},{"$f":"IFERROR(\"LTUA-\"&IF(ISTEXT('Whip Data'!$T468),VLOOKUP('Whip Data'!$T468,Conduit,2,FALSE),VLOOKUP('Whip Data'!$S468,Conduit,2,FALSE))&\"-\"&'Whip Data'!$R468,\"\")","v":""},{"$f":"IF($B455=\"\",\"\",IFERROR(VLOOKUP('Whip Data'!$T468,Conduit,3,FALSE),VLOOKUP('Whip Data'!$S468,Conduit,3,FALSE)))","v":""},{"$f":"IF(B455=\"\",\"\",'Whip Data'!O468)","v":""},{"$f":"IF(C455=\"\",\"\",'Whip Data'!P468)","v":""},{"$f":"IF($B455=\"\",\"\",IF(ISTEXT('Whip Data'!V468),'Whip Data'!V468,'Whip Data'!U468))","v":""},{"$f":"IF(B455=\"\",\"\",IF(ISBLANK('Whip Data'!X468),'Whip Data'!W468,'Whip Data'!X468))","v":""},"","",{"$f":"IF($B455=\"\",\"\",IF('Whip Data'!Q468=\"\",\"None\",'Whip Data'!Q468))","v":""},{"$f":"IF(O455=\"\",\"\",IF($O455=\"None\",\"NA\",INDEX(Breakers!$A$1:$I$75,MATCH(BOM!C455,Breakers!$A$1:$A$75,0),MATCH(BOM!O455,Breakers!$A$1:$I$1,0))))","v":""},{"$f":"IF(B455=\"\",\"\",VLOOKUP(H455,Standards!$X$3:$Y$6,2,FALSE))","v":""}]
[{"$f":"IF($B456=\"\",\"\",'Whip Data'!$Z469)","v":""},{"$f":"IFERROR('Whip Data'!A469,\"\")","v":""},{"$f":"IF(B456=\"\",\"\",'Whip Data'!L469)","v":""},"",{"$f":"IF($B456=\"\",\"\",VLOOKUP($C456,Materials,'Whip Data'!$M$10+11,FALSE))","v":""},{"$f":"IF($B456=\"\",\"\",VLOOKUP($C456,Materials,'Whip Data'!$M$10+13,FALSE))","v":""},{"$f":"IFERROR(\"LTUA-\"&IF(ISTEXT('Whip Data'!$T469),VLOOKUP('Whip Data'!$T469,Conduit,2,FALSE),VLOOKUP('Whip Data'!$S469,Conduit,2,FALSE))&\"-\"&'Whip Data'!$R469,\"\")","v":""},{"$f":"IF($B456=\"\",\"\",IFERROR(VLOOKUP('Whip Data'!$T469,Conduit,3,FALSE),VLOOKUP('Whip Data'!$S469,Conduit,3,FALSE)))","v":""},{"$f":"IF(B456=\"\",\"\",'Whip Data'!O469)","v":""},{"$f":"IF(C456=\"\",\"\",'Whip Data'!P469)","v":""},{"$f":"IF($B456=\"\",\"\",IF(ISTEXT('Whip Data'!V469),'Whip Data'!V469,'Whip Data'!U469))","v":""},{"$f":"IF(B456=\"\",\"\",IF(ISBLANK('Whip Data'!X469),'Whip Data'!W469,'Whip Data'!X469))","v":""},"","",{"$f":"IF($B456=\"\",\"\",IF('Whip Data'!Q469=\"\",\"None\",'Whip Data'!Q469))","v":""},{"$f":"IF(O456=\"\",\"\",IF($O456=\"None\",\"NA\",INDEX(Breakers!$A$1:$I$75,MATCH(BOM!C456,Breakers!$A$1:$A$75,0),MATCH(BOM!O456,Breakers!$A$1:$I$1,0))))","v":""},{"$f":"IF(B456=\"\",\"\",VLOOKUP(H456,Standards!$X$3:$Y$6,2,FALSE))","v":""}]
[{"$f":"IF($B457=\"\",\"\",'Whip Data'!$Z470)","v":""},{"$f":"IFERROR('Whip Data'!A470,\"\")","v":""},{"$f":"IF(B457=\"\",\"\",'Whip Data'!L470)","v":""},"",{"$f":"IF($B457=\"\",\"\",VLOOKUP($C457,Materials,'Whip Data'!$M$10+11,FALSE))","v":""},{"$f":"IF($B457=\"\",\"\",VLOOKUP($C457,Materials,'Whip Data'!$M$10+13,FALSE))","v":""},{"$f":"IFERROR(\"LTUA-\"&IF(ISTEXT('Whip Data'!$T470),VLOOKUP('Whip Data'!$T470,Conduit,2,FALSE),VLOOKUP('Whip Data'!$S470,Conduit,2,FALSE))&\"-\"&'Whip Data'!$R470,\"\")","v":""},{"$f":"IF($B457=\"\",\"\",IFERROR(VLOOKUP('Whip Data'!$T470,Conduit,3,FALSE),VLOOKUP('Whip Data'!$S470,Conduit,3,FALSE)))","v":""},{"$f":"IF(B457=\"\",\"\",'Whip Data'!O470)","v":""},{"$f":"IF(C457=\"\",\"\",'Whip Data'!P470)","v":""},{"$f":"IF($B457=\"\",\"\",IF(ISTEXT('Whip Data'!V470),'Whip Data'!V470,'Whip Data'!U470))","v":""},{"$f":"IF(B457=\"\",\"\",IF(ISBLANK('Whip Data'!X470),'Whip Data'!W470,'Whip Data'!X470))","v":""},"","",{"$f":"IF($B457=\"\",\"\",IF('Whip Data'!Q470=\"\",\"None\",'Whip Data'!Q470))","v":""},{"$f":"IF(O457=\"\",\"\",IF($O457=\"None\",\"NA\",INDEX(Breakers!$A$1:$I$75,MATCH(BOM!C457,Breakers!$A$1:$A$75,0),MATCH(BOM!O457,Breakers!$A$1:$I$1,0))))","v":""},{"$f":"IF(B457=\"\",\"\",VLOOKUP(H457,Standards!$X$3:$Y$6,2,FALSE))","v":""}]
[{"$f":"IF($B458=\"\",\"\",'Whip Data'!$Z471)","v":""},{"$f":"IFERROR('Whip Data'!A471,\"\")","v":""},{"$f":"IF(B458=\"\",\"\",'Whip Data'!L471)","v":""},"",{"$f":"IF($B458=\"\",\"\",VLOOKUP($C458,Materials,'Whip Data'!$M$10+11,FALSE))","v":""},{"$f":"IF($B458=\"\",\"\",VLOOKUP($C458,Materials,'Whip Data'!$M$10+13,FALSE))","v":""},{"$f":"IFERROR(\"LTUA-\"&IF(ISTEXT('Whip Data'!$T471),VLOOKUP('Whip Data'!$T471,Conduit,2,FALSE),VLOOKUP('Whip Data'!$S471,Conduit,2,FALSE))&\"-\"&'Whip Data'!$R471,\"\")","v":""},{"$f":"IF($B458=\"\",\"\",IFERROR(VLOOKUP('Whip Data'!$T471,Conduit,3,FALSE),VLOOKUP('Whip Data'!$S471,Conduit,3,FALSE)))","v":""},{"$f":"IF(B458=\"\",\"\",'Whip Data'!O471)","v":""},{"$f":"IF(C458=\"\",\"\",'Whip Data'!P471)","v":""},{"$f":"IF($B458=\"\",\"\",IF(ISTEXT('Whip Data'!V471),'Whip Data'!V471,'Whip Data'!U471))","v":""},{"$f":"IF(B458=\"\",\"\",IF(ISBLANK('Whip Data'!X471),'Whip Data'!W471,'Whip Data'!X471))","v":""},"","",{"$f":"IF($B458=\"\",\"\",IF('Whip Data'!Q471=\"\",\"None\",'Whip Data'!Q471))","v":""},{"$f":"IF(O458=\"\",\"\",IF($O458=\"None\",\"NA\",INDEX(Breakers!$A$1:$I$75,MATCH(BOM!C458,Breakers!$A$1:$A$75,0),MATCH(BOM!O458,Breakers!$A$1:$I$1,0))))","v":""},{"$f":"IF(B458=\"\",\"\",VLOOKUP(H458,Standards!$X$3:$Y$6,2,FALSE))","v":""}]
[{"$f":"IF($B459=\"\",\"\",'Whip Data'!$Z472)","v":""},{"$f":"IFERROR('Whip Data'!A472,\"\")","v":""},{"$f":"IF(B459=\"\",\"\",'Whip Data'!L472)","v":""},"",{"$f":"IF($B459=\"\",\"\",VLOOKUP($C459,Materials,'Whip Data'!$M$10+11,FALSE))","v":""},{"$f":"IF($B459=\"\",\"\",VLOOKUP($C459,Materials,'Whip Data'!$M$10+13,FALSE))","v":""},{"$f":"IFERROR(\"LTUA-\"&IF(ISTEXT('Whip Data'!$T472),VLOOKUP('Whip Data'!$T472,Conduit,2,FALSE),VLOOKUP('Whip Data'!$S472,Conduit,2,FALSE))&\"-\"&'Whip Data'!$R472,\"\")","v":""},{"$f":"IF($B459=\"\",\"\",IFERROR(VLOOKUP('Whip Data'!$T472,Conduit,3,FALSE),VLOOKUP('Whip Data'!$S472,Conduit,3,FALSE)))","v":""},{"$f":"IF(B459=\"\",\"\",'Whip Data'!O472)","v":""},{"$f":"IF(C459=\"\",\"\",'Whip Data'!P472)","v":""},{"$f":"IF($B459=\"\",\"\",IF(ISTEXT('Whip Data'!V472),'Whip Data'!V472,'Whip Data'!U472))","v":""},{"$f":"IF(B459=\"\",\"\",IF(ISBLANK('Whip Data'!X472),'Whip Data'!W472,'Whip Data'!X472))","v":""},"","",{"$f":"IF($B459=\"\",\"\",IF('Whip Data'!Q472=\"\",\"None\",'Whip Data'!Q472))","v":""},{"$f":"IF(O459=\"\",\"\",IF($O459=\"None\",\"NA\",INDEX(Breakers!$A$1:$I$75,MATCH(BOM!C459,Breakers!$A$1:$A$75,0),MATCH(BOM!O459,Breakers!$A$1:$I$1,0))))","v":""},{"$f":"IF(B459=\"\",\"\",VLOOKUP(H459,Standards!$X$3:$Y$6,2,FALSE))","v":""}]
[{"$f":"IF($B460=\"\",\"\",'Whip Data'!$Z473)","v":""},{"$f":"IFERROR('Whip Data'!A473,\"\")","v":""},{"$f":"IF(B460=\"\",\"\",'Whip Data'!L473)","v":""},"",{"$f":"IF($B460=\"\",\"\",VLOOKUP($C460,Materials,'Whip Data'!$M$10+11,FALSE))","v":""},{"$f":"IF($B460=\"\",\"\",VLOOKUP($C460,Materials,'Whip Data'!$M$10+13,FALSE))","v":""},{"$f":"IFERROR(\"LTUA-\"&IF(ISTEXT('Whip Data'!$T473),VLOOKUP('Whip Data'!$T473,Conduit,2,FALSE),VLOOKUP('Whip Data'!$S473,Conduit,2,FALSE))&\"-\"&'Whip Data'!$R473,\"\")","v":""},{"$f":"IF($B460=\"\",\"\",IFERROR(VLOOKUP('Whip Data'!$T473,Conduit,3,FALSE),VLOOKUP('Whip Data'!$S473,Conduit,3,FALSE)))","v":""},{"$f":"IF(B460=\"\",\"\",'Whip Data'!O473)","v":""},{"$f":"IF(C460=\"\",\"\",'Whip Data'!P473)","v":""},{"$f":"IF($B460=\"\",\"\",IF(ISTEXT('Whip Data'!V473),'Whip Data'!V473,'Whip Data'!U473))","v":""},{"$f":"IF(B460=\"\",\"\",IF(ISBLANK('Whip Data'!X473),'Whip Data'!W473,'Whip Data'!X473))","v":""},"","",{"$f":"IF($B460=\"\",\"\",IF('Whip Data'!Q473=\"\",\"None\",'Whip Data'!Q473))","v":""},{"$f":"IF(O460=\"\",\"\",IF($O460=\"None\",\"NA\",INDEX(Breakers!$A$1:$I$75,MATCH(BOM!C460,Breakers!$A$1:$A$75,0),MATCH(BOM!O460,Breakers!$A$1:$I$1,0))))","v":""},{"$f":"IF(B460=\"\",\"\",VLOOKUP(H460,Standards!$X$3:$Y$6,2,FALSE))","v":""}]
[{"$f":"IF($B461=\"\",\"\",'Whip Data'!$Z474)","v":""},{"$f":"IFERROR('Whip Data'!A474,\"\")","v":""},{"$f":"IF(B461=\"\",\"\",'Whip Data'!L474)","v":""},"",{"$f":"IF($B461=\"\",\"\",VLOOKUP($C461,Materials,'Whip Data'!$M$10+11,FALSE))","v":""},{"$f":"IF($B461=\"\",\"\",VLOOKUP($C461,Materials,'Whip Data'!$M$10+13,FALSE))","v":""},{"$f":"IFERROR(\"LTUA-\"&IF(ISTEXT('Whip Data'!$T474),VLOOKUP('Whip Data'!$T474,Conduit,2,FALSE),VLOOKUP('Whip Data'!$S474,Conduit,2,FALSE))&\"-\"&'Whip Data'!$R474,\"\")","v":""},{"$f":"IF($B461=\"\",\"\",IFERROR(VLOOKUP('Whip Data'!$T474,Conduit,3,FALSE),VLOOKUP('Whip Data'!$S474,Conduit,3,FALSE)))","v":""},{"$f":"IF(B461=\"\",\"\",'Whip Data'!O474)","v":""},{"$f":"IF(C461=\"\",\"\",'Whip Data'!P474)","v":""},{"$f":"IF($B461=\"\",\"\",IF(ISTEXT('Whip Data'!V474),'Whip Data'!V474,'Whip Data'!U474))","v":""},{"$f":"IF(B461=\"\",\"\",IF(ISBLANK('Whip Data'!X474),'Whip Data'!W474,'Whip Data'!X474))","v":""},"","",{"$f":"IF($B461=\"\",\"\",IF('Whip Data'!Q474=\"\",\"None\",'Whip Data'!Q474))","v":""},{"$f":"IF(O461=\"\",\"\",IF($O461=\"None\",\"NA\",INDEX(Breakers!$A$1:$I$75,MATCH(BOM!C461,Breakers!$A$1:$A$75,0),MATCH(BOM!O461,Breakers!$A$1:$I$1,0))))","v":""},{"$f":"IF(B461=\"\",\"\",VLOOKUP(H461,Standards!$X$3:$Y$6,2,FALSE))","v":""}]
[{"$f":"IF($B462=\"\",\"\",'Whip Data'!$Z475)","v":""},{"$f":"IFERROR('Whip Data'!A475,\"\")","v":""},{"$f":"IF(B462=\"\",\"\",'Whip Data'!L475)","v":""},"",{"$f":"IF($B462=\"\",\"\",VLOOKUP($C462,Materials,'Whip Data'!$M$10+11,FALSE))","v":""},{"$f":"IF($B462=\"\",\"\",VLOOKUP($C462,Materials,'Whip Data'!$M$10+13,FALSE))","v":""},{"$f":"IFERROR(\"LTUA-\"&IF(ISTEXT('Whip Data'!$T475),VLOOKUP('Whip Data'!$T475,Conduit,2,FALSE),VLOOKUP('Whip Data'!$S475,Conduit,2,FALSE))&\"-\"&'Whip Data'!$R475,\"\")","v":""},{"$f":"IF($B462=\"\",\"\",IFERROR(VLOOKUP('Whip Data'!$T475,Conduit,3,FALSE),VLOOKUP('Whip Data'!$S475,Conduit,3,FALSE)))","v":""},{"$f":"IF(B462=\"\",\"\",'Whip Data'!O475)","v":""},{"$f":"IF(C462=\"\",\"\",'Whip Data'!P475)","v":""},{"$f":"IF($B462=\"\",\"\",IF(ISTEXT('Whip Data'!V475),'Whip Data'!V475,'Whip Data'!U475))","v":""},{"$f":"IF(B462=\"\",\"\",IF(ISBLANK('Whip Data'!X475),'Whip Data'!W475,'Whip Data'!X475))","v":""},"","",{"$f":"IF($B462=\"\",\"\",IF('Whip Data'!Q475=\"\",\"None\",'Whip Data'!Q475))","v":""},{"$f":"IF(O462=\"\",\"\",IF($O462=\"None\",\"NA\",INDEX(Breakers!$A$1:$I$75,MATCH(BOM!C462,Breakers!$A$1:$A$75,0),MATCH(BOM!O462,Breakers!$A$1:$I$1,0))))","v":""},{"$f":"IF(B462=\"\",\"\",VLOOKUP(H462,Standards!$X$3:$Y$6,2,FALSE))","v":""}]
[{"$f":"IF($B463=\"\",\"\",'Whip Data'!$Z476)","v":""},{"$f":"IFERROR('Whip Data'!A476,\"\")","v":""},{"$f":"IF(B463=\"\",\"\",'Whip Data'!L476)","v":""},"",{"$f":"IF($B463=\"\",\"\",VLOOKUP($C463,Materials,'Whip Data'!$M$10+11,FALSE))","v":""},{"$f":"IF($B463=\"\",\"\",VLOOKUP($C463,Materials,'Whip Data'!$M$10+13,FALSE))","v":""},{"$f":"IFERROR(\"LTUA-\"&IF(ISTEXT('Whip Data'!$T476),VLOOKUP('Whip Data'!$T476,Conduit,2,FALSE),VLOOKUP('Whip Data'!$S476,Conduit,2,FALSE))&\"-\"&'Whip Data'!$R476,\"\")","v":""},{"$f":"IF($B463=\"\",\"\",IFERROR(VLOOKUP('Whip Data'!$T476,Conduit,3,FALSE),VLOOKUP('Whip Data'!$S476,Conduit,3,FALSE)))","v":""},{"$f":"IF(B463=\"\",\"\",'Whip Data'!O476)","v":""},{"$f":"IF(C463=\"\",\"\",'Whip Data'!P476)","v":""},{"$f":"IF($B463=\"\",\"\",IF(ISTEXT('Whip Data'!V476),'Whip Data'!V476,'Whip Data'!U476))","v":""},{"$f":"IF(B463=\"\",\"\",IF(ISBLANK('Whip Data'!X476),'Whip Data'!W476,'Whip Data'!X476))","v":""},"","",{"$f":"IF($B463=\"\",\"\",IF('Whip Data'!Q476=\"\",\"None\",'Whip Data'!Q476))","v":""},{"$f":"IF(O463=\"\",\"\",IF($O463=\"None\",\"NA\",INDEX(Breakers!$A$1:$I$75,MATCH(BOM!C463,Breakers!$A$1:$A$75,0),MATCH(BOM!O463,Breakers!$A$1:$I$1,0))))","v":""},{"$f":"IF(B463=\"\",\"\",VLOOKUP(H463,Standards!$X$3:$Y$6,2,FALSE))","v":""}]
[{"$f":"IF($B464=\"\",\"\",'Whip Data'!$Z477)","v":""},{"$f":"IFERROR('Whip Data'!A477,\"\")","v":""},{"$f":"IF(B464=\"\",\"\",'Whip Data'!L477)","v":""},"",{"$f":"IF($B464=\"\",\"\",VLOOKUP($C464,Materials,'Whip Data'!$M$10+11,FALSE))","v":""},{"$f":"IF($B464=\"\",\"\",VLOOKUP($C464,Materials,'Whip Data'!$M$10+13,FALSE))","v":""},{"$f":"IFERROR(\"LTUA-\"&IF(ISTEXT('Whip Data'!$T477),VLOOKUP('Whip Data'!$T477,Conduit,2,FALSE),VLOOKUP('Whip Data'!$S477,Conduit,2,FALSE))&\"-\"&'Whip Data'!$R477,\"\")","v":""},{"$f":"IF($B464=\"\",\"\",IFERROR(VLOOKUP('Whip Data'!$T477,Conduit,3,FALSE),VLOOKUP('Whip Data'!$S477,Conduit,3,FALSE)))","v":""},{"$f":"IF(B464=\"\",\"\",'Whip Data'!O477)","v":""},{"$f":"IF(C464=\"\",\"\",'Whip Data'!P477)","v":""},{"$f":"IF($B464=\"\",\"\",IF(ISTEXT('Whip Data'!V477),'Whip Data'!V477,'Whip Data'!U477))","v":""},{"$f":"IF(B464=\"\",\"\",IF(ISBLANK('Whip Data'!X477),'Whip Data'!W477,'Whip Data'!X477))","v":""},"","",{"$f":"IF($B464=\"\",\"\",IF('Whip Data'!Q477=\"\",\"None\",'Whip Data'!Q477))","v":""},{"$f":"IF(O464=\"\",\"\",IF($O464=\"None\",\"NA\",INDEX(Breakers!$A$1:$I$75,MATCH(BOM!C464,Breakers!$A$1:$A$75,0),MATCH(BOM!O464,Breakers!$A$1:$I$1,0))))","v":""},{"$f":"IF(B464=\"\",\"\",VLOOKUP(H464,Standards!$X$3:$Y$6,2,FALSE))","v":""}]
[{"$f":"IF($B465=\"\",\"\",'Whip Data'!$Z478)","v":""},{"$f":"IFERROR('Whip Data'!A478,\"\")","v":""},{"$f":"IF(B465=\"\",\"\",'Whip Data'!L478)","v":""},"",{"$f":"IF($B465=\"\",\"\",VLOOKUP($C465,Materials,'Whip Data'!$M$10+11,FALSE))","v":""},{"$f":"IF($B465=\"\",\"\",VLOOKUP($C465,Materials,'Whip Data'!$M$10+13,FALSE))","v":""},{"$f":"IFERROR(\"LTUA-\"&IF(ISTEXT('Whip Data'!$T478),VLOOKUP('Whip Data'!$T478,Conduit,2,FALSE),VLOOKUP('Whip Data'!$S478,Conduit,2,FALSE))&\"-\"&'Whip Data'!$R478,\"\")","v":""},{"$f":"IF($B465=\"\",\"\",IFERROR(VLOOKUP('Whip Data'!$T478,Conduit,3,FALSE),VLOOKUP('Whip Data'!$S478,Conduit,3,FALSE)))","v":""},{"$f":"IF(B465=\"\",\"\",'Whip Data'!O478)","v":""},{"$f":"IF(C465=\"\",\"\",'Whip Data'!P478)","v":""},{"$f":"IF($B465=\"\",\"\",IF(ISTEXT('Whip Data'!V478),'Whip Data'!V478,'Whip Data'!U478))","v":""},{"$f":"IF(B465=\"\",\"\",IF(ISBLANK('Whip Data'!X478),'Whip Data'!W478,'Whip Data'!X478))","v":""},"","",{"$f":"IF($B465=\"\",\"\",IF('Whip Data'!Q478=\"\",\"None\",'Whip Data'!Q478))","v":""},{"$f":"IF(O465=\"\",\"\",IF($O465=\"None\",\"NA\",INDEX(Breakers!$A$1:$I$75,MATCH(BOM!C465,Breakers!$A$1:$A$75,0),MATCH(BOM!O465,Breakers!$A$1:$I$1,0))))","v":""},{"$f":"IF(B465=\"\",\"\",VLOOKUP(H465,Standards!$X$3:$Y$6,2,FALSE))","v":""}]
[{"$f":"IF($B466=\"\",\"\",'Whip Data'!$Z479)","v":""},{"$f":"IFERROR('Whip Data'!A479,\"\")","v":""},{"$f":"IF(B466=\"\",\"\",'Whip Data'!L479)","v":""},"",{"$f":"IF($B466=\"\",\"\",VLOOKUP($C466,Materials,'Whip Data'!$M$10+11,FALSE))","v":""},{"$f":"IF($B466=\"\",\"\",VLOOKUP($C466,Materials,'Whip Data'!$M$10+13,FALSE))","v":""},{"$f":"IFERROR(\"LTUA-\"&IF(ISTEXT('Whip Data'!$T479),VLOOKUP('Whip Data'!$T479,Conduit,2,FALSE),VLOOKUP('Whip Data'!$S479,Conduit,2,FALSE))&\"-\"&'Whip Data'!$R479,\"\")","v":""},{"$f":"IF($B466=\"\",\"\",IFERROR(VLOOKUP('Whip Data'!$T479,Conduit,3,FALSE),VLOOKUP('Whip Data'!$S479,Conduit,3,FALSE)))","v":""},{"$f":"IF(B466=\"\",\"\",'Whip Data'!O479)","v":""},{"$f":"IF(C466=\"\",\"\",'Whip Data'!P479)","v":""},{"$f":"IF($B466=\"\",\"\",IF(ISTEXT('Whip Data'!V479),'Whip Data'!V479,'Whip Data'!U479))","v":""},{"$f":"IF(B466=\"\",\"\",IF(ISBLANK('Whip Data'!X479),'Whip Data'!W479,'Whip Data'!X479))","v":""},"","",{"$f":"IF($B466=\"\",\"\",IF('Whip Data'!Q479=\"\",\"None\",'Whip Data'!Q479))","v":""},{"$f":"IF(O466=\"\",\"\",IF($O466=\"None\",\"NA\",INDEX(Breakers!$A$1:$I$75,MATCH(BOM!C466,Breakers!$A$1:$A$75,0),MATCH(BOM!O466,Breakers!$A$1:$I$1,0))))","v":""},{"$f":"IF(B466=\"\",\"\",VLOOKUP(H466,Standards!$X$3:$Y$6,2,FALSE))","v":""}]
[{"$f":"IF($B467=\"\",\"\",'Whip Data'!$Z480)","v":""},{"$f":"IFERROR('Whip Data'!A480,\"\")","v":""},{"$f":"IF(B467=\"\",\"\",'Whip Data'!L480)","v":""},"",{"$f":"IF($B467=\"\",\"\",VLOOKUP($C467,Materials,'Whip Data'!$M$10+11,FALSE))","v":""},{"$f":"IF($B467=\"\",\"\",VLOOKUP($C467,Materials,'Whip Data'!$M$10+13,FALSE))","v":""},{"$f":"IFERROR(\"LTUA-\"&IF(ISTEXT('Whip Data'!$T480),VLOOKUP('Whip Data'!$T480,Conduit,2,FALSE),VLOOKUP('Whip Data'!$S480,Conduit,2,FALSE))&\"-\"&'Whip Data'!$R480,\"\")","v":""},{"$f":"IF($B467=\"\",\"\",IFERROR(VLOOKUP('Whip Data'!$T480,Conduit,3,FALSE),VLOOKUP('Whip Data'!$S480,Conduit,3,FALSE)))","v":""},{"$f":"IF(B467=\"\",\"\",'Whip Data'!O480)","v":""},{"$f":"IF(C467=\"\",\"\",'Whip Data'!P480)","v":""},{"$f":"IF($B467=\"\",\"\",IF(ISTEXT('Whip Data'!V480),'Whip Data'!V480,'Whip Data'!U480))","v":""},{"$f":"IF(B467=\"\",\"\",IF(ISBLANK('Whip Data'!X480),'Whip Data'!W480,'Whip Data'!X480))","v":""},"","",{"$f":"IF($B467=\"\",\"\",IF('Whip Data'!Q480=\"\",\"None\",'Whip Data'!Q480))","v":""},{"$f":"IF(O467=\"\",\"\",IF($O467=\"None\",\"NA\",INDEX(Breakers!$A$1:$I$75,MATCH(BOM!C467,Breakers!$A$1:$A$75,0),MATCH(BOM!O467,Breakers!$A$1:$I$1,0))))","v":""},{"$f":"IF(B467=\"\",\"\",VLOOKUP(H467,Standards!$X$3:$Y$6,2,FALSE))","v":""}]
[{"$f":"IF($B468=\"\",\"\",'Whip Data'!$Z481)","v":""},{"$f":"IFERROR('Whip Data'!A481,\"\")","v":""},{"$f":"IF(B468=\"\",\"\",'Whip Data'!L481)","v":""},"",{"$f":"IF($B468=\"\",\"\",VLOOKUP($C468,Materials,'Whip Data'!$M$10+11,FALSE))","v":""},{"$f":"IF($B468=\"\",\"\",VLOOKUP($C468,Materials,'Whip Data'!$M$10+13,FALSE))","v":""},{"$f":"IFERROR(\"LTUA-\"&IF(ISTEXT('Whip Data'!$T481),VLOOKUP('Whip Data'!$T481,Conduit,2,FALSE),VLOOKUP('Whip Data'!$S481,Conduit,2,FALSE))&\"-\"&'Whip Data'!$R481,\"\")","v":""},{"$f":"IF($B468=\"\",\"\",IFERROR(VLOOKUP('Whip Data'!$T481,Conduit,3,FALSE),VLOOKUP('Whip Data'!$S481,Conduit,3,FALSE)))","v":""},{"$f":"IF(B468=\"\",\"\",'Whip Data'!O481)","v":""},{"$f":"IF(C468=\"\",\"\",'Whip Data'!P481)","v":""},{"$f":"IF($B468=\"\",\"\",IF(ISTEXT('Whip Data'!V481),'Whip Data'!V481,'Whip Data'!U481))","v":""},{"$f":"IF(B468=\"\",\"\",IF(ISBLANK('Whip Data'!X481),'Whip Data'!W481,'Whip Data'!X481))","v":""},"","",{"$f":"IF($B468=\"\",\"\",IF('Whip Data'!Q481=\"\",\"None\",'Whip Data'!Q481))","v":""},{"$f":"IF(O468=\"\",\"\",IF($O468=\"None\",\"NA\",INDEX(Breakers!$A$1:$I$75,MATCH(BOM!C468,Breakers!$A$1:$A$75,0),MATCH(BOM!O468,Breakers!$A$1:$I$1,0))))","v":""},{"$f":"IF(B468=\"\",\"\",VLOOKUP(H468,Standards!$X$3:$Y$6,2,FALSE))","v":""}]
[{"$f":"IF($B469=\"\",\"\",'Whip Data'!$Z482)","v":""},{"$f":"IFERROR('Whip Data'!A482,\"\")","v":""},{"$f":"IF(B469=\"\",\"\",'Whip Data'!L482)","v":""},"",{"$f":"IF($B469=\"\",\"\",VLOOKUP($C469,Materials,'Whip Data'!$M$10+11,FALSE))","v":""},{"$f":"IF($B469=\"\",\"\",VLOOKUP($C469,Materials,'Whip Data'!$M$10+13,FALSE))","v":""},{"$f":"IFERROR(\"LTUA-\"&IF(ISTEXT('Whip Data'!$T482),VLOOKUP('Whip Data'!$T482,Conduit,2,FALSE),VLOOKUP('Whip Data'!$S482,Conduit,2,FALSE))&\"-\"&'Whip Data'!$R482,\"\")","v":""},{"$f":"IF($B469=\"\",\"\",IFERROR(VLOOKUP('Whip Data'!$T482,Conduit,3,FALSE),VLOOKUP('Whip Data'!$S482,Conduit,3,FALSE)))","v":""},{"$f":"IF(B469=\"\",\"\",'Whip Data'!O482)","v":""},{"$f":"IF(C469=\"\",\"\",'Whip Data'!P482)","v":""},{"$f":"IF($B469=\"\",\"\",IF(ISTEXT('Whip Data'!V482),'Whip Data'!V482,'Whip Data'!U482))","v":""},{"$f":"IF(B469=\"\",\"\",IF(ISBLANK('Whip Data'!X482),'Whip Data'!W482,'Whip Data'!X482))","v":""},"","",{"$f":"IF($B469=\"\",\"\",IF('Whip Data'!Q482=\"\",\"None\",'Whip Data'!Q482))","v":""},{"$f":"IF(O469=\"\",\"\",IF($O469=\"None\",\"NA\",INDEX(Breakers!$A$1:$I$75,MATCH(BOM!C469,Breakers!$A$1:$A$75,0),MATCH(BOM!O469,Breakers!$A$1:$I$1,0))))","v":""},{"$f":"IF(B469=\"\",\"\",VLOOKUP(H469,Standards!$X$3:$Y$6,2,FALSE))","v":""}]
[{"$f":"IF($B470=\"\",\"\",'Whip Data'!$Z483)","v":""},{"$f":"IFERROR('Whip Data'!A483,\"\")","v":""},{"$f":"IF(B470=\"\",\"\",'Whip Data'!L483)","v":""},"",{"$f":"IF($B470=\"\",\"\",VLOOKUP($C470,Materials,'Whip Data'!$M$10+11,FALSE))","v":""},{"$f":"IF($B470=\"\",\"\",VLOOKUP($C470,Materials,'Whip Data'!$M$10+13,FALSE))","v":""},{"$f":"IFERROR(\"LTUA-\"&IF(ISTEXT('Whip Data'!$T483),VLOOKUP('Whip Data'!$T483,Conduit,2,FALSE),VLOOKUP('Whip Data'!$S483,Conduit,2,FALSE))&\"-\"&'Whip Data'!$R483,\"\")","v":""},{"$f":"IF($B470=\"\",\"\",IFERROR(VLOOKUP('Whip Data'!$T483,Conduit,3,FALSE),VLOOKUP('Whip Data'!$S483,Conduit,3,FALSE)))","v":""},{"$f":"IF(B470=\"\",\"\",'Whip Data'!O483)","v":""},{"$f":"IF(C470=\"\",\"\",'Whip Data'!P483)","v":""},{"$f":"IF($B470=\"\",\"\",IF(ISTEXT('Whip Data'!V483),'Whip Data'!V483,'Whip Data'!U483))","v":""},{"$f":"IF(B470=\"\",\"\",IF(ISBLANK('Whip Data'!X483),'Whip Data'!W483,'Whip Data'!X483))","v":""},"","",{"$f":"IF($B470=\"\",\"\",IF('Whip Data'!Q483=\"\",\"None\",'Whip Data'!Q483))","v":""},{"$f":"IF(O470=\"\",\"\",IF($O470=\"None\",\"NA\",INDEX(Breakers!$A$1:$I$75,MATCH(BOM!C470,Breakers!$A$1:$A$75,0),MATCH(BOM!O470,Breakers!$A$1:$I$1,0))))","v":""},{"$f":"IF(B470=\"\",\"\",VLOOKUP(H470,Standards!$X$3:$Y$6,2,FALSE))","v":""}]
[{"$f":"IF($B471=\"\",\"\",'Whip Data'!$Z484)","v":""},{"$f":"IFERROR('Whip Data'!A484,\"\")","v":""},{"$f":"IF(B471=\"\",\"\",'Whip Data'!L484)","v":""},"",{"$f":"IF($B471=\"\",\"\",VLOOKUP($C471,Materials,'Whip Data'!$M$10+11,FALSE))","v":""},{"$f":"IF($B471=\"\",\"\",VLOOKUP($C471,Materials,'Whip Data'!$M$10+13,FALSE))","v":""},{"$f":"IFERROR(\"LTUA-\"&IF(ISTEXT('Whip Data'!$T484),VLOOKUP('Whip Data'!$T484,Conduit,2,FALSE),VLOOKUP('Whip Data'!$S484,Conduit,2,FALSE))&\"-\"&'Whip Data'!$R484,\"\")","v":""},{"$f":"IF($B471=\"\",\"\",IFERROR(VLOOKUP('Whip Data'!$T484,Conduit,3,FALSE),VLOOKUP('Whip Data'!$S484,Conduit,3,FALSE)))","v":""},{"$f":"IF(B471=\"\",\"\",'Whip Data'!O484)","v":""},{"$f":"IF(C471=\"\",\"\",'Whip Data'!P484)","v":""},{"$f":"IF($B471=\"\",\"\",IF(ISTEXT('Whip Data'!V484),'Whip Data'!V484,'Whip Data'!U484))","v":""},{"$f":"IF(B471=\"\",\"\",IF(ISBLANK('Whip Data'!X484),'Whip Data'!W484,'Whip Data'!X484))","v":""},"","",{"$f":"IF($B471=\"\",\"\",IF('Whip Data'!Q484=\"\",\"None\",'Whip Data'!Q484))","v":""},{"$f":"IF(O471=\"\",\"\",IF($O471=\"None\",\"NA\",INDEX(Breakers!$A$1:$I$75,MATCH(BOM!C471,Breakers!$A$1:$A$75,0),MATCH(BOM!O471,Breakers!$A$1:$I$1,0))))","v":""},{"$f":"IF(B471=\"\",\"\",VLOOKUP(H471,Standards!$X$3:$Y$6,2,FALSE))","v":""}]
[{"$f":"IF($B472=\"\",\"\",'Whip Data'!$Z485)","v":""},{"$f":"IFERROR('Whip Data'!A485,\"\")","v":""},{"$f":"IF(B472=\"\",\"\",'Whip Data'!L485)","v":""},"",{"$f":"IF($B472=\"\",\"\",VLOOKUP($C472,Materials,'Whip Data'!$M$10+11,FALSE))","v":""},{"$f":"IF($B472=\"\",\"\",VLOOKUP($C472,Materials,'Whip Data'!$M$10+13,FALSE))","v":""},{"$f":"IFERROR(\"LTUA-\"&IF(ISTEXT('Whip Data'!$T485),VLOOKUP('Whip Data'!$T485,Conduit,2,FALSE),VLOOKUP('Whip Data'!$S485,Conduit,2,FALSE))&\"-\"&'Whip Data'!$R485,\"\")","v":""},{"$f":"IF($B472=\"\",\"\",IFERROR(VLOOKUP('Whip Data'!$T485,Conduit,3,FALSE),VLOOKUP('Whip Data'!$S485,Conduit,3,FALSE)))","v":""},{"$f":"IF(B472=\"\",\"\",'Whip Data'!O485)","v":""},{"$f":"IF(C472=\"\",\"\",'Whip Data'!P485)","v":""},{"$f":"IF($B472=\"\",\"\",IF(ISTEXT('Whip Data'!V485),'Whip Data'!V485,'Whip Data'!U485))","v":""},{"$f":"IF(B472=\"\",\"\",IF(ISBLANK('Whip Data'!X485),'Whip Data'!W485,'Whip Data'!X485))","v":""},"","",{"$f":"IF($B472=\"\",\"\",IF('Whip Data'!Q485=\"\",\"None\",'Whip Data'!Q485))","v":""},{"$f":"IF(O472=\"\",\"\",IF($O472=\"None\",\"NA\",INDEX(Breakers!$A$1:$I$75,MATCH(BOM!C472,Breakers!$A$1:$A$75,0),MATCH(BOM!O472,Breakers!$A$1:$I$1,0))))","v":""},{"$f":"IF(B472=\"\",\"\",VLOOKUP(H472,Standards!$X$3:$Y$6,2,FALSE))","v":""}]
[{"$f":"IF($B473=\"\",\"\",'Whip Data'!$Z486)","v":""},{"$f":"IFERROR('Whip Data'!A486,\"\")","v":""},{"$f":"IF(B473=\"\",\"\",'Whip Data'!L486)","v":""},"",{"$f":"IF($B473=\"\",\"\",VLOOKUP($C473,Materials,'Whip Data'!$M$10+11,FALSE))","v":""},{"$f":"IF($B473=\"\",\"\",VLOOKUP($C473,Materials,'Whip Data'!$M$10+13,FALSE))","v":""},{"$f":"IFERROR(\"LTUA-\"&IF(ISTEXT('Whip Data'!$T486),VLOOKUP('Whip Data'!$T486,Conduit,2,FALSE),VLOOKUP('Whip Data'!$S486,Conduit,2,FALSE))&\"-\"&'Whip Data'!$R486,\"\")","v":""},{"$f":"IF($B473=\"\",\"\",IFERROR(VLOOKUP('Whip Data'!$T486,Conduit,3,FALSE),VLOOKUP('Whip Data'!$S486,Conduit,3,FALSE)))","v":""},{"$f":"IF(B473=\"\",\"\",'Whip Data'!O486)","v":""},{"$f":"IF(C473=\"\",\"\",'Whip Data'!P486)","v":""},{"$f":"IF($B473=\"\",\"\",IF(ISTEXT('Whip Data'!V486),'Whip Data'!V486,'Whip Data'!U486))","v":""},{"$f":"IF(B473=\"\",\"\",IF(ISBLANK('Whip Data'!X486),'Whip Data'!W486,'Whip Data'!X486))","v":""},"","",{"$f":"IF($B473=\"\",\"\",IF('Whip Data'!Q486=\"\",\"None\",'Whip Data'!Q486))","v":""},{"$f":"IF(O473=\"\",\"\",IF($O473=\"None\",\"NA\",INDEX(Breakers!$A$1:$I$75,MATCH(BOM!C473,Breakers!$A$1:$A$75,0),MATCH(BOM!O473,Breakers!$A$1:$I$1,0))))","v":""},{"$f":"IF(B473=\"\",\"\",VLOOKUP(H473,Standards!$X$3:$Y$6,2,FALSE))","v":""}]
[{"$f":"IF($B474=\"\",\"\",'Whip Data'!$Z487)","v":""},{"$f":"IFERROR('Whip Data'!A487,\"\")","v":""},{"$f":"IF(B474=\"\",\"\",'Whip Data'!L487)","v":""},"",{"$f":"IF($B474=\"\",\"\",VLOOKUP($C474,Materials,'Whip Data'!$M$10+11,FALSE))","v":""},{"$f":"IF($B474=\"\",\"\",VLOOKUP($C474,Materials,'Whip Data'!$M$10+13,FALSE))","v":""},{"$f":"IFERROR(\"LTUA-\"&IF(ISTEXT('Whip Data'!$T487),VLOOKUP('Whip Data'!$T487,Conduit,2,FALSE),VLOOKUP('Whip Data'!$S487,Conduit,2,FALSE))&\"-\"&'Whip Data'!$R487,\"\")","v":""},{"$f":"IF($B474=\"\",\"\",IFERROR(VLOOKUP('Whip Data'!$T487,Conduit,3,FALSE),VLOOKUP('Whip Data'!$S487,Conduit,3,FALSE)))","v":""},{"$f":"IF(B474=\"\",\"\",'Whip Data'!O487)","v":""},{"$f":"IF(C474=\"\",\"\",'Whip Data'!P487)","v":""},{"$f":"IF($B474=\"\",\"\",IF(ISTEXT('Whip Data'!V487),'Whip Data'!V487,'Whip Data'!U487))","v":""},{"$f":"IF(B474=\"\",\"\",IF(ISBLANK('Whip Data'!X487),'Whip Data'!W487,'Whip Data'!X487))","v":""},"","",{"$f":"IF($B474=\"\",\"\",IF('Whip Data'!Q487=\"\",\"None\",'Whip Data'!Q487))","v":""},{"$f":"IF(O474=\"\",\"\",IF($O474=\"None\",\"NA\",INDEX(Breakers!$A$1:$I$75,MATCH(BOM!C474,Breakers!$A$1:$A$75,0),MATCH(BOM!O474,Breakers!$A$1:$I$1,0))))","v":""},{"$f":"IF(B474=\"\",\"\",VLOOKUP(H474,Standards!$X$3:$Y$6,2,FALSE))","v":""}]
[{"$f":"IF($B475=\"\",\"\",'Whip Data'!$Z488)","v":""},{"$f":"IFERROR('Whip Data'!A488,\"\")","v":""},{"$f":"IF(B475=\"\",\"\",'Whip Data'!L488)","v":""},"",{"$f":"IF($B475=\"\",\"\",VLOOKUP($C475,Materials,'Whip Data'!$M$10+11,FALSE))","v":""},{"$f":"IF($B475=\"\",\"\",VLOOKUP($C475,Materials,'Whip Data'!$M$10+13,FALSE))","v":""},{"$f":"IFERROR(\"LTUA-\"&IF(ISTEXT('Whip Data'!$T488),VLOOKUP('Whip Data'!$T488,Conduit,2,FALSE),VLOOKUP('Whip Data'!$S488,Conduit,2,FALSE))&\"-\"&'Whip Data'!$R488,\"\")","v":""},{"$f":"IF($B475=\"\",\"\",IFERROR(VLOOKUP('Whip Data'!$T488,Conduit,3,FALSE),VLOOKUP('Whip Data'!$S488,Conduit,3,FALSE)))","v":""},{"$f":"IF(B475=\"\",\"\",'Whip Data'!O488)","v":""},{"$f":"IF(C475=\"\",\"\",'Whip Data'!P488)","v":""},{"$f":"IF($B475=\"\",\"\",IF(ISTEXT('Whip Data'!V488),'Whip Data'!V488,'Whip Data'!U488))","v":""},{"$f":"IF(B475=\"\",\"\",IF(ISBLANK('Whip Data'!X488),'Whip Data'!W488,'Whip Data'!X488))","v":""},"","",{"$f":"IF($B475=\"\",\"\",IF('Whip Data'!Q488=\"\",\"None\",'Whip Data'!Q488))","v":""},{"$f":"IF(O475=\"\",\"\",IF($O475=\"None\",\"NA\",INDEX(Breakers!$A$1:$I$75,MATCH(BOM!C475,Breakers!$A$1:$A$75,0),MATCH(BOM!O475,Breakers!$A$1:$I$1,0))))","v":""},{"$f":"IF(B475=\"\",\"\",VLOOKUP(H475,Standards!$X$3:$Y$6,2,FALSE))","v":""}]
[{"$f":"IF($B476=\"\",\"\",'Whip Data'!$Z489)","v":""},{"$f":"IFERROR('Whip Data'!A489,\"\")","v":""},{"$f":"IF(B476=\"\",\"\",'Whip Data'!L489)","v":""},"",{"$f":"IF($B476=\"\",\"\",VLOOKUP($C476,Materials,'Whip Data'!$M$10+11,FALSE))","v":""},{"$f":"IF($B476=\"\",\"\",VLOOKUP($C476,Materials,'Whip Data'!$M$10+13,FALSE))","v":""},{"$f":"IFERROR(\"LTUA-\"&IF(ISTEXT('Whip Data'!$T489),VLOOKUP('Whip Data'!$T489,Conduit,2,FALSE),VLOOKUP('Whip Data'!$S489,Conduit,2,FALSE))&\"-\"&'Whip Data'!$R489,\"\")","v":""},{"$f":"IF($B476=\"\",\"\",IFERROR(VLOOKUP('Whip Data'!$T489,Conduit,3,FALSE),VLOOKUP('Whip Data'!$S489,Conduit,3,FALSE)))","v":""},{"$f":"IF(B476=\"\",\"\",'Whip Data'!O489)","v":""},{"$f":"IF(C476=\"\",\"\",'Whip Data'!P489)","v":""},{"$f":"IF($B476=\"\",\"\",IF(ISTEXT('Whip Data'!V489),'Whip Data'!V489,'Whip Data'!U489))","v":""},{"$f":"IF(B476=\"\",\"\",IF(ISBLANK('Whip Data'!X489),'Whip Data'!W489,'Whip Data'!X489))","v":""},"","",{"$f":"IF($B476=\"\",\"\",IF('Whip Data'!Q489=\"\",\"None\",'Whip Data'!Q489))","v":""},{"$f":"IF(O476=\"\",\"\",IF($O476=\"None\",\"NA\",INDEX(Breakers!$A$1:$I$75,MATCH(BOM!C476,Breakers!$A$1:$A$75,0),MATCH(BOM!O476,Breakers!$A$1:$I$1,0))))","v":""},{"$f":"IF(B476=\"\",\"\",VLOOKUP(H476,Standards!$X$3:$Y$6,2,FALSE))","v":""}]
[{"$f":"IF($B477=\"\",\"\",'Whip Data'!$Z490)","v":""},{"$f":"IFERROR('Whip Data'!A490,\"\")","v":""},{"$f":"IF(B477=\"\",\"\",'Whip Data'!L490)","v":""},"",{"$f":"IF($B477=\"\",\"\",VLOOKUP($C477,Materials,'Whip Data'!$M$10+11,FALSE))","v":""},{"$f":"IF($B477=\"\",\"\",VLOOKUP($C477,Materials,'Whip Data'!$M$10+13,FALSE))","v":""},{"$f":"IFERROR(\"LTUA-\"&IF(ISTEXT('Whip Data'!$T490),VLOOKUP('Whip Data'!$T490,Conduit,2,FALSE),VLOOKUP('Whip Data'!$S490,Conduit,2,FALSE))&\"-\"&'Whip Data'!$R490,\"\")","v":""},{"$f":"IF($B477=\"\",\"\",IFERROR(VLOOKUP('Whip Data'!$T490,Conduit,3,FALSE),VLOOKUP('Whip Data'!$S490,Conduit,3,FALSE)))","v":""},{"$f":"IF(B477=\"\",\"\",'Whip Data'!O490)","v":""},{"$f":"IF(C477=\"\",\"\",'Whip Data'!P490)","v":""},{"$f":"IF($B477=\"\",\"\",IF(ISTEXT('Whip Data'!V490),'Whip Data'!V490,'Whip Data'!U490))","v":""},{"$f":"IF(B477=\"\",\"\",IF(ISBLANK('Whip Data'!X490),'Whip Data'!W490,'Whip Data'!X490))","v":""},"","",{"$f":"IF($B477=\"\",\"\",IF('Whip Data'!Q490=\"\",\"None\",'Whip Data'!Q490))","v":""},{"$f":"IF(O477=\"\",\"\",IF($O477=\"None\",\"NA\",INDEX(Breakers!$A$1:$I$75,MATCH(BOM!C477,Breakers!$A$1:$A$75,0),MATCH(BOM!O477,Breakers!$A$1:$I$1,0))))","v":""},{"$f":"IF(B477=\"\",\"\",VLOOKUP(H477,Standards!$X$3:$Y$6,2,FALSE))","v":""}]
[{"$f":"IF($B478=\"\",\"\",'Whip Data'!$Z491)","v":""},{"$f":"IFERROR('Whip Data'!A491,\"\")","v":""},{"$f":"IF(B478=\"\",\"\",'Whip Data'!L491)","v":""},"",{"$f":"IF($B478=\"\",\"\",VLOOKUP($C478,Materials,'Whip Data'!$M$10+11,FALSE))","v":""},{"$f":"IF($B478=\"\",\"\",VLOOKUP($C478,Materials,'Whip Data'!$M$10+13,FALSE))","v":""},{"$f":"IFERROR(\"LTUA-\"&IF(ISTEXT('Whip Data'!$T491),VLOOKUP('Whip Data'!$T491,Conduit,2,FALSE),VLOOKUP('Whip Data'!$S491,Conduit,2,FALSE))&\"-\"&'Whip Data'!$R491,\"\")","v":""},{"$f":"IF($B478=\"\",\"\",IFERROR(VLOOKUP('Whip Data'!$T491,Conduit,3,FALSE),VLOOKUP('Whip Data'!$S491,Conduit,3,FALSE)))","v":""},{"$f":"IF(B478=\"\",\"\",'Whip Data'!O491)","v":""},{"$f":"IF(C478=\"\",\"\",'Whip Data'!P491)","v":""},{"$f":"IF($B478=\"\",\"\",IF(ISTEXT('Whip Data'!V491),'Whip Data'!V491,'Whip Data'!U491))","v":""},{"$f":"IF(B478=\"\",\"\",IF(ISBLANK('Whip Data'!X491),'Whip Data'!W491,'Whip Data'!X491))","v":""},"","",{"$f":"IF($B478=\"\",\"\",IF('Whip Data'!Q491=\"\",\"None\",'Whip Data'!Q491))","v":""},{"$f":"IF(O478=\"\",\"\",IF($O478=\"None\",\"NA\",INDEX(Breakers!$A$1:$I$75,MATCH(BOM!C478,Breakers!$A$1:$A$75,0),MATCH(BOM!O478,Breakers!$A$1:$I$1,0))))","v":""},{"$f":"IF(B478=\"\",\"\",VLOOKUP(H478,Standards!$X$3:$Y$6,2,FALSE))","v":""}]
[{"$f":"IF($B479=\"\",\"\",'Whip Data'!$Z492)","v":""},{"$f":"IFERROR('Whip Data'!A492,\"\")","v":""},{"$f":"IF(B479=\"\",\"\",'Whip Data'!L492)","v":""},"",{"$f":"IF($B479=\"\",\"\",VLOOKUP($C479,Materials,'Whip Data'!$M$10+11,FALSE))","v":""},{"$f":"IF($B479=\"\",\"\",VLOOKUP($C479,Materials,'Whip Data'!$M$10+13,FALSE))","v":""},{"$f":"IFERROR(\"LTUA-\"&IF(ISTEXT('Whip Data'!$T492),VLOOKUP('Whip Data'!$T492,Conduit,2,FALSE),VLOOKUP('Whip Data'!$S492,Conduit,2,FALSE))&\"-\"&'Whip Data'!$R492,\"\")","v":""},{"$f":"IF($B479=\"\",\"\",IFERROR(VLOOKUP('Whip Data'!$T492,Conduit,3,FALSE),VLOOKUP('Whip Data'!$S492,Conduit,3,FALSE)))","v":""},{"$f":"IF(B479=\"\",\"\",'Whip Data'!O492)","v":""},{"$f":"IF(C479=\"\",\"\",'Whip Data'!P492)","v":""},{"$f":"IF($B479=\"\",\"\",IF(ISTEXT('Whip Data'!V492),'Whip Data'!V492,'Whip Data'!U492))","v":""},{"$f":"IF(B479=\"\",\"\",IF(ISBLANK('Whip Data'!X492),'Whip Data'!W492,'Whip Data'!X492))","v":""},"","",{"$f":"IF($B479=\"\",\"\",IF('Whip Data'!Q492=\"\",\"None\",'Whip Data'!Q492))","v":""},{"$f":"IF(O479=\"\",\"\",IF($O479=\"None\",\"NA\",INDEX(Breakers!$A$1:$I$75,MATCH(BOM!C479,Breakers!$A$1:$A$75,0),MATCH(BOM!O479,Breakers!$A$1:$I$1,0))))","v":""},{"$f":"IF(B479=\"\",\"\",VLOOKUP(H479,Standards!$X$3:$Y$6,2,FALSE))","v":""}]
[{"$f":"IF($B480=\"\",\"\",'Whip Data'!$Z493)","v":""},{"$f":"IFERROR('Whip Data'!A493,\"\")","v":""},{"$f":"IF(B480=\"\",\"\",'Whip Data'!L493)","v":""},"",{"$f":"IF($B480=\"\",\"\",VLOOKUP($C480,Materials,'Whip Data'!$M$10+11,FALSE))","v":""},{"$f":"IF($B480=\"\",\"\",VLOOKUP($C480,Materials,'Whip Data'!$M$10+13,FALSE))","v":""},{"$f":"IFERROR(\"LTUA-\"&IF(ISTEXT('Whip Data'!$T493),VLOOKUP('Whip Data'!$T493,Conduit,2,FALSE),VLOOKUP('Whip Data'!$S493,Conduit,2,FALSE))&\"-\"&'Whip Data'!$R493,\"\")","v":""},{"$f":"IF($B480=\"\",\"\",IFERROR(VLOOKUP('Whip Data'!$T493,Conduit,3,FALSE),VLOOKUP('Whip Data'!$S493,Conduit,3,FALSE)))","v":""},{"$f":"IF(B480=\"\",\"\",'Whip Data'!O493)","v":""},{"$f":"IF(C480=\"\",\"\",'Whip Data'!P493)","v":""},{"$f":"IF($B480=\"\",\"\",IF(ISTEXT('Whip Data'!V493),'Whip Data'!V493,'Whip Data'!U493))","v":""},{"$f":"IF(B480=\"\",\"\",IF(ISBLANK('Whip Data'!X493),'Whip Data'!W493,'Whip Data'!X493))","v":""},"","",{"$f":"IF($B480=\"\",\"\",IF('Whip Data'!Q493=\"\",\"None\",'Whip Data'!Q493))","v":""},{"$f":"IF(O480=\"\",\"\",IF($O480=\"None\",\"NA\",INDEX(Breakers!$A$1:$I$75,MATCH(BOM!C480,Breakers!$A$1:$A$75,0),MATCH(BOM!O480,Breakers!$A$1:$I$1,0))))","v":""},{"$f":"IF(B480=\"\",\"\",VLOOKUP(H480,Standards!$X$3:$Y$6,2,FALSE))","v":""}]
[{"$f":"IF($B481=\"\",\"\",'Whip Data'!$Z494)","v":""},{"$f":"IFERROR('Whip Data'!A494,\"\")","v":""},{"$f":"IF(B481=\"\",\"\",'Whip Data'!L494)","v":""},"",{"$f":"IF($B481=\"\",\"\",VLOOKUP($C481,Materials,'Whip Data'!$M$10+11,FALSE))","v":""},{"$f":"IF($B481=\"\",\"\",VLOOKUP($C481,Materials,'Whip Data'!$M$10+13,FALSE))","v":""},{"$f":"IFERROR(\"LTUA-\"&IF(ISTEXT('Whip Data'!$T494),VLOOKUP('Whip Data'!$T494,Conduit,2,FALSE),VLOOKUP('Whip Data'!$S494,Conduit,2,FALSE))&\"-\"&'Whip Data'!$R494,\"\")","v":""},{"$f":"IF($B481=\"\",\"\",IFERROR(VLOOKUP('Whip Data'!$T494,Conduit,3,FALSE),VLOOKUP('Whip Data'!$S494,Conduit,3,FALSE)))","v":""},{"$f":"IF(B481=\"\",\"\",'Whip Data'!O494)","v":""},{"$f":"IF(C481=\"\",\"\",'Whip Data'!P494)","v":""},{"$f":"IF($B481=\"\",\"\",IF(ISTEXT('Whip Data'!V494),'Whip Data'!V494,'Whip Data'!U494))","v":""},{"$f":"IF(B481=\"\",\"\",IF(ISBLANK('Whip Data'!X494),'Whip Data'!W494,'Whip Data'!X494))","v":""},"","",{"$f":"IF($B481=\"\",\"\",IF('Whip Data'!Q494=\"\",\"None\",'Whip Data'!Q494))","v":""},{"$f":"IF(O481=\"\",\"\",IF($O481=\"None\",\"NA\",INDEX(Breakers!$A$1:$I$75,MATCH(BOM!C481,Breakers!$A$1:$A$75,0),MATCH(BOM!O481,Breakers!$A$1:$I$1,0))))","v":""},{"$f":"IF(B481=\"\",\"\",VLOOKUP(H481,Standards!$X$3:$Y$6,2,FALSE))","v":""}]
[{"$f":"IF($B482=\"\",\"\",'Whip Data'!$Z495)","v":""},{"$f":"IFERROR('Whip Data'!A495,\"\")","v":""},{"$f":"IF(B482=\"\",\"\",'Whip Data'!L495)","v":""},"",{"$f":"IF($B482=\"\",\"\",VLOOKUP($C482,Materials,'Whip Data'!$M$10+11,FALSE))","v":""},{"$f":"IF($B482=\"\",\"\",VLOOKUP($C482,Materials,'Whip Data'!$M$10+13,FALSE))","v":""},{"$f":"IFERROR(\"LTUA-\"&IF(ISTEXT('Whip Data'!$T495),VLOOKUP('Whip Data'!$T495,Conduit,2,FALSE),VLOOKUP('Whip Data'!$S495,Conduit,2,FALSE))&\"-\"&'Whip Data'!$R495,\"\")","v":""},{"$f":"IF($B482=\"\",\"\",IFERROR(VLOOKUP('Whip Data'!$T495,Conduit,3,FALSE),VLOOKUP('Whip Data'!$S495,Conduit,3,FALSE)))","v":""},{"$f":"IF(B482=\"\",\"\",'Whip Data'!O495)","v":""},{"$f":"IF(C482=\"\",\"\",'Whip Data'!P495)","v":""},{"$f":"IF($B482=\"\",\"\",IF(ISTEXT('Whip Data'!V495),'Whip Data'!V495,'Whip Data'!U495))","v":""},{"$f":"IF(B482=\"\",\"\",IF(ISBLANK('Whip Data'!X495),'Whip Data'!W495,'Whip Data'!X495))","v":""},"","",{"$f":"IF($B482=\"\",\"\",IF('Whip Data'!Q495=\"\",\"None\",'Whip Data'!Q495))","v":""},{"$f":"IF(O482=\"\",\"\",IF($O482=\"None\",\"NA\",INDEX(Breakers!$A$1:$I$75,MATCH(BOM!C482,Breakers!$A$1:$A$75,0),MATCH(BOM!O482,Breakers!$A$1:$I$1,0))))","v":""},{"$f":"IF(B482=\"\",\"\",VLOOKUP(H482,Standards!$X$3:$Y$6,2,FALSE))","v":""}]
[{"$f":"IF($B483=\"\",\"\",'Whip Data'!$Z496)","v":""},{"$f":"IFERROR('Whip Data'!A496,\"\")","v":""},{"$f":"IF(B483=\"\",\"\",'Whip Data'!L496)","v":""},"",{"$f":"IF($B483=\"\",\"\",VLOOKUP($C483,Materials,'Whip Data'!$M$10+11,FALSE))","v":""},{"$f":"IF($B483=\"\",\"\",VLOOKUP($C483,Materials,'Whip Data'!$M$10+13,FALSE))","v":""},{"$f":"IFERROR(\"LTUA-\"&IF(ISTEXT('Whip Data'!$T496),VLOOKUP('Whip Data'!$T496,Conduit,2,FALSE),VLOOKUP('Whip Data'!$S496,Conduit,2,FALSE))&\"-\"&'Whip Data'!$R496,\"\")","v":""},{"$f":"IF($B483=\"\",\"\",IFERROR(VLOOKUP('Whip Data'!$T496,Conduit,3,FALSE),VLOOKUP('Whip Data'!$S496,Conduit,3,FALSE)))","v":""},{"$f":"IF(B483=\"\",\"\",'Whip Data'!O496)","v":""},{"$f":"IF(C483=\"\",\"\",'Whip Data'!P496)","v":""},{"$f":"IF($B483=\"\",\"\",IF(ISTEXT('Whip Data'!V496),'Whip Data'!V496,'Whip Data'!U496))","v":""},{"$f":"IF(B483=\"\",\"\",IF(ISBLANK('Whip Data'!X496),'Whip Data'!W496,'Whip Data'!X496))","v":""},"","",{"$f":"IF($B483=\"\",\"\",IF('Whip Data'!Q496=\"\",\"None\",'Whip Data'!Q496))","v":""},{"$f":"IF(O483=\"\",\"\",IF($O483=\"None\",\"NA\",INDEX(Breakers!$A$1:$I$75,MATCH(BOM!C483,Breakers!$A$1:$A$75,0),MATCH(BOM!O483,Breakers!$A$1:$I$1,0))))","v":""},{"$f":"IF(B483=\"\",\"\",VLOOKUP(H483,Standards!$X$3:$Y$6,2,FALSE))","v":""}]
[{"$f":"IF($B484=\"\",\"\",'Whip Data'!$Z497)","v":""},{"$f":"IFERROR('Whip Data'!A497,\"\")","v":""},{"$f":"IF(B484=\"\",\"\",'Whip Data'!L497)","v":""},"",{"$f":"IF($B484=\"\",\"\",VLOOKUP($C484,Materials,'Whip Data'!$M$10+11,FALSE))","v":""},{"$f":"IF($B484=\"\",\"\",VLOOKUP($C484,Materials,'Whip Data'!$M$10+13,FALSE))","v":""},{"$f":"IFERROR(\"LTUA-\"&IF(ISTEXT('Whip Data'!$T497),VLOOKUP('Whip Data'!$T497,Conduit,2,FALSE),VLOOKUP('Whip Data'!$S497,Conduit,2,FALSE))&\"-\"&'Whip Data'!$R497,\"\")","v":""},{"$f":"IF($B484=\"\",\"\",IFERROR(VLOOKUP('Whip Data'!$T497,Conduit,3,FALSE),VLOOKUP('Whip Data'!$S497,Conduit,3,FALSE)))","v":""},{"$f":"IF(B484=\"\",\"\",'Whip Data'!O497)","v":""},{"$f":"IF(C484=\"\",\"\",'Whip Data'!P497)","v":""},{"$f":"IF($B484=\"\",\"\",IF(ISTEXT('Whip Data'!V497),'Whip Data'!V497,'Whip Data'!U497))","v":""},{"$f":"IF(B484=\"\",\"\",IF(ISBLANK('Whip Data'!X497),'Whip Data'!W497,'Whip Data'!X497))","v":""},"","",{"$f":"IF($B484=\"\",\"\",IF('Whip Data'!Q497=\"\",\"None\",'Whip Data'!Q497))","v":""},{"$f":"IF(O484=\"\",\"\",IF($O484=\"None\",\"NA\",INDEX(Breakers!$A$1:$I$75,MATCH(BOM!C484,Breakers!$A$1:$A$75,0),MATCH(BOM!O484,Breakers!$A$1:$I$1,0))))","v":""},{"$f":"IF(B484=\"\",\"\",VLOOKUP(H484,Standards!$X$3:$Y$6,2,FALSE))","v":""}]
[{"$f":"IF($B485=\"\",\"\",'Whip Data'!$Z498)","v":""},{"$f":"IFERROR('Whip Data'!A498,\"\")","v":""},{"$f":"IF(B485=\"\",\"\",'Whip Data'!L498)","v":""},"",{"$f":"IF($B485=\"\",\"\",VLOOKUP($C485,Materials,'Whip Data'!$M$10+11,FALSE))","v":""},{"$f":"IF($B485=\"\",\"\",VLOOKUP($C485,Materials,'Whip Data'!$M$10+13,FALSE))","v":""},{"$f":"IFERROR(\"LTUA-\"&IF(ISTEXT('Whip Data'!$T498),VLOOKUP('Whip Data'!$T498,Conduit,2,FALSE),VLOOKUP('Whip Data'!$S498,Conduit,2,FALSE))&\"-\"&'Whip Data'!$R498,\"\")","v":""},{"$f":"IF($B485=\"\",\"\",IFERROR(VLOOKUP('Whip Data'!$T498,Conduit,3,FALSE),VLOOKUP('Whip Data'!$S498,Conduit,3,FALSE)))","v":""},{"$f":"IF(B485=\"\",\"\",'Whip Data'!O498)","v":""},{"$f":"IF(C485=\"\",\"\",'Whip Data'!P498)","v":""},{"$f":"IF($B485=\"\",\"\",IF(ISTEXT('Whip Data'!V498),'Whip Data'!V498,'Whip Data'!U498))","v":""},{"$f":"IF(B485=\"\",\"\",IF(ISBLANK('Whip Data'!X498),'Whip Data'!W498,'Whip Data'!X498))","v":""},"","",{"$f":"IF($B485=\"\",\"\",IF('Whip Data'!Q498=\"\",\"None\",'Whip Data'!Q498))","v":""},{"$f":"IF(O485=\"\",\"\",IF($O485=\"None\",\"NA\",INDEX(Breakers!$A$1:$I$75,MATCH(BOM!C485,Breakers!$A$1:$A$75,0),MATCH(BOM!O485,Breakers!$A$1:$I$1,0))))","v":""},{"$f":"IF(B485=\"\",\"\",VLOOKUP(H485,Standards!$X$3:$Y$6,2,FALSE))","v":""}]
[{"$f":"IF($B486=\"\",\"\",'Whip Data'!$Z499)","v":""},{"$f":"IFERROR('Whip Data'!A499,\"\")","v":""},{"$f":"IF(B486=\"\",\"\",'Whip Data'!L499)","v":""},"",{"$f":"IF($B486=\"\",\"\",VLOOKUP($C486,Materials,'Whip Data'!$M$10+11,FALSE))","v":""},{"$f":"IF($B486=\"\",\"\",VLOOKUP($C486,Materials,'Whip Data'!$M$10+13,FALSE))","v":""},{"$f":"IFERROR(\"LTUA-\"&IF(ISTEXT('Whip Data'!$T499),VLOOKUP('Whip Data'!$T499,Conduit,2,FALSE),VLOOKUP('Whip Data'!$S499,Conduit,2,FALSE))&\"-\"&'Whip Data'!$R499,\"\")","v":""},{"$f":"IF($B486=\"\",\"\",IFERROR(VLOOKUP('Whip Data'!$T499,Conduit,3,FALSE),VLOOKUP('Whip Data'!$S499,Conduit,3,FALSE)))","v":""},{"$f":"IF(B486=\"\",\"\",'Whip Data'!O499)","v":""},{"$f":"IF(C486=\"\",\"\",'Whip Data'!P499)","v":""},{"$f":"IF($B486=\"\",\"\",IF(ISTEXT('Whip Data'!V499),'Whip Data'!V499,'Whip Data'!U499))","v":""},{"$f":"IF(B486=\"\",\"\",IF(ISBLANK('Whip Data'!X499),'Whip Data'!W499,'Whip Data'!X499))","v":""},"","",{"$f":"IF($B486=\"\",\"\",IF('Whip Data'!Q499=\"\",\"None\",'Whip Data'!Q499))","v":""},{"$f":"IF(O486=\"\",\"\",IF($O486=\"None\",\"NA\",INDEX(Breakers!$A$1:$I$75,MATCH(BOM!C486,Breakers!$A$1:$A$75,0),MATCH(BOM!O486,Breakers!$A$1:$I$1,0))))","v":""},{"$f":"IF(B486=\"\",\"\",VLOOKUP(H486,Standards!$X$3:$Y$6,2,FALSE))","v":""}]
[{"$f":"IF($B487=\"\",\"\",'Whip Data'!$Z500)","v":""},{"$f":"IFERROR('Whip Data'!A500,\"\")","v":""},{"$f":"IF(B487=\"\",\"\",'Whip Data'!L500)","v":""},"",{"$f":"IF($B487=\"\",\"\",VLOOKUP($C487,Materials,'Whip Data'!$M$10+11,FALSE))","v":""},{"$f":"IF($B487=\"\",\"\",VLOOKUP($C487,Materials,'Whip Data'!$M$10+13,FALSE))","v":""},{"$f":"IFERROR(\"LTUA-\"&IF(ISTEXT('Whip Data'!$T500),VLOOKUP('Whip Data'!$T500,Conduit,2,FALSE),VLOOKUP('Whip Data'!$S500,Conduit,2,FALSE))&\"-\"&'Whip Data'!$R500,\"\")","v":""},{"$f":"IF($B487=\"\",\"\",IFERROR(VLOOKUP('Whip Data'!$T500,Conduit,3,FALSE),VLOOKUP('Whip Data'!$S500,Conduit,3,FALSE)))","v":""},{"$f":"IF(B487=\"\",\"\",'Whip Data'!O500)","v":""},{"$f":"IF(C487=\"\",\"\",'Whip Data'!P500)","v":""},{"$f":"IF($B487=\"\",\"\",IF(ISTEXT('Whip Data'!V500),'Whip Data'!V500,'Whip Data'!U500))","v":""},{"$f":"IF(B487=\"\",\"\",IF(ISBLANK('Whip Data'!X500),'Whip Data'!W500,'Whip Data'!X500))","v":""},"","",{"$f":"IF($B487=\"\",\"\",IF('Whip Data'!Q500=\"\",\"None\",'Whip Data'!Q500))","v":""},{"$f":"IF(O487=\"\",\"\",IF($O487=\"None\",\"NA\",INDEX(Breakers!$A$1:$I$75,MATCH(BOM!C487,Breakers!$A$1:$A$75,0),MATCH(BOM!O487,Breakers!$A$1:$I$1,0))))","v":""},{"$f":"IF(B487=\"\",\"\",VLOOKUP(H487,Standards!$X$3:$Y$6,2,FALSE))","v":""}]
[]
[]
[]
[]
[]
[]
[]
[]
[]
[]
[]
[]
[]
[]
[{"$f":"IF($B502=\"\",\"\",'Whip Data'!$Z515)","v":""}]

{"sheet":"Standards","index":4,"n_rows":81,"n_cols":25,"rows_kept":81,"cut":false,"hidden":true,"merged":[]}
["Connector","Part Id ","Volt","Amps","Hot Wires","Pole/Wire","Phase","Standard Wire","Standard Ground","Standard Conduit","Adapters","Bell Box","1900 Box","Bell Cover","1900 Cover",null,null,"Wire Options","Ground Options","Colors","Abbreviation","Conduit Options","Part # Builder","FITTING","Heat Shrink"]
["L1420R1","L1420/R1",250,20,2,"3P4W",1,"3#10",10,"1/2\"","None","DIH31LM","TNB521711234E","SS720","RS4",null,null,null,null,"BLUE","BL"]
["L1430R1","L1430/R1",250,30,2,"3P4W",1,"3#10",10,"1/2\"","None","DIH31LM","TNB521711234E","SS720","RS4",null,null,"2#10",10,"GREY","GY","1/2\"",12,"H0501M1","M23053/5-209-C"]
["L1520R1","L1520/R1",250,20,3,"3P4W",3,"3#10",10,"1/2\"","None","DIH31LM","TNB521711234E","SS720","RS4",null,null,"3#10",8,"ORANGE","OR","3/4\"",34,"H0751M1","M23053/5-210-C"]
["L1530R1","L1530/R1",250,30,3,"3P4W",3,"3#10",10,"1/2\"","None","DIH31LM","TNB521711234E","SS720","RS4",null,null,"4#10",6,"RED","RD","1.0\"","1.0","AMFSTR100B","M23053/5-210-C"]
["L2120R1","L2120/R1",250,20,3,"4P5W",3,"4#10",10,"1/2\"","None","DIH31LM","TNB521711234E","SS720","RS4",null,null,"2#8",4,"GREEN","GR","1-1/4\"","1-14","AMFSTR125B","M23053/5-211-C"]
["L2130R1","L2130/R1",250,30,3,"4P5W",3,"4#10",10,"1/2\"","None","DIH31LM","TNB521711234E","SS720","RS4",null,null,"3#8",3,"YELLOW","YL"]
["L515R1","L515/R1",125,15,1,"2P3W",1,"2#10",10,"1/2\"","None","DIH31LM","TNB521711234E","SS7","RS4",null,null,"4#8",null,"BROWN","BR"]
["L520R1","L520/R1",125,20,1,"2P3W",1,"2#10",10,"1/2\"","None","DIH31LM","TNB521711234E","SS720","RS4",null,null,"2#6",null,"BLACK","BK"]
["L530R1","L530/R1",125,30,1,"2P3W",1,"2#10",10,"1/2\"","None","DIH31LM","TNB521711234E","SS720","RS4",null,null,"3#6",null,"WHITE","WH"]
["L615R1","L615/R1",250,15,2,"2P3W",1,"2#10",10,"1/2\"","None","DIH31LM","TNB521711234E","SS7","RS4",null,null,"4#6",null,"VIOLET","VI"]
["L620R1","L620/R1",250,20,2,"2P3W",1,"2#10",10,"1/2\"","None","DIH31LM","TNB521711234E","SS720","RS4",null,null,"2#4"]
["L630R1","L630/R1",250,30,2,"2P3W",1,"2#10",10,"1/2\"","None","DIH31LM","TNB521711234E","SS720","RS4",null,null,"3#4"]
["CS6369","CS6369/3P",250,50,3,"3P4W",1,"3#8",8,"3/4\"","None","DB75-5","TNB521711234E","SS750","RS13",null,null,"4#4"]
["CS8269L","CS8269L/2P",250,50,2,"2P3W",1,"2#8",8,"3/4\"","None","DB75-5","TNB521711234E","SS750","RS13",null,null,"2#2"]
["CS8369L","CS8369L/3P",250,50,3,"3P4W",3,"3#8",8,"3/4\"","None","DB75-5","TNB521711234E","SS750","RS13",null,null,"3#2"]
["CS8364","CS8364/3P",250,50,3,"3P4W",3,"3#8",8,"3/4\"","None","None","None","None","None",null,null,"4#2"]
["HBL320C6W","320C6W/2P",250,20,2,"2P3W",1,"2#10",10,"1/2\"","SAA-12","None","None","None","None"]
["HBL330C6W","330C6W/2P",250,30,2,"2P3W",1,"2#10",10,"1/2\"","SAB-12","None","None","None","None"]
["HBL360C6W","360C6W/2P",250,60,2,"2P3W",1,"2#6",6,"3/4\"","SAC-34","None","None","None","None"]
["HBL360R6W","360R6W/2P",250,60,2,"2P3W",1,"2#6",6,"3/4\"","RB12575","BB601W","BB601W","None","None"]
["HBL4100C9W","4100C9W/3P",250,100,3,"3P4W",3,"3#3",3,"1-1/4\"","SAD125","None","None","None","None"]
["HBL420C9W","420C9W/3P",250,20,3,"3P4W",3,"3#10",10,"1/2\"","SAB-12","None","None","None","None"]
["HBL430C9W","430C9W/3P",250,30,3,"3P4W",3,"3#10",10,"1/2\"","SAB-12","None","None","None","None"]
["HBL430R9W","430R9W/3P",250,30,3,"3P4W",3,"3#10",10,"1/2\"","None","BB201W","BB201W","None","None"]
["HBL460C9WLT","460C9W/3P",250,60,3,"3P4W",3,"3#6",6,"3/4\"","None","None","None","None","None"]
["HBL460R9W","460R9W/3P",250,60,3,"3P4W",3,"3#6",6,"3/4\"","None","BB601W","BB601W","None","None"]
["HBL520C6W","560C9W/3P",415,20,3,"4P5W",3,"4#10",10,"1/2\"","SAC-12","None","SAC-100","None","None"]
["HBL520R6W","560C9W/3P",415,20,3,"4P5W",3,"4#10",10,"1/2\"","None","BB201W","BB2601W","None","None"]
["HBL530C9W","530C9W/3P",250,30,3,"4P5W",3,"4#10",10,"1/2\"","SAC-12","None","None","None","None"]
["HBL560C6W","560C6W/3P",415,60,3,"4P5W",3,"4#6",6,"1.0\"","SAC-100","None","SAC-100","None","None"]
["HBL560R6W","560C9W/3P",415,60,3,"4P5W",3,"4#6",6,"1.0\"","None","BB601W","BB2601W","None","None"]
["HBL560C9W","560C9W/3P",250,60,3,"4P5W",3,"4#6",6,"1.0\"","SAC-100","None","SAC-100","None","None"]
["HBL560R9W","560R9W/3P",250,60,3,"4P5W",3,"4#6",6,"1.0\"","None","BB601W","BB2601W","None","None"]
["HBL560C7W","560C7W/3P",480,60,3,"4P5W",3,"4#6",6,"1.0\"","SAC-100","None","None","None","None"]
["515R1","515/R1",125,15,1,"2P3W",1,"2#10",10,"1/2\"","None","DIH31LM","TNB521711234E","SS750","RS-11"]
["515R2","515/R2",125,15,1,"2P3W",1,"2#10",10,"1/2\"","None","DIH31LM","TNB521711234E","SS8","RS12"]
["520R1","520/R1",125,20,1,"2P3W",1,"2#10",10,"1/2\"","None","DIH31LM","TNB521711234E","SS7","RS-11"]
["520R2","520/R2",125,20,1,"2P3W",1,"2#10",10,"1/2\"","None","DIH31LM","TNB521711234E","SS8","RS12"]
["520R4","520/R4",125,20,1,"2P3W",1,"2#10",10,"1/2\"","None","TNB521711234E","TNB521711234E","RS-8","RS-8"]
["530R1","530/R1",125,30,1,"2P3W",1,"2#10",10,"1/2\"","None","DIH31LM","TNB521711234E","SS7","RS13"]
["550R1","550/R1",125,50,1,"2P3W",1,"2#8",8,"1/2\"","None","DIH31LM","TNB521711234E","SS7","RS13"]
["615R1","615/R1",250,15,2,"2P3W",1,"2#10",10,"1/2\"","None","DIH31LM","TNB521711234E","SS7","RS-11"]
["620R1","620/R1",250,15,2,"2P3W",1,"2#10",10,"1/2\"","None","DIH31LM","TNB521711234E","SS7","RS-11"]
["630R1","630/R1",250,30,2,"2P3W",1,"2#10",10,"1/2\"","None","DIH31LM","TNB521711234E","SS7","RS13"]
["1420R1","1420/R1",250,20,2,"3P4W",1,"3#10",10,"1/2\"","None","DIH31LM","TNB521711234E","SS720","RS4"]
["1430R1","1430/R1",250,30,2,"3P4W",1,"3#10",10,"1/2\"","None","DIH31LM","TNB521711234E","SS720","RS4"]
["1450R1","1450/R1",250,50,2,"3P4W",1,"3#8",8,"3/4\"","None","2DB755","TNB521711234E","SS701","RS4"]
["9C23U0","9C23U0/2P",250,20,2,"2P3W",1,"2#10",10,"1/2\"","9X2C50","None","9X2C50","None","None"]
["9C23U1","9C23U1/2P",250,20,2,"2P3W",1,"2#10",10,"1/2\"","9X2C50","None","9X2C50","None","None"]
["9C23U2","9C23U2/2P",250,20,2,"2P3W",1,"2#10",10,"1/2\"","9X2C50","None","9X2C50","None","None"]
["9C24U0","9C24U0/3P",250,20,3,"3P4W",3,"3#10",10,"1/2\"","9X2C50","None","9X2C50","None","None"]
["9C33U0","9C33U0/2P",250,30,2,"2P3W",1,"2#10",10,"1/2\"","9X3C50","None","9X3C50","None","None"]
["9C33U1","9C33U1/2P",250,30,2,"2P3W",1,"2#10",10,"1/2\"","9X3C50","None","9X3C50","None","None"]
["9C33U2","9C33U2/2P",250,30,2,"2P3W",1,"2#10",10,"1/2\"","9X3C50","None","9X3C50","None","None"]
["9C34U0","9C34U0/3P",250,30,3,"3P4W",3,"3#10",10,"1/2\"","9X3C50","None","9X3C50","None","None"]
["9C53U0","9C53U0/2P",250,50,2,"2P3W",1,"2#8",8,"3/4\"","9X5C75","None","9X5C75","None","None"]
["9C54U0","9C54U0/3P",250,50,3,"3P4W",3,"3#8",8,"3/4\"","9X5C75","None","9X5C75","None","None"]
["9C54U2","9C54U2/3P",250,50,3,"3P4W",3,"3#8",8,"3/4\"","9X5C75","None","9X5C75","None","None"]
["9C63U2","9C63U2/2P",250,60,2,"2P3W",1,"2#6",6,"3/4\"","9X6C75","None","9X6C75","None","None"]
["9C64U1","9C64U1/3P",250,60,3,"3P4W",3,"3#6",6,"3/4\"","9X6C75","None","9X6C75","None","None"]
["9C64U2","9C64U2/3P",250,60,3,"3P4W",3,"3#6",6,"3/4\"","9X6C75","None","9X6C75","None","None"]
["L630R1-IG","L630-IG/R1",250,30,2,"2P3WIG",1,"2#10",10,"1/2\"","None","DIH31LM","TNB521711234E","SS720","RS4"]
["L520R1-IG","L520-IG/R1",125,20,1,"2P3WIG",1,"2#10",10,"1/2\"","None","DIH31LM","TNB521711234E","SS720","RS4"]
["L530R1-IG","L530-IG/R1",125,30,1,"2P3WIG",1,"2#10",10,"1/2\"","None","DIH31LM","TNB521711234E","SS720","RS4"]
["L620R1-IG","L620-IG/R1",250,20,2,"2P3WIG",1,"2#10",10,"1/2\"","None","DIH31LM","TNB521711234E","SS720","RS4"]
["L1430R1-IG","L1430-IG/R1",250,30,2,"3P4WIG",3,"3#10",10,"1/2\"","None","DIH31LM","TNB521711234E","SS720","RS4"]
["L1530R1-IG","L1530-IG/R1",250,30,3,"3P4WIG",3,"3#10",10,"1/2\"","None","DIH31LM","TNB521711234E","SS720","RS4"]
["L2130R1-IG","L2130-IG/R1",250,30,3,"4P5WIG",3,"4#10",10,"1/2\"","None","DIH31LM","TNB521711234E","SS720","RS4"]
["WHIP-3W20A","WHIP/3-10",250,20,2,"2P3W",1,"2#10",10,"1/2\"","None","None","None","None","None"]
["WHIP-4W20A","WHIP/4-10",250,20,3,"3P4W",3,"3#10",10,"1/2\"","None","None","None","None","None"]
["WHIP-5W20A","WHIP/5-10",250,20,3,"4P5W",3,"4#10",10,"1/2\"","None","None","None","None","None"]
["WHIP-3W30A","WHIP/3-10",250,30,2,"2P3W",1,"2#10",10,"1/2\"","None","None","None","None","None"]
["WHIP-4W30A","WHIP/4-10",250,30,3,"3P4W",3,"3#10",10,"1/2\"","None","None","None","None","None"]
["WHIP-5W30A","WHIP/5-10",250,30,3,"4P5W",3,"4#10",10,"1/2\"","None","None","None","None","None"]
["WHIP-3W50A","WHIP/3-8",250,50,2,"2P3W",1,"2#8",8,"1/2\"","None","None","None","None","None"]
["WHIP-4W50A","WHIP/4-8",250,50,3,"3P4W",3,"3#8",8,"3/4\"","None","None","None","None","None"]
["WHIP-3W60A","WHIP/3-6",250,60,2,"2P3W",1,"2#6",6,"3/4\"","None","None","None","None","None"]
["WHIP-4W60A","WHIP/4-6",250,60,3,"3P4W",3,"3#6",6,"3/4\"","None","None","None","None","None"]
["WHIP-5W60A","WHIP/5-6",250,60,3,"4P5W",3,"4#6",6,"1.0\"","None","None","None","None","None"]
["--Select--",null,null,null,null,null,null,null,""]

{"sheet":"Breakers","index":5,"n_rows":75,"n_cols":12,"rows_kept":75,"cut":false,"hidden":true,"merged":[]}
["Connection","GE BOLT 10KAIC","GE SNAP 10KAIC","SQD BOLT 10KAIC","SQD SNAP 10KAIC","GE BOLT 22KAIC","SQD BOLT 22KAIC","CUT HAM BOLT 10KAIC","CUT HAM BOLT 22KAIC","Breaker Type","Abbreviation"]
["L1420R1","GECTHQB2120","GECTHQL2120","SQDQOB220","SQDQO220","GECTHHQB2120","SQDQOB220VH","BAB2020H","QBHW2020H","None","X"]
["L1430R1","GECTHQB2130","GECTHQL2130","SQDQOB230","SQDQO230","GECTHHQB2130","SQDQOB230VH","BAB2030H","QBHW2030H","GE BOLT 10KAIC","GB",2]
["L1520R1","GECTHQB32020","GECTHQL32020","SQDQOB320","SQDQO320","GECTHHQB32020","SQDQOB320VH","BAB3020H","QBHW3020H","GE SNAP 10KAIC","GS",3]
["L1530R1","GECTHQB32030","GECTHQL32030","SQDQOB330","SQDQO330","GECTHHQB32030","SQDQOB330VH","BAB3030H","QBHW3030H","SQD BOLT 10KAIC","SB",4]
["L2120R1","GECTHQB32020","GECTHQL32020","SQDQOB320","SQDQO320","GECTHHQB32020","SQDQOB320VH","BAB3020H","QBHW3020H","SQD SNAP 10KAIC","SS",5]
["L2130R1","GECTHQB32030","GECTHQL32030","SQDQOB330","SQDQO330","GECTHHQB32030","SQDQOB330VH","BAB3030H","QBHW3030H","GE BOLT 22KAIC","GH",6]
["L515R1","GECTHQB1115","GECTHQL1115","SQDQOB115","SQDQO115","GECTHHQB1115","SQDQOB115VH","BAB1015H","QBHW1015H","SQD BOLT 22KAIC","SH",7]
["L520R1","GECTHQB1120","GECTHQL1120","SQDQOB120","SQDQO120","GECTHHQB1120","SQDQOB120VH","BAB1020H","QBHW1020H","CUT HAM BOLT 10KAIC","CB",8]
["L530R1","GECTHQB1130","GECTHQL1130","SQDQOB130","SQDQO130","GECTHHQB1130","SQDQOB130VH","BAB1030H","QBHW1030H","CUT HAM BOLT 22KAIC","CH",9]
["L615R1","GECTHQB2115","GECTHQL2115","SQDQOB215","SQDQO215","GECTHHQB2115","SQDQOB215VH","BAB2015H","QBHW2015H"]
["L620R1","GECTHQB2120","GECTHQL2120","SQDQOB220","SQDQO220","GECTHHQB2120","SQDQOB220VH","BAB2020H","QBHW2020H"]
["L630R1","GECTHQB2130","GECTHQL2130","SQDQOB230","SQDQO230","GECTHHQB2130","SQDQOB230VH","BAB2030H","QBHW2030H"]
["CS6369","GECTHQB2150","GECTHQL2150","SQDQOB250","SQDQO250","GECTHHQB2150","SQDQOB250VH","BAB2050H","QBHW2050H"]
["CS8269L","GECTHQB2150","GECTHQL2150","SQDQOB250","SQDQO250","GECTHHQB2150","SQDQOB250VH","BAB2050H","QBHW2050H"]
["CS8369L","GECTHQB32050","GECTHQL32050","SQDQOB350","SQDQO350","GECTHHQB32050","SQDQOB350VH","BAB3050H","QBHW3050H"]
["CS8364","GECTHQB32050","GECTHQL32050","SQDQOB350","SQDQO350","GECTHHQB32050","SQDQOB350VH","BAB3050H","QBHW3050H"]
["HBL320C6W","GECTHQB2120","GECTHQL2120","SQDQOB220","SQDQO220","GECTHHQB2120","SQDQOB220VH","BAB2020H","QBHW2020H"]
["HBL330C6W","GECTHQB2130","GECTHQL2130","SQDQOB230","SQDQO230","GECTHHQB2130","SQDQOB230VH","BAB2030H","QBHW2030H"]
["HBL360C6W","GECTHQB2160","GECTHQL2160","SQDQOB260","SQDQO260","GECTHHQB2160","SQDQOB260VH","BAB2060H","QBHW2060H"]
["HBL360R6W","GECTHQB2160","GECTHQL2160","SQDQOB260","SQDQO260","GECTHHQB2160","SQDQOB260VH","BAB2060H","QBHW2060H"]
["HBL4100C9W","GECTHQB320100","GECTHQL320100","SQDQOB3100","SQDQO3100","GECTHHQB320100","SQDQOB3100VH","BAB30100H","QBHW30100H"]
["HBL420C9W","GECTHQB32020","GECTHQL32020","SQDQOB320","SQDQO320","GECTHHQB32020","SQDQOB320VH","BAB3020H","QBHW3020H"]
["HBL430C9W","GECTHQB32030","GECTHQL32030","SQDQOB330","SQDQO330","GECTHHQB32030","SQDQOB330VH","BAB3030H","QBHW3030H"]
["HBL430R9W","GECTHQB32030","GECTHQL32030","SQDQOB330","SQDQO330","GECTHHQB32030","SQDQOB330VH","BAB3030H","QBHW3030H"]
["HBL460C9WLT","GECTHQB32060","GECTHQL32060","SQDQOB360","SQDQO360","GECTHHQB32060","SQDQOB360VH","BAB3060H","QBHW3060H"]
["HBL460R9W","GECTHQB32060","GECTHQL32060","SQDQOB360","SQDQO360","GECTHHQB32060","SQDQOB360VH","BAB3060H","QBHW3060H"]
["HBL530C9W","GECTHQB32030","GECTHQL32030","SQDQOB330","SQDQO330","GECTHHQB32030","SQDQOB330VH","BAB3030H","QBHW3030H"]
["HBL560C9W","GECTHQB32060","GECTHQL32060","SQDQOB360","SQDQO360","GECTHHQB32060","SQDQOB360VH","BAB3060H","QBHW3060H"]
["HBL560R9W","GECTHQB32060","GECTHQL32060","SQDQOB360","SQDQO360","GECTHHQB32060","SQDQOB360VH","BAB3060H","QBHW3060H"]
["515R1","GECTHQB1115","GECTHQL1115","SQDQOB115","SQDQO115","GECTHHQB1115","SQDQOB115VH","BAB1015H","QBHW1015H"]
["515R2","GECTHQB1115","GECTHQL1115","SQDQOB115","SQDQO115","GECTHHQB1115","SQDQOB115VH","BAB1015H","QBHW1015H"]
["520R1","GECTHQB1120","GECTHQL1120","SQDQOB120","SQDQO120","GECTHHQB1120","SQDQOB120VH","BAB1020H","QBHW1020H"]
["520R2","GECTHQB1120","GECTHQL1120","SQDQOB120","SQDQO120","GECTHHQB1120","SQDQOB120VH","BAB1020H","QBHW1020H"]
["520R4","GECTHQB1120","GECTHQL1120","SQDQOB120","SQDQO120","GECTHHQB1120","SQDQOB120VH","BAB1020H","QBHW1020H"]
["530R1","GECTHQB1130","GECTHQL1130","SQDQOB130","SQDQO130","GECTHHQB1130","SQDQOB130VH","BAB1030H","QBHW1030H"]
["550R1","GECTHQB1150","GECTHQL1150","SQDQOB150","SQDQO150","GECTHHQB1150","SQDQOB150VH","BAB1050H","QBHW1050H"]
["615R1","GECTHQB2115","GECTHQL2115","SQDQOB215","SQDQO215","GECTHHQB2115","SQDQOB215VH","BAB2015H","QBHW2015H"]
["620R1","GECTHQB2120","GECTHQL2120","SQDQOB220","SQDQO220","GECTHHQB2120","SQDQOB220VH","BAB2020H","QBHW2020H"]
["630R1","GECTHQB2130","GECTHQL2130","SQDQOB230","SQDQO230","GECTHHQB2130","SQDQOB230VH","BAB2030H","QBHW2030H"]
["1420R1","GECTHQB2120","GECTHQL2120","SQDQOB220","SQDQO220","GECTHHQB2120","SQDQOB220VH","BAB2020H","QBHW2020H"]
["1430R1","GECTHQB2130","GECTHQL2130","SQDQOB230","SQDQO230","GECTHHQB2130","SQDQOB230VH","BAB2030H","QBHW2030H"]
["1450R1","GECTHQB2150","GECTHQL2150","SQDQOB250","SQDQO250","GECTHHQB2150","SQDQOB250VH","BAB2050H","QBHW2050H"]
["9C23U0","GECTHQB2120","GECTHQL2120","SQDQOB220","SQDQO220","GECTHHQB2120","SQDQOB220VH","BAB2020H","QBHW2020H"]
["9C23U1","GECTHQB2120","GECTHQL2120","SQDQOB220","SQDQO220","GECTHHQB2120","SQDQOB220VH","BAB2020H","QBHW2020H"]
["9C23U2","GECTHQB2120","GECTHQL2120","SQDQOB220","SQDQO220","GECTHHQB2120","SQDQOB220VH","BAB2020H","QBHW2020H"]
["9C24U0","GECTHQB32020","GECTHQL32020","SQDQOB320","SQDQO320","GECTHHQB32020","SQDQOB320VH","BAB3020H","QBHW3020H"]
["9C33U0","GECTHQB2130","GECTHQL2130","SQDQOB230","SQDQO230","GECTHHQB2130","SQDQOB230VH","BAB2030H","QBHW2030H"]
["9C33U1","GECTHQB2130","GECTHQL2130","SQDQOB230","SQDQO230","GECTHHQB2130","SQDQOB230VH","BAB2030H","QBHW2030H"]
["9C33U2","GECTHQB2130","GECTHQL2130","SQDQOB230","SQDQO230","GECTHHQB2130","SQDQOB230VH","BAB2030H","QBHW2030H"]
["9C34U0","GECTHQB32030","GECTHQL32030","SQDQOB330","SQDQO330","GECTHHQB32030","SQDQOB330VH","BAB3030H","QBHW3030H"]
["9C53U0","GECTHQB2150","GECTHQL2150","SQDQOB250","SQDQO250","GECTHHQB2150","SQDQOB250VH","BAB2050H","QBHW2050H"]
["9C54U0","GECTHQB32050","GECTHQL32050","SQDQOB350","SQDQO350","GECTHHQB32050","SQDQOB350VH","BAB3050H","QBHW3050H"]
["9C54U2","GECTHQB32050","GECTHQL32050","SQDQOB350","SQDQO350","GECTHHQB32050","SQDQOB350VH","BAB3050H","QBHW3050H"]
["9C63U2","GECTHQB2160","GECTHQL2160","SQDQOB260","SQDQO260","GECTHHQB2160","SQDQOB260VH","BAB2060H","QBHW2060H"]
["9C64U1","GECTHQB32060","GECTHQL32060","SQDQOB360","SQDQO360","GECTHHQB32060","SQDQOB360VH","BAB3060H","QBHW3060H"]
["9C64U2","GECTHQB32060","GECTHQL32060","SQDQOB360","SQDQO360","GECTHHQB32060","SQDQOB360VH","BAB3060H","QBHW3060H"]
["L630R1-IG","GECTHQB2130","GECTHQL2130","SQDQOB230","SQDQO230","GECTHHQB2130","SQDQOB230VH","BAB2030H","QBHW2030H"]
["L520R1-IG","GECTHQB2130","GECTHQL2130","SQDQOB230","SQDQO230","GECTHHQB2130","SQDQOB230VH","BAB2030H","QBHW2030H"]
["L530R1-IG","GECTHQB1130","GECTHQL1130","SQDQOB130","SQDQO130","GECTHHQB1130","SQDQOB130VH","BAB1030H","QBHW1030H"]
["L620R1-IG","GECTHQB2120","GECTHQL2120","SQDQOB220","SQDQO220","GECTHHQB2120","SQDQOB220VH","BAB2020H","QBHW2020H"]
["L1430R1-IG","GECTHQB2130","GECTHQL2130","SQDQOB230","SQDQO230","GECTHHQB2130","SQDQOB230VH","BAB2030H","QBHW2030H"]
["L1530R1-IG","GECTHQB32030","GECTHQL32030","SQDQOB330","SQDQO330","GECTHHQB32030","SQDQOB330VH","BAB3030H","QBHW3030H"]
["L2130R1-IG","GECTHQB32030","GECTHQL32030","SQDQOB330","SQDQO330","GECTHHQB32030","SQDQOB330VH","BAB3030H","QBHW3030H"]
["WHIP-3W20A","GECTHQB2120","GECTHQL2120","SQDQOB220","SQDQO220","GECTHHQB2120","SQDQOB220VH","BAB2020H","QBHW2020H"]
["WHIP-4W20A","GECTHQB32020","GECTHQL32020","SQDQOB320","SQDQO320","GECTHHQB32020","SQDQOB320VH","BAB3020H","QBHW3020H"]
["WHIP-5W20A","GECTHQB32020","GECTHQL32020","SQDQOB320","SQDQO320","GECTHHQB32020","SQDQOB320VH","BAB3020H","QBHW3020H"]
["WHIP-3W30A","GECTHQB2130","GECTHQL2130","SQDQOB230","SQDQO230","GECTHHQB2130","SQDQOB230VH","BAB2030H","QBHW2030H"]
["WHIP-4W30A","GECTHQB32030","GECTHQL32030","SQDQOB330","SQDQO330","GECTHHQB32030","SQDQOB330VH","BAB3030H","QBHW3030H"]
["WHIP-5W30A","GECTHQB32030","GECTHQL32030","SQDQOB330","SQDQO330","GECTHHQB32030","SQDQOB330VH","BAB3030H","QBHW3030H"]
["WHIP-3W50A","GECTHQB2150","GECTHQL2150","SQDQOB250","SQDQO250","GECTHHQB2150","SQDQOB250VH","BAB2050H","QBHW2050H"]
["WHIP-4W50A","GECTHQB32050","GECTHQL32050","SQDQOB350","SQDQO350","GECTHHQB32050","SQDQOB350VH","BAB3050H","QBHW3050H"]
["WHIP-3W60A","GECTHQB2160","GECTHQL2160","SQDQOB260","SQDQO260","GECTHHQB2160","SQDQOB260VH","BAB2060H","QBHW2060H"]
["WHIP-4W60A","GECTHQB32060","GECTHQL32060","SQDQOB360","SQDQO360","GECTHHQB32060","SQDQOB360VH","BAB3060H","QBHW3060H"]
["WHIP-5W60A","GECTHQB32060","GECTHQL32060","SQDQOB360","SQDQO360","GECTHHQB32060","SQDQOB360VH","BAB3060H","QBHW3060H"]

{"sheet":"Weight","index":6,"n_rows":95,"n_cols":20,"rows_kept":95,"cut":false,"hidden":true,"merged":[[0,9,0,11],[0,16,0,17]]}
[3.0000000000000001E-3,null,null,null,null,null,null,null,null,"Freight Estimator",null,null,null,{"$f":"ROUNDUP(SUM(L3:L28,P3:P99,T3:T99),0)","v":0}]
["Wire","Per FT",null,"Breakers","Per EA",null,"Receptacles","Per EA",null,"Whip Count",null,"Weight",null,"Receptacle",null,"Weight",null,"Breakers",null,"Weight"]
["10awg",5.1000000000000004E-2,null,"GECTHQB1120",1.149,null,"1420R1",0.15,null,"1/2",{"$f":"COUNTIF(BOM!H:H,\"H0501M1\")+COUNTIF(BOM!H:H,\"TC-050A055\")","v":0},{"$f":"K3*B16","v":0},null,"1420R1",{"$f":"COUNTIF(BOM!C:C,N3)","v":0},{"$f":"O3*H3","v":0},null,"GECTHQB1120",{"$f":"COUNTIF(BOM!P:P,Weight!R3)","v":0},{"$f":"S3*E3","v":0}]
["8awg",6.3300000000000009E-2,null,"GECTHQB1130",1.149,null,"1430R1",0.15,null,"3/4",{"$f":"COUNTIF(BOM!H:H,\"H0751M1\")","v":0},{"$f":"K4*B17","v":0},null,"1430R1",{"$f":"COUNTIF(BOM!C:C,N4)","v":0},{"$f":"O4*H4","v":0},null,"GECTHQB1130",{"$f":"COUNTIF(BOM!P:P,Weight!R4)","v":0},{"$f":"S4*E4","v":0}]
["6awg",0.126,null,"GECTHQB1140",1.149,null,"1450R1",0.15,null,"1",{"$f":"COUNTIF(BOM!H:H,\"AMFSTR100B\")","v":0},{"$f":"K5*B18","v":0},null,"1450R1",{"$f":"COUNTIF(BOM!C:C,N5)","v":0},0,null,"GECTHQB1140",{"$f":"COUNTIF(BOM!P:P,Weight!R5)","v":0},0]
["4awg",0.21,null,"GECTHQB1150",1.149,null,"515R1",0.15,null,"1-1/4",{"$f":"COUNTIF(BOM!H:H,\"STR125B\")","v":0},{"$f":"K6*B19","v":0},null,"515R1",{"$f":"COUNTIF(BOM!C:C,N6)","v":0},0,null,"GECTHQB1150",{"$f":"COUNTIF(BOM!P:P,Weight!R6)","v":0},0]
["3awg",0.3,null,"GECTHQB1160",1.149,null,"515R2",0.15,null,null,null,null,null,"515R2",{"$f":"COUNTIF(BOM!C:C,N7)","v":0},0,null,"GECTHQB1160",{"$f":"COUNTIF(BOM!P:P,Weight!R7)","v":0},0]
["2#8,1#10",{"$f":"B4*2+$B$3","v":0.17760000000000004},null,"GECTHQB2120",1.149,null,"520R1",0.15,null,"Wire Footage",null,null,null,"520R1",{"$f":"COUNTIF(BOM!C:C,N8)","v":0},0,null,"GECTHQB2120",{"$f":"COUNTIF(BOM!P:P,Weight!R8)","v":0},0]
["3#8,1#10",{"$f":"B4*3+B3","v":0.2409},null,"GECTHQB2130",1.149,null,"520R2",0.15,null,"10awg",{"$f":"SUMIF(BOM!K:K,\"3#10\",BOM!N:N)+SUMIF(BOM!K:K,\"2#10\",BOM!N:N)+SUMIF(BOM!K:K,\"4#10\",BOM!N:N)+SUMIF(BOM!L:L,\"10\",BOM!M:M)","v":0},{"$f":"K9*B3","v":0},null,"520R2",{"$f":"COUNTIF(BOM!C:C,N9)","v":0},0,null,"GECTHQB2130",{"$f":"COUNTIF(BOM!P:P,Weight!R9)","v":0},0]
["4#8,1#10",{"$f":"B4*4+B3","v":0.30420000000000003},null,"GECTHQB2140",1.149,null,"520R4",0.15,null,"8awg",{"$f":"SUMIF(BOM!K:K,\"3#8\",BOM!N:N)+SUMIF(BOM!K:K,\"2#8\",BOM!N:N)+SUMIF(BOM!K:K,\"4#8\",BOM!N:N)+SUMIF(BOM!L:L,\"8\",BOM!M:M)","v":0},{"$f":"K10*B4","v":0},null,"520R4",{"$f":"COUNTIF(BOM!C:C,N10)","v":0},0,null,"GECTHQB2140",{"$f":"COUNTIF(BOM!P:P,Weight!R10)","v":0},0]
["2#6,1#10",{"$f":"B5*2+B3","v":0.30299999999999999},null,"GECTHQB2150",1.149,null,"530R1",0.15,null,"6awg",{"$f":"SUMIF(BOM!K:K,\"3#6\",BOM!N:N)+SUMIF(BOM!K:K,\"2#6\",BOM!N:N)+SUMIF(BOM!K:K,\"4#6\",BOM!N:N)+SUMIF(BOM!L:L,\"6\",BOM!M:M)","v":0},{"$f":"K11*B5","v":0},null,"530R1",{"$f":"COUNTIF(BOM!C:C,N11)","v":0},0,null,"GECTHQB2150",{"$f":"COUNTIF(BOM!P:P,Weight!R11)","v":0},0]
["3#6,1#10",{"$f":"B5*3+B3","v":0.42899999999999999},null,"GECTHQB2160",1.149,null,"550R1",0.15,null,"4awg",{"$f":"SUMIF(BOM!K:K,\"3#4\",BOM!N:N)+SUMIF(BOM!K:K,\"2#4\",BOM!N:N)+SUMIF(BOM!K:K,\"4#4\",BOM!N:N)+SUMIF(BOM!L:L,\"4\",BOM!M:M)","v":0},{"$f":"K12*B6","v":0},null,"550R1",{"$f":"COUNTIF(BOM!C:C,N12)","v":0},0,null,"GECTHQB2160",{"$f":"COUNTIF(BOM!P:P,Weight!R12)","v":0},0]
["4#6,1#10",{"$f":"B5*4+B3","v":0.55500000000000005},null,"GECTHQB32020",1.149,null,"615R1",0.15,null,"3awg",{"$f":"SUMIF(BOM!K:K,\"3#3\",BOM!N:N)+SUMIF(BOM!K:K,\"2#3\",BOM!N:N)+SUMIF(BOM!K:K,\"4#3\",BOM!N:N)+SUMIF(BOM!L:L,\"3\",BOM!M:M)","v":0},{"$f":"K13*B7","v":0},null,"615R1",{"$f":"COUNTIF(BOM!C:C,N13)","v":0},0,null,"GECTHQB32020",{"$f":"COUNTIF(BOM!P:P,Weight!R13)","v":0},0]
[null,null,null,"GECTHQB32030",1.149,null,"620R1",0.15,null,null,null,null,null,"620R1",{"$f":"COUNTIF(BOM!C:C,N14)","v":0},0,null,"GECTHQB32030",{"$f":"COUNTIF(BOM!P:P,Weight!R14)","v":0},0]
["Fittings",null,null,"GECTHQB32040",1.149,null,"630R1",0.15,null,"Conduit Footage",null,null,null,"630R1",{"$f":"COUNTIF(BOM!C:C,N15)","v":0},0,null,"GECTHQB32040",{"$f":"COUNTIF(BOM!P:P,Weight!R15)","v":0},0]
["1/2''",0.34799999999999998,null,"GECTHQB32050",1.149,null,"9C23U0",3.3000000000000003,null,"1/2''",{"$f":"SUMIF(BOM!H:H,\"H0501M1\",BOM!I:I)+SUMIF(BOM!H:H,\"TC-050A055\",BOM!I:I)","v":0},{"$f":"K16*B16","v":0},null,"9C23U0",{"$f":"COUNTIF(BOM!C:C,N16)","v":0},0,null,"GECTHQB32050",{"$f":"COUNTIF(BOM!P:P,Weight!R16)","v":0},0]
["3/4''",0.48599999999999999,null,"GECTHQB32060",1.149,null,"9C23U1",3.3000000000000003,null,"3/4''",{"$f":"SUMIF(BOM!H:H,\"H0751M1\",BOM!I:I)","v":0},{"$f":"K17*B17","v":0},null,"9C23U1",{"$f":"COUNTIF(BOM!C:C,N17)","v":0},0,null,"GECTHQB32060",{"$f":"COUNTIF(BOM!P:P,Weight!R17)","v":0},0]
["1''",0.78,null,"GECTHHQB1120",1.149,null,"9C23U2",3.3000000000000003,null,"1''",{"$f":"SUMIF(BOM!H:H,\"AMFSTR100B\",BOM!I:I)","v":0},{"$f":"K18*B18","v":0},null,"9C23U2",{"$f":"COUNTIF(BOM!C:C,N18)","v":0},0,null,"GECTHHQB1120",{"$f":"COUNTIF(BOM!P:P,Weight!R18)","v":0},0]
["1-1/4\"",1,null,"GECTHHQB1130",1.149,null,"9C24U0",3.3000000000000003,null,"1-1/4\"",{"$f":"SUMIF(BOM!H:H,\"STR125B\",BOM!I:I)","v":0},{"$f":"K19*B19","v":0},null,"9C24U0",{"$f":"COUNTIF(BOM!C:C,N19)","v":0},0,null,"GECTHHQB1130",{"$f":"COUNTIF(BOM!P:P,Weight!R19)","v":0},0]
[null,null,null,"GECTHHQB1140",1.149,null,"9C33U0",3.3000000000000003,null,null,null,null,null,"9C33U0",{"$f":"COUNTIF(BOM!C:C,N20)","v":0},0,null,"GECTHHQB1140",{"$f":"COUNTIF(BOM!P:P,Weight!R20)","v":0},0]
["Conduit",null,null,"GECTHHQB1150",1.149,null,"9C33U1",3.3000000000000003,null,"Boxes",null,null,null,"9C33U1",{"$f":"COUNTIF(BOM!C:C,N21)","v":0},0,null,"GECTHHQB1150",{"$f":"COUNTIF(BOM!P:P,Weight!R21)","v":0},0]
["1/2''",0.372,null,"GECTHHQB1160",1.149,null,"9C33U2",3.3000000000000003,null,"1900 Box",{"$f":"COUNTIF(BOM!E:E,\"TNB521711234E\")","v":0},{"$f":"K22*(B28+B33)","v":0},null,"9C33U2",{"$f":"COUNTIF(BOM!C:C,N22)","v":0},0,null,"GECTHHQB1160",{"$f":"COUNTIF(BOM!P:P,Weight!R22)","v":0},0]
["3/4''",0.51900000000000002,null,"GECTHHQB2120",1.149,null,"9C34U0",3.3000000000000003,null,"1/2''",{"$f":"COUNTIF(BOM!E:E,\"DIH31LM\")","v":0},{"$f":"K23*(B29+B32)","v":0},null,"9C34U0",{"$f":"COUNTIF(BOM!C:C,N23)","v":0},0,null,"GECTHHQB2120",{"$f":"COUNTIF(BOM!P:P,Weight!R23)","v":0},0]
["1''",0.80700000000000005,null,"GECTHHQB2130",1.149,null,"9C53U0",3.3000000000000003,null,"3/4''",{"$f":"COUNTIF(BOM!E:E,\"Db75-5\")","v":0},{"$f":"K24*(B30+B33)","v":0},null,"9C53U0",{"$f":"COUNTIF(BOM!C:C,N24)","v":0},0,null,"GECTHHQB2130",{"$f":"COUNTIF(BOM!P:P,Weight!R24)","v":0},0]
["1-1/4\"",1.2,null,"GECTHHQB2140",1.149,null,"9C54U0",3.3000000000000003,null,"1''",{"$f":"COUNTIF(BOM!E:E,\"BB601W\")","v":0},{"$f":"K25*(B31+B33)","v":0},null,"9C54U0",{"$f":"COUNTIF(BOM!C:C,N25)","v":0},0,null,"GECTHHQB2140",{"$f":"COUNTIF(BOM!P:P,Weight!R25)","v":0},0]
[null,null,null,"GECTHHQB2150",1.149,null,"9C54U2",3.3000000000000003,null,"W/ HDWR",{"$f":"SUM(K22:K25)","v":0},0,null,"9C54U2",{"$f":"COUNTIF(BOM!C:C,N26)","v":0},0,null,"GECTHHQB2150",{"$f":"COUNTIF(BOM!P:P,Weight!R26)","v":0},0]
["Box",null,null,"GECTHHQB2160",1.149,null,"9C63U2",3.3000000000000003,null,null,null,null,null,"9C63U2",{"$f":"COUNTIF(BOM!C:C,N27)","v":0},0,null,"GECTHHQB2160",{"$f":"COUNTIF(BOM!P:P,Weight!R27)","v":0},0]
["1900 Box",0.9,null,"GECTHHQB32020",1.149,null,"9C64U1",3.3000000000000003,null,"Barrels",{"$f":"ROUNDUP(K16/500,0)+ROUNDUP(K17/300,0)+ROUNDUP(K18/150,0)+ROUNDUP(K19/75,0)","v":0},{"$f":"K28*B38","v":0},null,"9C64U1",{"$f":"COUNTIF(BOM!C:C,N28)","v":0},0,null,"GECTHHQB32020",{"$f":"COUNTIF(BOM!P:P,Weight!R28)","v":0},0]
["1/2''",0.76500000000000001,null,"GECTHHQB32030",1.149,null,"9C64U2",3.3000000000000003,null,"Pallet",{"$f":"IF(N1>=150,ROUNDUP(K28/4,0),\"0\")","v":"0"},{"$f":"K29*B35","v":0},null,"9C64U2",{"$f":"COUNTIF(BOM!C:C,N29)","v":0},0,null,"GECTHHQB32030",{"$f":"COUNTIF(BOM!P:P,Weight!R29)","v":0},0]
["3/4''",0.97199999999999998,null,"GECTHHQB32040",1.149,null,"CS6369",0.17400000000000002,null,null,null,null,null,"CS6369",{"$f":"COUNTIF(BOM!C:C,N30)","v":0},0,null,"GECTHHQB32040",{"$f":"COUNTIF(BOM!P:P,Weight!R30)","v":0},0]
["1''",0.97199999999999998,null,"GECTHHQB32050",1.149,null,"CS8269L",0.17400000000000002,null,null,null,null,null,"CS8269L",{"$f":"COUNTIF(BOM!C:C,N31)","v":0},0,null,"GECTHHQB32050",{"$f":"COUNTIF(BOM!P:P,Weight!R31)","v":0},0]
["1/2'' plate",0.14699999999999999,null,"GECTHHQB32060",1.149,null,"CS8364C34",3,null,null,null,null,null,"CS8364C34",{"$f":"COUNTIF(BOM!C:C,N32)","v":0},0,null,"GECTHHQB32060",{"$f":"COUNTIF(BOM!P:P,Weight!R32)","v":0},0]
["3/4'' plate",0.14699999999999999,null,"GECTHQL1120",1.149,null,"CS8369L",0.17400000000000002,null,null,null,null,null,"CS8369L",{"$f":"COUNTIF(BOM!C:C,N33)","v":0},0,null,"GECTHQL1120",{"$f":"COUNTIF(BOM!P:P,Weight!R33)","v":0},0]
[null,null,null,"GECTHQL1130",1.149,null,"HBL320C6W",3.3000000000000003,null,null,null,null,null,"HBL320C6W",{"$f":"COUNTIF(BOM!C:C,N34)","v":0},0,null,"GECTHQL1130",{"$f":"COUNTIF(BOM!P:P,Weight!R34)","v":0},0]
["Pallete",35,null,"GECTHQL1140",1.149,null,"HBL330C6W",3.3000000000000003,null,null,null,null,null,"HBL330C6W",{"$f":"COUNTIF(BOM!C:C,N35)","v":0},0,null,"GECTHQL1140",{"$f":"COUNTIF(BOM!P:P,Weight!R35)","v":0},0]
[null,null,null,"GECTHQL1150",1.149,null,"HBL360C6W",3.3000000000000003,null,null,null,null,null,"HBL360C6W",{"$f":"COUNTIF(BOM!C:C,N36)","v":0},0,null,"GECTHQL1150",{"$f":"COUNTIF(BOM!P:P,Weight!R36)","v":0},0]
["Barrel",null,null,"GECTHQL1160",1.149,null,"HBL360R6W",3.3000000000000003,null,null,null,null,null,"HBL360R6W",{"$f":"COUNTIF(BOM!C:C,N37)","v":0},0,null,"GECTHQL1160",{"$f":"COUNTIF(BOM!P:P,Weight!R37)","v":0},0]
["55 gal",16,null,"GECTHQL2120",1.149,null,"HBL4100C9W",4.8,null,null,null,null,null,"HBL4100C9W",{"$f":"COUNTIF(BOM!C:C,N38)","v":0},0,null,"GECTHQL2120",{"$f":"COUNTIF(BOM!P:P,Weight!R38)","v":0},0]
[null,null,null,"GECTHQL2130",1.149,null,"HBL420C9W",3.3000000000000003,null,null,null,null,null,"HBL420C9W",{"$f":"COUNTIF(BOM!C:C,N39)","v":0},0,null,"GECTHQL2130",{"$f":"COUNTIF(BOM!P:P,Weight!R39)","v":0},0]
["Hardware",null,null,"GECTHQL2140",1.149,null,"HBL430C9W",3.3000000000000003,null,null,null,null,null,"HBL430C9W",{"$f":"COUNTIF(BOM!C:C,N40)","v":0},0,null,"GECTHQL2140",{"$f":"COUNTIF(BOM!P:P,Weight!R40)","v":0},0]
["1/4-20 Bolt",0.15,null,"GECTHQL2150",1.149,null,"HBL430R9W",3.3000000000000003,null,null,null,null,null,"HBL430R9W",{"$f":"COUNTIF(BOM!C:C,N41)","v":0},0,null,"GECTHQL2150",{"$f":"COUNTIF(BOM!P:P,Weight!R41)","v":0},0]
[null,null,null,"GECTHQL2160",1.149,null,"HBL460C9WLT",3.3000000000000003,null,null,null,null,null,"HBL460C9WLT",{"$f":"COUNTIF(BOM!C:C,N42)","v":0},0,null,"GECTHQL2160",{"$f":"COUNTIF(BOM!P:P,Weight!R42)","v":0},0]
[null,null,null,"GECTHQL32020",1.149,null,"HBL460R9W",3.3000000000000003,null,null,null,null,null,"HBL460R9W",{"$f":"COUNTIF(BOM!C:C,N43)","v":0},0,null,"GECTHQL32020",{"$f":"COUNTIF(BOM!P:P,Weight!R43)","v":0},0]
[null,null,null,"GECTHQL32030",1.149,null,"HBL530C9W",3.3000000000000003,null,null,null,null,null,"HBL530C9W",{"$f":"COUNTIF(BOM!C:C,N44)","v":0},0,null,"GECTHQL32030",{"$f":"COUNTIF(BOM!P:P,Weight!R44)","v":0},0]
[null,null,null,"GECTHQL32040",1.149,null,"HBL560C9W",3.3000000000000003,null,null,null,null,null,"HBL560C9W",{"$f":"COUNTIF(BOM!C:C,N45)","v":0},0,null,"GECTHQL32040",{"$f":"COUNTIF(BOM!P:P,Weight!R45)","v":0},0]
[null,null,null,"GECTHQL32050",1.149,null,"HBL560R9W",3.3000000000000003,null,null,null,null,null,"HBL560R9W",{"$f":"COUNTIF(BOM!C:C,N46)","v":0},0,null,"GECTHQL32050",{"$f":"COUNTIF(BOM!P:P,Weight!R46)","v":0},0]
[null,null,null,"GECTHQL32060",1.149,null,"L1420R1",0.15,null,null,null,null,null,"L1420R1",{"$f":"COUNTIF(BOM!C:C,N47)","v":0},0,null,"GECTHQL32060",{"$f":"COUNTIF(BOM!P:P,Weight!R47)","v":0},0]
[null,null,null,"SQDQO120",1.149,null,"L1430R1",0.15,null,null,null,null,null,"L1430R1",{"$f":"COUNTIF(BOM!C:C,N48)","v":0},0,null,"SQDQO120",{"$f":"COUNTIF(BOM!P:P,Weight!R48)","v":0},0]
[null,null,null,"SQDQO130",1.149,null,"L1520R1",0.15,null,null,null,null,null,"L1520R1",{"$f":"COUNTIF(BOM!C:C,N49)","v":0},0,null,"SQDQO130",{"$f":"COUNTIF(BOM!P:P,Weight!R49)","v":0},0]
[null,null,null,"SQDQO140",1.149,null,"L1530R1",0.15,null,null,null,null,null,"L1530R1",{"$f":"COUNTIF(BOM!C:C,N50)","v":0},0,null,"SQDQO140",{"$f":"COUNTIF(BOM!P:P,Weight!R50)","v":0},0]
[null,null,null,"SQDQO150",1.149,null,"L2120R1",0.15,null,null,null,null,null,"L2120R1",{"$f":"COUNTIF(BOM!C:C,N51)","v":0},0,null,"SQDQO150",{"$f":"COUNTIF(BOM!P:P,Weight!R51)","v":0},0]
[null,null,null,"SQDQO160",1.149,null,"L2130R1",0.15,null,null,null,null,null,"L2130R1",{"$f":"COUNTIF(BOM!C:C,N52)","v":0},0,null,"SQDQO160",{"$f":"COUNTIF(BOM!P:P,Weight!R52)","v":0},0]
[null,null,null,"SQDQO210",1.149,null,"L515R1",0.15,null,null,null,null,null,"L515R1",{"$f":"COUNTIF(BOM!C:C,N53)","v":0},0,null,"SQDQO210",{"$f":"COUNTIF(BOM!P:P,Weight!R53)","v":0},0]
[null,null,null,"SQDQO220",1.149,null,"L520R1",0.15,null,null,null,null,null,"L520R1",{"$f":"COUNTIF(BOM!C:C,N54)","v":0},0,null,"SQDQO220",{"$f":"COUNTIF(BOM!P:P,Weight!R54)","v":0},0]
[null,null,null,"SQDQO230",1.149,null,"L530R1",0.15,null,null,null,null,null,"L530R1",{"$f":"COUNTIF(BOM!C:C,N55)","v":0},0,null,"SQDQO230",{"$f":"COUNTIF(BOM!P:P,Weight!R55)","v":0},0]
[null,null,null,"SQDQO240",1.149,null,"L615R1",0.15,null,null,null,null,null,"L615R1",{"$f":"COUNTIF(BOM!C:C,N56)","v":0},0,null,"SQDQO240",{"$f":"COUNTIF(BOM!P:P,Weight!R56)","v":0},0]
[null,null,null,"SQDQO250",1.149,null,"L620R1",0.15,null,null,null,null,null,"L620R1",{"$f":"COUNTIF(BOM!C:C,N57)","v":0},0,null,"SQDQO250",{"$f":"COUNTIF(BOM!P:P,Weight!R57)","v":0},0]
[null,null,null,"SQDQO260",1.149,null,"L630R1",0.15,null,null,null,null,null,"L630R1",{"$f":"COUNTIF(BOM!C:C,N58)","v":0},0,null,"SQDQO260",{"$f":"COUNTIF(BOM!P:P,Weight!R58)","v":0},0]
[null,null,null,"SQDQO320",1.149,null,"L630R1-IG",0.15,null,null,null,null,null,"L630R1-IG",{"$f":"COUNTIF(BOM!C:C,N59)","v":0},0,null,"SQDQO320",{"$f":"COUNTIF(BOM!P:P,Weight!R59)","v":0},0]
[null,null,null,"SQDQO330",1.149,null,"RS3933",3.3000000000000003,null,null,null,null,null,"RS3933",{"$f":"COUNTIF(BOM!C:C,N60)","v":0},0,null,"SQDQO330",{"$f":"COUNTIF(BOM!P:P,Weight!R60)","v":0},0]
[null,null,null,"SQDQO340",1.149,null,"RS3934",3.3000000000000003,null,null,null,null,null,"RS3934",{"$f":"COUNTIF(BOM!C:C,N61)","v":0},0,null,"SQDQO340",{"$f":"COUNTIF(BOM!P:P,Weight!R61)","v":0},0]
[null,null,null,"SQDQO350",1.149,null,"RS7428",3.3000000000000003,null,null,null,null,null,"RS7428",{"$f":"COUNTIF(BOM!C:C,N62)","v":0},0,null,"SQDQO350",{"$f":"COUNTIF(BOM!P:P,Weight!R62)","v":0},0]
[null,null,null,"SQDQO360",1.149,null,null,null,null,null,null,null,null,null,null,null,null,"SQDQO360",{"$f":"COUNTIF(BOM!P:P,Weight!R63)","v":0},0]
[null,null,null,"SQDQOB120",1.149,null,null,null,null,null,null,null,null,null,null,null,null,"SQDQOB120",{"$f":"COUNTIF(BOM!P:P,Weight!R64)","v":0},0]
[null,null,null,"SQDQOB130",1.149,null,null,null,null,null,null,null,null,null,null,null,null,"SQDQOB130",{"$f":"COUNTIF(BOM!P:P,Weight!R65)","v":0},0]
[null,null,null,"SQDQOB140",1.149,null,null,null,null,null,null,null,null,null,null,null,null,"SQDQOB140",{"$f":"COUNTIF(BOM!P:P,Weight!R66)","v":0},0]
[null,null,null,"SQDQOB150",1.149,null,null,null,null,null,null,null,null,null,null,null,null,"SQDQOB150",{"$f":"COUNTIF(BOM!P:P,Weight!R67)","v":0},0]
[null,null,null,"SQDQOB160",1.149,null,null,null,null,null,null,null,null,null,null,null,null,"SQDQOB160",{"$f":"COUNTIF(BOM!P:P,Weight!R68)","v":0},{"$f":"S68*E68","v":0}]
[null,null,null,"SQDQOB220",1.149,null,null,null,null,null,null,null,null,null,null,null,null,"SQDQOB220",{"$f":"COUNTIF(BOM!P:P,Weight!R69)","v":0},0]
[null,null,null,"SQDQOB230",1.149,null,null,null,null,null,null,null,null,null,null,null,null,"SQDQOB230",{"$f":"COUNTIF(BOM!P:P,Weight!R70)","v":0},0]
[null,null,null,"SQDQOB240",1.149,null,null,null,null,null,null,null,null,null,null,null,null,"SQDQOB240",{"$f":"COUNTIF(BOM!P:P,Weight!R71)","v":0},0]
[null,null,null,"SQDQOB250",1.149,null,null,null,null,null,null,null,null,null,null,null,null,"SQDQOB250",{"$f":"COUNTIF(BOM!P:P,Weight!R72)","v":0},0]
[null,null,null,"SQDQOB260",1.149,null,null,null,null,null,null,null,null,null,null,null,null,"SQDQOB260",{"$f":"COUNTIF(BOM!P:P,Weight!R73)","v":0},0]
[null,null,null,"SQDQOB320",1.149,null,null,null,null,null,null,null,null,null,null,null,null,"SQDQOB320",{"$f":"COUNTIF(BOM!P:P,Weight!R74)","v":0},0]
[null,null,null,"SQDQOB330",1.149,null,null,null,null,null,null,null,null,null,null,null,null,"SQDQOB330",{"$f":"COUNTIF(BOM!P:P,Weight!R75)","v":0},0]
[null,null,null,"SQDQOB340",1.149,null,null,null,null,null,null,null,null,null,null,null,null,"SQDQOB340",{"$f":"COUNTIF(BOM!P:P,Weight!R76)","v":0},0]
[null,null,null,"SQDQOB350",1.149,null,null,null,null,null,null,null,null,null,null,null,null,"SQDQOB350",{"$f":"COUNTIF(BOM!P:P,Weight!R77)","v":0},0]
[null,null,null,"SQDQOB360",1.149,null,null,null,null,null,null,null,null,null,null,null,null,"SQDQOB360",{"$f":"COUNTIF(BOM!P:P,Weight!R78)","v":0},0]
[null,null,null,"SQDQOB120VH",1.149,null,null,null,null,null,null,null,null,null,null,null,null,"SQDQOB120VH",{"$f":"COUNTIF(BOM!P:P,Weight!R79)","v":0},0]
[null,null,null,"SQDQOB130VH",1.149,null,null,null,null,null,null,null,null,null,null,null,null,"SQDQOB130VH",{"$f":"COUNTIF(BOM!P:P,Weight!R80)","v":0},0]
[null,null,null,"SQDQOB140VH",1.149,null,null,null,null,null,null,null,null,null,null,null,null,"SQDQOB140VH",{"$f":"COUNTIF(BOM!P:P,Weight!R81)","v":0},0]
[null,null,null,"SQDQOB150VH",1.149,null,null,null,null,null,null,null,null,null,null,null,null,"SQDQOB150VH",{"$f":"COUNTIF(BOM!P:P,Weight!R82)","v":0},0]
[null,null,null,"SQDQOB160VH",1.149,null,null,null,null,null,null,null,null,null,null,null,null,"SQDQOB160VH",{"$f":"COUNTIF(BOM!P:P,Weight!R83)","v":0},0]
[null,null,null,"SQDQOB210VH",1.149,null,null,null,null,null,null,null,null,null,null,null,null,"SQDQOB210VH",{"$f":"COUNTIF(BOM!P:P,Weight!R84)","v":0},0]
[null,null,null,"SQDQOB220VH",1.149,null,null,null,null,null,null,null,null,null,null,null,null,"SQDQOB220VH",{"$f":"COUNTIF(BOM!P:P,Weight!R85)","v":0},0]
[null,null,null,"SQDQOB230VH",1.149,null,null,null,null,null,null,null,null,null,null,null,null,"SQDQOB230VH",{"$f":"COUNTIF(BOM!P:P,Weight!R86)","v":0},0]
[null,null,null,"SQDQOB240VH",1.149,null,null,null,null,null,null,null,null,null,null,null,null,"SQDQOB240VH",{"$f":"COUNTIF(BOM!P:P,Weight!R87)","v":0},0]
[null,null,null,"SQDQOB250VH",1.149,null,null,null,null,null,null,null,null,null,null,null,null,"SQDQOB250VH",{"$f":"COUNTIF(BOM!P:P,Weight!R88)","v":0},0]
[null,null,null,"SQDQOB260VH",1.149,null,null,null,null,null,null,null,null,null,null,null,null,"SQDQOB260VH",{"$f":"COUNTIF(BOM!P:P,Weight!R89)","v":0},0]
[null,null,null,"SQDQOB320VH",1.149,null,null,null,null,null,null,null,null,null,null,null,null,"SQDQOB320VH",{"$f":"COUNTIF(BOM!P:P,Weight!R90)","v":0},0]
[null,null,null,"SQDQOB330VH",1.149,null,null,null,null,null,null,null,null,null,null,null,null,"SQDQOB330VH",{"$f":"COUNTIF(BOM!P:P,Weight!R91)","v":0},0]
[null,null,null,"SQDQOB340VH",1.149,null,null,null,null,null,null,null,null,null,null,null,null,"SQDQOB340VH",{"$f":"COUNTIF(BOM!P:P,Weight!R92)","v":0},0]
[null,null,null,"SQDQOB350VH",1.149,null,null,null,null,null,null,null,null,null,null,null,null,"SQDQOB350VH",{"$f":"COUNTIF(BOM!P:P,Weight!R93)","v":0},0]
[null,null,null,"SQDQOB360VH",1.149,null,null,null,null,null,null,null,null,null,null,null,null,"SQDQOB360VH",{"$f":"COUNTIF(BOM!P:P,Weight!R94)","v":0},0]
[null,null,null,"SQDQOB3100VH",1.149,null,null,null,null,null,null,null,null,null,null,null,null,"SQDQOB3100VH",{"$f":"COUNTIF(BOM!P:P,Weight!R95)","v":0},0]

{"sheet":"Voltage Drop","index":7,"n_rows":487,"n_cols":14,"rows_kept":487,"cut":false,"hidden":true,"merged":[]}
["AWG","mm^2","ohm/kft","Cir Mil","Impedence",null,"Whip #","Wire Awg","Phase","Resistance","Amps","Length","Vdrop","Drop%"]
[14,2.5,3.14,4110,2.7,null,{"$f":"IFERROR('Whip Data'!A15,\"\")","v":""},{"$f":"IF('Whip Data'!A15=\"\",\"\",IF(VALUE(RIGHT(BOM!K2,1))=0,10,VALUE(RIGHT(BOM!K2,1))))","v":""},{"$f":"IF('Whip Data'!A15=\"\",\"\",VLOOKUP('Whip Data'!L15,Materials,7,FALSE))","v":""},{"$f":"IF(G2=\"\",\"\",VLOOKUP(H2,NEC_T8,5,FALSE))","v":""},{"$f":"IF('Whip Data'!A15=\"\",\"\",VLOOKUP('Whip Data'!L15,Materials,4,FALSE))","v":""},{"$f":"IF('Whip Data'!A15=\"\",\"\",'Whip Data'!O15)","v":""},{"$f":"IF(G2=\"\",\"\",VLOOKUP(I2,$A$15:$B$16,2,FALSE)*J2*K2*L2/1000)","v":""},{"$f":"IF(M2=\"\",\"\",M2/VLOOKUP('Whip Data'!L15,Materials,3,FALSE))","v":""}]
[12,4,1.98,6530,1.7,null,{"$f":"IFERROR('Whip Data'!A16,\"\")","v":""},{"$f":"IF('Whip Data'!A16=\"\",\"\",IF(VALUE(RIGHT(BOM!K3,1))=0,10,VALUE(RIGHT(BOM!K3,1))))","v":""},{"$f":"IF('Whip Data'!A16=\"\",\"\",VLOOKUP('Whip Data'!L16,Materials,7,FALSE))","v":""},"",{"$f":"IF('Whip Data'!A16=\"\",\"\",VLOOKUP('Whip Data'!L16,Materials,4,FALSE))","v":""},{"$f":"IF('Whip Data'!A16=\"\",\"\",'Whip Data'!O16)","v":""},{"$f":"IF(G3=\"\",\"\",VLOOKUP(I3,$A$15:$B$16,2,FALSE)*J3*K3*L3/1000)","v":""},{"$f":"IF(M3=\"\",\"\",M3/VLOOKUP('Whip Data'!L16,Materials,3,FALSE))","v":""}]
[10,6,1.24,10380,1.1000000000000001,null,{"$f":"IFERROR('Whip Data'!A17,\"\")","v":""},{"$f":"IF('Whip Data'!A17=\"\",\"\",IF(VALUE(RIGHT(BOM!K4,1))=0,10,VALUE(RIGHT(BOM!K4,1))))","v":""},{"$f":"IF('Whip Data'!A17=\"\",\"\",VLOOKUP('Whip Data'!L17,Materials,7,FALSE))","v":""},"",{"$f":"IF('Whip Data'!A17=\"\",\"\",VLOOKUP('Whip Data'!L17,Materials,4,FALSE))","v":""},{"$f":"IF('Whip Data'!A17=\"\",\"\",'Whip Data'!O17)","v":""},"",{"$f":"IF(M4=\"\",\"\",M4/VLOOKUP('Whip Data'!L17,Materials,3,FALSE))","v":""}]
[8,10,0.77800000000000002,16510,0.7,null,{"$f":"IFERROR('Whip Data'!A18,\"\")","v":""},{"$f":"IF('Whip Data'!A18=\"\",\"\",IF(VALUE(RIGHT(BOM!K5,1))=0,10,VALUE(RIGHT(BOM!K5,1))))","v":""},{"$f":"IF('Whip Data'!A18=\"\",\"\",VLOOKUP('Whip Data'!L18,Materials,7,FALSE))","v":""},"",{"$f":"IF('Whip Data'!A18=\"\",\"\",VLOOKUP('Whip Data'!L18,Materials,4,FALSE))","v":""},{"$f":"IF('Whip Data'!A18=\"\",\"\",'Whip Data'!O18)","v":""},"",{"$f":"IF(M5=\"\",\"\",M5/VLOOKUP('Whip Data'!L18,Materials,3,FALSE))","v":""}]
[6,16,0.49099999999999999,26240,0.45,null,{"$f":"IFERROR('Whip Data'!A19,\"\")","v":""},{"$f":"IF('Whip Data'!A19=\"\",\"\",IF(VALUE(RIGHT(BOM!K6,1))=0,10,VALUE(RIGHT(BOM!K6,1))))","v":""},{"$f":"IF('Whip Data'!A19=\"\",\"\",VLOOKUP('Whip Data'!L19,Materials,7,FALSE))","v":""},"",{"$f":"IF('Whip Data'!A19=\"\",\"\",VLOOKUP('Whip Data'!L19,Materials,4,FALSE))","v":""},{"$f":"IF('Whip Data'!A19=\"\",\"\",'Whip Data'!O19)","v":""},"",{"$f":"IF(M6=\"\",\"\",M6/VLOOKUP('Whip Data'!L19,Materials,3,FALSE))","v":""}]
[4,25,0.308,41740,0.3,null,{"$f":"IFERROR('Whip Data'!A20,\"\")","v":""},{"$f":"IF('Whip Data'!A20=\"\",\"\",IF(VALUE(RIGHT(BOM!K7,1))=0,10,VALUE(RIGHT(BOM!K7,1))))","v":""},{"$f":"IF('Whip Data'!A20=\"\",\"\",VLOOKUP('Whip Data'!L20,Materials,7,FALSE))","v":""},"",{"$f":"IF('Whip Data'!A20=\"\",\"\",VLOOKUP('Whip Data'!L20,Materials,4,FALSE))","v":""},{"$f":"IF('Whip Data'!A20=\"\",\"\",'Whip Data'!O20)","v":""},"",{"$f":"IF(M7=\"\",\"\",M7/VLOOKUP('Whip Data'!L20,Materials,3,FALSE))","v":""}]
[3,null,0.245,52620,0.24,null,{"$f":"IFERROR('Whip Data'!A21,\"\")","v":""},{"$f":"IF('Whip Data'!A21=\"\",\"\",IF(VALUE(RIGHT(BOM!K8,1))=0,10,VALUE(RIGHT(BOM!K8,1))))","v":""},{"$f":"IF('Whip Data'!A21=\"\",\"\",VLOOKUP('Whip Data'!L21,Materials,7,FALSE))","v":""},"",{"$f":"IF('Whip Data'!A21=\"\",\"\",VLOOKUP('Whip Data'!L21,Materials,4,FALSE))","v":""},{"$f":"IF('Whip Data'!A21=\"\",\"\",'Whip Data'!O21)","v":""},"",{"$f":"IF(M8=\"\",\"\",M8/VLOOKUP('Whip Data'!L21,Materials,3,FALSE))","v":""}]
[2,35,0.19400000000000001,66360,0.2,null,{"$f":"IFERROR('Whip Data'!A22,\"\")","v":""},{"$f":"IF('Whip Data'!A22=\"\",\"\",IF(VALUE(RIGHT(BOM!K9,1))=0,10,VALUE(RIGHT(BOM!K9,1))))","v":""},{"$f":"IF('Whip Data'!A22=\"\",\"\",VLOOKUP('Whip Data'!L22,Materials,7,FALSE))","v":""},"",{"$f":"IF('Whip Data'!A22=\"\",\"\",VLOOKUP('Whip Data'!L22,Materials,4,FALSE))","v":""},{"$f":"IF('Whip Data'!A22=\"\",\"\",'Whip Data'!O22)","v":""},"",{"$f":"IF(M9=\"\",\"\",M9/VLOOKUP('Whip Data'!L22,Materials,3,FALSE))","v":""}]
[1,50,0.154,83690,0.16,null,{"$f":"IFERROR('Whip Data'!A23,\"\")","v":""},{"$f":"IF('Whip Data'!A23=\"\",\"\",IF(VALUE(RIGHT(BOM!K10,1))=0,10,VALUE(RIGHT(BOM!K10,1))))","v":""},{"$f":"IF('Whip Data'!A23=\"\",\"\",VLOOKUP('Whip Data'!L23,Materials,7,FALSE))","v":""},"",{"$f":"IF('Whip Data'!A23=\"\",\"\",VLOOKUP('Whip Data'!L23,Materials,4,FALSE))","v":""},{"$f":"IF('Whip Data'!A23=\"\",\"\",'Whip Data'!O23)","v":""},{"$f":"IF(G10=\"\",\"\",VLOOKUP(I10,$A$15:$B$16,2,FALSE)*J10*K10*L10/1000)","v":""},{"$f":"IF(M10=\"\",\"\",M10/VLOOKUP('Whip Data'!L23,Materials,3,FALSE))","v":""}]
["0",55,0.122,105600,0.13,null,{"$f":"IFERROR('Whip Data'!A24,\"\")","v":""},{"$f":"IF('Whip Data'!A24=\"\",\"\",IF(VALUE(RIGHT(BOM!K11,1))=0,10,VALUE(RIGHT(BOM!K11,1))))","v":""},{"$f":"IF('Whip Data'!A24=\"\",\"\",VLOOKUP('Whip Data'!L24,Materials,7,FALSE))","v":""},"",{"$f":"IF('Whip Data'!A24=\"\",\"\",VLOOKUP('Whip Data'!L24,Materials,4,FALSE))","v":""},{"$f":"IF('Whip Data'!A24=\"\",\"\",'Whip Data'!O24)","v":""},"",{"$f":"IF(M11=\"\",\"\",M11/VLOOKUP('Whip Data'!L24,Materials,3,FALSE))","v":""}]
["00",70,9.6699999999999994E-2,133100,0.11,null,{"$f":"IFERROR('Whip Data'!A25,\"\")","v":""},{"$f":"IF('Whip Data'!A25=\"\",\"\",IF(VALUE(RIGHT(BOM!K12,1))=0,10,VALUE(RIGHT(BOM!K12,1))))","v":""},{"$f":"IF('Whip Data'!A25=\"\",\"\",VLOOKUP('Whip Data'!L25,Materials,7,FALSE))","v":""},"",{"$f":"IF('Whip Data'!A25=\"\",\"\",VLOOKUP('Whip Data'!L25,Materials,4,FALSE))","v":""},{"$f":"IF('Whip Data'!A25=\"\",\"\",'Whip Data'!O25)","v":""},"",{"$f":"IF(M12=\"\",\"\",M12/VLOOKUP('Whip Data'!L25,Materials,3,FALSE))","v":""}]
[null,null,null,null,null,null,{"$f":"IFERROR('Whip Data'!A26,\"\")","v":""},{"$f":"IF('Whip Data'!A26=\"\",\"\",IF(VALUE(RIGHT(BOM!K13,1))=0,10,VALUE(RIGHT(BOM!K13,1))))","v":""},{"$f":"IF('Whip Data'!A26=\"\",\"\",VLOOKUP('Whip Data'!L26,Materials,7,FALSE))","v":""},"",{"$f":"IF('Whip Data'!A26=\"\",\"\",VLOOKUP('Whip Data'!L26,Materials,4,FALSE))","v":""},{"$f":"IF('Whip Data'!A26=\"\",\"\",'Whip Data'!O26)","v":""},"",{"$f":"IF(M13=\"\",\"\",M13/VLOOKUP('Whip Data'!L26,Materials,3,FALSE))","v":""}]
["Phase","value",null,null,null,null,{"$f":"IFERROR('Whip Data'!A27,\"\")","v":""},{"$f":"IF('Whip Data'!A27=\"\",\"\",IF(VALUE(RIGHT(BOM!K14,1))=0,10,VALUE(RIGHT(BOM!K14,1))))","v":""},{"$f":"IF('Whip Data'!A27=\"\",\"\",VLOOKUP('Whip Data'!L27,Materials,7,FALSE))","v":""},"",{"$f":"IF('Whip Data'!A27=\"\",\"\",VLOOKUP('Whip Data'!L27,Materials,4,FALSE))","v":""},{"$f":"IF('Whip Data'!A27=\"\",\"\",'Whip Data'!O27)","v":""},"",{"$f":"IF(M14=\"\",\"\",M14/VLOOKUP('Whip Data'!L27,Materials,3,FALSE))","v":""}]
[1,2,null,null,null,null,{"$f":"IFERROR('Whip Data'!A28,\"\")","v":""},{"$f":"IF('Whip Data'!A28=\"\",\"\",IF(VALUE(RIGHT(BOM!K15,1))=0,10,VALUE(RIGHT(BOM!K15,1))))","v":""},{"$f":"IF('Whip Data'!A28=\"\",\"\",VLOOKUP('Whip Data'!L28,Materials,7,FALSE))","v":""},"",{"$f":"IF('Whip Data'!A28=\"\",\"\",VLOOKUP('Whip Data'!L28,Materials,4,FALSE))","v":""},{"$f":"IF('Whip Data'!A28=\"\",\"\",'Whip Data'!O28)","v":""},"",{"$f":"IF(M15=\"\",\"\",M15/VLOOKUP('Whip Data'!L28,Materials,3,FALSE))","v":""}]
[3,{"$f":"SQRT(3)","v":1.7320508075688772},null,null,null,null,{"$f":"IFERROR('Whip Data'!A29,\"\")","v":""},{"$f":"IF('Whip Data'!A29=\"\",\"\",IF(VALUE(RIGHT(BOM!K16,1))=0,10,VALUE(RIGHT(BOM!K16,1))))","v":""},{"$f":"IF('Whip Data'!A29=\"\",\"\",VLOOKUP('Whip Data'!L29,Materials,7,FALSE))","v":""},"",{"$f":"IF('Whip Data'!A29=\"\",\"\",VLOOKUP('Whip Data'!L29,Materials,4,FALSE))","v":""},{"$f":"IF('Whip Data'!A29=\"\",\"\",'Whip Data'!O29)","v":""},"",{"$f":"IF(M16=\"\",\"\",M16/VLOOKUP('Whip Data'!L29,Materials,3,FALSE))","v":""}]
[null,null,null,null,null,null,{"$f":"IFERROR('Whip Data'!A30,\"\")","v":""},{"$f":"IF('Whip Data'!A30=\"\",\"\",IF(VALUE(RIGHT(BOM!K17,1))=0,10,VALUE(RIGHT(BOM!K17,1))))","v":""},{"$f":"IF('Whip Data'!A30=\"\",\"\",VLOOKUP('Whip Data'!L30,Materials,7,FALSE))","v":""},"",{"$f":"IF('Whip Data'!A30=\"\",\"\",VLOOKUP('Whip Data'!L30,Materials,4,FALSE))","v":""},{"$f":"IF('Whip Data'!A30=\"\",\"\",'Whip Data'!O30)","v":""},"",{"$f":"IF(M17=\"\",\"\",M17/VLOOKUP('Whip Data'!L30,Materials,3,FALSE))","v":""}]
[null,null,null,null,null,null,{"$f":"IFERROR('Whip Data'!A31,\"\")","v":""},{"$f":"IF('Whip Data'!A31=\"\",\"\",IF(VALUE(RIGHT(BOM!K18,1))=0,10,VALUE(RIGHT(BOM!K18,1))))","v":""},{"$f":"IF('Whip Data'!A31=\"\",\"\",VLOOKUP('Whip Data'!L31,Materials,7,FALSE))","v":""},"",{"$f":"IF('Whip Data'!A31=\"\",\"\",VLOOKUP('Whip Data'!L31,Materials,4,FALSE))","v":""},{"$f":"IF('Whip Data'!A31=\"\",\"\",'Whip Data'!O31)","v":""},"",{"$f":"IF(M18=\"\",\"\",M18/VLOOKUP('Whip Data'!L31,Materials,3,FALSE))","v":""}]
[null,null,null,null,null,null,{"$f":"IFERROR('Whip Data'!A32,\"\")","v":""},{"$f":"IF('Whip Data'!A32=\"\",\"\",IF(VALUE(RIGHT(BOM!K19,1))=0,10,VALUE(RIGHT(BOM!K19,1))))","v":""},{"$f":"IF('Whip Data'!A32=\"\",\"\",VLOOKUP('Whip Data'!L32,Materials,7,FALSE))","v":""},"",{"$f":"IF('Whip Data'!A32=\"\",\"\",VLOOKUP('Whip Data'!L32,Materials,4,FALSE))","v":""},{"$f":"IF('Whip Data'!A32=\"\",\"\",'Whip Data'!O32)","v":""},"",{"$f":"IF(M19=\"\",\"\",M19/VLOOKUP('Whip Data'!L32,Materials,3,FALSE))","v":""}]
[null,null,null,null,null,null,{"$f":"IFERROR('Whip Data'!A33,\"\")","v":""},{"$f":"IF('Whip Data'!A33=\"\",\"\",IF(VALUE(RIGHT(BOM!K20,1))=0,10,VALUE(RIGHT(BOM!K20,1))))","v":""},{"$f":"IF('Whip Data'!A33=\"\",\"\",VLOOKUP('Whip Data'!L33,Materials,7,FALSE))","v":""},"",{"$f":"IF('Whip Data'!A33=\"\",\"\",VLOOKUP('Whip Data'!L33,Materials,4,FALSE))","v":""},{"$f":"IF('Whip Data'!A33=\"\",\"\",'Whip Data'!O33)","v":""},"",{"$f":"IF(M20=\"\",\"\",M20/VLOOKUP('Whip Data'!L33,Materials,3,FALSE))","v":""}]
[null,null,null,null,null,null,{"$f":"IFERROR('Whip Data'!A34,\"\")","v":""},{"$f":"IF('Whip Data'!A34=\"\",\"\",IF(VALUE(RIGHT(BOM!K21,1))=0,10,VALUE(RIGHT(BOM!K21,1))))","v":""},{"$f":"IF('Whip Data'!A34=\"\",\"\",VLOOKUP('Whip Data'!L34,Materials,7,FALSE))","v":""},"",{"$f":"IF('Whip Data'!A34=\"\",\"\",VLOOKUP('Whip Data'!L34,Materials,4,FALSE))","v":""},{"$f":"IF('Whip Data'!A34=\"\",\"\",'Whip Data'!O34)","v":""},"",{"$f":"IF(M21=\"\",\"\",M21/VLOOKUP('Whip Data'!L34,Materials,3,FALSE))","v":""}]
[null,null,null,null,null,null,{"$f":"IFERROR('Whip Data'!A35,\"\")","v":""},{"$f":"IF('Whip Data'!A35=\"\",\"\",IF(VALUE(RIGHT(BOM!K22,1))=0,10,VALUE(RIGHT(BOM!K22,1))))","v":""},{"$f":"IF('Whip Data'!A35=\"\",\"\",VLOOKUP('Whip Data'!L35,Materials,7,FALSE))","v":""},"",{"$f":"IF('Whip Data'!A35=\"\",\"\",VLOOKUP('Whip Data'!L35,Materials,4,FALSE))","v":""},{"$f":"IF('Whip Data'!A35=\"\",\"\",'Whip Data'!O35)","v":""},"",{"$f":"IF(M22=\"\",\"\",M22/VLOOKUP('Whip Data'!L35,Materials,3,FALSE))","v":""}]
[null,null,null,null,null,null,{"$f":"IFERROR('Whip Data'!A36,\"\")","v":""},{"$f":"IF('Whip Data'!A36=\"\",\"\",IF(VALUE(RIGHT(BOM!K23,1))=0,10,VALUE(RIGHT(BOM!K23,1))))","v":""},{"$f":"IF('Whip Data'!A36=\"\",\"\",VLOOKUP('Whip Data'!L36,Materials,7,FALSE))","v":""},"",{"$f":"IF('Whip Data'!A36=\"\",\"\",VLOOKUP('Whip Data'!L36,Materials,4,FALSE))","v":""},{"$f":"IF('Whip Data'!A36=\"\",\"\",'Whip Data'!O36)","v":""},"",{"$f":"IF(M23=\"\",\"\",M23/VLOOKUP('Whip Data'!L36,Materials,3,FALSE))","v":""}]
[null,null,null,null,null,null,{"$f":"IFERROR('Whip Data'!A37,\"\")","v":""},{"$f":"IF('Whip Data'!A37=\"\",\"\",IF(VALUE(RIGHT(BOM!K24,1))=0,10,VALUE(RIGHT(BOM!K24,1))))","v":""},{"$f":"IF('Whip Data'!A37=\"\",\"\",VLOOKUP('Whip Data'!L37,Materials,7,FALSE))","v":""},"",{"$f":"IF('Whip Data'!A37=\"\",\"\",VLOOKUP('Whip Data'!L37,Materials,4,FALSE))","v":""},{"$f":"IF('Whip Data'!A37=\"\",\"\",'Whip Data'!O37)","v":""},"",{"$f":"IF(M24=\"\",\"\",M24/VLOOKUP('Whip Data'!L37,Materials,3,FALSE))","v":""}]
[null,null,null,null,null,null,{"$f":"IFERROR('Whip Data'!A38,\"\")","v":""},{"$f":"IF('Whip Data'!A38=\"\",\"\",IF(VALUE(RIGHT(BOM!K25,1))=0,10,VALUE(RIGHT(BOM!K25,1))))","v":""},{"$f":"IF('Whip Data'!A38=\"\",\"\",VLOOKUP('Whip Data'!L38,Materials,7,FALSE))","v":""},"",{"$f":"IF('Whip Data'!A38=\"\",\"\",VLOOKUP('Whip Data'!L38,Materials,4,FALSE))","v":""},{"$f":"IF('Whip Data'!A38=\"\",\"\",'Whip Data'!O38)","v":""},"",{"$f":"IF(M25=\"\",\"\",M25/VLOOKUP('Whip Data'!L38,Materials,3,FALSE))","v":""}]
[null,null,null,null,null,null,{"$f":"IFERROR('Whip Data'!A39,\"\")","v":""},{"$f":"IF('Whip Data'!A39=\"\",\"\",IF(VALUE(RIGHT(BOM!K26,1))=0,10,VALUE(RIGHT(BOM!K26,1))))","v":""},{"$f":"IF('Whip Data'!A39=\"\",\"\",VLOOKUP('Whip Data'!L39,Materials,7,FALSE))","v":""},"",{"$f":"IF('Whip Data'!A39=\"\",\"\",VLOOKUP('Whip Data'!L39,Materials,4,FALSE))","v":""},{"$f":"IF('Whip Data'!A39=\"\",\"\",'Whip Data'!O39)","v":""},"",{"$f":"IF(M26=\"\",\"\",M26/VLOOKUP('Whip Data'!L39,Materials,3,FALSE))","v":""}]
[null,null,null,null,null,null,{"$f":"IFERROR('Whip Data'!A40,\"\")","v":""},{"$f":"IF('Whip Data'!A40=\"\",\"\",IF(VALUE(RIGHT(BOM!K27,1))=0,10,VALUE(RIGHT(BOM!K27,1))))","v":""},{"$f":"IF('Whip Data'!A40=\"\",\"\",VLOOKUP('Whip Data'!L40,Materials,7,FALSE))","v":""},"",{"$f":"IF('Whip Data'!A40=\"\",\"\",VLOOKUP('Whip Data'!L40,Materials,4,FALSE))","v":""},{"$f":"IF('Whip Data'!A40=\"\",\"\",'Whip Data'!O40)","v":""},"",{"$f":"IF(M27=\"\",\"\",M27/VLOOKUP('Whip Data'!L40,Materials,3,FALSE))","v":""}]
[null,null,null,null,null,null,{"$f":"IFERROR('Whip Data'!A41,\"\")","v":""},{"$f":"IF('Whip Data'!A41=\"\",\"\",IF(VALUE(RIGHT(BOM!K28,1))=0,10,VALUE(RIGHT(BOM!K28,1))))","v":""},{"$f":"IF('Whip Data'!A41=\"\",\"\",VLOOKUP('Whip Data'!L41,Materials,7,FALSE))","v":""},"",{"$f":"IF('Whip Data'!A41=\"\",\"\",VLOOKUP('Whip Data'!L41,Materials,4,FALSE))","v":""},{"$f":"IF('Whip Data'!A41=\"\",\"\",'Whip Data'!O41)","v":""},"",{"$f":"IF(M28=\"\",\"\",M28/VLOOKUP('Whip Data'!L41,Materials,3,FALSE))","v":""}]
[null,null,null,null,null,null,{"$f":"IFERROR('Whip Data'!A42,\"\")","v":""},{"$f":"IF('Whip Data'!A42=\"\",\"\",IF(VALUE(RIGHT(BOM!K29,1))=0,10,VALUE(RIGHT(BOM!K29,1))))","v":""},{"$f":"IF('Whip Data'!A42=\"\",\"\",VLOOKUP('Whip Data'!L42,Materials,7,FALSE))","v":""},"",{"$f":"IF('Whip Data'!A42=\"\",\"\",VLOOKUP('Whip Data'!L42,Materials,4,FALSE))","v":""},{"$f":"IF('Whip Data'!A42=\"\",\"\",'Whip Data'!O42)","v":""},"",{"$f":"IF(M29=\"\",\"\",M29/VLOOKUP('Whip Data'!L42,Materials,3,FALSE))","v":""}]
[null,null,null,null,null,null,{"$f":"IFERROR('Whip Data'!A43,\"\")","v":""},{"$f":"IF('Whip Data'!A43=\"\",\"\",IF(VALUE(RIGHT(BOM!K30,1))=0,10,VALUE(RIGHT(BOM!K30,1))))","v":""},{"$f":"IF('Whip Data'!A43=\"\",\"\",VLOOKUP('Whip Data'!L43,Materials,7,FALSE))","v":""},"",{"$f":"IF('Whip Data'!A43=\"\",\"\",VLOOKUP('Whip Data'!L43,Materials,4,FALSE))","v":""},{"$f":"IF('Whip Data'!A43=\"\",\"\",'Whip Data'!O43)","v":""},"",{"$f":"IF(M30=\"\",\"\",M30/VLOOKUP('Whip Data'!L43,Materials,3,FALSE))","v":""}]
[null,null,null,null,null,null,{"$f":"IFERROR('Whip Data'!A44,\"\")","v":""},{"$f":"IF('Whip Data'!A44=\"\",\"\",IF(VALUE(RIGHT(BOM!K31,1))=0,10,VALUE(RIGHT(BOM!K31,1))))","v":""},{"$f":"IF('Whip Data'!A44=\"\",\"\",VLOOKUP('Whip Data'!L44,Materials,7,FALSE))","v":""},"",{"$f":"IF('Whip Data'!A44=\"\",\"\",VLOOKUP('Whip Data'!L44,Materials,4,FALSE))","v":""},{"$f":"IF('Whip Data'!A44=\"\",\"\",'Whip Data'!O44)","v":""},"",{"$f":"IF(M31=\"\",\"\",M31/VLOOKUP('Whip Data'!L44,Materials,3,FALSE))","v":""}]
[null,null,null,null,null,null,{"$f":"IFERROR('Whip Data'!A45,\"\")","v":""},{"$f":"IF('Whip Data'!A45=\"\",\"\",IF(VALUE(RIGHT(BOM!K32,1))=0,10,VALUE(RIGHT(BOM!K32,1))))","v":""},{"$f":"IF('Whip Data'!A45=\"\",\"\",VLOOKUP('Whip Data'!L45,Materials,7,FALSE))","v":""},"",{"$f":"IF('Whip Data'!A45=\"\",\"\",VLOOKUP('Whip Data'!L45,Materials,4,FALSE))","v":""},{"$f":"IF('Whip Data'!A45=\"\",\"\",'Whip Data'!O45)","v":""},"",{"$f":"IF(M32=\"\",\"\",M32/VLOOKUP('Whip Data'!L45,Materials,3,FALSE))","v":""}]
[null,null,null,null,null,null,{"$f":"IFERROR('Whip Data'!A46,\"\")","v":""},{"$f":"IF('Whip Data'!A46=\"\",\"\",IF(VALUE(RIGHT(BOM!K33,1))=0,10,VALUE(RIGHT(BOM!K33,1))))","v":""},{"$f":"IF('Whip Data'!A46=\"\",\"\",VLOOKUP('Whip Data'!L46,Materials,7,FALSE))","v":""},"",{"$f":"IF('Whip Data'!A46=\"\",\"\",VLOOKUP('Whip Data'!L46,Materials,4,FALSE))","v":""},{"$f":"IF('Whip Data'!A46=\"\",\"\",'Whip Data'!O46)","v":""},"",{"$f":"IF(M33=\"\",\"\",M33/VLOOKUP('Whip Data'!L46,Materials,3,FALSE))","v":""}]
[null,null,null,null,null,null,{"$f":"IFERROR('Whip Data'!A47,\"\")","v":""},{"$f":"IF('Whip Data'!A47=\"\",\"\",IF(VALUE(RIGHT(BOM!K34,1))=0,10,VALUE(RIGHT(BOM!K34,1))))","v":""},{"$f":"IF('Whip Data'!A47=\"\",\"\",VLOOKUP('Whip Data'!L47,Materials,7,FALSE))","v":""},"",{"$f":"IF('Whip Data'!A47=\"\",\"\",VLOOKUP('Whip Data'!L47,Materials,4,FALSE))","v":""},{"$f":"IF('Whip Data'!A47=\"\",\"\",'Whip Data'!O47)","v":""},"",{"$f":"IF(M34=\"\",\"\",M34/VLOOKUP('Whip Data'!L47,Materials,3,FALSE))","v":""}]
[null,null,null,null,null,null,{"$f":"IFERROR('Whip Data'!A48,\"\")","v":""},{"$f":"IF('Whip Data'!A48=\"\",\"\",IF(VALUE(RIGHT(BOM!K35,1))=0,10,VALUE(RIGHT(BOM!K35,1))))","v":""},{"$f":"IF('Whip Data'!A48=\"\",\"\",VLOOKUP('Whip Data'!L48,Materials,7,FALSE))","v":""},"",{"$f":"IF('Whip Data'!A48=\"\",\"\",VLOOKUP('Whip Data'!L48,Materials,4,FALSE))","v":""},{"$f":"IF('Whip Data'!A48=\"\",\"\",'Whip Data'!O48)","v":""},"",{"$f":"IF(M35=\"\",\"\",M35/VLOOKUP('Whip Data'!L48,Materials,3,FALSE))","v":""}]
[null,null,null,null,null,null,{"$f":"IFERROR('Whip Data'!A49,\"\")","v":""},{"$f":"IF('Whip Data'!A49=\"\",\"\",IF(VALUE(RIGHT(BOM!K36,1))=0,10,VALUE(RIGHT(BOM!K36,1))))","v":""},{"$f":"IF('Whip Data'!A49=\"\",\"\",VLOOKUP('Whip Data'!L49,Materials,7,FALSE))","v":""},"",{"$f":"IF('Whip Data'!A49=\"\",\"\",VLOOKUP('Whip Data'!L49,Materials,4,FALSE))","v":""},{"$f":"IF('Whip Data'!A49=\"\",\"\",'Whip Data'!O49)","v":""},"",{"$f":"IF(M36=\"\",\"\",M36/VLOOKUP('Whip Data'!L49,Materials,3,FALSE))","v":""}]
[null,null,null,null,null,null,{"$f":"IFERROR('Whip Data'!A50,\"\")","v":""},{"$f":"IF('Whip Data'!A50=\"\",\"\",IF(VALUE(RIGHT(BOM!K37,1))=0,10,VALUE(RIGHT(BOM!K37,1))))","v":""},{"$f":"IF('Whip Data'!A50=\"\",\"\",VLOOKUP('Whip Data'!L50,Materials,7,FALSE))","v":""},"",{"$f":"IF('Whip Data'!A50=\"\",\"\",VLOOKUP('Whip Data'!L50,Materials,4,FALSE))","v":""},{"$f":"IF('Whip Data'!A50=\"\",\"\",'Whip Data'!O50)","v":""},"",{"$f":"IF(M37=\"\",\"\",M37/VLOOKUP('Whip Data'!L50,Materials,3,FALSE))","v":""}]
[null,null,null,null,null,null,{"$f":"IFERROR('Whip Data'!A51,\"\")","v":""},{"$f":"IF('Whip Data'!A51=\"\",\"\",IF(VALUE(RIGHT(BOM!K38,1))=0,10,VALUE(RIGHT(BOM!K38,1))))","v":""},{"$f":"IF('Whip Data'!A51=\"\",\"\",VLOOKUP('Whip Data'!L51,Materials,7,FALSE))","v":""},"",{"$f":"IF('Whip Data'!A51=\"\",\"\",VLOOKUP('Whip Data'!L51,Materials,4,FALSE))","v":""},{"$f":"IF('Whip Data'!A51=\"\",\"\",'Whip Data'!O51)","v":""},"",{"$f":"IF(M38=\"\",\"\",M38/VLOOKUP('Whip Data'!L51,Materials,3,FALSE))","v":""}]
[null,null,null,null,null,null,{"$f":"IFERROR('Whip Data'!A52,\"\")","v":""},{"$f":"IF('Whip Data'!A52=\"\",\"\",IF(VALUE(RIGHT(BOM!K39,1))=0,10,VALUE(RIGHT(BOM!K39,1))))","v":""},{"$f":"IF('Whip Data'!A52=\"\",\"\",VLOOKUP('Whip Data'!L52,Materials,7,FALSE))","v":""},"",{"$f":"IF('Whip Data'!A52=\"\",\"\",VLOOKUP('Whip Data'!L52,Materials,4,FALSE))","v":""},{"$f":"IF('Whip Data'!A52=\"\",\"\",'Whip Data'!O52)","v":""},"",{"$f":"IF(M39=\"\",\"\",M39/VLOOKUP('Whip Data'!L52,Materials,3,FALSE))","v":""}]
[null,null,null,null,null,null,{"$f":"IFERROR('Whip Data'!A53,\"\")","v":""},{"$f":"IF('Whip Data'!A53=\"\",\"\",IF(VALUE(RIGHT(BOM!K40,1))=0,10,VALUE(RIGHT(BOM!K40,1))))","v":""},{"$f":"IF('Whip Data'!A53=\"\",\"\",VLOOKUP('Whip Data'!L53,Materials,7,FALSE))","v":""},"",{"$f":"IF('Whip Data'!A53=\"\",\"\",VLOOKUP('Whip Data'!L53,Materials,4,FALSE))","v":""},{"$f":"IF('Whip Data'!A53=\"\",\"\",'Whip Data'!O53)","v":""},"",{"$f":"IF(M40=\"\",\"\",M40/VLOOKUP('Whip Data'!L53,Materials,3,FALSE))","v":""}]
[null,null,null,null,null,null,{"$f":"IFERROR('Whip Data'!A54,\"\")","v":""},{"$f":"IF('Whip Data'!A54=\"\",\"\",IF(VALUE(RIGHT(BOM!K41,1))=0,10,VALUE(RIGHT(BOM!K41,1))))","v":""},{"$f":"IF('Whip Data'!A54=\"\",\"\",VLOOKUP('Whip Data'!L54,Materials,7,FALSE))","v":""},"",{"$f":"IF('Whip Data'!A54=\"\",\"\",VLOOKUP('Whip Data'!L54,Materials,4,FALSE))","v":""},{"$f":"IF('Whip Data'!A54=\"\",\"\",'Whip Data'!O54)","v":""},"",{"$f":"IF(M41=\"\",\"\",M41/VLOOKUP('Whip Data'!L54,Materials,3,FALSE))","v":""}]
[null,null,null,null,null,null,{"$f":"IFERROR('Whip Data'!A55,\"\")","v":""},{"$f":"IF('Whip Data'!A55=\"\",\"\",IF(VALUE(RIGHT(BOM!K42,1))=0,10,VALUE(RIGHT(BOM!K42,1))))","v":""},{"$f":"IF('Whip Data'!A55=\"\",\"\",VLOOKUP('Whip Data'!L55,Materials,7,FALSE))","v":""},"",{"$f":"IF('Whip Data'!A55=\"\",\"\",VLOOKUP('Whip Data'!L55,Materials,4,FALSE))","v":""},{"$f":"IF('Whip Data'!A55=\"\",\"\",'Whip Data'!O55)","v":""},"",{"$f":"IF(M42=\"\",\"\",M42/VLOOKUP('Whip Data'!L55,Materials,3,FALSE))","v":""}]
[null,null,null,null,null,null,{"$f":"IFERROR('Whip Data'!A56,\"\")","v":""},{"$f":"IF('Whip Data'!A56=\"\",\"\",IF(VALUE(RIGHT(BOM!K43,1))=0,10,VALUE(RIGHT(BOM!K43,1))))","v":""},{"$f":"IF('Whip Data'!A56=\"\",\"\",VLOOKUP('Whip Data'!L56,Materials,7,FALSE))","v":""},"",{"$f":"IF('Whip Data'!A56=\"\",\"\",VLOOKUP('Whip Data'!L56,Materials,4,FALSE))","v":""},{"$f":"IF('Whip Data'!A56=\"\",\"\",'Whip Data'!O56)","v":""},"",{"$f":"IF(M43=\"\",\"\",M43/VLOOKUP('Whip Data'!L56,Materials,3,FALSE))","v":""}]
[null,null,null,null,null,null,{"$f":"IFERROR('Whip Data'!A57,\"\")","v":""},{"$f":"IF('Whip Data'!A57=\"\",\"\",IF(VALUE(RIGHT(BOM!K44,1))=0,10,VALUE(RIGHT(BOM!K44,1))))","v":""},{"$f":"IF('Whip Data'!A57=\"\",\"\",VLOOKUP('Whip Data'!L57,Materials,7,FALSE))","v":""},"",{"$f":"IF('Whip Data'!A57=\"\",\"\",VLOOKUP('Whip Data'!L57,Materials,4,FALSE))","v":""},{"$f":"IF('Whip Data'!A57=\"\",\"\",'Whip Data'!O57)","v":""},"",{"$f":"IF(M44=\"\",\"\",M44/VLOOKUP('Whip Data'!L57,Materials,3,FALSE))","v":""}]
[null,null,null,null,null,null,{"$f":"IFERROR('Whip Data'!A58,\"\")","v":""},{"$f":"IF('Whip Data'!A58=\"\",\"\",IF(VALUE(RIGHT(BOM!K45,1))=0,10,VALUE(RIGHT(BOM!K45,1))))","v":""},{"$f":"IF('Whip Data'!A58=\"\",\"\",VLOOKUP('Whip Data'!L58,Materials,7,FALSE))","v":""},"",{"$f":"IF('Whip Data'!A58=\"\",\"\",VLOOKUP('Whip Data'!L58,Materials,4,FALSE))","v":""},{"$f":"IF('Whip Data'!A58=\"\",\"\",'Whip Data'!O58)","v":""},"",{"$f":"IF(M45=\"\",\"\",M45/VLOOKUP('Whip Data'!L58,Materials,3,FALSE))","v":""}]
[null,null,null,null,null,null,{"$f":"IFERROR('Whip Data'!A59,\"\")","v":""},{"$f":"IF('Whip Data'!A59=\"\",\"\",IF(VALUE(RIGHT(BOM!K46,1))=0,10,VALUE(RIGHT(BOM!K46,1))))","v":""},{"$f":"IF('Whip Data'!A59=\"\",\"\",VLOOKUP('Whip Data'!L59,Materials,7,FALSE))","v":""},"",{"$f":"IF('Whip Data'!A59=\"\",\"\",VLOOKUP('Whip Data'!L59,Materials,4,FALSE))","v":""},{"$f":"IF('Whip Data'!A59=\"\",\"\",'Whip Data'!O59)","v":""},"",{"$f":"IF(M46=\"\",\"\",M46/VLOOKUP('Whip Data'!L59,Materials,3,FALSE))","v":""}]
[null,null,null,null,null,null,{"$f":"IFERROR('Whip Data'!A60,\"\")","v":""},{"$f":"IF('Whip Data'!A60=\"\",\"\",IF(VALUE(RIGHT(BOM!K47,1))=0,10,VALUE(RIGHT(BOM!K47,1))))","v":""},{"$f":"IF('Whip Data'!A60=\"\",\"\",VLOOKUP('Whip Data'!L60,Materials,7,FALSE))","v":""},"",{"$f":"IF('Whip Data'!A60=\"\",\"\",VLOOKUP('Whip Data'!L60,Materials,4,FALSE))","v":""},{"$f":"IF('Whip Data'!A60=\"\",\"\",'Whip Data'!O60)","v":""},"",{"$f":"IF(M47=\"\",\"\",M47/VLOOKUP('Whip Data'!L60,Materials,3,FALSE))","v":""}]
[null,null,null,null,null,null,{"$f":"IFERROR('Whip Data'!A61,\"\")","v":""},{"$f":"IF('Whip Data'!A61=\"\",\"\",IF(VALUE(RIGHT(BOM!K48,1))=0,10,VALUE(RIGHT(BOM!K48,1))))","v":""},{"$f":"IF('Whip Data'!A61=\"\",\"\",VLOOKUP('Whip Data'!L61,Materials,7,FALSE))","v":""},"",{"$f":"IF('Whip Data'!A61=\"\",\"\",VLOOKUP('Whip Data'!L61,Materials,4,FALSE))","v":""},{"$f":"IF('Whip Data'!A61=\"\",\"\",'Whip Data'!O61)","v":""},"",{"$f":"IF(M48=\"\",\"\",M48/VLOOKUP('Whip Data'!L61,Materials,3,FALSE))","v":""}]
[null,null,null,null,null,null,{"$f":"IFERROR('Whip Data'!A62,\"\")","v":""},{"$f":"IF('Whip Data'!A62=\"\",\"\",IF(VALUE(RIGHT(BOM!K49,1))=0,10,VALUE(RIGHT(BOM!K49,1))))","v":""},{"$f":"IF('Whip Data'!A62=\"\",\"\",VLOOKUP('Whip Data'!L62,Materials,7,FALSE))","v":""},"",{"$f":"IF('Whip Data'!A62=\"\",\"\",VLOOKUP('Whip Data'!L62,Materials,4,FALSE))","v":""},{"$f":"IF('Whip Data'!A62=\"\",\"\",'Whip Data'!O62)","v":""},"",{"$f":"IF(M49=\"\",\"\",M49/VLOOKUP('Whip Data'!L62,Materials,3,FALSE))","v":""}]
[null,null,null,null,null,null,{"$f":"IFERROR('Whip Data'!A63,\"\")","v":""},{"$f":"IF('Whip Data'!A63=\"\",\"\",IF(VALUE(RIGHT(BOM!K50,1))=0,10,VALUE(RIGHT(BOM!K50,1))))","v":""},{"$f":"IF('Whip Data'!A63=\"\",\"\",VLOOKUP('Whip Data'!L63,Materials,7,FALSE))","v":""},"",{"$f":"IF('Whip Data'!A63=\"\",\"\",VLOOKUP('Whip Data'!L63,Materials,4,FALSE))","v":""},{"$f":"IF('Whip Data'!A63=\"\",\"\",'Whip Data'!O63)","v":""},"",{"$f":"IF(M50=\"\",\"\",M50/VLOOKUP('Whip Data'!L63,Materials,3,FALSE))","v":""}]
[null,null,null,null,null,null,{"$f":"IFERROR('Whip Data'!A64,\"\")","v":""},{"$f":"IF('Whip Data'!A64=\"\",\"\",IF(VALUE(RIGHT(BOM!K51,1))=0,10,VALUE(RIGHT(BOM!K51,1))))","v":""},{"$f":"IF('Whip Data'!A64=\"\",\"\",VLOOKUP('Whip Data'!L64,Materials,7,FALSE))","v":""},"",{"$f":"IF('Whip Data'!A64=\"\",\"\",VLOOKUP('Whip Data'!L64,Materials,4,FALSE))","v":""},{"$f":"IF('Whip Data'!A64=\"\",\"\",'Whip Data'!O64)","v":""},"",{"$f":"IF(M51=\"\",\"\",M51/VLOOKUP('Whip Data'!L64,Materials,3,FALSE))","v":""}]
[null,null,null,null,null,null,{"$f":"IFERROR('Whip Data'!A65,\"\")","v":""},{"$f":"IF('Whip Data'!A65=\"\",\"\",IF(VALUE(RIGHT(BOM!K52,1))=0,10,VALUE(RIGHT(BOM!K52,1))))","v":""},{"$f":"IF('Whip Data'!A65=\"\",\"\",VLOOKUP('Whip Data'!L65,Materials,7,FALSE))","v":""},"",{"$f":"IF('Whip Data'!A65=\"\",\"\",VLOOKUP('Whip Data'!L65,Materials,4,FALSE))","v":""},{"$f":"IF('Whip Data'!A65=\"\",\"\",'Whip Data'!O65)","v":""},"",{"$f":"IF(M52=\"\",\"\",M52/VLOOKUP('Whip Data'!L65,Materials,3,FALSE))","v":""}]
[null,null,null,null,null,null,{"$f":"IFERROR('Whip Data'!A66,\"\")","v":""},{"$f":"IF('Whip Data'!A66=\"\",\"\",IF(VALUE(RIGHT(BOM!K53,1))=0,10,VALUE(RIGHT(BOM!K53,1))))","v":""},{"$f":"IF('Whip Data'!A66=\"\",\"\",VLOOKUP('Whip Data'!L66,Materials,7,FALSE))","v":""},"",{"$f":"IF('Whip Data'!A66=\"\",\"\",VLOOKUP('Whip Data'!L66,Materials,4,FALSE))","v":""},{"$f":"IF('Whip Data'!A66=\"\",\"\",'Whip Data'!O66)","v":""},"",{"$f":"IF(M53=\"\",\"\",M53/VLOOKUP('Whip Data'!L66,Materials,3,FALSE))","v":""}]
[null,null,null,null,null,null,{"$f":"IFERROR('Whip Data'!A67,\"\")","v":""},{"$f":"IF('Whip Data'!A67=\"\",\"\",IF(VALUE(RIGHT(BOM!K54,1))=0,10,VALUE(RIGHT(BOM!K54,1))))","v":""},{"$f":"IF('Whip Data'!A67=\"\",\"\",VLOOKUP('Whip Data'!L67,Materials,7,FALSE))","v":""},"",{"$f":"IF('Whip Data'!A67=\"\",\"\",VLOOKUP('Whip Data'!L67,Materials,4,FALSE))","v":""},{"$f":"IF('Whip Data'!A67=\"\",\"\",'Whip Data'!O67)","v":""},"",{"$f":"IF(M54=\"\",\"\",M54/VLOOKUP('Whip Data'!L67,Materials,3,FALSE))","v":""}]
[null,null,null,null,null,null,{"$f":"IFERROR('Whip Data'!A68,\"\")","v":""},{"$f":"IF('Whip Data'!A68=\"\",\"\",IF(VALUE(RIGHT(BOM!K55,1))=0,10,VALUE(RIGHT(BOM!K55,1))))","v":""},{"$f":"IF('Whip Data'!A68=\"\",\"\",VLOOKUP('Whip Data'!L68,Materials,7,FALSE))","v":""},"",{"$f":"IF('Whip Data'!A68=\"\",\"\",VLOOKUP('Whip Data'!L68,Materials,4,FALSE))","v":""},{"$f":"IF('Whip Data'!A68=\"\",\"\",'Whip Data'!O68)","v":""},"",{"$f":"IF(M55=\"\",\"\",M55/VLOOKUP('Whip Data'!L68,Materials,3,FALSE))","v":""}]
[null,null,null,null,null,null,{"$f":"IFERROR('Whip Data'!A69,\"\")","v":""},{"$f":"IF('Whip Data'!A69=\"\",\"\",IF(VALUE(RIGHT(BOM!K56,1))=0,10,VALUE(RIGHT(BOM!K56,1))))","v":""},{"$f":"IF('Whip Data'!A69=\"\",\"\",VLOOKUP('Whip Data'!L69,Materials,7,FALSE))","v":""},"",{"$f":"IF('Whip Data'!A69=\"\",\"\",VLOOKUP('Whip Data'!L69,Materials,4,FALSE))","v":""},{"$f":"IF('Whip Data'!A69=\"\",\"\",'Whip Data'!O69)","v":""},"",{"$f":"IF(M56=\"\",\"\",M56/VLOOKUP('Whip Data'!L69,Materials,3,FALSE))","v":""}]
[null,null,null,null,null,null,{"$f":"IFERROR('Whip Data'!A70,\"\")","v":""},{"$f":"IF('Whip Data'!A70=\"\",\"\",IF(VALUE(RIGHT(BOM!K57,1))=0,10,VALUE(RIGHT(BOM!K57,1))))","v":""},{"$f":"IF('Whip Data'!A70=\"\",\"\",VLOOKUP('Whip Data'!L70,Materials,7,FALSE))","v":""},"",{"$f":"IF('Whip Data'!A70=\"\",\"\",VLOOKUP('Whip Data'!L70,Materials,4,FALSE))","v":""},{"$f":"IF('Whip Data'!A70=\"\",\"\",'Whip Data'!O70)","v":""},"",{"$f":"IF(M57=\"\",\"\",M57/VLOOKUP('Whip Data'!L70,Materials,3,FALSE))","v":""}]
[null,null,null,null,null,null,{"$f":"IFERROR('Whip Data'!A71,\"\")","v":""},{"$f":"IF('Whip Data'!A71=\"\",\"\",IF(VALUE(RIGHT(BOM!K58,1))=0,10,VALUE(RIGHT(BOM!K58,1))))","v":""},{"$f":"IF('Whip Data'!A71=\"\",\"\",VLOOKUP('Whip Data'!L71,Materials,7,FALSE))","v":""},"",{"$f":"IF('Whip Data'!A71=\"\",\"\",VLOOKUP('Whip Data'!L71,Materials,4,FALSE))","v":""},{"$f":"IF('Whip Data'!A71=\"\",\"\",'Whip Data'!O71)","v":""},"",{"$f":"IF(M58=\"\",\"\",M58/VLOOKUP('Whip Data'!L71,Materials,3,FALSE))","v":""}]
[null,null,null,null,null,null,{"$f":"IFERROR('Whip Data'!A72,\"\")","v":""},{"$f":"IF('Whip Data'!A72=\"\",\"\",IF(VALUE(RIGHT(BOM!K59,1))=0,10,VALUE(RIGHT(BOM!K59,1))))","v":""},{"$f":"IF('Whip Data'!A72=\"\",\"\",VLOOKUP('Whip Data'!L72,Materials,7,FALSE))","v":""},"",{"$f":"IF('Whip Data'!A72=\"\",\"\",VLOOKUP('Whip Data'!L72,Materials,4,FALSE))","v":""},{"$f":"IF('Whip Data'!A72=\"\",\"\",'Whip Data'!O72)","v":""},"",{"$f":"IF(M59=\"\",\"\",M59/VLOOKUP('Whip Data'!L72,Materials,3,FALSE))","v":""}]
[null,null,null,null,null,null,{"$f":"IFERROR('Whip Data'!A73,\"\")","v":""},{"$f":"IF('Whip Data'!A73=\"\",\"\",IF(VALUE(RIGHT(BOM!K60,1))=0,10,VALUE(RIGHT(BOM!K60,1))))","v":""},{"$f":"IF('Whip Data'!A73=\"\",\"\",VLOOKUP('Whip Data'!L73,Materials,7,FALSE))","v":""},"",{"$f":"IF('Whip Data'!A73=\"\",\"\",VLOOKUP('Whip Data'!L73,Materials,4,FALSE))","v":""},{"$f":"IF('Whip Data'!A73=\"\",\"\",'Whip Data'!O73)","v":""},"",{"$f":"IF(M60=\"\",\"\",M60/VLOOKUP('Whip Data'!L73,Materials,3,FALSE))","v":""}]
[null,null,null,null,null,null,{"$f":"IFERROR('Whip Data'!A74,\"\")","v":""},{"$f":"IF('Whip Data'!A74=\"\",\"\",IF(VALUE(RIGHT(BOM!K61,1))=0,10,VALUE(RIGHT(BOM!K61,1))))","v":""},{"$f":"IF('Whip Data'!A74=\"\",\"\",VLOOKUP('Whip Data'!L74,Materials,7,FALSE))","v":""},"",{"$f":"IF('Whip Data'!A74=\"\",\"\",VLOOKUP('Whip Data'!L74,Materials,4,FALSE))","v":""},{"$f":"IF('Whip Data'!A74=\"\",\"\",'Whip Data'!O74)","v":""},"",{"$f":"IF(M61=\"\",\"\",M61/VLOOKUP('Whip Data'!L74,Materials,3,FALSE))","v":""}]
[null,null,null,null,null,null,{"$f":"IFERROR('Whip Data'!A75,\"\")","v":""},{"$f":"IF('Whip Data'!A75=\"\",\"\",IF(VALUE(RIGHT(BOM!K62,1))=0,10,VALUE(RIGHT(BOM!K62,1))))","v":""},{"$f":"IF('Whip Data'!A75=\"\",\"\",VLOOKUP('Whip Data'!L75,Materials,7,FALSE))","v":""},"",{"$f":"IF('Whip Data'!A75=\"\",\"\",VLOOKUP('Whip Data'!L75,Materials,4,FALSE))","v":""},{"$f":"IF('Whip Data'!A75=\"\",\"\",'Whip Data'!O75)","v":""},"",{"$f":"IF(M62=\"\",\"\",M62/VLOOKUP('Whip Data'!L75,Materials,3,FALSE))","v":""}]
[null,null,null,null,null,null,{"$f":"IFERROR('Whip Data'!A76,\"\")","v":""},{"$f":"IF('Whip Data'!A76=\"\",\"\",IF(VALUE(RIGHT(BOM!K63,1))=0,10,VALUE(RIGHT(BOM!K63,1))))","v":""},{"$f":"IF('Whip Data'!A76=\"\",\"\",VLOOKUP('Whip Data'!L76,Materials,7,FALSE))","v":""},"",{"$f":"IF('Whip Data'!A76=\"\",\"\",VLOOKUP('Whip Data'!L76,Materials,4,FALSE))","v":""},{"$f":"IF('Whip Data'!A76=\"\",\"\",'Whip Data'!O76)","v":""},"",{"$f":"IF(M63=\"\",\"\",M63/VLOOKUP('Whip Data'!L76,Materials,3,FALSE))","v":""}]
[null,null,null,null,null,null,{"$f":"IFERROR('Whip Data'!A77,\"\")","v":""},{"$f":"IF('Whip Data'!A77=\"\",\"\",IF(VALUE(RIGHT(BOM!K64,1))=0,10,VALUE(RIGHT(BOM!K64,1))))","v":""},{"$f":"IF('Whip Data'!A77=\"\",\"\",VLOOKUP('Whip Data'!L77,Materials,7,FALSE))","v":""},"",{"$f":"IF('Whip Data'!A77=\"\",\"\",VLOOKUP('Whip Data'!L77,Materials,4,FALSE))","v":""},{"$f":"IF('Whip Data'!A77=\"\",\"\",'Whip Data'!O77)","v":""},"",{"$f":"IF(M64=\"\",\"\",M64/VLOOKUP('Whip Data'!L77,Materials,3,FALSE))","v":""}]
[null,null,null,null,null,null,{"$f":"IFERROR('Whip Data'!A78,\"\")","v":""},{"$f":"IF('Whip Data'!A78=\"\",\"\",IF(VALUE(RIGHT(BOM!K65,1))=0,10,VALUE(RIGHT(BOM!K65,1))))","v":""},{"$f":"IF('Whip Data'!A78=\"\",\"\",VLOOKUP('Whip Data'!L78,Materials,7,FALSE))","v":""},"",{"$f":"IF('Whip Data'!A78=\"\",\"\",VLOOKUP('Whip Data'!L78,Materials,4,FALSE))","v":""},{"$f":"IF('Whip Data'!A78=\"\",\"\",'Whip Data'!O78)","v":""},"",{"$f":"IF(M65=\"\",\"\",M65/VLOOKUP('Whip Data'!L78,Materials,3,FALSE))","v":""}]
[null,null,null,null,null,null,{"$f":"IFERROR('Whip Data'!A79,\"\")","v":""},{"$f":"IF('Whip Data'!A79=\"\",\"\",IF(VALUE(RIGHT(BOM!K66,1))=0,10,VALUE(RIGHT(BOM!K66,1))))","v":""},{"$f":"IF('Whip Data'!A79=\"\",\"\",VLOOKUP('Whip Data'!L79,Materials,7,FALSE))","v":""},{"$f":"IF(G66=\"\",\"\",VLOOKUP(H66,NEC_T8,5,FALSE))","v":""},{"$f":"IF('Whip Data'!A79=\"\",\"\",VLOOKUP('Whip Data'!L79,Materials,4,FALSE))","v":""},{"$f":"IF('Whip Data'!A79=\"\",\"\",'Whip Data'!O79)","v":""},"",{"$f":"IF(M66=\"\",\"\",M66/VLOOKUP('Whip Data'!L79,Materials,3,FALSE))","v":""}]
[null,null,null,null,null,null,{"$f":"IFERROR('Whip Data'!A80,\"\")","v":""},{"$f":"IF('Whip Data'!A80=\"\",\"\",IF(VALUE(RIGHT(BOM!K67,1))=0,10,VALUE(RIGHT(BOM!K67,1))))","v":""},{"$f":"IF('Whip Data'!A80=\"\",\"\",VLOOKUP('Whip Data'!L80,Materials,7,FALSE))","v":""},"",{"$f":"IF('Whip Data'!A80=\"\",\"\",VLOOKUP('Whip Data'!L80,Materials,4,FALSE))","v":""},{"$f":"IF('Whip Data'!A80=\"\",\"\",'Whip Data'!O80)","v":""},"",{"$f":"IF(M67=\"\",\"\",M67/VLOOKUP('Whip Data'!L80,Materials,3,FALSE))","v":""}]
[null,null,null,null,null,null,{"$f":"IFERROR('Whip Data'!A81,\"\")","v":""},{"$f":"IF('Whip Data'!A81=\"\",\"\",IF(VALUE(RIGHT(BOM!K68,1))=0,10,VALUE(RIGHT(BOM!K68,1))))","v":""},{"$f":"IF('Whip Data'!A81=\"\",\"\",VLOOKUP('Whip Data'!L81,Materials,7,FALSE))","v":""},"",{"$f":"IF('Whip Data'!A81=\"\",\"\",VLOOKUP('Whip Data'!L81,Materials,4,FALSE))","v":""},{"$f":"IF('Whip Data'!A81=\"\",\"\",'Whip Data'!O81)","v":""},"",{"$f":"IF(M68=\"\",\"\",M68/VLOOKUP('Whip Data'!L81,Materials,3,FALSE))","v":""}]
[null,null,null,null,null,null,{"$f":"IFERROR('Whip Data'!A82,\"\")","v":""},{"$f":"IF('Whip Data'!A82=\"\",\"\",IF(VALUE(RIGHT(BOM!K69,1))=0,10,VALUE(RIGHT(BOM!K69,1))))","v":""},{"$f":"IF('Whip Data'!A82=\"\",\"\",VLOOKUP('Whip Data'!L82,Materials,7,FALSE))","v":""},"",{"$f":"IF('Whip Data'!A82=\"\",\"\",VLOOKUP('Whip Data'!L82,Materials,4,FALSE))","v":""},{"$f":"IF('Whip Data'!A82=\"\",\"\",'Whip Data'!O82)","v":""},"",{"$f":"IF(M69=\"\",\"\",M69/VLOOKUP('Whip Data'!L82,Materials,3,FALSE))","v":""}]
[null,null,null,null,null,null,{"$f":"IFERROR('Whip Data'!A83,\"\")","v":""},{"$f":"IF('Whip Data'!A83=\"\",\"\",IF(VALUE(RIGHT(BOM!K70,1))=0,10,VALUE(RIGHT(BOM!K70,1))))","v":""},{"$f":"IF('Whip Data'!A83=\"\",\"\",VLOOKUP('Whip Data'!L83,Materials,7,FALSE))","v":""},"",{"$f":"IF('Whip Data'!A83=\"\",\"\",VLOOKUP('Whip Data'!L83,Materials,4,FALSE))","v":""},{"$f":"IF('Whip Data'!A83=\"\",\"\",'Whip Data'!O83)","v":""},"",{"$f":"IF(M70=\"\",\"\",M70/VLOOKUP('Whip Data'!L83,Materials,3,FALSE))","v":""}]
[null,null,null,null,null,null,{"$f":"IFERROR('Whip Data'!A84,\"\")","v":""},{"$f":"IF('Whip Data'!A84=\"\",\"\",IF(VALUE(RIGHT(BOM!K71,1))=0,10,VALUE(RIGHT(BOM!K71,1))))","v":""},{"$f":"IF('Whip Data'!A84=\"\",\"\",VLOOKUP('Whip Data'!L84,Materials,7,FALSE))","v":""},"",{"$f":"IF('Whip Data'!A84=\"\",\"\",VLOOKUP('Whip Data'!L84,Materials,4,FALSE))","v":""},{"$f":"IF('Whip Data'!A84=\"\",\"\",'Whip Data'!O84)","v":""},"",{"$f":"IF(M71=\"\",\"\",M71/VLOOKUP('Whip Data'!L84,Materials,3,FALSE))","v":""}]
[null,null,null,null,null,null,{"$f":"IFERROR('Whip Data'!A85,\"\")","v":""},{"$f":"IF('Whip Data'!A85=\"\",\"\",IF(VALUE(RIGHT(BOM!K72,1))=0,10,VALUE(RIGHT(BOM!K72,1))))","v":""},{"$f":"IF('Whip Data'!A85=\"\",\"\",VLOOKUP('Whip Data'!L85,Materials,7,FALSE))","v":""},"",{"$f":"IF('Whip Data'!A85=\"\",\"\",VLOOKUP('Whip Data'!L85,Materials,4,FALSE))","v":""},{"$f":"IF('Whip Data'!A85=\"\",\"\",'Whip Data'!O85)","v":""},"",{"$f":"IF(M72=\"\",\"\",M72/VLOOKUP('Whip Data'!L85,Materials,3,FALSE))","v":""}]
[null,null,null,null,null,null,{"$f":"IFERROR('Whip Data'!A86,\"\")","v":""},{"$f":"IF('Whip Data'!A86=\"\",\"\",IF(VALUE(RIGHT(BOM!K73,1))=0,10,VALUE(RIGHT(BOM!K73,1))))","v":""},{"$f":"IF('Whip Data'!A86=\"\",\"\",VLOOKUP('Whip Data'!L86,Materials,7,FALSE))","v":""},"",{"$f":"IF('Whip Data'!A86=\"\",\"\",VLOOKUP('Whip Data'!L86,Materials,4,FALSE))","v":""},{"$f":"IF('Whip Data'!A86=\"\",\"\",'Whip Data'!O86)","v":""},"",{"$f":"IF(M73=\"\",\"\",M73/VLOOKUP('Whip Data'!L86,Materials,3,FALSE))","v":""}]
[null,null,null,null,null,null,{"$f":"IFERROR('Whip Data'!A87,\"\")","v":""},{"$f":"IF('Whip Data'!A87=\"\",\"\",IF(VALUE(RIGHT(BOM!K74,1))=0,10,VALUE(RIGHT(BOM!K74,1))))","v":""},{"$f":"IF('Whip Data'!A87=\"\",\"\",VLOOKUP('Whip Data'!L87,Materials,7,FALSE))","v":""},"",{"$f":"IF('Whip Data'!A87=\"\",\"\",VLOOKUP('Whip Data'!L87,Materials,4,FALSE))","v":""},{"$f":"IF('Whip Data'!A87=\"\",\"\",'Whip Data'!O87)","v":""},{"$f":"IF(G74=\"\",\"\",VLOOKUP(I74,$A$15:$B$16,2,FALSE)*J74*K74*L74/1000)","v":""},{"$f":"IF(M74=\"\",\"\",M74/VLOOKUP('Whip Data'!L87,Materials,3,FALSE))","v":""}]
[null,null,null,null,null,null,{"$f":"IFERROR('Whip Data'!A88,\"\")","v":""},{"$f":"IF('Whip Data'!A88=\"\",\"\",IF(VALUE(RIGHT(BOM!K75,1))=0,10,VALUE(RIGHT(BOM!K75,1))))","v":""},{"$f":"IF('Whip Data'!A88=\"\",\"\",VLOOKUP('Whip Data'!L88,Materials,7,FALSE))","v":""},"",{"$f":"IF('Whip Data'!A88=\"\",\"\",VLOOKUP('Whip Data'!L88,Materials,4,FALSE))","v":""},{"$f":"IF('Whip Data'!A88=\"\",\"\",'Whip Data'!O88)","v":""},"",{"$f":"IF(M75=\"\",\"\",M75/VLOOKUP('Whip Data'!L88,Materials,3,FALSE))","v":""}]
[null,null,null,null,null,null,{"$f":"IFERROR('Whip Data'!A89,\"\")","v":""},{"$f":"IF('Whip Data'!A89=\"\",\"\",IF(VALUE(RIGHT(BOM!K76,1))=0,10,VALUE(RIGHT(BOM!K76,1))))","v":""},{"$f":"IF('Whip Data'!A89=\"\",\"\",VLOOKUP('Whip Data'!L89,Materials,7,FALSE))","v":""},"",{"$f":"IF('Whip Data'!A89=\"\",\"\",VLOOKUP('Whip Data'!L89,Materials,4,FALSE))","v":""},{"$f":"IF('Whip Data'!A89=\"\",\"\",'Whip Data'!O89)","v":""},"",{"$f":"IF(M76=\"\",\"\",M76/VLOOKUP('Whip Data'!L89,Materials,3,FALSE))","v":""}]
[null,null,null,null,null,null,{"$f":"IFERROR('Whip Data'!A90,\"\")","v":""},{"$f":"IF('Whip Data'!A90=\"\",\"\",IF(VALUE(RIGHT(BOM!K77,1))=0,10,VALUE(RIGHT(BOM!K77,1))))","v":""},{"$f":"IF('Whip Data'!A90=\"\",\"\",VLOOKUP('Whip Data'!L90,Materials,7,FALSE))","v":""},"",{"$f":"IF('Whip Data'!A90=\"\",\"\",VLOOKUP('Whip Data'!L90,Materials,4,FALSE))","v":""},{"$f":"IF('Whip Data'!A90=\"\",\"\",'Whip Data'!O90)","v":""},"",{"$f":"IF(M77=\"\",\"\",M77/VLOOKUP('Whip Data'!L90,Materials,3,FALSE))","v":""}]
[null,null,null,null,null,null,{"$f":"IFERROR('Whip Data'!A91,\"\")","v":""},{"$f":"IF('Whip Data'!A91=\"\",\"\",IF(VALUE(RIGHT(BOM!K78,1))=0,10,VALUE(RIGHT(BOM!K78,1))))","v":""},{"$f":"IF('Whip Data'!A91=\"\",\"\",VLOOKUP('Whip Data'!L91,Materials,7,FALSE))","v":""},"",{"$f":"IF('Whip Data'!A91=\"\",\"\",VLOOKUP('Whip Data'!L91,Materials,4,FALSE))","v":""},{"$f":"IF('Whip Data'!A91=\"\",\"\",'Whip Data'!O91)","v":""},"",{"$f":"IF(M78=\"\",\"\",M78/VLOOKUP('Whip Data'!L91,Materials,3,FALSE))","v":""}]
[null,null,null,null,null,null,{"$f":"IFERROR('Whip Data'!A92,\"\")","v":""},{"$f":"IF('Whip Data'!A92=\"\",\"\",IF(VALUE(RIGHT(BOM!K79,1))=0,10,VALUE(RIGHT(BOM!K79,1))))","v":""},{"$f":"IF('Whip Data'!A92=\"\",\"\",VLOOKUP('Whip Data'!L92,Materials,7,FALSE))","v":""},"",{"$f":"IF('Whip Data'!A92=\"\",\"\",VLOOKUP('Whip Data'!L92,Materials,4,FALSE))","v":""},{"$f":"IF('Whip Data'!A92=\"\",\"\",'Whip Data'!O92)","v":""},"",{"$f":"IF(M79=\"\",\"\",M79/VLOOKUP('Whip Data'!L92,Materials,3,FALSE))","v":""}]
[null,null,null,null,null,null,{"$f":"IFERROR('Whip Data'!A93,\"\")","v":""},{"$f":"IF('Whip Data'!A93=\"\",\"\",IF(VALUE(RIGHT(BOM!K80,1))=0,10,VALUE(RIGHT(BOM!K80,1))))","v":""},{"$f":"IF('Whip Data'!A93=\"\",\"\",VLOOKUP('Whip Data'!L93,Materials,7,FALSE))","v":""},"",{"$f":"IF('Whip Data'!A93=\"\",\"\",VLOOKUP('Whip Data'!L93,Materials,4,FALSE))","v":""},{"$f":"IF('Whip Data'!A93=\"\",\"\",'Whip Data'!O93)","v":""},"",{"$f":"IF(M80=\"\",\"\",M80/VLOOKUP('Whip Data'!L93,Materials,3,FALSE))","v":""}]
[null,null,null,null,null,null,{"$f":"IFERROR('Whip Data'!A94,\"\")","v":""},{"$f":"IF('Whip Data'!A94=\"\",\"\",IF(VALUE(RIGHT(BOM!K81,1))=0,10,VALUE(RIGHT(BOM!K81,1))))","v":""},{"$f":"IF('Whip Data'!A94=\"\",\"\",VLOOKUP('Whip Data'!L94,Materials,7,FALSE))","v":""},"",{"$f":"IF('Whip Data'!A94=\"\",\"\",VLOOKUP('Whip Data'!L94,Materials,4,FALSE))","v":""},{"$f":"IF('Whip Data'!A94=\"\",\"\",'Whip Data'!O94)","v":""},"",{"$f":"IF(M81=\"\",\"\",M81/VLOOKUP('Whip Data'!L94,Materials,3,FALSE))","v":""}]
[null,null,null,null,null,null,{"$f":"IFERROR('Whip Data'!A95,\"\")","v":""},{"$f":"IF('Whip Data'!A95=\"\",\"\",IF(VALUE(RIGHT(BOM!K82,1))=0,10,VALUE(RIGHT(BOM!K82,1))))","v":""},{"$f":"IF('Whip Data'!A95=\"\",\"\",VLOOKUP('Whip Data'!L95,Materials,7,FALSE))","v":""},"",{"$f":"IF('Whip Data'!A95=\"\",\"\",VLOOKUP('Whip Data'!L95,Materials,4,FALSE))","v":""},{"$f":"IF('Whip Data'!A95=\"\",\"\",'Whip Data'!O95)","v":""},"",{"$f":"IF(M82=\"\",\"\",M82/VLOOKUP('Whip Data'!L95,Materials,3,FALSE))","v":""}]
[null,null,null,null,null,null,{"$f":"IFERROR('Whip Data'!A96,\"\")","v":""},{"$f":"IF('Whip Data'!A96=\"\",\"\",IF(VALUE(RIGHT(BOM!K83,1))=0,10,VALUE(RIGHT(BOM!K83,1))))","v":""},{"$f":"IF('Whip Data'!A96=\"\",\"\",VLOOKUP('Whip Data'!L96,Materials,7,FALSE))","v":""},"",{"$f":"IF('Whip Data'!A96=\"\",\"\",VLOOKUP('Whip Data'!L96,Materials,4,FALSE))","v":""},{"$f":"IF('Whip Data'!A96=\"\",\"\",'Whip Data'!O96)","v":""},"",{"$f":"IF(M83=\"\",\"\",M83/VLOOKUP('Whip Data'!L96,Materials,3,FALSE))","v":""}]
[null,null,null,null,null,null,{"$f":"IFERROR('Whip Data'!A97,\"\")","v":""},{"$f":"IF('Whip Data'!A97=\"\",\"\",IF(VALUE(RIGHT(BOM!K84,1))=0,10,VALUE(RIGHT(BOM!K84,1))))","v":""},{"$f":"IF('Whip Data'!A97=\"\",\"\",VLOOKUP('Whip Data'!L97,Materials,7,FALSE))","v":""},"",{"$f":"IF('Whip Data'!A97=\"\",\"\",VLOOKUP('Whip Data'!L97,Materials,4,FALSE))","v":""},{"$f":"IF('Whip Data'!A97=\"\",\"\",'Whip Data'!O97)","v":""},"",{"$f":"IF(M84=\"\",\"\",M84/VLOOKUP('Whip Data'!L97,Materials,3,FALSE))","v":""}]
[null,null,null,null,null,null,{"$f":"IFERROR('Whip Data'!A98,\"\")","v":""},{"$f":"IF('Whip Data'!A98=\"\",\"\",IF(VALUE(RIGHT(BOM!K85,1))=0,10,VALUE(RIGHT(BOM!K85,1))))","v":""},{"$f":"IF('Whip Data'!A98=\"\",\"\",VLOOKUP('Whip Data'!L98,Materials,7,FALSE))","v":""},"",{"$f":"IF('Whip Data'!A98=\"\",\"\",VLOOKUP('Whip Data'!L98,Materials,4,FALSE))","v":""},{"$f":"IF('Whip Data'!A98=\"\",\"\",'Whip Data'!O98)","v":""},"",{"$f":"IF(M85=\"\",\"\",M85/VLOOKUP('Whip Data'!L98,Materials,3,FALSE))","v":""}]
[null,null,null,null,null,null,{"$f":"IFERROR('Whip Data'!A99,\"\")","v":""},{"$f":"IF('Whip Data'!A99=\"\",\"\",IF(VALUE(RIGHT(BOM!K86,1))=0,10,VALUE(RIGHT(BOM!K86,1))))","v":""},{"$f":"IF('Whip Data'!A99=\"\",\"\",VLOOKUP('Whip Data'!L99,Materials,7,FALSE))","v":""},"",{"$f":"IF('Whip Data'!A99=\"\",\"\",VLOOKUP('Whip Data'!L99,Materials,4,FALSE))","v":""},{"$f":"IF('Whip Data'!A99=\"\",\"\",'Whip Data'!O99)","v":""},"",{"$f":"IF(M86=\"\",\"\",M86/VLOOKUP('Whip Data'!L99,Materials,3,FALSE))","v":""}]
[null,null,null,null,null,null,{"$f":"IFERROR('Whip Data'!A100,\"\")","v":""},{"$f":"IF('Whip Data'!A100=\"\",\"\",IF(VALUE(RIGHT(BOM!K87,1))=0,10,VALUE(RIGHT(BOM!K87,1))))","v":""},{"$f":"IF('Whip Data'!A100=\"\",\"\",VLOOKUP('Whip Data'!L100,Materials,7,FALSE))","v":""},"",{"$f":"IF('Whip Data'!A100=\"\",\"\",VLOOKUP('Whip Data'!L100,Materials,4,FALSE))","v":""},{"$f":"IF('Whip Data'!A100=\"\",\"\",'Whip Data'!O100)","v":""},"",{"$f":"IF(M87=\"\",\"\",M87/VLOOKUP('Whip Data'!L100,Materials,3,FALSE))","v":""}]
[null,null,null,null,null,null,{"$f":"IFERROR('Whip Data'!A101,\"\")","v":""},{"$f":"IF('Whip Data'!A101=\"\",\"\",IF(VALUE(RIGHT(BOM!K88,1))=0,10,VALUE(RIGHT(BOM!K88,1))))","v":""},{"$f":"IF('Whip Data'!A101=\"\",\"\",VLOOKUP('Whip Data'!L101,Materials,7,FALSE))","v":""},"",{"$f":"IF('Whip Data'!A101=\"\",\"\",VLOOKUP('Whip Data'!L101,Materials,4,FALSE))","v":""},{"$f":"IF('Whip Data'!A101=\"\",\"\",'Whip Data'!O101)","v":""},"",{"$f":"IF(M88=\"\",\"\",M88/VLOOKUP('Whip Data'!L101,Materials,3,FALSE))","v":""}]
[null,null,null,null,null,null,{"$f":"IFERROR('Whip Data'!A102,\"\")","v":""},{"$f":"IF('Whip Data'!A102=\"\",\"\",IF(VALUE(RIGHT(BOM!K89,1))=0,10,VALUE(RIGHT(BOM!K89,1))))","v":""},{"$f":"IF('Whip Data'!A102=\"\",\"\",VLOOKUP('Whip Data'!L102,Materials,7,FALSE))","v":""},"",{"$f":"IF('Whip Data'!A102=\"\",\"\",VLOOKUP('Whip Data'!L102,Materials,4,FALSE))","v":""},{"$f":"IF('Whip Data'!A102=\"\",\"\",'Whip Data'!O102)","v":""},"",{"$f":"IF(M89=\"\",\"\",M89/VLOOKUP('Whip Data'!L102,Materials,3,FALSE))","v":""}]
[null,null,null,null,null,null,{"$f":"IFERROR('Whip Data'!A103,\"\")","v":""},{"$f":"IF('Whip Data'!A103=\"\",\"\",IF(VALUE(RIGHT(BOM!K90,1))=0,10,VALUE(RIGHT(BOM!K90,1))))","v":""},{"$f":"IF('Whip Data'!A103=\"\",\"\",VLOOKUP('Whip Data'!L103,Materials,7,FALSE))","v":""},"",{"$f":"IF('Whip Data'!A103=\"\",\"\",VLOOKUP('Whip Data'!L103,Materials,4,FALSE))","v":""},{"$f":"IF('Whip Data'!A103=\"\",\"\",'Whip Data'!O103)","v":""},"",{"$f":"IF(M90=\"\",\"\",M90/VLOOKUP('Whip Data'!L103,Materials,3,FALSE))","v":""}]
[null,null,null,null,null,null,{"$f":"IFERROR('Whip Data'!A104,\"\")","v":""},{"$f":"IF('Whip Data'!A104=\"\",\"\",IF(VALUE(RIGHT(BOM!K91,1))=0,10,VALUE(RIGHT(BOM!K91,1))))","v":""},{"$f":"IF('Whip Data'!A104=\"\",\"\",VLOOKUP('Whip Data'!L104,Materials,7,FALSE))","v":""},"",{"$f":"IF('Whip Data'!A104=\"\",\"\",VLOOKUP('Whip Data'!L104,Materials,4,FALSE))","v":""},{"$f":"IF('Whip Data'!A104=\"\",\"\",'Whip Data'!O104)","v":""},"",{"$f":"IF(M91=\"\",\"\",M91/VLOOKUP('Whip Data'!L104,Materials,3,FALSE))","v":""}]
[null,null,null,null,null,null,{"$f":"IFERROR('Whip Data'!A105,\"\")","v":""},{"$f":"IF('Whip Data'!A105=\"\",\"\",IF(VALUE(RIGHT(BOM!K92,1))=0,10,VALUE(RIGHT(BOM!K92,1))))","v":""},{"$f":"IF('Whip Data'!A105=\"\",\"\",VLOOKUP('Whip Data'!L105,Materials,7,FALSE))","v":""},"",{"$f":"IF('Whip Data'!A105=\"\",\"\",VLOOKUP('Whip Data'!L105,Materials,4,FALSE))","v":""},{"$f":"IF('Whip Data'!A105=\"\",\"\",'Whip Data'!O105)","v":""},"",{"$f":"IF(M92=\"\",\"\",M92/VLOOKUP('Whip Data'!L105,Materials,3,FALSE))","v":""}]
[null,null,null,null,null,null,{"$f":"IFERROR('Whip Data'!A106,\"\")","v":""},{"$f":"IF('Whip Data'!A106=\"\",\"\",IF(VALUE(RIGHT(BOM!K93,1))=0,10,VALUE(RIGHT(BOM!K93,1))))","v":""},{"$f":"IF('Whip Data'!A106=\"\",\"\",VLOOKUP('Whip Data'!L106,Materials,7,FALSE))","v":""},"",{"$f":"IF('Whip Data'!A106=\"\",\"\",VLOOKUP('Whip Data'!L106,Materials,4,FALSE))","v":""},{"$f":"IF('Whip Data'!A106=\"\",\"\",'Whip Data'!O106)","v":""},"",{"$f":"IF(M93=\"\",\"\",M93/VLOOKUP('Whip Data'!L106,Materials,3,FALSE))","v":""}]
[null,null,null,null,null,null,{"$f":"IFERROR('Whip Data'!A107,\"\")","v":""},{"$f":"IF('Whip Data'!A107=\"\",\"\",IF(VALUE(RIGHT(BOM!K94,1))=0,10,VALUE(RIGHT(BOM!K94,1))))","v":""},{"$f":"IF('Whip Data'!A107=\"\",\"\",VLOOKUP('Whip Data'!L107,Materials,7,FALSE))","v":""},"",{"$f":"IF('Whip Data'!A107=\"\",\"\",VLOOKUP('Whip Data'!L107,Materials,4,FALSE))","v":""},{"$f":"IF('Whip Data'!A107=\"\",\"\",'Whip Data'!O107)","v":""},"",{"$f":"IF(M94=\"\",\"\",M94/VLOOKUP('Whip Data'!L107,Materials,3,FALSE))","v":""}]
[null,null,null,null,null,null,{"$f":"IFERROR('Whip Data'!A108,\"\")","v":""},{"$f":"IF('Whip Data'!A108=\"\",\"\",IF(VALUE(RIGHT(BOM!K95,1))=0,10,VALUE(RIGHT(BOM!K95,1))))","v":""},{"$f":"IF('Whip Data'!A108=\"\",\"\",VLOOKUP('Whip Data'!L108,Materials,7,FALSE))","v":""},"",{"$f":"IF('Whip Data'!A108=\"\",\"\",VLOOKUP('Whip Data'!L108,Materials,4,FALSE))","v":""},{"$f":"IF('Whip Data'!A108=\"\",\"\",'Whip Data'!O108)","v":""},"",{"$f":"IF(M95=\"\",\"\",M95/VLOOKUP('Whip Data'!L108,Materials,3,FALSE))","v":""}]
[null,null,null,null,null,null,{"$f":"IFERROR('Whip Data'!A109,\"\")","v":""},{"$f":"IF('Whip Data'!A109=\"\",\"\",IF(VALUE(RIGHT(BOM!K96,1))=0,10,VALUE(RIGHT(BOM!K96,1))))","v":""},{"$f":"IF('Whip Data'!A109=\"\",\"\",VLOOKUP('Whip Data'!L109,Materials,7,FALSE))","v":""},"",{"$f":"IF('Whip Data'!A109=\"\",\"\",VLOOKUP('Whip Data'!L109,Materials,4,FALSE))","v":""},{"$f":"IF('Whip Data'!A109=\"\",\"\",'Whip Data'!O109)","v":""},"",{"$f":"IF(M96=\"\",\"\",M96/VLOOKUP('Whip Data'!L109,Materials,3,FALSE))","v":""}]
[null,null,null,null,null,null,{"$f":"IFERROR('Whip Data'!A110,\"\")","v":""},{"$f":"IF('Whip Data'!A110=\"\",\"\",IF(VALUE(RIGHT(BOM!K97,1))=0,10,VALUE(RIGHT(BOM!K97,1))))","v":""},{"$f":"IF('Whip Data'!A110=\"\",\"\",VLOOKUP('Whip Data'!L110,Materials,7,FALSE))","v":""},"",{"$f":"IF('Whip Data'!A110=\"\",\"\",VLOOKUP('Whip Data'!L110,Materials,4,FALSE))","v":""},{"$f":"IF('Whip Data'!A110=\"\",\"\",'Whip Data'!O110)","v":""},"",{"$f":"IF(M97=\"\",\"\",M97/VLOOKUP('Whip Data'!L110,Materials,3,FALSE))","v":""}]
[null,null,null,null,null,null,{"$f":"IFERROR('Whip Data'!A111,\"\")","v":""},{"$f":"IF('Whip Data'!A111=\"\",\"\",IF(VALUE(RIGHT(BOM!K98,1))=0,10,VALUE(RIGHT(BOM!K98,1))))","v":""},{"$f":"IF('Whip Data'!A111=\"\",\"\",VLOOKUP('Whip Data'!L111,Materials,7,FALSE))","v":""},"",{"$f":"IF('Whip Data'!A111=\"\",\"\",VLOOKUP('Whip Data'!L111,Materials,4,FALSE))","v":""},{"$f":"IF('Whip Data'!A111=\"\",\"\",'Whip Data'!O111)","v":""},"",{"$f":"IF(M98=\"\",\"\",M98/VLOOKUP('Whip Data'!L111,Materials,3,FALSE))","v":""}]
[null,null,null,null,null,null,{"$f":"IFERROR('Whip Data'!A112,\"\")","v":""},{"$f":"IF('Whip Data'!A112=\"\",\"\",IF(VALUE(RIGHT(BOM!K99,1))=0,10,VALUE(RIGHT(BOM!K99,1))))","v":""},{"$f":"IF('Whip Data'!A112=\"\",\"\",VLOOKUP('Whip Data'!L112,Materials,7,FALSE))","v":""},"",{"$f":"IF('Whip Data'!A112=\"\",\"\",VLOOKUP('Whip Data'!L112,Materials,4,FALSE))","v":""},{"$f":"IF('Whip Data'!A112=\"\",\"\",'Whip Data'!O112)","v":""},"",{"$f":"IF(M99=\"\",\"\",M99/VLOOKUP('Whip Data'!L112,Materials,3,FALSE))","v":""}]
[null,null,null,null,null,null,{"$f":"IFERROR('Whip Data'!A113,\"\")","v":""},{"$f":"IF('Whip Data'!A113=\"\",\"\",IF(VALUE(RIGHT(BOM!K100,1))=0,10,VALUE(RIGHT(BOM!K100,1))))","v":""},{"$f":"IF('Whip Data'!A113=\"\",\"\",VLOOKUP('Whip Data'!L113,Materials,7,FALSE))","v":""},"",{"$f":"IF('Whip Data'!A113=\"\",\"\",VLOOKUP('Whip Data'!L113,Materials,4,FALSE))","v":""},{"$f":"IF('Whip Data'!A113=\"\",\"\",'Whip Data'!O113)","v":""},"",{"$f":"IF(M100=\"\",\"\",M100/VLOOKUP('Whip Data'!L113,Materials,3,FALSE))","v":""}]
[null,null,null,null,null,null,{"$f":"IFERROR('Whip Data'!A114,\"\")","v":""},{"$f":"IF('Whip Data'!A114=\"\",\"\",IF(VALUE(RIGHT(BOM!K101,1))=0,10,VALUE(RIGHT(BOM!K101,1))))","v":""},{"$f":"IF('Whip Data'!A114=\"\",\"\",VLOOKUP('Whip Data'!L114,Materials,7,FALSE))","v":""},"",{"$f":"IF('Whip Data'!A114=\"\",\"\",VLOOKUP('Whip Data'!L114,Materials,4,FALSE))","v":""},{"$f":"IF('Whip Data'!A114=\"\",\"\",'Whip Data'!O114)","v":""},"",{"$f":"IF(M101=\"\",\"\",M101/VLOOKUP('Whip Data'!L114,Materials,3,FALSE))","v":""}]
[null,null,null,null,null,null,{"$f":"IFERROR('Whip Data'!A115,\"\")","v":""},{"$f":"IF('Whip Data'!A115=\"\",\"\",IF(VALUE(RIGHT(BOM!K102,1))=0,10,VALUE(RIGHT(BOM!K102,1))))","v":""},{"$f":"IF('Whip Data'!A115=\"\",\"\",VLOOKUP('Whip Data'!L115,Materials,7,FALSE))","v":""},"",{"$f":"IF('Whip Data'!A115=\"\",\"\",VLOOKUP('Whip Data'!L115,Materials,4,FALSE))","v":""},{"$f":"IF('Whip Data'!A115=\"\",\"\",'Whip Data'!O115)","v":""},"",{"$f":"IF(M102=\"\",\"\",M102/VLOOKUP('Whip Data'!L115,Materials,3,FALSE))","v":""}]
[null,null,null,null,null,null,{"$f":"IFERROR('Whip Data'!A116,\"\")","v":""},{"$f":"IF('Whip Data'!A116=\"\",\"\",IF(VALUE(RIGHT(BOM!K103,1))=0,10,VALUE(RIGHT(BOM!K103,1))))","v":""},{"$f":"IF('Whip Data'!A116=\"\",\"\",VLOOKUP('Whip Data'!L116,Materials,7,FALSE))","v":""},"",{"$f":"IF('Whip Data'!A116=\"\",\"\",VLOOKUP('Whip Data'!L116,Materials,4,FALSE))","v":""},{"$f":"IF('Whip Data'!A116=\"\",\"\",'Whip Data'!O116)","v":""},"",{"$f":"IF(M103=\"\",\"\",M103/VLOOKUP('Whip Data'!L116,Materials,3,FALSE))","v":""}]
[null,null,null,null,null,null,{"$f":"IFERROR('Whip Data'!A117,\"\")","v":""},{"$f":"IF('Whip Data'!A117=\"\",\"\",IF(VALUE(RIGHT(BOM!K104,1))=0,10,VALUE(RIGHT(BOM!K104,1))))","v":""},{"$f":"IF('Whip Data'!A117=\"\",\"\",VLOOKUP('Whip Data'!L117,Materials,7,FALSE))","v":""},"",{"$f":"IF('Whip Data'!A117=\"\",\"\",VLOOKUP('Whip Data'!L117,Materials,4,FALSE))","v":""},{"$f":"IF('Whip Data'!A117=\"\",\"\",'Whip Data'!O117)","v":""},"",{"$f":"IF(M104=\"\",\"\",M104/VLOOKUP('Whip Data'!L117,Materials,3,FALSE))","v":""}]
[null,null,null,null,null,null,{"$f":"IFERROR('Whip Data'!A118,\"\")","v":""},{"$f":"IF('Whip Data'!A118=\"\",\"\",IF(VALUE(RIGHT(BOM!K105,1))=0,10,VALUE(RIGHT(BOM!K105,1))))","v":""},{"$f":"IF('Whip Data'!A118=\"\",\"\",VLOOKUP('Whip Data'!L118,Materials,7,FALSE))","v":""},"",{"$f":"IF('Whip Data'!A118=\"\",\"\",VLOOKUP('Whip Data'!L118,Materials,4,FALSE))","v":""},{"$f":"IF('Whip Data'!A118=\"\",\"\",'Whip Data'!O118)","v":""},"",{"$f":"IF(M105=\"\",\"\",M105/VLOOKUP('Whip Data'!L118,Materials,3,FALSE))","v":""}]
[null,null,null,null,null,null,{"$f":"IFERROR('Whip Data'!A119,\"\")","v":""},{"$f":"IF('Whip Data'!A119=\"\",\"\",IF(VALUE(RIGHT(BOM!K106,1))=0,10,VALUE(RIGHT(BOM!K106,1))))","v":""},{"$f":"IF('Whip Data'!A119=\"\",\"\",VLOOKUP('Whip Data'!L119,Materials,7,FALSE))","v":""},"",{"$f":"IF('Whip Data'!A119=\"\",\"\",VLOOKUP('Whip Data'!L119,Materials,4,FALSE))","v":""},{"$f":"IF('Whip Data'!A119=\"\",\"\",'Whip Data'!O119)","v":""},"",{"$f":"IF(M106=\"\",\"\",M106/VLOOKUP('Whip Data'!L119,Materials,3,FALSE))","v":""}]
[null,null,null,null,null,null,{"$f":"IFERROR('Whip Data'!A120,\"\")","v":""},{"$f":"IF('Whip Data'!A120=\"\",\"\",IF(VALUE(RIGHT(BOM!K107,1))=0,10,VALUE(RIGHT(BOM!K107,1))))","v":""},{"$f":"IF('Whip Data'!A120=\"\",\"\",VLOOKUP('Whip Data'!L120,Materials,7,FALSE))","v":""},"",{"$f":"IF('Whip Data'!A120=\"\",\"\",VLOOKUP('Whip Data'!L120,Materials,4,FALSE))","v":""},{"$f":"IF('Whip Data'!A120=\"\",\"\",'Whip Data'!O120)","v":""},"",{"$f":"IF(M107=\"\",\"\",M107/VLOOKUP('Whip Data'!L120,Materials,3,FALSE))","v":""}]
[null,null,null,null,null,null,{"$f":"IFERROR('Whip Data'!A121,\"\")","v":""},{"$f":"IF('Whip Data'!A121=\"\",\"\",IF(VALUE(RIGHT(BOM!K108,1))=0,10,VALUE(RIGHT(BOM!K108,1))))","v":""},{"$f":"IF('Whip Data'!A121=\"\",\"\",VLOOKUP('Whip Data'!L121,Materials,7,FALSE))","v":""},"",{"$f":"IF('Whip Data'!A121=\"\",\"\",VLOOKUP('Whip Data'!L121,Materials,4,FALSE))","v":""},{"$f":"IF('Whip Data'!A121=\"\",\"\",'Whip Data'!O121)","v":""},"",{"$f":"IF(M108=\"\",\"\",M108/VLOOKUP('Whip Data'!L121,Materials,3,FALSE))","v":""}]
[null,null,null,null,null,null,{"$f":"IFERROR('Whip Data'!A122,\"\")","v":""},{"$f":"IF('Whip Data'!A122=\"\",\"\",IF(VALUE(RIGHT(BOM!K109,1))=0,10,VALUE(RIGHT(BOM!K109,1))))","v":""},{"$f":"IF('Whip Data'!A122=\"\",\"\",VLOOKUP('Whip Data'!L122,Materials,7,FALSE))","v":""},"",{"$f":"IF('Whip Data'!A122=\"\",\"\",VLOOKUP('Whip Data'!L122,Materials,4,FALSE))","v":""},{"$f":"IF('Whip Data'!A122=\"\",\"\",'Whip Data'!O122)","v":""},"",{"$f":"IF(M109=\"\",\"\",M109/VLOOKUP('Whip Data'!L122,Materials,3,FALSE))","v":""}]
[null,null,null,null,null,null,{"$f":"IFERROR('Whip Data'!A123,\"\")","v":""},{"$f":"IF('Whip Data'!A123=\"\",\"\",IF(VALUE(RIGHT(BOM!K110,1))=0,10,VALUE(RIGHT(BOM!K110,1))))","v":""},{"$f":"IF('Whip Data'!A123=\"\",\"\",VLOOKUP('Whip Data'!L123,Materials,7,FALSE))","v":""},"",{"$f":"IF('Whip Data'!A123=\"\",\"\",VLOOKUP('Whip Data'!L123,Materials,4,FALSE))","v":""},{"$f":"IF('Whip Data'!A123=\"\",\"\",'Whip Data'!O123)","v":""},"",{"$f":"IF(M110=\"\",\"\",M110/VLOOKUP('Whip Data'!L123,Materials,3,FALSE))","v":""}]
[null,null,null,null,null,null,{"$f":"IFERROR('Whip Data'!A124,\"\")","v":""},{"$f":"IF('Whip Data'!A124=\"\",\"\",IF(VALUE(RIGHT(BOM!K111,1))=0,10,VALUE(RIGHT(BOM!K111,1))))","v":""},{"$f":"IF('Whip Data'!A124=\"\",\"\",VLOOKUP('Whip Data'!L124,Materials,7,FALSE))","v":""},"",{"$f":"IF('Whip Data'!A124=\"\",\"\",VLOOKUP('Whip Data'!L124,Materials,4,FALSE))","v":""},{"$f":"IF('Whip Data'!A124=\"\",\"\",'Whip Data'!O124)","v":""},"",{"$f":"IF(M111=\"\",\"\",M111/VLOOKUP('Whip Data'!L124,Materials,3,FALSE))","v":""}]
[null,null,null,null,null,null,{"$f":"IFERROR('Whip Data'!A125,\"\")","v":""},{"$f":"IF('Whip Data'!A125=\"\",\"\",IF(VALUE(RIGHT(BOM!K112,1))=0,10,VALUE(RIGHT(BOM!K112,1))))","v":""},{"$f":"IF('Whip Data'!A125=\"\",\"\",VLOOKUP('Whip Data'!L125,Materials,7,FALSE))","v":""},"",{"$f":"IF('Whip Data'!A125=\"\",\"\",VLOOKUP('Whip Data'!L125,Materials,4,FALSE))","v":""},{"$f":"IF('Whip Data'!A125=\"\",\"\",'Whip Data'!O125)","v":""},"",{"$f":"IF(M112=\"\",\"\",M112/VLOOKUP('Whip Data'!L125,Materials,3,FALSE))","v":""}]
[null,null,null,null,null,null,{"$f":"IFERROR('Whip Data'!A126,\"\")","v":""},{"$f":"IF('Whip Data'!A126=\"\",\"\",IF(VALUE(RIGHT(BOM!K113,1))=0,10,VALUE(RIGHT(BOM!K113,1))))","v":""},{"$f":"IF('Whip Data'!A126=\"\",\"\",VLOOKUP('Whip Data'!L126,Materials,7,FALSE))","v":""},"",{"$f":"IF('Whip Data'!A126=\"\",\"\",VLOOKUP('Whip Data'!L126,Materials,4,FALSE))","v":""},{"$f":"IF('Whip Data'!A126=\"\",\"\",'Whip Data'!O126)","v":""},"",{"$f":"IF(M113=\"\",\"\",M113/VLOOKUP('Whip Data'!L126,Materials,3,FALSE))","v":""}]
[null,null,null,null,null,null,{"$f":"IFERROR('Whip Data'!A127,\"\")","v":""},{"$f":"IF('Whip Data'!A127=\"\",\"\",IF(VALUE(RIGHT(BOM!K114,1))=0,10,VALUE(RIGHT(BOM!K114,1))))","v":""},{"$f":"IF('Whip Data'!A127=\"\",\"\",VLOOKUP('Whip Data'!L127,Materials,7,FALSE))","v":""},"",{"$f":"IF('Whip Data'!A127=\"\",\"\",VLOOKUP('Whip Data'!L127,Materials,4,FALSE))","v":""},{"$f":"IF('Whip Data'!A127=\"\",\"\",'Whip Data'!O127)","v":""},"",{"$f":"IF(M114=\"\",\"\",M114/VLOOKUP('Whip Data'!L127,Materials,3,FALSE))","v":""}]
[null,null,null,null,null,null,{"$f":"IFERROR('Whip Data'!A128,\"\")","v":""},{"$f":"IF('Whip Data'!A128=\"\",\"\",IF(VALUE(RIGHT(BOM!K115,1))=0,10,VALUE(RIGHT(BOM!K115,1))))","v":""},{"$f":"IF('Whip Data'!A128=\"\",\"\",VLOOKUP('Whip Data'!L128,Materials,7,FALSE))","v":""},"",{"$f":"IF('Whip Data'!A128=\"\",\"\",VLOOKUP('Whip Data'!L128,Materials,4,FALSE))","v":""},{"$f":"IF('Whip Data'!A128=\"\",\"\",'Whip Data'!O128)","v":""},"",{"$f":"IF(M115=\"\",\"\",M115/VLOOKUP('Whip Data'!L128,Materials,3,FALSE))","v":""}]
[null,null,null,null,null,null,{"$f":"IFERROR('Whip Data'!A129,\"\")","v":""},{"$f":"IF('Whip Data'!A129=\"\",\"\",IF(VALUE(RIGHT(BOM!K116,1))=0,10,VALUE(RIGHT(BOM!K116,1))))","v":""},{"$f":"IF('Whip Data'!A129=\"\",\"\",VLOOKUP('Whip Data'!L129,Materials,7,FALSE))","v":""},"",{"$f":"IF('Whip Data'!A129=\"\",\"\",VLOOKUP('Whip Data'!L129,Materials,4,FALSE))","v":""},{"$f":"IF('Whip Data'!A129=\"\",\"\",'Whip Data'!O129)","v":""},"",{"$f":"IF(M116=\"\",\"\",M116/VLOOKUP('Whip Data'!L129,Materials,3,FALSE))","v":""}]
[null,null,null,null,null,null,{"$f":"IFERROR('Whip Data'!A130,\"\")","v":""},{"$f":"IF('Whip Data'!A130=\"\",\"\",IF(VALUE(RIGHT(BOM!K117,1))=0,10,VALUE(RIGHT(BOM!K117,1))))","v":""},{"$f":"IF('Whip Data'!A130=\"\",\"\",VLOOKUP('Whip Data'!L130,Materials,7,FALSE))","v":""},"",{"$f":"IF('Whip Data'!A130=\"\",\"\",VLOOKUP('Whip Data'!L130,Materials,4,FALSE))","v":""},{"$f":"IF('Whip Data'!A130=\"\",\"\",'Whip Data'!O130)","v":""},"",{"$f":"IF(M117=\"\",\"\",M117/VLOOKUP('Whip Data'!L130,Materials,3,FALSE))","v":""}]
[null,null,null,null,null,null,{"$f":"IFERROR('Whip Data'!A131,\"\")","v":""},{"$f":"IF('Whip Data'!A131=\"\",\"\",IF(VALUE(RIGHT(BOM!K118,1))=0,10,VALUE(RIGHT(BOM!K118,1))))","v":""},{"$f":"IF('Whip Data'!A131=\"\",\"\",VLOOKUP('Whip Data'!L131,Materials,7,FALSE))","v":""},"",{"$f":"IF('Whip Data'!A131=\"\",\"\",VLOOKUP('Whip Data'!L131,Materials,4,FALSE))","v":""},{"$f":"IF('Whip Data'!A131=\"\",\"\",'Whip Data'!O131)","v":""},"",{"$f":"IF(M118=\"\",\"\",M118/VLOOKUP('Whip Data'!L131,Materials,3,FALSE))","v":""}]
[null,null,null,null,null,null,{"$f":"IFERROR('Whip Data'!A132,\"\")","v":""},{"$f":"IF('Whip Data'!A132=\"\",\"\",IF(VALUE(RIGHT(BOM!K119,1))=0,10,VALUE(RIGHT(BOM!K119,1))))","v":""},{"$f":"IF('Whip Data'!A132=\"\",\"\",VLOOKUP('Whip Data'!L132,Materials,7,FALSE))","v":""},"",{"$f":"IF('Whip Data'!A132=\"\",\"\",VLOOKUP('Whip Data'!L132,Materials,4,FALSE))","v":""},{"$f":"IF('Whip Data'!A132=\"\",\"\",'Whip Data'!O132)","v":""},"",{"$f":"IF(M119=\"\",\"\",M119/VLOOKUP('Whip Data'!L132,Materials,3,FALSE))","v":""}]
[null,null,null,null,null,null,{"$f":"IFERROR('Whip Data'!A133,\"\")","v":""},{"$f":"IF('Whip Data'!A133=\"\",\"\",IF(VALUE(RIGHT(BOM!K120,1))=0,10,VALUE(RIGHT(BOM!K120,1))))","v":""},{"$f":"IF('Whip Data'!A133=\"\",\"\",VLOOKUP('Whip Data'!L133,Materials,7,FALSE))","v":""},"",{"$f":"IF('Whip Data'!A133=\"\",\"\",VLOOKUP('Whip Data'!L133,Materials,4,FALSE))","v":""},{"$f":"IF('Whip Data'!A133=\"\",\"\",'Whip Data'!O133)","v":""},"",{"$f":"IF(M120=\"\",\"\",M120/VLOOKUP('Whip Data'!L133,Materials,3,FALSE))","v":""}]
[null,null,null,null,null,null,{"$f":"IFERROR('Whip Data'!A134,\"\")","v":""},{"$f":"IF('Whip Data'!A134=\"\",\"\",IF(VALUE(RIGHT(BOM!K121,1))=0,10,VALUE(RIGHT(BOM!K121,1))))","v":""},{"$f":"IF('Whip Data'!A134=\"\",\"\",VLOOKUP('Whip Data'!L134,Materials,7,FALSE))","v":""},"",{"$f":"IF('Whip Data'!A134=\"\",\"\",VLOOKUP('Whip Data'!L134,Materials,4,FALSE))","v":""},{"$f":"IF('Whip Data'!A134=\"\",\"\",'Whip Data'!O134)","v":""},"",{"$f":"IF(M121=\"\",\"\",M121/VLOOKUP('Whip Data'!L134,Materials,3,FALSE))","v":""}]
[null,null,null,null,null,null,{"$f":"IFERROR('Whip Data'!A135,\"\")","v":""},{"$f":"IF('Whip Data'!A135=\"\",\"\",IF(VALUE(RIGHT(BOM!K122,1))=0,10,VALUE(RIGHT(BOM!K122,1))))","v":""},{"$f":"IF('Whip Data'!A135=\"\",\"\",VLOOKUP('Whip Data'!L135,Materials,7,FALSE))","v":""},"",{"$f":"IF('Whip Data'!A135=\"\",\"\",VLOOKUP('Whip Data'!L135,Materials,4,FALSE))","v":""},{"$f":"IF('Whip Data'!A135=\"\",\"\",'Whip Data'!O135)","v":""},"",{"$f":"IF(M122=\"\",\"\",M122/VLOOKUP('Whip Data'!L135,Materials,3,FALSE))","v":""}]
[null,null,null,null,null,null,{"$f":"IFERROR('Whip Data'!A136,\"\")","v":""},{"$f":"IF('Whip Data'!A136=\"\",\"\",IF(VALUE(RIGHT(BOM!K123,1))=0,10,VALUE(RIGHT(BOM!K123,1))))","v":""},{"$f":"IF('Whip Data'!A136=\"\",\"\",VLOOKUP('Whip Data'!L136,Materials,7,FALSE))","v":""},"",{"$f":"IF('Whip Data'!A136=\"\",\"\",VLOOKUP('Whip Data'!L136,Materials,4,FALSE))","v":""},{"$f":"IF('Whip Data'!A136=\"\",\"\",'Whip Data'!O136)","v":""},"",{"$f":"IF(M123=\"\",\"\",M123/VLOOKUP('Whip Data'!L136,Materials,3,FALSE))","v":""}]
[null,null,null,null,null,null,{"$f":"IFERROR('Whip Data'!A137,\"\")","v":""},{"$f":"IF('Whip Data'!A137=\"\",\"\",IF(VALUE(RIGHT(BOM!K124,1))=0,10,VALUE(RIGHT(BOM!K124,1))))","v":""},{"$f":"IF('Whip Data'!A137=\"\",\"\",VLOOKUP('Whip Data'!L137,Materials,7,FALSE))","v":""},"",{"$f":"IF('Whip Data'!A137=\"\",\"\",VLOOKUP('Whip Data'!L137,Materials,4,FALSE))","v":""},{"$f":"IF('Whip Data'!A137=\"\",\"\",'Whip Data'!O137)","v":""},"",{"$f":"IF(M124=\"\",\"\",M124/VLOOKUP('Whip Data'!L137,Materials,3,FALSE))","v":""}]
[null,null,null,null,null,null,{"$f":"IFERROR('Whip Data'!A138,\"\")","v":""},{"$f":"IF('Whip Data'!A138=\"\",\"\",IF(VALUE(RIGHT(BOM!K125,1))=0,10,VALUE(RIGHT(BOM!K125,1))))","v":""},{"$f":"IF('Whip Data'!A138=\"\",\"\",VLOOKUP('Whip Data'!L138,Materials,7,FALSE))","v":""},"",{"$f":"IF('Whip Data'!A138=\"\",\"\",VLOOKUP('Whip Data'!L138,Materials,4,FALSE))","v":""},{"$f":"IF('Whip Data'!A138=\"\",\"\",'Whip Data'!O138)","v":""},"",{"$f":"IF(M125=\"\",\"\",M125/VLOOKUP('Whip Data'!L138,Materials,3,FALSE))","v":""}]
[null,null,null,null,null,null,{"$f":"IFERROR('Whip Data'!A139,\"\")","v":""},{"$f":"IF('Whip Data'!A139=\"\",\"\",IF(VALUE(RIGHT(BOM!K126,1))=0,10,VALUE(RIGHT(BOM!K126,1))))","v":""},{"$f":"IF('Whip Data'!A139=\"\",\"\",VLOOKUP('Whip Data'!L139,Materials,7,FALSE))","v":""},"",{"$f":"IF('Whip Data'!A139=\"\",\"\",VLOOKUP('Whip Data'!L139,Materials,4,FALSE))","v":""},{"$f":"IF('Whip Data'!A139=\"\",\"\",'Whip Data'!O139)","v":""},"",{"$f":"IF(M126=\"\",\"\",M126/VLOOKUP('Whip Data'!L139,Materials,3,FALSE))","v":""}]
[null,null,null,null,null,null,{"$f":"IFERROR('Whip Data'!A140,\"\")","v":""},{"$f":"IF('Whip Data'!A140=\"\",\"\",IF(VALUE(RIGHT(BOM!K127,1))=0,10,VALUE(RIGHT(BOM!K127,1))))","v":""},{"$f":"IF('Whip Data'!A140=\"\",\"\",VLOOKUP('Whip Data'!L140,Materials,7,FALSE))","v":""},"",{"$f":"IF('Whip Data'!A140=\"\",\"\",VLOOKUP('Whip Data'!L140,Materials,4,FALSE))","v":""},{"$f":"IF('Whip Data'!A140=\"\",\"\",'Whip Data'!O140)","v":""},"",{"$f":"IF(M127=\"\",\"\",M127/VLOOKUP('Whip Data'!L140,Materials,3,FALSE))","v":""}]
[null,null,null,null,null,null,{"$f":"IFERROR('Whip Data'!A141,\"\")","v":""},{"$f":"IF('Whip Data'!A141=\"\",\"\",IF(VALUE(RIGHT(BOM!K128,1))=0,10,VALUE(RIGHT(BOM!K128,1))))","v":""},{"$f":"IF('Whip Data'!A141=\"\",\"\",VLOOKUP('Whip Data'!L141,Materials,7,FALSE))","v":""},"",{"$f":"IF('Whip Data'!A141=\"\",\"\",VLOOKUP('Whip Data'!L141,Materials,4,FALSE))","v":""},{"$f":"IF('Whip Data'!A141=\"\",\"\",'Whip Data'!O141)","v":""},"",{"$f":"IF(M128=\"\",\"\",M128/VLOOKUP('Whip Data'!L141,Materials,3,FALSE))","v":""}]
[null,null,null,null,null,null,{"$f":"IFERROR('Whip Data'!A142,\"\")","v":""},{"$f":"IF('Whip Data'!A142=\"\",\"\",IF(VALUE(RIGHT(BOM!K129,1))=0,10,VALUE(RIGHT(BOM!K129,1))))","v":""},{"$f":"IF('Whip Data'!A142=\"\",\"\",VLOOKUP('Whip Data'!L142,Materials,7,FALSE))","v":""},"",{"$f":"IF('Whip Data'!A142=\"\",\"\",VLOOKUP('Whip Data'!L142,Materials,4,FALSE))","v":""},{"$f":"IF('Whip Data'!A142=\"\",\"\",'Whip Data'!O142)","v":""},"",{"$f":"IF(M129=\"\",\"\",M129/VLOOKUP('Whip Data'!L142,Materials,3,FALSE))","v":""}]
[null,null,null,null,null,null,{"$f":"IFERROR('Whip Data'!A143,\"\")","v":""},{"$f":"IF('Whip Data'!A143=\"\",\"\",IF(VALUE(RIGHT(BOM!K130,1))=0,10,VALUE(RIGHT(BOM!K130,1))))","v":""},{"$f":"IF('Whip Data'!A143=\"\",\"\",VLOOKUP('Whip Data'!L143,Materials,7,FALSE))","v":""},{"$f":"IF(G130=\"\",\"\",VLOOKUP(H130,NEC_T8,5,FALSE))","v":""},{"$f":"IF('Whip Data'!A143=\"\",\"\",VLOOKUP('Whip Data'!L143,Materials,4,FALSE))","v":""},{"$f":"IF('Whip Data'!A143=\"\",\"\",'Whip Data'!O143)","v":""},"",{"$f":"IF(M130=\"\",\"\",M130/VLOOKUP('Whip Data'!L143,Materials,3,FALSE))","v":""}]
[null,null,null,null,null,null,{"$f":"IFERROR('Whip Data'!A144,\"\")","v":""},{"$f":"IF('Whip Data'!A144=\"\",\"\",IF(VALUE(RIGHT(BOM!K131,1))=0,10,VALUE(RIGHT(BOM!K131,1))))","v":""},{"$f":"IF('Whip Data'!A144=\"\",\"\",VLOOKUP('Whip Data'!L144,Materials,7,FALSE))","v":""},"",{"$f":"IF('Whip Data'!A144=\"\",\"\",VLOOKUP('Whip Data'!L144,Materials,4,FALSE))","v":""},{"$f":"IF('Whip Data'!A144=\"\",\"\",'Whip Data'!O144)","v":""},"",{"$f":"IF(M131=\"\",\"\",M131/VLOOKUP('Whip Data'!L144,Materials,3,FALSE))","v":""}]
[null,null,null,null,null,null,{"$f":"IFERROR('Whip Data'!A145,\"\")","v":""},{"$f":"IF('Whip Data'!A145=\"\",\"\",IF(VALUE(RIGHT(BOM!K132,1))=0,10,VALUE(RIGHT(BOM!K132,1))))","v":""},{"$f":"IF('Whip Data'!A145=\"\",\"\",VLOOKUP('Whip Data'!L145,Materials,7,FALSE))","v":""},"",{"$f":"IF('Whip Data'!A145=\"\",\"\",VLOOKUP('Whip Data'!L145,Materials,4,FALSE))","v":""},{"$f":"IF('Whip Data'!A145=\"\",\"\",'Whip Data'!O145)","v":""},"",{"$f":"IF(M132=\"\",\"\",M132/VLOOKUP('Whip Data'!L145,Materials,3,FALSE))","v":""}]
[null,null,null,null,null,null,{"$f":"IFERROR('Whip Data'!A146,\"\")","v":""},{"$f":"IF('Whip Data'!A146=\"\",\"\",IF(VALUE(RIGHT(BOM!K133,1))=0,10,VALUE(RIGHT(BOM!K133,1))))","v":""},{"$f":"IF('Whip Data'!A146=\"\",\"\",VLOOKUP('Whip Data'!L146,Materials,7,FALSE))","v":""},"",{"$f":"IF('Whip Data'!A146=\"\",\"\",VLOOKUP('Whip Data'!L146,Materials,4,FALSE))","v":""},{"$f":"IF('Whip Data'!A146=\"\",\"\",'Whip Data'!O146)","v":""},"",{"$f":"IF(M133=\"\",\"\",M133/VLOOKUP('Whip Data'!L146,Materials,3,FALSE))","v":""}]
[null,null,null,null,null,null,{"$f":"IFERROR('Whip Data'!A147,\"\")","v":""},{"$f":"IF('Whip Data'!A147=\"\",\"\",IF(VALUE(RIGHT(BOM!K134,1))=0,10,VALUE(RIGHT(BOM!K134,1))))","v":""},{"$f":"IF('Whip Data'!A147=\"\",\"\",VLOOKUP('Whip Data'!L147,Materials,7,FALSE))","v":""},"",{"$f":"IF('Whip Data'!A147=\"\",\"\",VLOOKUP('Whip Data'!L147,Materials,4,FALSE))","v":""},{"$f":"IF('Whip Data'!A147=\"\",\"\",'Whip Data'!O147)","v":""},"",{"$f":"IF(M134=\"\",\"\",M134/VLOOKUP('Whip Data'!L147,Materials,3,FALSE))","v":""}]
[null,null,null,null,null,null,{"$f":"IFERROR('Whip Data'!A148,\"\")","v":""},{"$f":"IF('Whip Data'!A148=\"\",\"\",IF(VALUE(RIGHT(BOM!K135,1))=0,10,VALUE(RIGHT(BOM!K135,1))))","v":""},{"$f":"IF('Whip Data'!A148=\"\",\"\",VLOOKUP('Whip Data'!L148,Materials,7,FALSE))","v":""},"",{"$f":"IF('Whip Data'!A148=\"\",\"\",VLOOKUP('Whip Data'!L148,Materials,4,FALSE))","v":""},{"$f":"IF('Whip Data'!A148=\"\",\"\",'Whip Data'!O148)","v":""},"",{"$f":"IF(M135=\"\",\"\",M135/VLOOKUP('Whip Data'!L148,Materials,3,FALSE))","v":""}]
[null,null,null,null,null,null,{"$f":"IFERROR('Whip Data'!A149,\"\")","v":""},{"$f":"IF('Whip Data'!A149=\"\",\"\",IF(VALUE(RIGHT(BOM!K136,1))=0,10,VALUE(RIGHT(BOM!K136,1))))","v":""},{"$f":"IF('Whip Data'!A149=\"\",\"\",VLOOKUP('Whip Data'!L149,Materials,7,FALSE))","v":""},"",{"$f":"IF('Whip Data'!A149=\"\",\"\",VLOOKUP('Whip Data'!L149,Materials,4,FALSE))","v":""},{"$f":"IF('Whip Data'!A149=\"\",\"\",'Whip Data'!O149)","v":""},"",{"$f":"IF(M136=\"\",\"\",M136/VLOOKUP('Whip Data'!L149,Materials,3,FALSE))","v":""}]
[null,null,null,null,null,null,{"$f":"IFERROR('Whip Data'!A150,\"\")","v":""},{"$f":"IF('Whip Data'!A150=\"\",\"\",IF(VALUE(RIGHT(BOM!K137,1))=0,10,VALUE(RIGHT(BOM!K137,1))))","v":""},{"$f":"IF('Whip Data'!A150=\"\",\"\",VLOOKUP('Whip Data'!L150,Materials,7,FALSE))","v":""},"",{"$f":"IF('Whip Data'!A150=\"\",\"\",VLOOKUP('Whip Data'!L150,Materials,4,FALSE))","v":""},{"$f":"IF('Whip Data'!A150=\"\",\"\",'Whip Data'!O150)","v":""},"",{"$f":"IF(M137=\"\",\"\",M137/VLOOKUP('Whip Data'!L150,Materials,3,FALSE))","v":""}]
[null,null,null,null,null,null,{"$f":"IFERROR('Whip Data'!A151,\"\")","v":""},{"$f":"IF('Whip Data'!A151=\"\",\"\",IF(VALUE(RIGHT(BOM!K138,1))=0,10,VALUE(RIGHT(BOM!K138,1))))","v":""},{"$f":"IF('Whip Data'!A151=\"\",\"\",VLOOKUP('Whip Data'!L151,Materials,7,FALSE))","v":""},"",{"$f":"IF('Whip Data'!A151=\"\",\"\",VLOOKUP('Whip Data'!L151,Materials,4,FALSE))","v":""},{"$f":"IF('Whip Data'!A151=\"\",\"\",'Whip Data'!O151)","v":""},{"$f":"IF(G138=\"\",\"\",VLOOKUP(I138,$A$15:$B$16,2,FALSE)*J138*K138*L138/1000)","v":""},{"$f":"IF(M138=\"\",\"\",M138/VLOOKUP('Whip Data'!L151,Materials,3,FALSE))","v":""}]
[null,null,null,null,null,null,{"$f":"IFERROR('Whip Data'!A152,\"\")","v":""},{"$f":"IF('Whip Data'!A152=\"\",\"\",IF(VALUE(RIGHT(BOM!K139,1))=0,10,VALUE(RIGHT(BOM!K139,1))))","v":""},{"$f":"IF('Whip Data'!A152=\"\",\"\",VLOOKUP('Whip Data'!L152,Materials,7,FALSE))","v":""},"",{"$f":"IF('Whip Data'!A152=\"\",\"\",VLOOKUP('Whip Data'!L152,Materials,4,FALSE))","v":""},{"$f":"IF('Whip Data'!A152=\"\",\"\",'Whip Data'!O152)","v":""},"",{"$f":"IF(M139=\"\",\"\",M139/VLOOKUP('Whip Data'!L152,Materials,3,FALSE))","v":""}]
[null,null,null,null,null,null,{"$f":"IFERROR('Whip Data'!A153,\"\")","v":""},{"$f":"IF('Whip Data'!A153=\"\",\"\",IF(VALUE(RIGHT(BOM!K140,1))=0,10,VALUE(RIGHT(BOM!K140,1))))","v":""},{"$f":"IF('Whip Data'!A153=\"\",\"\",VLOOKUP('Whip Data'!L153,Materials,7,FALSE))","v":""},"",{"$f":"IF('Whip Data'!A153=\"\",\"\",VLOOKUP('Whip Data'!L153,Materials,4,FALSE))","v":""},{"$f":"IF('Whip Data'!A153=\"\",\"\",'Whip Data'!O153)","v":""},"",{"$f":"IF(M140=\"\",\"\",M140/VLOOKUP('Whip Data'!L153,Materials,3,FALSE))","v":""}]
[null,null,null,null,null,null,{"$f":"IFERROR('Whip Data'!A154,\"\")","v":""},{"$f":"IF('Whip Data'!A154=\"\",\"\",IF(VALUE(RIGHT(BOM!K141,1))=0,10,VALUE(RIGHT(BOM!K141,1))))","v":""},{"$f":"IF('Whip Data'!A154=\"\",\"\",VLOOKUP('Whip Data'!L154,Materials,7,FALSE))","v":""},"",{"$f":"IF('Whip Data'!A154=\"\",\"\",VLOOKUP('Whip Data'!L154,Materials,4,FALSE))","v":""},{"$f":"IF('Whip Data'!A154=\"\",\"\",'Whip Data'!O154)","v":""},"",{"$f":"IF(M141=\"\",\"\",M141/VLOOKUP('Whip Data'!L154,Materials,3,FALSE))","v":""}]
[null,null,null,null,null,null,{"$f":"IFERROR('Whip Data'!A155,\"\")","v":""},{"$f":"IF('Whip Data'!A155=\"\",\"\",IF(VALUE(RIGHT(BOM!K142,1))=0,10,VALUE(RIGHT(BOM!K142,1))))","v":""},{"$f":"IF('Whip Data'!A155=\"\",\"\",VLOOKUP('Whip Data'!L155,Materials,7,FALSE))","v":""},"",{"$f":"IF('Whip Data'!A155=\"\",\"\",VLOOKUP('Whip Data'!L155,Materials,4,FALSE))","v":""},{"$f":"IF('Whip Data'!A155=\"\",\"\",'Whip Data'!O155)","v":""},"",{"$f":"IF(M142=\"\",\"\",M142/VLOOKUP('Whip Data'!L155,Materials,3,FALSE))","v":""}]
[null,null,null,null,null,null,{"$f":"IFERROR('Whip Data'!A156,\"\")","v":""},{"$f":"IF('Whip Data'!A156=\"\",\"\",IF(VALUE(RIGHT(BOM!K143,1))=0,10,VALUE(RIGHT(BOM!K143,1))))","v":""},{"$f":"IF('Whip Data'!A156=\"\",\"\",VLOOKUP('Whip Data'!L156,Materials,7,FALSE))","v":""},"",{"$f":"IF('Whip Data'!A156=\"\",\"\",VLOOKUP('Whip Data'!L156,Materials,4,FALSE))","v":""},{"$f":"IF('Whip Data'!A156=\"\",\"\",'Whip Data'!O156)","v":""},"",{"$f":"IF(M143=\"\",\"\",M143/VLOOKUP('Whip Data'!L156,Materials,3,FALSE))","v":""}]
[null,null,null,null,null,null,{"$f":"IFERROR('Whip Data'!A157,\"\")","v":""},{"$f":"IF('Whip Data'!A157=\"\",\"\",IF(VALUE(RIGHT(BOM!K144,1))=0,10,VALUE(RIGHT(BOM!K144,1))))","v":""},{"$f":"IF('Whip Data'!A157=\"\",\"\",VLOOKUP('Whip Data'!L157,Materials,7,FALSE))","v":""},"",{"$f":"IF('Whip Data'!A157=\"\",\"\",VLOOKUP('Whip Data'!L157,Materials,4,FALSE))","v":""},{"$f":"IF('Whip Data'!A157=\"\",\"\",'Whip Data'!O157)","v":""},"",{"$f":"IF(M144=\"\",\"\",M144/VLOOKUP('Whip Data'!L157,Materials,3,FALSE))","v":""}]
[null,null,null,null,null,null,{"$f":"IFERROR('Whip Data'!A158,\"\")","v":""},{"$f":"IF('Whip Data'!A158=\"\",\"\",IF(VALUE(RIGHT(BOM!K145,1))=0,10,VALUE(RIGHT(BOM!K145,1))))","v":""},{"$f":"IF('Whip Data'!A158=\"\",\"\",VLOOKUP('Whip Data'!L158,Materials,7,FALSE))","v":""},"",{"$f":"IF('Whip Data'!A158=\"\",\"\",VLOOKUP('Whip Data'!L158,Materials,4,FALSE))","v":""},{"$f":"IF('Whip Data'!A158=\"\",\"\",'Whip Data'!O158)","v":""},"",{"$f":"IF(M145=\"\",\"\",M145/VLOOKUP('Whip Data'!L158,Materials,3,FALSE))","v":""}]
[null,null,null,null,null,null,{"$f":"IFERROR('Whip Data'!A159,\"\")","v":""},{"$f":"IF('Whip Data'!A159=\"\",\"\",IF(VALUE(RIGHT(BOM!K146,1))=0,10,VALUE(RIGHT(BOM!K146,1))))","v":""},{"$f":"IF('Whip Data'!A159=\"\",\"\",VLOOKUP('Whip Data'!L159,Materials,7,FALSE))","v":""},"",{"$f":"IF('Whip Data'!A159=\"\",\"\",VLOOKUP('Whip Data'!L159,Materials,4,FALSE))","v":""},{"$f":"IF('Whip Data'!A159=\"\",\"\",'Whip Data'!O159)","v":""},"",{"$f":"IF(M146=\"\",\"\",M146/VLOOKUP('Whip Data'!L159,Materials,3,FALSE))","v":""}]
[null,null,null,null,null,null,{"$f":"IFERROR('Whip Data'!A160,\"\")","v":""},{"$f":"IF('Whip Data'!A160=\"\",\"\",IF(VALUE(RIGHT(BOM!K147,1))=0,10,VALUE(RIGHT(BOM!K147,1))))","v":""},{"$f":"IF('Whip Data'!A160=\"\",\"\",VLOOKUP('Whip Data'!L160,Materials,7,FALSE))","v":""},"",{"$f":"IF('Whip Data'!A160=\"\",\"\",VLOOKUP('Whip Data'!L160,Materials,4,FALSE))","v":""},{"$f":"IF('Whip Data'!A160=\"\",\"\",'Whip Data'!O160)","v":""},"",{"$f":"IF(M147=\"\",\"\",M147/VLOOKUP('Whip Data'!L160,Materials,3,FALSE))","v":""}]
[null,null,null,null,null,null,{"$f":"IFERROR('Whip Data'!A161,\"\")","v":""},{"$f":"IF('Whip Data'!A161=\"\",\"\",IF(VALUE(RIGHT(BOM!K148,1))=0,10,VALUE(RIGHT(BOM!K148,1))))","v":""},{"$f":"IF('Whip Data'!A161=\"\",\"\",VLOOKUP('Whip Data'!L161,Materials,7,FALSE))","v":""},"",{"$f":"IF('Whip Data'!A161=\"\",\"\",VLOOKUP('Whip Data'!L161,Materials,4,FALSE))","v":""},{"$f":"IF('Whip Data'!A161=\"\",\"\",'Whip Data'!O161)","v":""},"",{"$f":"IF(M148=\"\",\"\",M148/VLOOKUP('Whip Data'!L161,Materials,3,FALSE))","v":""}]
[null,null,null,null,null,null,{"$f":"IFERROR('Whip Data'!A162,\"\")","v":""},{"$f":"IF('Whip Data'!A162=\"\",\"\",IF(VALUE(RIGHT(BOM!K149,1))=0,10,VALUE(RIGHT(BOM!K149,1))))","v":""},{"$f":"IF('Whip Data'!A162=\"\",\"\",VLOOKUP('Whip Data'!L162,Materials,7,FALSE))","v":""},"",{"$f":"IF('Whip Data'!A162=\"\",\"\",VLOOKUP('Whip Data'!L162,Materials,4,FALSE))","v":""},{"$f":"IF('Whip Data'!A162=\"\",\"\",'Whip Data'!O162)","v":""},"",{"$f":"IF(M149=\"\",\"\",M149/VLOOKUP('Whip Data'!L162,Materials,3,FALSE))","v":""}]
[null,null,null,null,null,null,{"$f":"IFERROR('Whip Data'!A163,\"\")","v":""},{"$f":"IF('Whip Data'!A163=\"\",\"\",IF(VALUE(RIGHT(BOM!K150,1))=0,10,VALUE(RIGHT(BOM!K150,1))))","v":""},{"$f":"IF('Whip Data'!A163=\"\",\"\",VLOOKUP('Whip Data'!L163,Materials,7,FALSE))","v":""},"",{"$f":"IF('Whip Data'!A163=\"\",\"\",VLOOKUP('Whip Data'!L163,Materials,4,FALSE))","v":""},{"$f":"IF('Whip Data'!A163=\"\",\"\",'Whip Data'!O163)","v":""},"",{"$f":"IF(M150=\"\",\"\",M150/VLOOKUP('Whip Data'!L163,Materials,3,FALSE))","v":""}]
[null,null,null,null,null,null,{"$f":"IFERROR('Whip Data'!A164,\"\")","v":""},{"$f":"IF('Whip Data'!A164=\"\",\"\",IF(VALUE(RIGHT(BOM!K151,1))=0,10,VALUE(RIGHT(BOM!K151,1))))","v":""},{"$f":"IF('Whip Data'!A164=\"\",\"\",VLOOKUP('Whip Data'!L164,Materials,7,FALSE))","v":""},"",{"$f":"IF('Whip Data'!A164=\"\",\"\",VLOOKUP('Whip Data'!L164,Materials,4,FALSE))","v":""},{"$f":"IF('Whip Data'!A164=\"\",\"\",'Whip Data'!O164)","v":""},"",{"$f":"IF(M151=\"\",\"\",M151/VLOOKUP('Whip Data'!L164,Materials,3,FALSE))","v":""}]
[null,null,null,null,null,null,{"$f":"IFERROR('Whip Data'!A165,\"\")","v":""},{"$f":"IF('Whip Data'!A165=\"\",\"\",IF(VALUE(RIGHT(BOM!K152,1))=0,10,VALUE(RIGHT(BOM!K152,1))))","v":""},{"$f":"IF('Whip Data'!A165=\"\",\"\",VLOOKUP('Whip Data'!L165,Materials,7,FALSE))","v":""},"",{"$f":"IF('Whip Data'!A165=\"\",\"\",VLOOKUP('Whip Data'!L165,Materials,4,FALSE))","v":""},{"$f":"IF('Whip Data'!A165=\"\",\"\",'Whip Data'!O165)","v":""},"",{"$f":"IF(M152=\"\",\"\",M152/VLOOKUP('Whip Data'!L165,Materials,3,FALSE))","v":""}]
[null,null,null,null,null,null,{"$f":"IFERROR('Whip Data'!A166,\"\")","v":""},{"$f":"IF('Whip Data'!A166=\"\",\"\",IF(VALUE(RIGHT(BOM!K153,1))=0,10,VALUE(RIGHT(BOM!K153,1))))","v":""},{"$f":"IF('Whip Data'!A166=\"\",\"\",VLOOKUP('Whip Data'!L166,Materials,7,FALSE))","v":""},"",{"$f":"IF('Whip Data'!A166=\"\",\"\",VLOOKUP('Whip Data'!L166,Materials,4,FALSE))","v":""},{"$f":"IF('Whip Data'!A166=\"\",\"\",'Whip Data'!O166)","v":""},"",{"$f":"IF(M153=\"\",\"\",M153/VLOOKUP('Whip Data'!L166,Materials,3,FALSE))","v":""}]
[null,null,null,null,null,null,{"$f":"IFERROR('Whip Data'!A167,\"\")","v":""},{"$f":"IF('Whip Data'!A167=\"\",\"\",IF(VALUE(RIGHT(BOM!K154,1))=0,10,VALUE(RIGHT(BOM!K154,1))))","v":""},{"$f":"IF('Whip Data'!A167=\"\",\"\",VLOOKUP('Whip Data'!L167,Materials,7,FALSE))","v":""},"",{"$f":"IF('Whip Data'!A167=\"\",\"\",VLOOKUP('Whip Data'!L167,Materials,4,FALSE))","v":""},{"$f":"IF('Whip Data'!A167=\"\",\"\",'Whip Data'!O167)","v":""},"",{"$f":"IF(M154=\"\",\"\",M154/VLOOKUP('Whip Data'!L167,Materials,3,FALSE))","v":""}]
[null,null,null,null,null,null,{"$f":"IFERROR('Whip Data'!A168,\"\")","v":""},{"$f":"IF('Whip Data'!A168=\"\",\"\",IF(VALUE(RIGHT(BOM!K155,1))=0,10,VALUE(RIGHT(BOM!K155,1))))","v":""},{"$f":"IF('Whip Data'!A168=\"\",\"\",VLOOKUP('Whip Data'!L168,Materials,7,FALSE))","v":""},"",{"$f":"IF('Whip Data'!A168=\"\",\"\",VLOOKUP('Whip Data'!L168,Materials,4,FALSE))","v":""},{"$f":"IF('Whip Data'!A168=\"\",\"\",'Whip Data'!O168)","v":""},"",{"$f":"IF(M155=\"\",\"\",M155/VLOOKUP('Whip Data'!L168,Materials,3,FALSE))","v":""}]
[null,null,null,null,null,null,{"$f":"IFERROR('Whip Data'!A169,\"\")","v":""},{"$f":"IF('Whip Data'!A169=\"\",\"\",IF(VALUE(RIGHT(BOM!K156,1))=0,10,VALUE(RIGHT(BOM!K156,1))))","v":""},{"$f":"IF('Whip Data'!A169=\"\",\"\",VLOOKUP('Whip Data'!L169,Materials,7,FALSE))","v":""},"",{"$f":"IF('Whip Data'!A169=\"\",\"\",VLOOKUP('Whip Data'!L169,Materials,4,FALSE))","v":""},{"$f":"IF('Whip Data'!A169=\"\",\"\",'Whip Data'!O169)","v":""},"",{"$f":"IF(M156=\"\",\"\",M156/VLOOKUP('Whip Data'!L169,Materials,3,FALSE))","v":""}]
[null,null,null,null,null,null,{"$f":"IFERROR('Whip Data'!A170,\"\")","v":""},{"$f":"IF('Whip Data'!A170=\"\",\"\",IF(VALUE(RIGHT(BOM!K157,1))=0,10,VALUE(RIGHT(BOM!K157,1))))","v":""},{"$f":"IF('Whip Data'!A170=\"\",\"\",VLOOKUP('Whip Data'!L170,Materials,7,FALSE))","v":""},"",{"$f":"IF('Whip Data'!A170=\"\",\"\",VLOOKUP('Whip Data'!L170,Materials,4,FALSE))","v":""},{"$f":"IF('Whip Data'!A170=\"\",\"\",'Whip Data'!O170)","v":""},"",{"$f":"IF(M157=\"\",\"\",M157/VLOOKUP('Whip Data'!L170,Materials,3,FALSE))","v":""}]
[null,null,null,null,null,null,{"$f":"IFERROR('Whip Data'!A171,\"\")","v":""},{"$f":"IF('Whip Data'!A171=\"\",\"\",IF(VALUE(RIGHT(BOM!K158,1))=0,10,VALUE(RIGHT(BOM!K158,1))))","v":""},{"$f":"IF('Whip Data'!A171=\"\",\"\",VLOOKUP('Whip Data'!L171,Materials,7,FALSE))","v":""},"",{"$f":"IF('Whip Data'!A171=\"\",\"\",VLOOKUP('Whip Data'!L171,Materials,4,FALSE))","v":""},{"$f":"IF('Whip Data'!A171=\"\",\"\",'Whip Data'!O171)","v":""},"",{"$f":"IF(M158=\"\",\"\",M158/VLOOKUP('Whip Data'!L171,Materials,3,FALSE))","v":""}]
[null,null,null,null,null,null,{"$f":"IFERROR('Whip Data'!A172,\"\")","v":""},{"$f":"IF('Whip Data'!A172=\"\",\"\",IF(VALUE(RIGHT(BOM!K159,1))=0,10,VALUE(RIGHT(BOM!K159,1))))","v":""},{"$f":"IF('Whip Data'!A172=\"\",\"\",VLOOKUP('Whip Data'!L172,Materials,7,FALSE))","v":""},"",{"$f":"IF('Whip Data'!A172=\"\",\"\",VLOOKUP('Whip Data'!L172,Materials,4,FALSE))","v":""},{"$f":"IF('Whip Data'!A172=\"\",\"\",'Whip Data'!O172)","v":""},"",{"$f":"IF(M159=\"\",\"\",M159/VLOOKUP('Whip Data'!L172,Materials,3,FALSE))","v":""}]
[null,null,null,null,null,null,{"$f":"IFERROR('Whip Data'!A173,\"\")","v":""},{"$f":"IF('Whip Data'!A173=\"\",\"\",IF(VALUE(RIGHT(BOM!K160,1))=0,10,VALUE(RIGHT(BOM!K160,1))))","v":""},{"$f":"IF('Whip Data'!A173=\"\",\"\",VLOOKUP('Whip Data'!L173,Materials,7,FALSE))","v":""},"",{"$f":"IF('Whip Data'!A173=\"\",\"\",VLOOKUP('Whip Data'!L173,Materials,4,FALSE))","v":""},{"$f":"IF('Whip Data'!A173=\"\",\"\",'Whip Data'!O173)","v":""},"",{"$f":"IF(M160=\"\",\"\",M160/VLOOKUP('Whip Data'!L173,Materials,3,FALSE))","v":""}]
[null,null,null,null,null,null,{"$f":"IFERROR('Whip Data'!A174,\"\")","v":""},{"$f":"IF('Whip Data'!A174=\"\",\"\",IF(VALUE(RIGHT(BOM!K161,1))=0,10,VALUE(RIGHT(BOM!K161,1))))","v":""},{"$f":"IF('Whip Data'!A174=\"\",\"\",VLOOKUP('Whip Data'!L174,Materials,7,FALSE))","v":""},"",{"$f":"IF('Whip Data'!A174=\"\",\"\",VLOOKUP('Whip Data'!L174,Materials,4,FALSE))","v":""},{"$f":"IF('Whip Data'!A174=\"\",\"\",'Whip Data'!O174)","v":""},"",{"$f":"IF(M161=\"\",\"\",M161/VLOOKUP('Whip Data'!L174,Materials,3,FALSE))","v":""}]
[null,null,null,null,null,null,{"$f":"IFERROR('Whip Data'!A175,\"\")","v":""},{"$f":"IF('Whip Data'!A175=\"\",\"\",IF(VALUE(RIGHT(BOM!K162,1))=0,10,VALUE(RIGHT(BOM!K162,1))))","v":""},{"$f":"IF('Whip Data'!A175=\"\",\"\",VLOOKUP('Whip Data'!L175,Materials,7,FALSE))","v":""},"",{"$f":"IF('Whip Data'!A175=\"\",\"\",VLOOKUP('Whip Data'!L175,Materials,4,FALSE))","v":""},{"$f":"IF('Whip Data'!A175=\"\",\"\",'Whip Data'!O175)","v":""},"",{"$f":"IF(M162=\"\",\"\",M162/VLOOKUP('Whip Data'!L175,Materials,3,FALSE))","v":""}]
[null,null,null,null,null,null,{"$f":"IFERROR('Whip Data'!A176,\"\")","v":""},{"$f":"IF('Whip Data'!A176=\"\",\"\",IF(VALUE(RIGHT(BOM!K163,1))=0,10,VALUE(RIGHT(BOM!K163,1))))","v":""},{"$f":"IF('Whip Data'!A176=\"\",\"\",VLOOKUP('Whip Data'!L176,Materials,7,FALSE))","v":""},"",{"$f":"IF('Whip Data'!A176=\"\",\"\",VLOOKUP('Whip Data'!L176,Materials,4,FALSE))","v":""},{"$f":"IF('Whip Data'!A176=\"\",\"\",'Whip Data'!O176)","v":""},"",{"$f":"IF(M163=\"\",\"\",M163/VLOOKUP('Whip Data'!L176,Materials,3,FALSE))","v":""}]
[null,null,null,null,null,null,{"$f":"IFERROR('Whip Data'!A177,\"\")","v":""},{"$f":"IF('Whip Data'!A177=\"\",\"\",IF(VALUE(RIGHT(BOM!K164,1))=0,10,VALUE(RIGHT(BOM!K164,1))))","v":""},{"$f":"IF('Whip Data'!A177=\"\",\"\",VLOOKUP('Whip Data'!L177,Materials,7,FALSE))","v":""},"",{"$f":"IF('Whip Data'!A177=\"\",\"\",VLOOKUP('Whip Data'!L177,Materials,4,FALSE))","v":""},{"$f":"IF('Whip Data'!A177=\"\",\"\",'Whip Data'!O177)","v":""},"",{"$f":"IF(M164=\"\",\"\",M164/VLOOKUP('Whip Data'!L177,Materials,3,FALSE))","v":""}]
[null,null,null,null,null,null,{"$f":"IFERROR('Whip Data'!A178,\"\")","v":""},{"$f":"IF('Whip Data'!A178=\"\",\"\",IF(VALUE(RIGHT(BOM!K165,1))=0,10,VALUE(RIGHT(BOM!K165,1))))","v":""},{"$f":"IF('Whip Data'!A178=\"\",\"\",VLOOKUP('Whip Data'!L178,Materials,7,FALSE))","v":""},"",{"$f":"IF('Whip Data'!A178=\"\",\"\",VLOOKUP('Whip Data'!L178,Materials,4,FALSE))","v":""},{"$f":"IF('Whip Data'!A178=\"\",\"\",'Whip Data'!O178)","v":""},"",{"$f":"IF(M165=\"\",\"\",M165/VLOOKUP('Whip Data'!L178,Materials,3,FALSE))","v":""}]
[null,null,null,null,null,null,{"$f":"IFERROR('Whip Data'!A179,\"\")","v":""},{"$f":"IF('Whip Data'!A179=\"\",\"\",IF(VALUE(RIGHT(BOM!K166,1))=0,10,VALUE(RIGHT(BOM!K166,1))))","v":""},{"$f":"IF('Whip Data'!A179=\"\",\"\",VLOOKUP('Whip Data'!L179,Materials,7,FALSE))","v":""},"",{"$f":"IF('Whip Data'!A179=\"\",\"\",VLOOKUP('Whip Data'!L179,Materials,4,FALSE))","v":""},{"$f":"IF('Whip Data'!A179=\"\",\"\",'Whip Data'!O179)","v":""},"",{"$f":"IF(M166=\"\",\"\",M166/VLOOKUP('Whip Data'!L179,Materials,3,FALSE))","v":""}]
[null,null,null,null,null,null,{"$f":"IFERROR('Whip Data'!A180,\"\")","v":""},{"$f":"IF('Whip Data'!A180=\"\",\"\",IF(VALUE(RIGHT(BOM!K167,1))=0,10,VALUE(RIGHT(BOM!K167,1))))","v":""},{"$f":"IF('Whip Data'!A180=\"\",\"\",VLOOKUP('Whip Data'!L180,Materials,7,FALSE))","v":""},"",{"$f":"IF('Whip Data'!A180=\"\",\"\",VLOOKUP('Whip Data'!L180,Materials,4,FALSE))","v":""},{"$f":"IF('Whip Data'!A180=\"\",\"\",'Whip Data'!O180)","v":""},"",{"$f":"IF(M167=\"\",\"\",M167/VLOOKUP('Whip Data'!L180,Materials,3,FALSE))","v":""}]
[null,null,null,null,null,null,{"$f":"IFERROR('Whip Data'!A181,\"\")","v":""},{"$f":"IF('Whip Data'!A181=\"\",\"\",IF(VALUE(RIGHT(BOM!K168,1))=0,10,VALUE(RIGHT(BOM!K168,1))))","v":""},{"$f":"IF('Whip Data'!A181=\"\",\"\",VLOOKUP('Whip Data'!L181,Materials,7,FALSE))","v":""},"",{"$f":"IF('Whip Data'!A181=\"\",\"\",VLOOKUP('Whip Data'!L181,Materials,4,FALSE))","v":""},{"$f":"IF('Whip Data'!A181=\"\",\"\",'Whip Data'!O181)","v":""},"",{"$f":"IF(M168=\"\",\"\",M168/VLOOKUP('Whip Data'!L181,Materials,3,FALSE))","v":""}]
[null,null,null,null,null,null,{"$f":"IFERROR('Whip Data'!A182,\"\")","v":""},{"$f":"IF('Whip Data'!A182=\"\",\"\",IF(VALUE(RIGHT(BOM!K169,1))=0,10,VALUE(RIGHT(BOM!K169,1))))","v":""},{"$f":"IF('Whip Data'!A182=\"\",\"\",VLOOKUP('Whip Data'!L182,Materials,7,FALSE))","v":""},"",{"$f":"IF('Whip Data'!A182=\"\",\"\",VLOOKUP('Whip Data'!L182,Materials,4,FALSE))","v":""},{"$f":"IF('Whip Data'!A182=\"\",\"\",'Whip Data'!O182)","v":""},"",{"$f":"IF(M169=\"\",\"\",M169/VLOOKUP('Whip Data'!L182,Materials,3,FALSE))","v":""}]
[null,null,null,null,null,null,{"$f":"IFERROR('Whip Data'!A183,\"\")","v":""},{"$f":"IF('Whip Data'!A183=\"\",\"\",IF(VALUE(RIGHT(BOM!K170,1))=0,10,VALUE(RIGHT(BOM!K170,1))))","v":""},{"$f":"IF('Whip Data'!A183=\"\",\"\",VLOOKUP('Whip Data'!L183,Materials,7,FALSE))","v":""},"",{"$f":"IF('Whip Data'!A183=\"\",\"\",VLOOKUP('Whip Data'!L183,Materials,4,FALSE))","v":""},{"$f":"IF('Whip Data'!A183=\"\",\"\",'Whip Data'!O183)","v":""},"",{"$f":"IF(M170=\"\",\"\",M170/VLOOKUP('Whip Data'!L183,Materials,3,FALSE))","v":""}]
[null,null,null,null,null,null,{"$f":"IFERROR('Whip Data'!A184,\"\")","v":""},{"$f":"IF('Whip Data'!A184=\"\",\"\",IF(VALUE(RIGHT(BOM!K171,1))=0,10,VALUE(RIGHT(BOM!K171,1))))","v":""},{"$f":"IF('Whip Data'!A184=\"\",\"\",VLOOKUP('Whip Data'!L184,Materials,7,FALSE))","v":""},"",{"$f":"IF('Whip Data'!A184=\"\",\"\",VLOOKUP('Whip Data'!L184,Materials,4,FALSE))","v":""},{"$f":"IF('Whip Data'!A184=\"\",\"\",'Whip Data'!O184)","v":""},"",{"$f":"IF(M171=\"\",\"\",M171/VLOOKUP('Whip Data'!L184,Materials,3,FALSE))","v":""}]
[null,null,null,null,null,null,{"$f":"IFERROR('Whip Data'!A185,\"\")","v":""},{"$f":"IF('Whip Data'!A185=\"\",\"\",IF(VALUE(RIGHT(BOM!K172,1))=0,10,VALUE(RIGHT(BOM!K172,1))))","v":""},{"$f":"IF('Whip Data'!A185=\"\",\"\",VLOOKUP('Whip Data'!L185,Materials,7,FALSE))","v":""},"",{"$f":"IF('Whip Data'!A185=\"\",\"\",VLOOKUP('Whip Data'!L185,Materials,4,FALSE))","v":""},{"$f":"IF('Whip Data'!A185=\"\",\"\",'Whip Data'!O185)","v":""},"",{"$f":"IF(M172=\"\",\"\",M172/VLOOKUP('Whip Data'!L185,Materials,3,FALSE))","v":""}]
[null,null,null,null,null,null,{"$f":"IFERROR('Whip Data'!A186,\"\")","v":""},{"$f":"IF('Whip Data'!A186=\"\",\"\",IF(VALUE(RIGHT(BOM!K173,1))=0,10,VALUE(RIGHT(BOM!K173,1))))","v":""},{"$f":"IF('Whip Data'!A186=\"\",\"\",VLOOKUP('Whip Data'!L186,Materials,7,FALSE))","v":""},"",{"$f":"IF('Whip Data'!A186=\"\",\"\",VLOOKUP('Whip Data'!L186,Materials,4,FALSE))","v":""},{"$f":"IF('Whip Data'!A186=\"\",\"\",'Whip Data'!O186)","v":""},"",{"$f":"IF(M173=\"\",\"\",M173/VLOOKUP('Whip Data'!L186,Materials,3,FALSE))","v":""}]
[null,null,null,null,null,null,{"$f":"IFERROR('Whip Data'!A187,\"\")","v":""},{"$f":"IF('Whip Data'!A187=\"\",\"\",IF(VALUE(RIGHT(BOM!K174,1))=0,10,VALUE(RIGHT(BOM!K174,1))))","v":""},{"$f":"IF('Whip Data'!A187=\"\",\"\",VLOOKUP('Whip Data'!L187,Materials,7,FALSE))","v":""},"",{"$f":"IF('Whip Data'!A187=\"\",\"\",VLOOKUP('Whip Data'!L187,Materials,4,FALSE))","v":""},{"$f":"IF('Whip Data'!A187=\"\",\"\",'Whip Data'!O187)","v":""},"",{"$f":"IF(M174=\"\",\"\",M174/VLOOKUP('Whip Data'!L187,Materials,3,FALSE))","v":""}]
[null,null,null,null,null,null,{"$f":"IFERROR('Whip Data'!A188,\"\")","v":""},{"$f":"IF('Whip Data'!A188=\"\",\"\",IF(VALUE(RIGHT(BOM!K175,1))=0,10,VALUE(RIGHT(BOM!K175,1))))","v":""},{"$f":"IF('Whip Data'!A188=\"\",\"\",VLOOKUP('Whip Data'!L188,Materials,7,FALSE))","v":""},"",{"$f":"IF('Whip Data'!A188=\"\",\"\",VLOOKUP('Whip Data'!L188,Materials,4,FALSE))","v":""},{"$f":"IF('Whip Data'!A188=\"\",\"\",'Whip Data'!O188)","v":""},"",{"$f":"IF(M175=\"\",\"\",M175/VLOOKUP('Whip Data'!L188,Materials,3,FALSE))","v":""}]
[null,null,null,null,null,null,{"$f":"IFERROR('Whip Data'!A189,\"\")","v":""},{"$f":"IF('Whip Data'!A189=\"\",\"\",IF(VALUE(RIGHT(BOM!K176,1))=0,10,VALUE(RIGHT(BOM!K176,1))))","v":""},{"$f":"IF('Whip Data'!A189=\"\",\"\",VLOOKUP('Whip Data'!L189,Materials,7,FALSE))","v":""},"",{"$f":"IF('Whip Data'!A189=\"\",\"\",VLOOKUP('Whip Data'!L189,Materials,4,FALSE))","v":""},{"$f":"IF('Whip Data'!A189=\"\",\"\",'Whip Data'!O189)","v":""},"",{"$f":"IF(M176=\"\",\"\",M176/VLOOKUP('Whip Data'!L189,Materials,3,FALSE))","v":""}]
[null,null,null,null,null,null,{"$f":"IFERROR('Whip Data'!A190,\"\")","v":""},{"$f":"IF('Whip Data'!A190=\"\",\"\",IF(VALUE(RIGHT(BOM!K177,1))=0,10,VALUE(RIGHT(BOM!K177,1))))","v":""},{"$f":"IF('Whip Data'!A190=\"\",\"\",VLOOKUP('Whip Data'!L190,Materials,7,FALSE))","v":""},"",{"$f":"IF('Whip Data'!A190=\"\",\"\",VLOOKUP('Whip Data'!L190,Materials,4,FALSE))","v":""},{"$f":"IF('Whip Data'!A190=\"\",\"\",'Whip Data'!O190)","v":""},"",{"$f":"IF(M177=\"\",\"\",M177/VLOOKUP('Whip Data'!L190,Materials,3,FALSE))","v":""}]
[null,null,null,null,null,null,{"$f":"IFERROR('Whip Data'!A191,\"\")","v":""},{"$f":"IF('Whip Data'!A191=\"\",\"\",IF(VALUE(RIGHT(BOM!K178,1))=0,10,VALUE(RIGHT(BOM!K178,1))))","v":""},{"$f":"IF('Whip Data'!A191=\"\",\"\",VLOOKUP('Whip Data'!L191,Materials,7,FALSE))","v":""},"",{"$f":"IF('Whip Data'!A191=\"\",\"\",VLOOKUP('Whip Data'!L191,Materials,4,FALSE))","v":""},{"$f":"IF('Whip Data'!A191=\"\",\"\",'Whip Data'!O191)","v":""},"",{"$f":"IF(M178=\"\",\"\",M178/VLOOKUP('Whip Data'!L191,Materials,3,FALSE))","v":""}]
[null,null,null,null,null,null,{"$f":"IFERROR('Whip Data'!A192,\"\")","v":""},{"$f":"IF('Whip Data'!A192=\"\",\"\",IF(VALUE(RIGHT(BOM!K179,1))=0,10,VALUE(RIGHT(BOM!K179,1))))","v":""},{"$f":"IF('Whip Data'!A192=\"\",\"\",VLOOKUP('Whip Data'!L192,Materials,7,FALSE))","v":""},"",{"$f":"IF('Whip Data'!A192=\"\",\"\",VLOOKUP('Whip Data'!L192,Materials,4,FALSE))","v":""},{"$f":"IF('Whip Data'!A192=\"\",\"\",'Whip Data'!O192)","v":""},"",{"$f":"IF(M179=\"\",\"\",M179/VLOOKUP('Whip Data'!L192,Materials,3,FALSE))","v":""}]
[null,null,null,null,null,null,{"$f":"IFERROR('Whip Data'!A193,\"\")","v":""},{"$f":"IF('Whip Data'!A193=\"\",\"\",IF(VALUE(RIGHT(BOM!K180,1))=0,10,VALUE(RIGHT(BOM!K180,1))))","v":""},{"$f":"IF('Whip Data'!A193=\"\",\"\",VLOOKUP('Whip Data'!L193,Materials,7,FALSE))","v":""},"",{"$f":"IF('Whip Data'!A193=\"\",\"\",VLOOKUP('Whip Data'!L193,Materials,4,FALSE))","v":""},{"$f":"IF('Whip Data'!A193=\"\",\"\",'Whip Data'!O193)","v":""},"",{"$f":"IF(M180=\"\",\"\",M180/VLOOKUP('Whip Data'!L193,Materials,3,FALSE))","v":""}]
[null,null,null,null,null,null,{"$f":"IFERROR('Whip Data'!A194,\"\")","v":""},{"$f":"IF('Whip Data'!A194=\"\",\"\",IF(VALUE(RIGHT(BOM!K181,1))=0,10,VALUE(RIGHT(BOM!K181,1))))","v":""},{"$f":"IF('Whip Data'!A194=\"\",\"\",VLOOKUP('Whip Data'!L194,Materials,7,FALSE))","v":""},"",{"$f":"IF('Whip Data'!A194=\"\",\"\",VLOOKUP('Whip Data'!L194,Materials,4,FALSE))","v":""},{"$f":"IF('Whip Data'!A194=\"\",\"\",'Whip Data'!O194)","v":""},"",{"$f":"IF(M181=\"\",\"\",M181/VLOOKUP('Whip Data'!L194,Materials,3,FALSE))","v":""}]
[null,null,null,null,null,null,{"$f":"IFERROR('Whip Data'!A195,\"\")","v":""},{"$f":"IF('Whip Data'!A195=\"\",\"\",IF(VALUE(RIGHT(BOM!K182,1))=0,10,VALUE(RIGHT(BOM!K182,1))))","v":""},{"$f":"IF('Whip Data'!A195=\"\",\"\",VLOOKUP('Whip Data'!L195,Materials,7,FALSE))","v":""},"",{"$f":"IF('Whip Data'!A195=\"\",\"\",VLOOKUP('Whip Data'!L195,Materials,4,FALSE))","v":""},{"$f":"IF('Whip Data'!A195=\"\",\"\",'Whip Data'!O195)","v":""},"",{"$f":"IF(M182=\"\",\"\",M182/VLOOKUP('Whip Data'!L195,Materials,3,FALSE))","v":""}]
[null,null,null,null,null,null,{"$f":"IFERROR('Whip Data'!A196,\"\")","v":""},{"$f":"IF('Whip Data'!A196=\"\",\"\",IF(VALUE(RIGHT(BOM!K183,1))=0,10,VALUE(RIGHT(BOM!K183,1))))","v":""},{"$f":"IF('Whip Data'!A196=\"\",\"\",VLOOKUP('Whip Data'!L196,Materials,7,FALSE))","v":""},"",{"$f":"IF('Whip Data'!A196=\"\",\"\",VLOOKUP('Whip Data'!L196,Materials,4,FALSE))","v":""},{"$f":"IF('Whip Data'!A196=\"\",\"\",'Whip Data'!O196)","v":""},"",{"$f":"IF(M183=\"\",\"\",M183/VLOOKUP('Whip Data'!L196,Materials,3,FALSE))","v":""}]
[null,null,null,null,null,null,{"$f":"IFERROR('Whip Data'!A197,\"\")","v":""},{"$f":"IF('Whip Data'!A197=\"\",\"\",IF(VALUE(RIGHT(BOM!K184,1))=0,10,VALUE(RIGHT(BOM!K184,1))))","v":""},{"$f":"IF('Whip Data'!A197=\"\",\"\",VLOOKUP('Whip Data'!L197,Materials,7,FALSE))","v":""},"",{"$f":"IF('Whip Data'!A197=\"\",\"\",VLOOKUP('Whip Data'!L197,Materials,4,FALSE))","v":""},{"$f":"IF('Whip Data'!A197=\"\",\"\",'Whip Data'!O197)","v":""},"",{"$f":"IF(M184=\"\",\"\",M184/VLOOKUP('Whip Data'!L197,Materials,3,FALSE))","v":""}]
[null,null,null,null,null,null,{"$f":"IFERROR('Whip Data'!A198,\"\")","v":""},{"$f":"IF('Whip Data'!A198=\"\",\"\",IF(VALUE(RIGHT(BOM!K185,1))=0,10,VALUE(RIGHT(BOM!K185,1))))","v":""},{"$f":"IF('Whip Data'!A198=\"\",\"\",VLOOKUP('Whip Data'!L198,Materials,7,FALSE))","v":""},"",{"$f":"IF('Whip Data'!A198=\"\",\"\",VLOOKUP('Whip Data'!L198,Materials,4,FALSE))","v":""},{"$f":"IF('Whip Data'!A198=\"\",\"\",'Whip Data'!O198)","v":""},"",{"$f":"IF(M185=\"\",\"\",M185/VLOOKUP('Whip Data'!L198,Materials,3,FALSE))","v":""}]
[null,null,null,null,null,null,{"$f":"IFERROR('Whip Data'!A199,\"\")","v":""},{"$f":"IF('Whip Data'!A199=\"\",\"\",IF(VALUE(RIGHT(BOM!K186,1))=0,10,VALUE(RIGHT(BOM!K186,1))))","v":""},{"$f":"IF('Whip Data'!A199=\"\",\"\",VLOOKUP('Whip Data'!L199,Materials,7,FALSE))","v":""},"",{"$f":"IF('Whip Data'!A199=\"\",\"\",VLOOKUP('Whip Data'!L199,Materials,4,FALSE))","v":""},{"$f":"IF('Whip Data'!A199=\"\",\"\",'Whip Data'!O199)","v":""},"",{"$f":"IF(M186=\"\",\"\",M186/VLOOKUP('Whip Data'!L199,Materials,3,FALSE))","v":""}]
[null,null,null,null,null,null,{"$f":"IFERROR('Whip Data'!A200,\"\")","v":""},{"$f":"IF('Whip Data'!A200=\"\",\"\",IF(VALUE(RIGHT(BOM!K187,1))=0,10,VALUE(RIGHT(BOM!K187,1))))","v":""},{"$f":"IF('Whip Data'!A200=\"\",\"\",VLOOKUP('Whip Data'!L200,Materials,7,FALSE))","v":""},"",{"$f":"IF('Whip Data'!A200=\"\",\"\",VLOOKUP('Whip Data'!L200,Materials,4,FALSE))","v":""},{"$f":"IF('Whip Data'!A200=\"\",\"\",'Whip Data'!O200)","v":""},"",{"$f":"IF(M187=\"\",\"\",M187/VLOOKUP('Whip Data'!L200,Materials,3,FALSE))","v":""}]
[null,null,null,null,null,null,{"$f":"IFERROR('Whip Data'!A201,\"\")","v":""},{"$f":"IF('Whip Data'!A201=\"\",\"\",IF(VALUE(RIGHT(BOM!K188,1))=0,10,VALUE(RIGHT(BOM!K188,1))))","v":""},{"$f":"IF('Whip Data'!A201=\"\",\"\",VLOOKUP('Whip Data'!L201,Materials,7,FALSE))","v":""},"",{"$f":"IF('Whip Data'!A201=\"\",\"\",VLOOKUP('Whip Data'!L201,Materials,4,FALSE))","v":""},{"$f":"IF('Whip Data'!A201=\"\",\"\",'Whip Data'!O201)","v":""},"",{"$f":"IF(M188=\"\",\"\",M188/VLOOKUP('Whip Data'!L201,Materials,3,FALSE))","v":""}]
[null,null,null,null,null,null,{"$f":"IFERROR('Whip Data'!A202,\"\")","v":""},{"$f":"IF('Whip Data'!A202=\"\",\"\",IF(VALUE(RIGHT(BOM!K189,1))=0,10,VALUE(RIGHT(BOM!K189,1))))","v":""},{"$f":"IF('Whip Data'!A202=\"\",\"\",VLOOKUP('Whip Data'!L202,Materials,7,FALSE))","v":""},"",{"$f":"IF('Whip Data'!A202=\"\",\"\",VLOOKUP('Whip Data'!L202,Materials,4,FALSE))","v":""},{"$f":"IF('Whip Data'!A202=\"\",\"\",'Whip Data'!O202)","v":""},"",{"$f":"IF(M189=\"\",\"\",M189/VLOOKUP('Whip Data'!L202,Materials,3,FALSE))","v":""}]
[null,null,null,null,null,null,{"$f":"IFERROR('Whip Data'!A203,\"\")","v":""},{"$f":"IF('Whip Data'!A203=\"\",\"\",IF(VALUE(RIGHT(BOM!K190,1))=0,10,VALUE(RIGHT(BOM!K190,1))))","v":""},{"$f":"IF('Whip Data'!A203=\"\",\"\",VLOOKUP('Whip Data'!L203,Materials,7,FALSE))","v":""},"",{"$f":"IF('Whip Data'!A203=\"\",\"\",VLOOKUP('Whip Data'!L203,Materials,4,FALSE))","v":""},{"$f":"IF('Whip Data'!A203=\"\",\"\",'Whip Data'!O203)","v":""},"",{"$f":"IF(M190=\"\",\"\",M190/VLOOKUP('Whip Data'!L203,Materials,3,FALSE))","v":""}]
[null,null,null,null,null,null,{"$f":"IFERROR('Whip Data'!A204,\"\")","v":""},{"$f":"IF('Whip Data'!A204=\"\",\"\",IF(VALUE(RIGHT(BOM!K191,1))=0,10,VALUE(RIGHT(BOM!K191,1))))","v":""},{"$f":"IF('Whip Data'!A204=\"\",\"\",VLOOKUP('Whip Data'!L204,Materials,7,FALSE))","v":""},"",{"$f":"IF('Whip Data'!A204=\"\",\"\",VLOOKUP('Whip Data'!L204,Materials,4,FALSE))","v":""},{"$f":"IF('Whip Data'!A204=\"\",\"\",'Whip Data'!O204)","v":""},"",{"$f":"IF(M191=\"\",\"\",M191/VLOOKUP('Whip Data'!L204,Materials,3,FALSE))","v":""}]
[null,null,null,null,null,null,{"$f":"IFERROR('Whip Data'!A205,\"\")","v":""},{"$f":"IF('Whip Data'!A205=\"\",\"\",IF(VALUE(RIGHT(BOM!K192,1))=0,10,VALUE(RIGHT(BOM!K192,1))))","v":""},{"$f":"IF('Whip Data'!A205=\"\",\"\",VLOOKUP('Whip Data'!L205,Materials,7,FALSE))","v":""},"",{"$f":"IF('Whip Data'!A205=\"\",\"\",VLOOKUP('Whip Data'!L205,Materials,4,FALSE))","v":""},{"$f":"IF('Whip Data'!A205=\"\",\"\",'Whip Data'!O205)","v":""},"",{"$f":"IF(M192=\"\",\"\",M192/VLOOKUP('Whip Data'!L205,Materials,3,FALSE))","v":""}]
[null,null,null,null,null,null,{"$f":"IFERROR('Whip Data'!A206,\"\")","v":""},{"$f":"IF('Whip Data'!A206=\"\",\"\",IF(VALUE(RIGHT(BOM!K193,1))=0,10,VALUE(RIGHT(BOM!K193,1))))","v":""},{"$f":"IF('Whip Data'!A206=\"\",\"\",VLOOKUP('Whip Data'!L206,Materials,7,FALSE))","v":""},"",{"$f":"IF('Whip Data'!A206=\"\",\"\",VLOOKUP('Whip Data'!L206,Materials,4,FALSE))","v":""},{"$f":"IF('Whip Data'!A206=\"\",\"\",'Whip Data'!O206)","v":""},"",{"$f":"IF(M193=\"\",\"\",M193/VLOOKUP('Whip Data'!L206,Materials,3,FALSE))","v":""}]
[null,null,null,null,null,null,{"$f":"IFERROR('Whip Data'!A207,\"\")","v":""},{"$f":"IF('Whip Data'!A207=\"\",\"\",IF(VALUE(RIGHT(BOM!K194,1))=0,10,VALUE(RIGHT(BOM!K194,1))))","v":""},{"$f":"IF('Whip Data'!A207=\"\",\"\",VLOOKUP('Whip Data'!L207,Materials,7,FALSE))","v":""},{"$f":"IF(G194=\"\",\"\",VLOOKUP(H194,NEC_T8,5,FALSE))","v":""},{"$f":"IF('Whip Data'!A207=\"\",\"\",VLOOKUP('Whip Data'!L207,Materials,4,FALSE))","v":""},{"$f":"IF('Whip Data'!A207=\"\",\"\",'Whip Data'!O207)","v":""},"",{"$f":"IF(M194=\"\",\"\",M194/VLOOKUP('Whip Data'!L207,Materials,3,FALSE))","v":""}]
[null,null,null,null,null,null,{"$f":"IFERROR('Whip Data'!A208,\"\")","v":""},{"$f":"IF('Whip Data'!A208=\"\",\"\",IF(VALUE(RIGHT(BOM!K195,1))=0,10,VALUE(RIGHT(BOM!K195,1))))","v":""},{"$f":"IF('Whip Data'!A208=\"\",\"\",VLOOKUP('Whip Data'!L208,Materials,7,FALSE))","v":""},"",{"$f":"IF('Whip Data'!A208=\"\",\"\",VLOOKUP('Whip Data'!L208,Materials,4,FALSE))","v":""},{"$f":"IF('Whip Data'!A208=\"\",\"\",'Whip Data'!O208)","v":""},"",{"$f":"IF(M195=\"\",\"\",M195/VLOOKUP('Whip Data'!L208,Materials,3,FALSE))","v":""}]
[null,null,null,null,null,null,{"$f":"IFERROR('Whip Data'!A209,\"\")","v":""},{"$f":"IF('Whip Data'!A209=\"\",\"\",IF(VALUE(RIGHT(BOM!K196,1))=0,10,VALUE(RIGHT(BOM!K196,1))))","v":""},{"$f":"IF('Whip Data'!A209=\"\",\"\",VLOOKUP('Whip Data'!L209,Materials,7,FALSE))","v":""},"",{"$f":"IF('Whip Data'!A209=\"\",\"\",VLOOKUP('Whip Data'!L209,Materials,4,FALSE))","v":""},{"$f":"IF('Whip Data'!A209=\"\",\"\",'Whip Data'!O209)","v":""},"",{"$f":"IF(M196=\"\",\"\",M196/VLOOKUP('Whip Data'!L209,Materials,3,FALSE))","v":""}]
[null,null,null,null,null,null,{"$f":"IFERROR('Whip Data'!A210,\"\")","v":""},{"$f":"IF('Whip Data'!A210=\"\",\"\",IF(VALUE(RIGHT(BOM!K197,1))=0,10,VALUE(RIGHT(BOM!K197,1))))","v":""},{"$f":"IF('Whip Data'!A210=\"\",\"\",VLOOKUP('Whip Data'!L210,Materials,7,FALSE))","v":""},"",{"$f":"IF('Whip Data'!A210=\"\",\"\",VLOOKUP('Whip Data'!L210,Materials,4,FALSE))","v":""},{"$f":"IF('Whip Data'!A210=\"\",\"\",'Whip Data'!O210)","v":""},"",{"$f":"IF(M197=\"\",\"\",M197/VLOOKUP('Whip Data'!L210,Materials,3,FALSE))","v":""}]
[null,null,null,null,null,null,{"$f":"IFERROR('Whip Data'!A211,\"\")","v":""},{"$f":"IF('Whip Data'!A211=\"\",\"\",IF(VALUE(RIGHT(BOM!K198,1))=0,10,VALUE(RIGHT(BOM!K198,1))))","v":""},{"$f":"IF('Whip Data'!A211=\"\",\"\",VLOOKUP('Whip Data'!L211,Materials,7,FALSE))","v":""},"",{"$f":"IF('Whip Data'!A211=\"\",\"\",VLOOKUP('Whip Data'!L211,Materials,4,FALSE))","v":""},{"$f":"IF('Whip Data'!A211=\"\",\"\",'Whip Data'!O211)","v":""},"",{"$f":"IF(M198=\"\",\"\",M198/VLOOKUP('Whip Data'!L211,Materials,3,FALSE))","v":""}]
[null,null,null,null,null,null,{"$f":"IFERROR('Whip Data'!A212,\"\")","v":""},{"$f":"IF('Whip Data'!A212=\"\",\"\",IF(VALUE(RIGHT(BOM!K199,1))=0,10,VALUE(RIGHT(BOM!K199,1))))","v":""},{"$f":"IF('Whip Data'!A212=\"\",\"\",VLOOKUP('Whip Data'!L212,Materials,7,FALSE))","v":""},"",{"$f":"IF('Whip Data'!A212=\"\",\"\",VLOOKUP('Whip Data'!L212,Materials,4,FALSE))","v":""},{"$f":"IF('Whip Data'!A212=\"\",\"\",'Whip Data'!O212)","v":""},"",{"$f":"IF(M199=\"\",\"\",M199/VLOOKUP('Whip Data'!L212,Materials,3,FALSE))","v":""}]
[null,null,null,null,null,null,{"$f":"IFERROR('Whip Data'!A213,\"\")","v":""},{"$f":"IF('Whip Data'!A213=\"\",\"\",IF(VALUE(RIGHT(BOM!K200,1))=0,10,VALUE(RIGHT(BOM!K200,1))))","v":""},{"$f":"IF('Whip Data'!A213=\"\",\"\",VLOOKUP('Whip Data'!L213,Materials,7,FALSE))","v":""},"",{"$f":"IF('Whip Data'!A213=\"\",\"\",VLOOKUP('Whip Data'!L213,Materials,4,FALSE))","v":""},{"$f":"IF('Whip Data'!A213=\"\",\"\",'Whip Data'!O213)","v":""},"",{"$f":"IF(M200=\"\",\"\",M200/VLOOKUP('Whip Data'!L213,Materials,3,FALSE))","v":""}]
[null,null,null,null,null,null,{"$f":"IFERROR('Whip Data'!A214,\"\")","v":""},{"$f":"IF('Whip Data'!A214=\"\",\"\",IF(VALUE(RIGHT(BOM!K201,1))=0,10,VALUE(RIGHT(BOM!K201,1))))","v":""},{"$f":"IF('Whip Data'!A214=\"\",\"\",VLOOKUP('Whip Data'!L214,Materials,7,FALSE))","v":""},"",{"$f":"IF('Whip Data'!A214=\"\",\"\",VLOOKUP('Whip Data'!L214,Materials,4,FALSE))","v":""},{"$f":"IF('Whip Data'!A214=\"\",\"\",'Whip Data'!O214)","v":""},"",{"$f":"IF(M201=\"\",\"\",M201/VLOOKUP('Whip Data'!L214,Materials,3,FALSE))","v":""}]
[null,null,null,null,null,null,{"$f":"IFERROR('Whip Data'!A215,\"\")","v":""},{"$f":"IF('Whip Data'!A215=\"\",\"\",IF(VALUE(RIGHT(BOM!K202,1))=0,10,VALUE(RIGHT(BOM!K202,1))))","v":""},{"$f":"IF('Whip Data'!A215=\"\",\"\",VLOOKUP('Whip Data'!L215,Materials,7,FALSE))","v":""},"",{"$f":"IF('Whip Data'!A215=\"\",\"\",VLOOKUP('Whip Data'!L215,Materials,4,FALSE))","v":""},{"$f":"IF('Whip Data'!A215=\"\",\"\",'Whip Data'!O215)","v":""},{"$f":"IF(G202=\"\",\"\",VLOOKUP(I202,$A$15:$B$16,2,FALSE)*J202*K202*L202/1000)","v":""},{"$f":"IF(M202=\"\",\"\",M202/VLOOKUP('Whip Data'!L215,Materials,3,FALSE))","v":""}]
[null,null,null,null,null,null,{"$f":"IFERROR('Whip Data'!A216,\"\")","v":""},{"$f":"IF('Whip Data'!A216=\"\",\"\",IF(VALUE(RIGHT(BOM!K203,1))=0,10,VALUE(RIGHT(BOM!K203,1))))","v":""},{"$f":"IF('Whip Data'!A216=\"\",\"\",VLOOKUP('Whip Data'!L216,Materials,7,FALSE))","v":""},"",{"$f":"IF('Whip Data'!A216=\"\",\"\",VLOOKUP('Whip Data'!L216,Materials,4,FALSE))","v":""},{"$f":"IF('Whip Data'!A216=\"\",\"\",'Whip Data'!O216)","v":""},"",{"$f":"IF(M203=\"\",\"\",M203/VLOOKUP('Whip Data'!L216,Materials,3,FALSE))","v":""}]
[null,null,null,null,null,null,{"$f":"IFERROR('Whip Data'!A217,\"\")","v":""},{"$f":"IF('Whip Data'!A217=\"\",\"\",IF(VALUE(RIGHT(BOM!K204,1))=0,10,VALUE(RIGHT(BOM!K204,1))))","v":""},{"$f":"IF('Whip Data'!A217=\"\",\"\",VLOOKUP('Whip Data'!L217,Materials,7,FALSE))","v":""},"",{"$f":"IF('Whip Data'!A217=\"\",\"\",VLOOKUP('Whip Data'!L217,Materials,4,FALSE))","v":""},{"$f":"IF('Whip Data'!A217=\"\",\"\",'Whip Data'!O217)","v":""},"",{"$f":"IF(M204=\"\",\"\",M204/VLOOKUP('Whip Data'!L217,Materials,3,FALSE))","v":""}]
[null,null,null,null,null,null,{"$f":"IFERROR('Whip Data'!A218,\"\")","v":""},{"$f":"IF('Whip Data'!A218=\"\",\"\",IF(VALUE(RIGHT(BOM!K205,1))=0,10,VALUE(RIGHT(BOM!K205,1))))","v":""},{"$f":"IF('Whip Data'!A218=\"\",\"\",VLOOKUP('Whip Data'!L218,Materials,7,FALSE))","v":""},"",{"$f":"IF('Whip Data'!A218=\"\",\"\",VLOOKUP('Whip Data'!L218,Materials,4,FALSE))","v":""},{"$f":"IF('Whip Data'!A218=\"\",\"\",'Whip Data'!O218)","v":""},"",{"$f":"IF(M205=\"\",\"\",M205/VLOOKUP('Whip Data'!L218,Materials,3,FALSE))","v":""}]
[null,null,null,null,null,null,{"$f":"IFERROR('Whip Data'!A219,\"\")","v":""},{"$f":"IF('Whip Data'!A219=\"\",\"\",IF(VALUE(RIGHT(BOM!K206,1))=0,10,VALUE(RIGHT(BOM!K206,1))))","v":""},{"$f":"IF('Whip Data'!A219=\"\",\"\",VLOOKUP('Whip Data'!L219,Materials,7,FALSE))","v":""},"",{"$f":"IF('Whip Data'!A219=\"\",\"\",VLOOKUP('Whip Data'!L219,Materials,4,FALSE))","v":""},{"$f":"IF('Whip Data'!A219=\"\",\"\",'Whip Data'!O219)","v":""},"",{"$f":"IF(M206=\"\",\"\",M206/VLOOKUP('Whip Data'!L219,Materials,3,FALSE))","v":""}]
[null,null,null,null,null,null,{"$f":"IFERROR('Whip Data'!A220,\"\")","v":""},{"$f":"IF('Whip Data'!A220=\"\",\"\",IF(VALUE(RIGHT(BOM!K207,1))=0,10,VALUE(RIGHT(BOM!K207,1))))","v":""},{"$f":"IF('Whip Data'!A220=\"\",\"\",VLOOKUP('Whip Data'!L220,Materials,7,FALSE))","v":""},"",{"$f":"IF('Whip Data'!A220=\"\",\"\",VLOOKUP('Whip Data'!L220,Materials,4,FALSE))","v":""},{"$f":"IF('Whip Data'!A220=\"\",\"\",'Whip Data'!O220)","v":""},"",{"$f":"IF(M207=\"\",\"\",M207/VLOOKUP('Whip Data'!L220,Materials,3,FALSE))","v":""}]
[null,null,null,null,null,null,{"$f":"IFERROR('Whip Data'!A221,\"\")","v":""},{"$f":"IF('Whip Data'!A221=\"\",\"\",IF(VALUE(RIGHT(BOM!K208,1))=0,10,VALUE(RIGHT(BOM!K208,1))))","v":""},{"$f":"IF('Whip Data'!A221=\"\",\"\",VLOOKUP('Whip Data'!L221,Materials,7,FALSE))","v":""},"",{"$f":"IF('Whip Data'!A221=\"\",\"\",VLOOKUP('Whip Data'!L221,Materials,4,FALSE))","v":""},{"$f":"IF('Whip Data'!A221=\"\",\"\",'Whip Data'!O221)","v":""},"",{"$f":"IF(M208=\"\",\"\",M208/VLOOKUP('Whip Data'!L221,Materials,3,FALSE))","v":""}]
[null,null,null,null,null,null,{"$f":"IFERROR('Whip Data'!A222,\"\")","v":""},{"$f":"IF('Whip Data'!A222=\"\",\"\",IF(VALUE(RIGHT(BOM!K209,1))=0,10,VALUE(RIGHT(BOM!K209,1))))","v":""},{"$f":"IF('Whip Data'!A222=\"\",\"\",VLOOKUP('Whip Data'!L222,Materials,7,FALSE))","v":""},"",{"$f":"IF('Whip Data'!A222=\"\",\"\",VLOOKUP('Whip Data'!L222,Materials,4,FALSE))","v":""},{"$f":"IF('Whip Data'!A222=\"\",\"\",'Whip Data'!O222)","v":""},"",{"$f":"IF(M209=\"\",\"\",M209/VLOOKUP('Whip Data'!L222,Materials,3,FALSE))","v":""}]
[null,null,null,null,null,null,{"$f":"IFERROR('Whip Data'!A223,\"\")","v":""},{"$f":"IF('Whip Data'!A223=\"\",\"\",IF(VALUE(RIGHT(BOM!K210,1))=0,10,VALUE(RIGHT(BOM!K210,1))))","v":""},{"$f":"IF('Whip Data'!A223=\"\",\"\",VLOOKUP('Whip Data'!L223,Materials,7,FALSE))","v":""},"",{"$f":"IF('Whip Data'!A223=\"\",\"\",VLOOKUP('Whip Data'!L223,Materials,4,FALSE))","v":""},{"$f":"IF('Whip Data'!A223=\"\",\"\",'Whip Data'!O223)","v":""},"",{"$f":"IF(M210=\"\",\"\",M210/VLOOKUP('Whip Data'!L223,Materials,3,FALSE))","v":""}]
[null,null,null,null,null,null,{"$f":"IFERROR('Whip Data'!A224,\"\")","v":""},{"$f":"IF('Whip Data'!A224=\"\",\"\",IF(VALUE(RIGHT(BOM!K211,1))=0,10,VALUE(RIGHT(BOM!K211,1))))","v":""},{"$f":"IF('Whip Data'!A224=\"\",\"\",VLOOKUP('Whip Data'!L224,Materials,7,FALSE))","v":""},"",{"$f":"IF('Whip Data'!A224=\"\",\"\",VLOOKUP('Whip Data'!L224,Materials,4,FALSE))","v":""},{"$f":"IF('Whip Data'!A224=\"\",\"\",'Whip Data'!O224)","v":""},"",{"$f":"IF(M211=\"\",\"\",M211/VLOOKUP('Whip Data'!L224,Materials,3,FALSE))","v":""}]
[null,null,null,null,null,null,{"$f":"IFERROR('Whip Data'!A225,\"\")","v":""},{"$f":"IF('Whip Data'!A225=\"\",\"\",IF(VALUE(RIGHT(BOM!K212,1))=0,10,VALUE(RIGHT(BOM!K212,1))))","v":""},{"$f":"IF('Whip Data'!A225=\"\",\"\",VLOOKUP('Whip Data'!L225,Materials,7,FALSE))","v":""},"",{"$f":"IF('Whip Data'!A225=\"\",\"\",VLOOKUP('Whip Data'!L225,Materials,4,FALSE))","v":""},{"$f":"IF('Whip Data'!A225=\"\",\"\",'Whip Data'!O225)","v":""},"",{"$f":"IF(M212=\"\",\"\",M212/VLOOKUP('Whip Data'!L225,Materials,3,FALSE))","v":""}]
[null,null,null,null,null,null,{"$f":"IFERROR('Whip Data'!A226,\"\")","v":""},{"$f":"IF('Whip Data'!A226=\"\",\"\",IF(VALUE(RIGHT(BOM!K213,1))=0,10,VALUE(RIGHT(BOM!K213,1))))","v":""},{"$f":"IF('Whip Data'!A226=\"\",\"\",VLOOKUP('Whip Data'!L226,Materials,7,FALSE))","v":""},"",{"$f":"IF('Whip Data'!A226=\"\",\"\",VLOOKUP('Whip Data'!L226,Materials,4,FALSE))","v":""},{"$f":"IF('Whip Data'!A226=\"\",\"\",'Whip Data'!O226)","v":""},"",{"$f":"IF(M213=\"\",\"\",M213/VLOOKUP('Whip Data'!L226,Materials,3,FALSE))","v":""}]
[null,null,null,null,null,null,{"$f":"IFERROR('Whip Data'!A227,\"\")","v":""},{"$f":"IF('Whip Data'!A227=\"\",\"\",IF(VALUE(RIGHT(BOM!K214,1))=0,10,VALUE(RIGHT(BOM!K214,1))))","v":""},{"$f":"IF('Whip Data'!A227=\"\",\"\",VLOOKUP('Whip Data'!L227,Materials,7,FALSE))","v":""},"",{"$f":"IF('Whip Data'!A227=\"\",\"\",VLOOKUP('Whip Data'!L227,Materials,4,FALSE))","v":""},{"$f":"IF('Whip Data'!A227=\"\",\"\",'Whip Data'!O227)","v":""},"",{"$f":"IF(M214=\"\",\"\",M214/VLOOKUP('Whip Data'!L227,Materials,3,FALSE))","v":""}]
[null,null,null,null,null,null,{"$f":"IFERROR('Whip Data'!A228,\"\")","v":""},{"$f":"IF('Whip Data'!A228=\"\",\"\",IF(VALUE(RIGHT(BOM!K215,1))=0,10,VALUE(RIGHT(BOM!K215,1))))","v":""},{"$f":"IF('Whip Data'!A228=\"\",\"\",VLOOKUP('Whip Data'!L228,Materials,7,FALSE))","v":""},"",{"$f":"IF('Whip Data'!A228=\"\",\"\",VLOOKUP('Whip Data'!L228,Materials,4,FALSE))","v":""},{"$f":"IF('Whip Data'!A228=\"\",\"\",'Whip Data'!O228)","v":""},"",{"$f":"IF(M215=\"\",\"\",M215/VLOOKUP('Whip Data'!L228,Materials,3,FALSE))","v":""}]
[null,null,null,null,null,null,{"$f":"IFERROR('Whip Data'!A229,\"\")","v":""},{"$f":"IF('Whip Data'!A229=\"\",\"\",IF(VALUE(RIGHT(BOM!K216,1))=0,10,VALUE(RIGHT(BOM!K216,1))))","v":""},{"$f":"IF('Whip Data'!A229=\"\",\"\",VLOOKUP('Whip Data'!L229,Materials,7,FALSE))","v":""},"",{"$f":"IF('Whip Data'!A229=\"\",\"\",VLOOKUP('Whip Data'!L229,Materials,4,FALSE))","v":""},{"$f":"IF('Whip Data'!A229=\"\",\"\",'Whip Data'!O229)","v":""},"",{"$f":"IF(M216=\"\",\"\",M216/VLOOKUP('Whip Data'!L229,Materials,3,FALSE))","v":""}]
[null,null,null,null,null,null,{"$f":"IFERROR('Whip Data'!A230,\"\")","v":""},{"$f":"IF('Whip Data'!A230=\"\",\"\",IF(VALUE(RIGHT(BOM!K217,1))=0,10,VALUE(RIGHT(BOM!K217,1))))","v":""},{"$f":"IF('Whip Data'!A230=\"\",\"\",VLOOKUP('Whip Data'!L230,Materials,7,FALSE))","v":""},"",{"$f":"IF('Whip Data'!A230=\"\",\"\",VLOOKUP('Whip Data'!L230,Materials,4,FALSE))","v":""},{"$f":"IF('Whip Data'!A230=\"\",\"\",'Whip Data'!O230)","v":""},"",{"$f":"IF(M217=\"\",\"\",M217/VLOOKUP('Whip Data'!L230,Materials,3,FALSE))","v":""}]
[null,null,null,null,null,null,{"$f":"IFERROR('Whip Data'!A231,\"\")","v":""},{"$f":"IF('Whip Data'!A231=\"\",\"\",IF(VALUE(RIGHT(BOM!K218,1))=0,10,VALUE(RIGHT(BOM!K218,1))))","v":""},{"$f":"IF('Whip Data'!A231=\"\",\"\",VLOOKUP('Whip Data'!L231,Materials,7,FALSE))","v":""},"",{"$f":"IF('Whip Data'!A231=\"\",\"\",VLOOKUP('Whip Data'!L231,Materials,4,FALSE))","v":""},{"$f":"IF('Whip Data'!A231=\"\",\"\",'Whip Data'!O231)","v":""},"",{"$f":"IF(M218=\"\",\"\",M218/VLOOKUP('Whip Data'!L231,Materials,3,FALSE))","v":""}]
[null,null,null,null,null,null,{"$f":"IFERROR('Whip Data'!A232,\"\")","v":""},{"$f":"IF('Whip Data'!A232=\"\",\"\",IF(VALUE(RIGHT(BOM!K219,1))=0,10,VALUE(RIGHT(BOM!K219,1))))","v":""},{"$f":"IF('Whip Data'!A232=\"\",\"\",VLOOKUP('Whip Data'!L232,Materials,7,FALSE))","v":""},"",{"$f":"IF('Whip Data'!A232=\"\",\"\",VLOOKUP('Whip Data'!L232,Materials,4,FALSE))","v":""},{"$f":"IF('Whip Data'!A232=\"\",\"\",'Whip Data'!O232)","v":""},"",{"$f":"IF(M219=\"\",\"\",M219/VLOOKUP('Whip Data'!L232,Materials,3,FALSE))","v":""}]
[null,null,null,null,null,null,{"$f":"IFERROR('Whip Data'!A233,\"\")","v":""},{"$f":"IF('Whip Data'!A233=\"\",\"\",IF(VALUE(RIGHT(BOM!K220,1))=0,10,VALUE(RIGHT(BOM!K220,1))))","v":""},{"$f":"IF('Whip Data'!A233=\"\",\"\",VLOOKUP('Whip Data'!L233,Materials,7,FALSE))","v":""},"",{"$f":"IF('Whip Data'!A233=\"\",\"\",VLOOKUP('Whip Data'!L233,Materials,4,FALSE))","v":""},{"$f":"IF('Whip Data'!A233=\"\",\"\",'Whip Data'!O233)","v":""},"",{"$f":"IF(M220=\"\",\"\",M220/VLOOKUP('Whip Data'!L233,Materials,3,FALSE))","v":""}]
[null,null,null,null,null,null,{"$f":"IFERROR('Whip Data'!A234,\"\")","v":""},{"$f":"IF('Whip Data'!A234=\"\",\"\",IF(VALUE(RIGHT(BOM!K221,1))=0,10,VALUE(RIGHT(BOM!K221,1))))","v":""},{"$f":"IF('Whip Data'!A234=\"\",\"\",VLOOKUP('Whip Data'!L234,Materials,7,FALSE))","v":""},"",{"$f":"IF('Whip Data'!A234=\"\",\"\",VLOOKUP('Whip Data'!L234,Materials,4,FALSE))","v":""},{"$f":"IF('Whip Data'!A234=\"\",\"\",'Whip Data'!O234)","v":""},"",{"$f":"IF(M221=\"\",\"\",M221/VLOOKUP('Whip Data'!L234,Materials,3,FALSE))","v":""}]
[null,null,null,null,null,null,{"$f":"IFERROR('Whip Data'!A235,\"\")","v":""},{"$f":"IF('Whip Data'!A235=\"\",\"\",IF(VALUE(RIGHT(BOM!K222,1))=0,10,VALUE(RIGHT(BOM!K222,1))))","v":""},{"$f":"IF('Whip Data'!A235=\"\",\"\",VLOOKUP('Whip Data'!L235,Materials,7,FALSE))","v":""},"",{"$f":"IF('Whip Data'!A235=\"\",\"\",VLOOKUP('Whip Data'!L235,Materials,4,FALSE))","v":""},{"$f":"IF('Whip Data'!A235=\"\",\"\",'Whip Data'!O235)","v":""},"",{"$f":"IF(M222=\"\",\"\",M222/VLOOKUP('Whip Data'!L235,Materials,3,FALSE))","v":""}]
[null,null,null,null,null,null,{"$f":"IFERROR('Whip Data'!A236,\"\")","v":""},{"$f":"IF('Whip Data'!A236=\"\",\"\",IF(VALUE(RIGHT(BOM!K223,1))=0,10,VALUE(RIGHT(BOM!K223,1))))","v":""},{"$f":"IF('Whip Data'!A236=\"\",\"\",VLOOKUP('Whip Data'!L236,Materials,7,FALSE))","v":""},"",{"$f":"IF('Whip Data'!A236=\"\",\"\",VLOOKUP('Whip Data'!L236,Materials,4,FALSE))","v":""},{"$f":"IF('Whip Data'!A236=\"\",\"\",'Whip Data'!O236)","v":""},"",{"$f":"IF(M223=\"\",\"\",M223/VLOOKUP('Whip Data'!L236,Materials,3,FALSE))","v":""}]
[null,null,null,null,null,null,{"$f":"IFERROR('Whip Data'!A237,\"\")","v":""},{"$f":"IF('Whip Data'!A237=\"\",\"\",IF(VALUE(RIGHT(BOM!K224,1))=0,10,VALUE(RIGHT(BOM!K224,1))))","v":""},{"$f":"IF('Whip Data'!A237=\"\",\"\",VLOOKUP('Whip Data'!L237,Materials,7,FALSE))","v":""},"",{"$f":"IF('Whip Data'!A237=\"\",\"\",VLOOKUP('Whip Data'!L237,Materials,4,FALSE))","v":""},{"$f":"IF('Whip Data'!A237=\"\",\"\",'Whip Data'!O237)","v":""},"",{"$f":"IF(M224=\"\",\"\",M224/VLOOKUP('Whip Data'!L237,Materials,3,FALSE))","v":""}]
[null,null,null,null,null,null,{"$f":"IFERROR('Whip Data'!A238,\"\")","v":""},{"$f":"IF('Whip Data'!A238=\"\",\"\",IF(VALUE(RIGHT(BOM!K225,1))=0,10,VALUE(RIGHT(BOM!K225,1))))","v":""},{"$f":"IF('Whip Data'!A238=\"\",\"\",VLOOKUP('Whip Data'!L238,Materials,7,FALSE))","v":""},"",{"$f":"IF('Whip Data'!A238=\"\",\"\",VLOOKUP('Whip Data'!L238,Materials,4,FALSE))","v":""},{"$f":"IF('Whip Data'!A238=\"\",\"\",'Whip Data'!O238)","v":""},"",{"$f":"IF(M225=\"\",\"\",M225/VLOOKUP('Whip Data'!L238,Materials,3,FALSE))","v":""}]
[null,null,null,null,null,null,{"$f":"IFERROR('Whip Data'!A239,\"\")","v":""},{"$f":"IF('Whip Data'!A239=\"\",\"\",IF(VALUE(RIGHT(BOM!K226,1))=0,10,VALUE(RIGHT(BOM!K226,1))))","v":""},{"$f":"IF('Whip Data'!A239=\"\",\"\",VLOOKUP('Whip Data'!L239,Materials,7,FALSE))","v":""},"",{"$f":"IF('Whip Data'!A239=\"\",\"\",VLOOKUP('Whip Data'!L239,Materials,4,FALSE))","v":""},{"$f":"IF('Whip Data'!A239=\"\",\"\",'Whip Data'!O239)","v":""},"",{"$f":"IF(M226=\"\",\"\",M226/VLOOKUP('Whip Data'!L239,Materials,3,FALSE))","v":""}]
[null,null,null,null,null,null,{"$f":"IFERROR('Whip Data'!A240,\"\")","v":""},{"$f":"IF('Whip Data'!A240=\"\",\"\",IF(VALUE(RIGHT(BOM!K227,1))=0,10,VALUE(RIGHT(BOM!K227,1))))","v":""},{"$f":"IF('Whip Data'!A240=\"\",\"\",VLOOKUP('Whip Data'!L240,Materials,7,FALSE))","v":""},"",{"$f":"IF('Whip Data'!A240=\"\",\"\",VLOOKUP('Whip Data'!L240,Materials,4,FALSE))","v":""},{"$f":"IF('Whip Data'!A240=\"\",\"\",'Whip Data'!O240)","v":""},"",{"$f":"IF(M227=\"\",\"\",M227/VLOOKUP('Whip Data'!L240,Materials,3,FALSE))","v":""}]
[null,null,null,null,null,null,{"$f":"IFERROR('Whip Data'!A241,\"\")","v":""},{"$f":"IF('Whip Data'!A241=\"\",\"\",IF(VALUE(RIGHT(BOM!K228,1))=0,10,VALUE(RIGHT(BOM!K228,1))))","v":""},{"$f":"IF('Whip Data'!A241=\"\",\"\",VLOOKUP('Whip Data'!L241,Materials,7,FALSE))","v":""},"",{"$f":"IF('Whip Data'!A241=\"\",\"\",VLOOKUP('Whip Data'!L241,Materials,4,FALSE))","v":""},{"$f":"IF('Whip Data'!A241=\"\",\"\",'Whip Data'!O241)","v":""},"",{"$f":"IF(M228=\"\",\"\",M228/VLOOKUP('Whip Data'!L241,Materials,3,FALSE))","v":""}]
[null,null,null,null,null,null,{"$f":"IFERROR('Whip Data'!A242,\"\")","v":""},{"$f":"IF('Whip Data'!A242=\"\",\"\",IF(VALUE(RIGHT(BOM!K229,1))=0,10,VALUE(RIGHT(BOM!K229,1))))","v":""},{"$f":"IF('Whip Data'!A242=\"\",\"\",VLOOKUP('Whip Data'!L242,Materials,7,FALSE))","v":""},"",{"$f":"IF('Whip Data'!A242=\"\",\"\",VLOOKUP('Whip Data'!L242,Materials,4,FALSE))","v":""},{"$f":"IF('Whip Data'!A242=\"\",\"\",'Whip Data'!O242)","v":""},"",{"$f":"IF(M229=\"\",\"\",M229/VLOOKUP('Whip Data'!L242,Materials,3,FALSE))","v":""}]
[null,null,null,null,null,null,{"$f":"IFERROR('Whip Data'!A243,\"\")","v":""},{"$f":"IF('Whip Data'!A243=\"\",\"\",IF(VALUE(RIGHT(BOM!K230,1))=0,10,VALUE(RIGHT(BOM!K230,1))))","v":""},{"$f":"IF('Whip Data'!A243=\"\",\"\",VLOOKUP('Whip Data'!L243,Materials,7,FALSE))","v":""},"",{"$f":"IF('Whip Data'!A243=\"\",\"\",VLOOKUP('Whip Data'!L243,Materials,4,FALSE))","v":""},{"$f":"IF('Whip Data'!A243=\"\",\"\",'Whip Data'!O243)","v":""},"",{"$f":"IF(M230=\"\",\"\",M230/VLOOKUP('Whip Data'!L243,Materials,3,FALSE))","v":""}]
[null,null,null,null,null,null,{"$f":"IFERROR('Whip Data'!A244,\"\")","v":""},{"$f":"IF('Whip Data'!A244=\"\",\"\",IF(VALUE(RIGHT(BOM!K231,1))=0,10,VALUE(RIGHT(BOM!K231,1))))","v":""},{"$f":"IF('Whip Data'!A244=\"\",\"\",VLOOKUP('Whip Data'!L244,Materials,7,FALSE))","v":""},"",{"$f":"IF('Whip Data'!A244=\"\",\"\",VLOOKUP('Whip Data'!L244,Materials,4,FALSE))","v":""},{"$f":"IF('Whip Data'!A244=\"\",\"\",'Whip Data'!O244)","v":""},"",{"$f":"IF(M231=\"\",\"\",M231/VLOOKUP('Whip Data'!L244,Materials,3,FALSE))","v":""}]
[null,null,null,null,null,null,{"$f":"IFERROR('Whip Data'!A245,\"\")","v":""},{"$f":"IF('Whip Data'!A245=\"\",\"\",IF(VALUE(RIGHT(BOM!K232,1))=0,10,VALUE(RIGHT(BOM!K232,1))))","v":""},{"$f":"IF('Whip Data'!A245=\"\",\"\",VLOOKUP('Whip Data'!L245,Materials,7,FALSE))","v":""},"",{"$f":"IF('Whip Data'!A245=\"\",\"\",VLOOKUP('Whip Data'!L245,Materials,4,FALSE))","v":""},{"$f":"IF('Whip Data'!A245=\"\",\"\",'Whip Data'!O245)","v":""},"",{"$f":"IF(M232=\"\",\"\",M232/VLOOKUP('Whip Data'!L245,Materials,3,FALSE))","v":""}]
[null,null,null,null,null,null,{"$f":"IFERROR('Whip Data'!A246,\"\")","v":""},{"$f":"IF('Whip Data'!A246=\"\",\"\",IF(VALUE(RIGHT(BOM!K233,1))=0,10,VALUE(RIGHT(BOM!K233,1))))","v":""},{"$f":"IF('Whip Data'!A246=\"\",\"\",VLOOKUP('Whip Data'!L246,Materials,7,FALSE))","v":""},"",{"$f":"IF('Whip Data'!A246=\"\",\"\",VLOOKUP('Whip Data'!L246,Materials,4,FALSE))","v":""},{"$f":"IF('Whip Data'!A246=\"\",\"\",'Whip Data'!O246)","v":""},"",{"$f":"IF(M233=\"\",\"\",M233/VLOOKUP('Whip Data'!L246,Materials,3,FALSE))","v":""}]
[null,null,null,null,null,null,{"$f":"IFERROR('Whip Data'!A247,\"\")","v":""},{"$f":"IF('Whip Data'!A247=\"\",\"\",IF(VALUE(RIGHT(BOM!K234,1))=0,10,VALUE(RIGHT(BOM!K234,1))))","v":""},{"$f":"IF('Whip Data'!A247=\"\",\"\",VLOOKUP('Whip Data'!L247,Materials,7,FALSE))","v":""},"",{"$f":"IF('Whip Data'!A247=\"\",\"\",VLOOKUP('Whip Data'!L247,Materials,4,FALSE))","v":""},{"$f":"IF('Whip Data'!A247=\"\",\"\",'Whip Data'!O247)","v":""},"",{"$f":"IF(M234=\"\",\"\",M234/VLOOKUP('Whip Data'!L247,Materials,3,FALSE))","v":""}]
[null,null,null,null,null,null,{"$f":"IFERROR('Whip Data'!A248,\"\")","v":""},{"$f":"IF('Whip Data'!A248=\"\",\"\",IF(VALUE(RIGHT(BOM!K235,1))=0,10,VALUE(RIGHT(BOM!K235,1))))","v":""},{"$f":"IF('Whip Data'!A248=\"\",\"\",VLOOKUP('Whip Data'!L248,Materials,7,FALSE))","v":""},"",{"$f":"IF('Whip Data'!A248=\"\",\"\",VLOOKUP('Whip Data'!L248,Materials,4,FALSE))","v":""},{"$f":"IF('Whip Data'!A248=\"\",\"\",'Whip Data'!O248)","v":""},"",{"$f":"IF(M235=\"\",\"\",M235/VLOOKUP('Whip Data'!L248,Materials,3,FALSE))","v":""}]
[null,null,null,null,null,null,{"$f":"IFERROR('Whip Data'!A249,\"\")","v":""},{"$f":"IF('Whip Data'!A249=\"\",\"\",IF(VALUE(RIGHT(BOM!K236,1))=0,10,VALUE(RIGHT(BOM!K236,1))))","v":""},{"$f":"IF('Whip Data'!A249=\"\",\"\",VLOOKUP('Whip Data'!L249,Materials,7,FALSE))","v":""},"",{"$f":"IF('Whip Data'!A249=\"\",\"\",VLOOKUP('Whip Data'!L249,Materials,4,FALSE))","v":""},{"$f":"IF('Whip Data'!A249=\"\",\"\",'Whip Data'!O249)","v":""},"",{"$f":"IF(M236=\"\",\"\",M236/VLOOKUP('Whip Data'!L249,Materials,3,FALSE))","v":""}]
[null,null,null,null,null,null,{"$f":"IFERROR('Whip Data'!A250,\"\")","v":""},{"$f":"IF('Whip Data'!A250=\"\",\"\",IF(VALUE(RIGHT(BOM!K237,1))=0,10,VALUE(RIGHT(BOM!K237,1))))","v":""},{"$f":"IF('Whip Data'!A250=\"\",\"\",VLOOKUP('Whip Data'!L250,Materials,7,FALSE))","v":""},"",{"$f":"IF('Whip Data'!A250=\"\",\"\",VLOOKUP('Whip Data'!L250,Materials,4,FALSE))","v":""},{"$f":"IF('Whip Data'!A250=\"\",\"\",'Whip Data'!O250)","v":""},"",{"$f":"IF(M237=\"\",\"\",M237/VLOOKUP('Whip Data'!L250,Materials,3,FALSE))","v":""}]
[null,null,null,null,null,null,{"$f":"IFERROR('Whip Data'!A251,\"\")","v":""},{"$f":"IF('Whip Data'!A251=\"\",\"\",IF(VALUE(RIGHT(BOM!K238,1))=0,10,VALUE(RIGHT(BOM!K238,1))))","v":""},{"$f":"IF('Whip Data'!A251=\"\",\"\",VLOOKUP('Whip Data'!L251,Materials,7,FALSE))","v":""},"",{"$f":"IF('Whip Data'!A251=\"\",\"\",VLOOKUP('Whip Data'!L251,Materials,4,FALSE))","v":""},{"$f":"IF('Whip Data'!A251=\"\",\"\",'Whip Data'!O251)","v":""},"",{"$f":"IF(M238=\"\",\"\",M238/VLOOKUP('Whip Data'!L251,Materials,3,FALSE))","v":""}]
[null,null,null,null,null,null,{"$f":"IFERROR('Whip Data'!A252,\"\")","v":""},{"$f":"IF('Whip Data'!A252=\"\",\"\",IF(VALUE(RIGHT(BOM!K239,1))=0,10,VALUE(RIGHT(BOM!K239,1))))","v":""},{"$f":"IF('Whip Data'!A252=\"\",\"\",VLOOKUP('Whip Data'!L252,Materials,7,FALSE))","v":""},"",{"$f":"IF('Whip Data'!A252=\"\",\"\",VLOOKUP('Whip Data'!L252,Materials,4,FALSE))","v":""},{"$f":"IF('Whip Data'!A252=\"\",\"\",'Whip Data'!O252)","v":""},"",{"$f":"IF(M239=\"\",\"\",M239/VLOOKUP('Whip Data'!L252,Materials,3,FALSE))","v":""}]
[null,null,null,null,null,null,{"$f":"IFERROR('Whip Data'!A253,\"\")","v":""},{"$f":"IF('Whip Data'!A253=\"\",\"\",IF(VALUE(RIGHT(BOM!K240,1))=0,10,VALUE(RIGHT(BOM!K240,1))))","v":""},{"$f":"IF('Whip Data'!A253=\"\",\"\",VLOOKUP('Whip Data'!L253,Materials,7,FALSE))","v":""},"",{"$f":"IF('Whip Data'!A253=\"\",\"\",VLOOKUP('Whip Data'!L253,Materials,4,FALSE))","v":""},{"$f":"IF('Whip Data'!A253=\"\",\"\",'Whip Data'!O253)","v":""},"",{"$f":"IF(M240=\"\",\"\",M240/VLOOKUP('Whip Data'!L253,Materials,3,FALSE))","v":""}]
[null,null,null,null,null,null,{"$f":"IFERROR('Whip Data'!A254,\"\")","v":""},{"$f":"IF('Whip Data'!A254=\"\",\"\",IF(VALUE(RIGHT(BOM!K241,1))=0,10,VALUE(RIGHT(BOM!K241,1))))","v":""},{"$f":"IF('Whip Data'!A254=\"\",\"\",VLOOKUP('Whip Data'!L254,Materials,7,FALSE))","v":""},"",{"$f":"IF('Whip Data'!A254=\"\",\"\",VLOOKUP('Whip Data'!L254,Materials,4,FALSE))","v":""},{"$f":"IF('Whip Data'!A254=\"\",\"\",'Whip Data'!O254)","v":""},"",{"$f":"IF(M241=\"\",\"\",M241/VLOOKUP('Whip Data'!L254,Materials,3,FALSE))","v":""}]
[null,null,null,null,null,null,{"$f":"IFERROR('Whip Data'!A255,\"\")","v":""},{"$f":"IF('Whip Data'!A255=\"\",\"\",IF(VALUE(RIGHT(BOM!K242,1))=0,10,VALUE(RIGHT(BOM!K242,1))))","v":""},{"$f":"IF('Whip Data'!A255=\"\",\"\",VLOOKUP('Whip Data'!L255,Materials,7,FALSE))","v":""},"",{"$f":"IF('Whip Data'!A255=\"\",\"\",VLOOKUP('Whip Data'!L255,Materials,4,FALSE))","v":""},{"$f":"IF('Whip Data'!A255=\"\",\"\",'Whip Data'!O255)","v":""},"",{"$f":"IF(M242=\"\",\"\",M242/VLOOKUP('Whip Data'!L255,Materials,3,FALSE))","v":""}]
[null,null,null,null,null,null,{"$f":"IFERROR('Whip Data'!A256,\"\")","v":""},{"$f":"IF('Whip Data'!A256=\"\",\"\",IF(VALUE(RIGHT(BOM!K243,1))=0,10,VALUE(RIGHT(BOM!K243,1))))","v":""},{"$f":"IF('Whip Data'!A256=\"\",\"\",VLOOKUP('Whip Data'!L256,Materials,7,FALSE))","v":""},"",{"$f":"IF('Whip Data'!A256=\"\",\"\",VLOOKUP('Whip Data'!L256,Materials,4,FALSE))","v":""},{"$f":"IF('Whip Data'!A256=\"\",\"\",'Whip Data'!O256)","v":""},"",{"$f":"IF(M243=\"\",\"\",M243/VLOOKUP('Whip Data'!L256,Materials,3,FALSE))","v":""}]
[null,null,null,null,null,null,{"$f":"IFERROR('Whip Data'!A257,\"\")","v":""},{"$f":"IF('Whip Data'!A257=\"\",\"\",IF(VALUE(RIGHT(BOM!K244,1))=0,10,VALUE(RIGHT(BOM!K244,1))))","v":""},{"$f":"IF('Whip Data'!A257=\"\",\"\",VLOOKUP('Whip Data'!L257,Materials,7,FALSE))","v":""},"",{"$f":"IF('Whip Data'!A257=\"\",\"\",VLOOKUP('Whip Data'!L257,Materials,4,FALSE))","v":""},{"$f":"IF('Whip Data'!A257=\"\",\"\",'Whip Data'!O257)","v":""},"",{"$f":"IF(M244=\"\",\"\",M244/VLOOKUP('Whip Data'!L257,Materials,3,FALSE))","v":""}]
[null,null,null,null,null,null,{"$f":"IFERROR('Whip Data'!A258,\"\")","v":""},{"$f":"IF('Whip Data'!A258=\"\",\"\",IF(VALUE(RIGHT(BOM!K245,1))=0,10,VALUE(RIGHT(BOM!K245,1))))","v":""},{"$f":"IF('Whip Data'!A258=\"\",\"\",VLOOKUP('Whip Data'!L258,Materials,7,FALSE))","v":""},"",{"$f":"IF('Whip Data'!A258=\"\",\"\",VLOOKUP('Whip Data'!L258,Materials,4,FALSE))","v":""},{"$f":"IF('Whip Data'!A258=\"\",\"\",'Whip Data'!O258)","v":""},"",{"$f":"IF(M245=\"\",\"\",M245/VLOOKUP('Whip Data'!L258,Materials,3,FALSE))","v":""}]
[null,null,null,null,null,null,{"$f":"IFERROR('Whip Data'!A259,\"\")","v":""},{"$f":"IF('Whip Data'!A259=\"\",\"\",IF(VALUE(RIGHT(BOM!K246,1))=0,10,VALUE(RIGHT(BOM!K246,1))))","v":""},{"$f":"IF('Whip Data'!A259=\"\",\"\",VLOOKUP('Whip Data'!L259,Materials,7,FALSE))","v":""},"",{"$f":"IF('Whip Data'!A259=\"\",\"\",VLOOKUP('Whip Data'!L259,Materials,4,FALSE))","v":""},{"$f":"IF('Whip Data'!A259=\"\",\"\",'Whip Data'!O259)","v":""},"",{"$f":"IF(M246=\"\",\"\",M246/VLOOKUP('Whip Data'!L259,Materials,3,FALSE))","v":""}]
[null,null,null,null,null,null,{"$f":"IFERROR('Whip Data'!A260,\"\")","v":""},{"$f":"IF('Whip Data'!A260=\"\",\"\",IF(VALUE(RIGHT(BOM!K247,1))=0,10,VALUE(RIGHT(BOM!K247,1))))","v":""},{"$f":"IF('Whip Data'!A260=\"\",\"\",VLOOKUP('Whip Data'!L260,Materials,7,FALSE))","v":""},"",{"$f":"IF('Whip Data'!A260=\"\",\"\",VLOOKUP('Whip Data'!L260,Materials,4,FALSE))","v":""},{"$f":"IF('Whip Data'!A260=\"\",\"\",'Whip Data'!O260)","v":""},"",{"$f":"IF(M247=\"\",\"\",M247/VLOOKUP('Whip Data'!L260,Materials,3,FALSE))","v":""}]
[null,null,null,null,null,null,{"$f":"IFERROR('Whip Data'!A261,\"\")","v":""},{"$f":"IF('Whip Data'!A261=\"\",\"\",IF(VALUE(RIGHT(BOM!K248,1))=0,10,VALUE(RIGHT(BOM!K248,1))))","v":""},{"$f":"IF('Whip Data'!A261=\"\",\"\",VLOOKUP('Whip Data'!L261,Materials,7,FALSE))","v":""},"",{"$f":"IF('Whip Data'!A261=\"\",\"\",VLOOKUP('Whip Data'!L261,Materials,4,FALSE))","v":""},{"$f":"IF('Whip Data'!A261=\"\",\"\",'Whip Data'!O261)","v":""},"",{"$f":"IF(M248=\"\",\"\",M248/VLOOKUP('Whip Data'!L261,Materials,3,FALSE))","v":""}]
[null,null,null,null,null,null,{"$f":"IFERROR('Whip Data'!A262,\"\")","v":""},{"$f":"IF('Whip Data'!A262=\"\",\"\",IF(VALUE(RIGHT(BOM!K249,1))=0,10,VALUE(RIGHT(BOM!K249,1))))","v":""},{"$f":"IF('Whip Data'!A262=\"\",\"\",VLOOKUP('Whip Data'!L262,Materials,7,FALSE))","v":""},"",{"$f":"IF('Whip Data'!A262=\"\",\"\",VLOOKUP('Whip Data'!L262,Materials,4,FALSE))","v":""},{"$f":"IF('Whip Data'!A262=\"\",\"\",'Whip Data'!O262)","v":""},"",{"$f":"IF(M249=\"\",\"\",M249/VLOOKUP('Whip Data'!L262,Materials,3,FALSE))","v":""}]
[null,null,null,null,null,null,{"$f":"IFERROR('Whip Data'!A263,\"\")","v":""},{"$f":"IF('Whip Data'!A263=\"\",\"\",IF(VALUE(RIGHT(BOM!K250,1))=0,10,VALUE(RIGHT(BOM!K250,1))))","v":""},{"$f":"IF('Whip Data'!A263=\"\",\"\",VLOOKUP('Whip Data'!L263,Materials,7,FALSE))","v":""},"",{"$f":"IF('Whip Data'!A263=\"\",\"\",VLOOKUP('Whip Data'!L263,Materials,4,FALSE))","v":""},{"$f":"IF('Whip Data'!A263=\"\",\"\",'Whip Data'!O263)","v":""},"",{"$f":"IF(M250=\"\",\"\",M250/VLOOKUP('Whip Data'!L263,Materials,3,FALSE))","v":""}]
[null,null,null,null,null,null,{"$f":"IFERROR('Whip Data'!A264,\"\")","v":""},{"$f":"IF('Whip Data'!A264=\"\",\"\",IF(VALUE(RIGHT(BOM!K251,1))=0,10,VALUE(RIGHT(BOM!K251,1))))","v":""},{"$f":"IF('Whip Data'!A264=\"\",\"\",VLOOKUP('Whip Data'!L264,Materials,7,FALSE))","v":""},"",{"$f":"IF('Whip Data'!A264=\"\",\"\",VLOOKUP('Whip Data'!L264,Materials,4,FALSE))","v":""},{"$f":"IF('Whip Data'!A264=\"\",\"\",'Whip Data'!O264)","v":""},"",{"$f":"IF(M251=\"\",\"\",M251/VLOOKUP('Whip Data'!L264,Materials,3,FALSE))","v":""}]
[null,null,null,null,null,null,{"$f":"IFERROR('Whip Data'!A265,\"\")","v":""},{"$f":"IF('Whip Data'!A265=\"\",\"\",IF(VALUE(RIGHT(BOM!K252,1))=0,10,VALUE(RIGHT(BOM!K252,1))))","v":""},{"$f":"IF('Whip Data'!A265=\"\",\"\",VLOOKUP('Whip Data'!L265,Materials,7,FALSE))","v":""},"",{"$f":"IF('Whip Data'!A265=\"\",\"\",VLOOKUP('Whip Data'!L265,Materials,4,FALSE))","v":""},{"$f":"IF('Whip Data'!A265=\"\",\"\",'Whip Data'!O265)","v":""},"",{"$f":"IF(M252=\"\",\"\",M252/VLOOKUP('Whip Data'!L265,Materials,3,FALSE))","v":""}]
[null,null,null,null,null,null,{"$f":"IFERROR('Whip Data'!A266,\"\")","v":""},{"$f":"IF('Whip Data'!A266=\"\",\"\",IF(VALUE(RIGHT(BOM!K253,1))=0,10,VALUE(RIGHT(BOM!K253,1))))","v":""},{"$f":"IF('Whip Data'!A266=\"\",\"\",VLOOKUP('Whip Data'!L266,Materials,7,FALSE))","v":""},"",{"$f":"IF('Whip Data'!A266=\"\",\"\",VLOOKUP('Whip Data'!L266,Materials,4,FALSE))","v":""},{"$f":"IF('Whip Data'!A266=\"\",\"\",'Whip Data'!O266)","v":""},"",{"$f":"IF(M253=\"\",\"\",M253/VLOOKUP('Whip Data'!L266,Materials,3,FALSE))","v":""}]
[null,null,null,null,null,null,{"$f":"IFERROR('Whip Data'!A267,\"\")","v":""},{"$f":"IF('Whip Data'!A267=\"\",\"\",IF(VALUE(RIGHT(BOM!K254,1))=0,10,VALUE(RIGHT(BOM!K254,1))))","v":""},{"$f":"IF('Whip Data'!A267=\"\",\"\",VLOOKUP('Whip Data'!L267,Materials,7,FALSE))","v":""},"",{"$f":"IF('Whip Data'!A267=\"\",\"\",VLOOKUP('Whip Data'!L267,Materials,4,FALSE))","v":""},{"$f":"IF('Whip Data'!A267=\"\",\"\",'Whip Data'!O267)","v":""},"",{"$f":"IF(M254=\"\",\"\",M254/VLOOKUP('Whip Data'!L267,Materials,3,FALSE))","v":""}]
[null,null,null,null,null,null,{"$f":"IFERROR('Whip Data'!A268,\"\")","v":""},{"$f":"IF('Whip Data'!A268=\"\",\"\",IF(VALUE(RIGHT(BOM!K255,1))=0,10,VALUE(RIGHT(BOM!K255,1))))","v":""},{"$f":"IF('Whip Data'!A268=\"\",\"\",VLOOKUP('Whip Data'!L268,Materials,7,FALSE))","v":""},"",{"$f":"IF('Whip Data'!A268=\"\",\"\",VLOOKUP('Whip Data'!L268,Materials,4,FALSE))","v":""},{"$f":"IF('Whip Data'!A268=\"\",\"\",'Whip Data'!O268)","v":""},"",{"$f":"IF(M255=\"\",\"\",M255/VLOOKUP('Whip Data'!L268,Materials,3,FALSE))","v":""}]
[null,null,null,null,null,null,{"$f":"IFERROR('Whip Data'!A269,\"\")","v":""},{"$f":"IF('Whip Data'!A269=\"\",\"\",IF(VALUE(RIGHT(BOM!K256,1))=0,10,VALUE(RIGHT(BOM!K256,1))))","v":""},{"$f":"IF('Whip Data'!A269=\"\",\"\",VLOOKUP('Whip Data'!L269,Materials,7,FALSE))","v":""},"",{"$f":"IF('Whip Data'!A269=\"\",\"\",VLOOKUP('Whip Data'!L269,Materials,4,FALSE))","v":""},{"$f":"IF('Whip Data'!A269=\"\",\"\",'Whip Data'!O269)","v":""},"",{"$f":"IF(M256=\"\",\"\",M256/VLOOKUP('Whip Data'!L269,Materials,3,FALSE))","v":""}]
[null,null,null,null,null,null,{"$f":"IFERROR('Whip Data'!A270,\"\")","v":""},{"$f":"IF('Whip Data'!A270=\"\",\"\",IF(VALUE(RIGHT(BOM!K257,1))=0,10,VALUE(RIGHT(BOM!K257,1))))","v":""},{"$f":"IF('Whip Data'!A270=\"\",\"\",VLOOKUP('Whip Data'!L270,Materials,7,FALSE))","v":""},"",{"$f":"IF('Whip Data'!A270=\"\",\"\",VLOOKUP('Whip Data'!L270,Materials,4,FALSE))","v":""},{"$f":"IF('Whip Data'!A270=\"\",\"\",'Whip Data'!O270)","v":""},"",{"$f":"IF(M257=\"\",\"\",M257/VLOOKUP('Whip Data'!L270,Materials,3,FALSE))","v":""}]
[null,null,null,null,null,null,{"$f":"IFERROR('Whip Data'!A271,\"\")","v":""},{"$f":"IF('Whip Data'!A271=\"\",\"\",IF(VALUE(RIGHT(BOM!K258,1))=0,10,VALUE(RIGHT(BOM!K258,1))))","v":""},{"$f":"IF('Whip Data'!A271=\"\",\"\",VLOOKUP('Whip Data'!L271,Materials,7,FALSE))","v":""},{"$f":"IF(G258=\"\",\"\",VLOOKUP(H258,NEC_T8,5,FALSE))","v":""},{"$f":"IF('Whip Data'!A271=\"\",\"\",VLOOKUP('Whip Data'!L271,Materials,4,FALSE))","v":""},{"$f":"IF('Whip Data'!A271=\"\",\"\",'Whip Data'!O271)","v":""},"",{"$f":"IF(M258=\"\",\"\",M258/VLOOKUP('Whip Data'!L271,Materials,3,FALSE))","v":""}]
[null,null,null,null,null,null,{"$f":"IFERROR('Whip Data'!A272,\"\")","v":""},{"$f":"IF('Whip Data'!A272=\"\",\"\",IF(VALUE(RIGHT(BOM!K259,1))=0,10,VALUE(RIGHT(BOM!K259,1))))","v":""},{"$f":"IF('Whip Data'!A272=\"\",\"\",VLOOKUP('Whip Data'!L272,Materials,7,FALSE))","v":""},"",{"$f":"IF('Whip Data'!A272=\"\",\"\",VLOOKUP('Whip Data'!L272,Materials,4,FALSE))","v":""},{"$f":"IF('Whip Data'!A272=\"\",\"\",'Whip Data'!O272)","v":""},"",{"$f":"IF(M259=\"\",\"\",M259/VLOOKUP('Whip Data'!L272,Materials,3,FALSE))","v":""}]
[null,null,null,null,null,null,{"$f":"IFERROR('Whip Data'!A273,\"\")","v":""},{"$f":"IF('Whip Data'!A273=\"\",\"\",IF(VALUE(RIGHT(BOM!K260,1))=0,10,VALUE(RIGHT(BOM!K260,1))))","v":""},{"$f":"IF('Whip Data'!A273=\"\",\"\",VLOOKUP('Whip Data'!L273,Materials,7,FALSE))","v":""},"",{"$f":"IF('Whip Data'!A273=\"\",\"\",VLOOKUP('Whip Data'!L273,Materials,4,FALSE))","v":""},{"$f":"IF('Whip Data'!A273=\"\",\"\",'Whip Data'!O273)","v":""},"",{"$f":"IF(M260=\"\",\"\",M260/VLOOKUP('Whip Data'!L273,Materials,3,FALSE))","v":""}]
[null,null,null,null,null,null,{"$f":"IFERROR('Whip Data'!A274,\"\")","v":""},{"$f":"IF('Whip Data'!A274=\"\",\"\",IF(VALUE(RIGHT(BOM!K261,1))=0,10,VALUE(RIGHT(BOM!K261,1))))","v":""},{"$f":"IF('Whip Data'!A274=\"\",\"\",VLOOKUP('Whip Data'!L274,Materials,7,FALSE))","v":""},"",{"$f":"IF('Whip Data'!A274=\"\",\"\",VLOOKUP('Whip Data'!L274,Materials,4,FALSE))","v":""},{"$f":"IF('Whip Data'!A274=\"\",\"\",'Whip Data'!O274)","v":""},"",{"$f":"IF(M261=\"\",\"\",M261/VLOOKUP('Whip Data'!L274,Materials,3,FALSE))","v":""}]
[null,null,null,null,null,null,{"$f":"IFERROR('Whip Data'!A275,\"\")","v":""},{"$f":"IF('Whip Data'!A275=\"\",\"\",IF(VALUE(RIGHT(BOM!K262,1))=0,10,VALUE(RIGHT(BOM!K262,1))))","v":""},{"$f":"IF('Whip Data'!A275=\"\",\"\",VLOOKUP('Whip Data'!L275,Materials,7,FALSE))","v":""},"",{"$f":"IF('Whip Data'!A275=\"\",\"\",VLOOKUP('Whip Data'!L275,Materials,4,FALSE))","v":""},{"$f":"IF('Whip Data'!A275=\"\",\"\",'Whip Data'!O275)","v":""},"",{"$f":"IF(M262=\"\",\"\",M262/VLOOKUP('Whip Data'!L275,Materials,3,FALSE))","v":""}]
[null,null,null,null,null,null,{"$f":"IFERROR('Whip Data'!A276,\"\")","v":""},{"$f":"IF('Whip Data'!A276=\"\",\"\",IF(VALUE(RIGHT(BOM!K263,1))=0,10,VALUE(RIGHT(BOM!K263,1))))","v":""},{"$f":"IF('Whip Data'!A276=\"\",\"\",VLOOKUP('Whip Data'!L276,Materials,7,FALSE))","v":""},"",{"$f":"IF('Whip Data'!A276=\"\",\"\",VLOOKUP('Whip Data'!L276,Materials,4,FALSE))","v":""},{"$f":"IF('Whip Data'!A276=\"\",\"\",'Whip Data'!O276)","v":""},"",{"$f":"IF(M263=\"\",\"\",M263/VLOOKUP('Whip Data'!L276,Materials,3,FALSE))","v":""}]
[null,null,null,null,null,null,{"$f":"IFERROR('Whip Data'!A277,\"\")","v":""},{"$f":"IF('Whip Data'!A277=\"\",\"\",IF(VALUE(RIGHT(BOM!K264,1))=0,10,VALUE(RIGHT(BOM!K264,1))))","v":""},{"$f":"IF('Whip Data'!A277=\"\",\"\",VLOOKUP('Whip Data'!L277,Materials,7,FALSE))","v":""},"",{"$f":"IF('Whip Data'!A277=\"\",\"\",VLOOKUP('Whip Data'!L277,Materials,4,FALSE))","v":""},{"$f":"IF('Whip Data'!A277=\"\",\"\",'Whip Data'!O277)","v":""},"",{"$f":"IF(M264=\"\",\"\",M264/VLOOKUP('Whip Data'!L277,Materials,3,FALSE))","v":""}]
[null,null,null,null,null,null,{"$f":"IFERROR('Whip Data'!A278,\"\")","v":""},{"$f":"IF('Whip Data'!A278=\"\",\"\",IF(VALUE(RIGHT(BOM!K265,1))=0,10,VALUE(RIGHT(BOM!K265,1))))","v":""},{"$f":"IF('Whip Data'!A278=\"\",\"\",VLOOKUP('Whip Data'!L278,Materials,7,FALSE))","v":""},"",{"$f":"IF('Whip Data'!A278=\"\",\"\",VLOOKUP('Whip Data'!L278,Materials,4,FALSE))","v":""},{"$f":"IF('Whip Data'!A278=\"\",\"\",'Whip Data'!O278)","v":""},"",{"$f":"IF(M265=\"\",\"\",M265/VLOOKUP('Whip Data'!L278,Materials,3,FALSE))","v":""}]
[null,null,null,null,null,null,{"$f":"IFERROR('Whip Data'!A279,\"\")","v":""},{"$f":"IF('Whip Data'!A279=\"\",\"\",IF(VALUE(RIGHT(BOM!K266,1))=0,10,VALUE(RIGHT(BOM!K266,1))))","v":""},{"$f":"IF('Whip Data'!A279=\"\",\"\",VLOOKUP('Whip Data'!L279,Materials,7,FALSE))","v":""},"",{"$f":"IF('Whip Data'!A279=\"\",\"\",VLOOKUP('Whip Data'!L279,Materials,4,FALSE))","v":""},{"$f":"IF('Whip Data'!A279=\"\",\"\",'Whip Data'!O279)","v":""},{"$f":"IF(G266=\"\",\"\",VLOOKUP(I266,$A$15:$B$16,2,FALSE)*J266*K266*L266/1000)","v":""},{"$f":"IF(M266=\"\",\"\",M266/VLOOKUP('Whip Data'!L279,Materials,3,FALSE))","v":""}]
[null,null,null,null,null,null,{"$f":"IFERROR('Whip Data'!A280,\"\")","v":""},{"$f":"IF('Whip Data'!A280=\"\",\"\",IF(VALUE(RIGHT(BOM!K267,1))=0,10,VALUE(RIGHT(BOM!K267,1))))","v":""},{"$f":"IF('Whip Data'!A280=\"\",\"\",VLOOKUP('Whip Data'!L280,Materials,7,FALSE))","v":""},"",{"$f":"IF('Whip Data'!A280=\"\",\"\",VLOOKUP('Whip Data'!L280,Materials,4,FALSE))","v":""},{"$f":"IF('Whip Data'!A280=\"\",\"\",'Whip Data'!O280)","v":""},"",{"$f":"IF(M267=\"\",\"\",M267/VLOOKUP('Whip Data'!L280,Materials,3,FALSE))","v":""}]
[null,null,null,null,null,null,{"$f":"IFERROR('Whip Data'!A281,\"\")","v":""},{"$f":"IF('Whip Data'!A281=\"\",\"\",IF(VALUE(RIGHT(BOM!K268,1))=0,10,VALUE(RIGHT(BOM!K268,1))))","v":""},{"$f":"IF('Whip Data'!A281=\"\",\"\",VLOOKUP('Whip Data'!L281,Materials,7,FALSE))","v":""},"",{"$f":"IF('Whip Data'!A281=\"\",\"\",VLOOKUP('Whip Data'!L281,Materials,4,FALSE))","v":""},{"$f":"IF('Whip Data'!A281=\"\",\"\",'Whip Data'!O281)","v":""},"",{"$f":"IF(M268=\"\",\"\",M268/VLOOKUP('Whip Data'!L281,Materials,3,FALSE))","v":""}]
[null,null,null,null,null,null,{"$f":"IFERROR('Whip Data'!A282,\"\")","v":""},{"$f":"IF('Whip Data'!A282=\"\",\"\",IF(VALUE(RIGHT(BOM!K269,1))=0,10,VALUE(RIGHT(BOM!K269,1))))","v":""},{"$f":"IF('Whip Data'!A282=\"\",\"\",VLOOKUP('Whip Data'!L282,Materials,7,FALSE))","v":""},"",{"$f":"IF('Whip Data'!A282=\"\",\"\",VLOOKUP('Whip Data'!L282,Materials,4,FALSE))","v":""},{"$f":"IF('Whip Data'!A282=\"\",\"\",'Whip Data'!O282)","v":""},"",{"$f":"IF(M269=\"\",\"\",M269/VLOOKUP('Whip Data'!L282,Materials,3,FALSE))","v":""}]
[null,null,null,null,null,null,{"$f":"IFERROR('Whip Data'!A283,\"\")","v":""},{"$f":"IF('Whip Data'!A283=\"\",\"\",IF(VALUE(RIGHT(BOM!K270,1))=0,10,VALUE(RIGHT(BOM!K270,1))))","v":""},{"$f":"IF('Whip Data'!A283=\"\",\"\",VLOOKUP('Whip Data'!L283,Materials,7,FALSE))","v":""},"",{"$f":"IF('Whip Data'!A283=\"\",\"\",VLOOKUP('Whip Data'!L283,Materials,4,FALSE))","v":""},{"$f":"IF('Whip Data'!A283=\"\",\"\",'Whip Data'!O283)","v":""},"",{"$f":"IF(M270=\"\",\"\",M270/VLOOKUP('Whip Data'!L283,Materials,3,FALSE))","v":""}]
[null,null,null,null,null,null,{"$f":"IFERROR('Whip Data'!A284,\"\")","v":""},{"$f":"IF('Whip Data'!A284=\"\",\"\",IF(VALUE(RIGHT(BOM!K271,1))=0,10,VALUE(RIGHT(BOM!K271,1))))","v":""},{"$f":"IF('Whip Data'!A284=\"\",\"\",VLOOKUP('Whip Data'!L284,Materials,7,FALSE))","v":""},"",{"$f":"IF('Whip Data'!A284=\"\",\"\",VLOOKUP('Whip Data'!L284,Materials,4,FALSE))","v":""},{"$f":"IF('Whip Data'!A284=\"\",\"\",'Whip Data'!O284)","v":""},"",{"$f":"IF(M271=\"\",\"\",M271/VLOOKUP('Whip Data'!L284,Materials,3,FALSE))","v":""}]
[null,null,null,null,null,null,{"$f":"IFERROR('Whip Data'!A285,\"\")","v":""},{"$f":"IF('Whip Data'!A285=\"\",\"\",IF(VALUE(RIGHT(BOM!K272,1))=0,10,VALUE(RIGHT(BOM!K272,1))))","v":""},{"$f":"IF('Whip Data'!A285=\"\",\"\",VLOOKUP('Whip Data'!L285,Materials,7,FALSE))","v":""},"",{"$f":"IF('Whip Data'!A285=\"\",\"\",VLOOKUP('Whip Data'!L285,Materials,4,FALSE))","v":""},{"$f":"IF('Whip Data'!A285=\"\",\"\",'Whip Data'!O285)","v":""},"",{"$f":"IF(M272=\"\",\"\",M272/VLOOKUP('Whip Data'!L285,Materials,3,FALSE))","v":""}]
[null,null,null,null,null,null,{"$f":"IFERROR('Whip Data'!A286,\"\")","v":""},{"$f":"IF('Whip Data'!A286=\"\",\"\",IF(VALUE(RIGHT(BOM!K273,1))=0,10,VALUE(RIGHT(BOM!K273,1))))","v":""},{"$f":"IF('Whip Data'!A286=\"\",\"\",VLOOKUP('Whip Data'!L286,Materials,7,FALSE))","v":""},"",{"$f":"IF('Whip Data'!A286=\"\",\"\",VLOOKUP('Whip Data'!L286,Materials,4,FALSE))","v":""},{"$f":"IF('Whip Data'!A286=\"\",\"\",'Whip Data'!O286)","v":""},"",{"$f":"IF(M273=\"\",\"\",M273/VLOOKUP('Whip Data'!L286,Materials,3,FALSE))","v":""}]
[null,null,null,null,null,null,{"$f":"IFERROR('Whip Data'!A287,\"\")","v":""},{"$f":"IF('Whip Data'!A287=\"\",\"\",IF(VALUE(RIGHT(BOM!K274,1))=0,10,VALUE(RIGHT(BOM!K274,1))))","v":""},{"$f":"IF('Whip Data'!A287=\"\",\"\",VLOOKUP('Whip Data'!L287,Materials,7,FALSE))","v":""},"",{"$f":"IF('Whip Data'!A287=\"\",\"\",VLOOKUP('Whip Data'!L287,Materials,4,FALSE))","v":""},{"$f":"IF('Whip Data'!A287=\"\",\"\",'Whip Data'!O287)","v":""},"",{"$f":"IF(M274=\"\",\"\",M274/VLOOKUP('Whip Data'!L287,Materials,3,FALSE))","v":""}]
[null,null,null,null,null,null,{"$f":"IFERROR('Whip Data'!A288,\"\")","v":""},{"$f":"IF('Whip Data'!A288=\"\",\"\",IF(VALUE(RIGHT(BOM!K275,1))=0,10,VALUE(RIGHT(BOM!K275,1))))","v":""},{"$f":"IF('Whip Data'!A288=\"\",\"\",VLOOKUP('Whip Data'!L288,Materials,7,FALSE))","v":""},"",{"$f":"IF('Whip Data'!A288=\"\",\"\",VLOOKUP('Whip Data'!L288,Materials,4,FALSE))","v":""},{"$f":"IF('Whip Data'!A288=\"\",\"\",'Whip Data'!O288)","v":""},"",{"$f":"IF(M275=\"\",\"\",M275/VLOOKUP('Whip Data'!L288,Materials,3,FALSE))","v":""}]
[null,null,null,null,null,null,{"$f":"IFERROR('Whip Data'!A289,\"\")","v":""},{"$f":"IF('Whip Data'!A289=\"\",\"\",IF(VALUE(RIGHT(BOM!K276,1))=0,10,VALUE(RIGHT(BOM!K276,1))))","v":""},{"$f":"IF('Whip Data'!A289=\"\",\"\",VLOOKUP('Whip Data'!L289,Materials,7,FALSE))","v":""},"",{"$f":"IF('Whip Data'!A289=\"\",\"\",VLOOKUP('Whip Data'!L289,Materials,4,FALSE))","v":""},{"$f":"IF('Whip Data'!A289=\"\",\"\",'Whip Data'!O289)","v":""},"",{"$f":"IF(M276=\"\",\"\",M276/VLOOKUP('Whip Data'!L289,Materials,3,FALSE))","v":""}]
[null,null,null,null,null,null,{"$f":"IFERROR('Whip Data'!A290,\"\")","v":""},{"$f":"IF('Whip Data'!A290=\"\",\"\",IF(VALUE(RIGHT(BOM!K277,1))=0,10,VALUE(RIGHT(BOM!K277,1))))","v":""},{"$f":"IF('Whip Data'!A290=\"\",\"\",VLOOKUP('Whip Data'!L290,Materials,7,FALSE))","v":""},"",{"$f":"IF('Whip Data'!A290=\"\",\"\",VLOOKUP('Whip Data'!L290,Materials,4,FALSE))","v":""},{"$f":"IF('Whip Data'!A290=\"\",\"\",'Whip Data'!O290)","v":""},"",{"$f":"IF(M277=\"\",\"\",M277/VLOOKUP('Whip Data'!L290,Materials,3,FALSE))","v":""}]
[null,null,null,null,null,null,{"$f":"IFERROR('Whip Data'!A291,\"\")","v":""},{"$f":"IF('Whip Data'!A291=\"\",\"\",IF(VALUE(RIGHT(BOM!K278,1))=0,10,VALUE(RIGHT(BOM!K278,1))))","v":""},{"$f":"IF('Whip Data'!A291=\"\",\"\",VLOOKUP('Whip Data'!L291,Materials,7,FALSE))","v":""},"",{"$f":"IF('Whip Data'!A291=\"\",\"\",VLOOKUP('Whip Data'!L291,Materials,4,FALSE))","v":""},{"$f":"IF('Whip Data'!A291=\"\",\"\",'Whip Data'!O291)","v":""},"",{"$f":"IF(M278=\"\",\"\",M278/VLOOKUP('Whip Data'!L291,Materials,3,FALSE))","v":""}]
[null,null,null,null,null,null,{"$f":"IFERROR('Whip Data'!A292,\"\")","v":""},{"$f":"IF('Whip Data'!A292=\"\",\"\",IF(VALUE(RIGHT(BOM!K279,1))=0,10,VALUE(RIGHT(BOM!K279,1))))","v":""},{"$f":"IF('Whip Data'!A292=\"\",\"\",VLOOKUP('Whip Data'!L292,Materials,7,FALSE))","v":""},"",{"$f":"IF('Whip Data'!A292=\"\",\"\",VLOOKUP('Whip Data'!L292,Materials,4,FALSE))","v":""},{"$f":"IF('Whip Data'!A292=\"\",\"\",'Whip Data'!O292)","v":""},"",{"$f":"IF(M279=\"\",\"\",M279/VLOOKUP('Whip Data'!L292,Materials,3,FALSE))","v":""}]
[null,null,null,null,null,null,{"$f":"IFERROR('Whip Data'!A293,\"\")","v":""},{"$f":"IF('Whip Data'!A293=\"\",\"\",IF(VALUE(RIGHT(BOM!K280,1))=0,10,VALUE(RIGHT(BOM!K280,1))))","v":""},{"$f":"IF('Whip Data'!A293=\"\",\"\",VLOOKUP('Whip Data'!L293,Materials,7,FALSE))","v":""},"",{"$f":"IF('Whip Data'!A293=\"\",\"\",VLOOKUP('Whip Data'!L293,Materials,4,FALSE))","v":""},{"$f":"IF('Whip Data'!A293=\"\",\"\",'Whip Data'!O293)","v":""},"",{"$f":"IF(M280=\"\",\"\",M280/VLOOKUP('Whip Data'!L293,Materials,3,FALSE))","v":""}]
[null,null,null,null,null,null,{"$f":"IFERROR('Whip Data'!A294,\"\")","v":""},{"$f":"IF('Whip Data'!A294=\"\",\"\",IF(VALUE(RIGHT(BOM!K281,1))=0,10,VALUE(RIGHT(BOM!K281,1))))","v":""},{"$f":"IF('Whip Data'!A294=\"\",\"\",VLOOKUP('Whip Data'!L294,Materials,7,FALSE))","v":""},"",{"$f":"IF('Whip Data'!A294=\"\",\"\",VLOOKUP('Whip Data'!L294,Materials,4,FALSE))","v":""},{"$f":"IF('Whip Data'!A294=\"\",\"\",'Whip Data'!O294)","v":""},"",{"$f":"IF(M281=\"\",\"\",M281/VLOOKUP('Whip Data'!L294,Materials,3,FALSE))","v":""}]
[null,null,null,null,null,null,{"$f":"IFERROR('Whip Data'!A295,\"\")","v":""},{"$f":"IF('Whip Data'!A295=\"\",\"\",IF(VALUE(RIGHT(BOM!K282,1))=0,10,VALUE(RIGHT(BOM!K282,1))))","v":""},{"$f":"IF('Whip Data'!A295=\"\",\"\",VLOOKUP('Whip Data'!L295,Materials,7,FALSE))","v":""},"",{"$f":"IF('Whip Data'!A295=\"\",\"\",VLOOKUP('Whip Data'!L295,Materials,4,FALSE))","v":""},{"$f":"IF('Whip Data'!A295=\"\",\"\",'Whip Data'!O295)","v":""},"",{"$f":"IF(M282=\"\",\"\",M282/VLOOKUP('Whip Data'!L295,Materials,3,FALSE))","v":""}]
[null,null,null,null,null,null,{"$f":"IFERROR('Whip Data'!A296,\"\")","v":""},{"$f":"IF('Whip Data'!A296=\"\",\"\",IF(VALUE(RIGHT(BOM!K283,1))=0,10,VALUE(RIGHT(BOM!K283,1))))","v":""},{"$f":"IF('Whip Data'!A296=\"\",\"\",VLOOKUP('Whip Data'!L296,Materials,7,FALSE))","v":""},"",{"$f":"IF('Whip Data'!A296=\"\",\"\",VLOOKUP('Whip Data'!L296,Materials,4,FALSE))","v":""},{"$f":"IF('Whip Data'!A296=\"\",\"\",'Whip Data'!O296)","v":""},"",{"$f":"IF(M283=\"\",\"\",M283/VLOOKUP('Whip Data'!L296,Materials,3,FALSE))","v":""}]
[null,null,null,null,null,null,{"$f":"IFERROR('Whip Data'!A297,\"\")","v":""},{"$f":"IF('Whip Data'!A297=\"\",\"\",IF(VALUE(RIGHT(BOM!K284,1))=0,10,VALUE(RIGHT(BOM!K284,1))))","v":""},{"$f":"IF('Whip Data'!A297=\"\",\"\",VLOOKUP('Whip Data'!L297,Materials,7,FALSE))","v":""},"",{"$f":"IF('Whip Data'!A297=\"\",\"\",VLOOKUP('Whip Data'!L297,Materials,4,FALSE))","v":""},{"$f":"IF('Whip Data'!A297=\"\",\"\",'Whip Data'!O297)","v":""},"",{"$f":"IF(M284=\"\",\"\",M284/VLOOKUP('Whip Data'!L297,Materials,3,FALSE))","v":""}]
[null,null,null,null,null,null,{"$f":"IFERROR('Whip Data'!A298,\"\")","v":""},{"$f":"IF('Whip Data'!A298=\"\",\"\",IF(VALUE(RIGHT(BOM!K285,1))=0,10,VALUE(RIGHT(BOM!K285,1))))","v":""},{"$f":"IF('Whip Data'!A298=\"\",\"\",VLOOKUP('Whip Data'!L298,Materials,7,FALSE))","v":""},"",{"$f":"IF('Whip Data'!A298=\"\",\"\",VLOOKUP('Whip Data'!L298,Materials,4,FALSE))","v":""},{"$f":"IF('Whip Data'!A298=\"\",\"\",'Whip Data'!O298)","v":""},"",{"$f":"IF(M285=\"\",\"\",M285/VLOOKUP('Whip Data'!L298,Materials,3,FALSE))","v":""}]
[null,null,null,null,null,null,{"$f":"IFERROR('Whip Data'!A299,\"\")","v":""},{"$f":"IF('Whip Data'!A299=\"\",\"\",IF(VALUE(RIGHT(BOM!K286,1))=0,10,VALUE(RIGHT(BOM!K286,1))))","v":""},{"$f":"IF('Whip Data'!A299=\"\",\"\",VLOOKUP('Whip Data'!L299,Materials,7,FALSE))","v":""},"",{"$f":"IF('Whip Data'!A299=\"\",\"\",VLOOKUP('Whip Data'!L299,Materials,4,FALSE))","v":""},{"$f":"IF('Whip Data'!A299=\"\",\"\",'Whip Data'!O299)","v":""},"",{"$f":"IF(M286=\"\",\"\",M286/VLOOKUP('Whip Data'!L299,Materials,3,FALSE))","v":""}]
[null,null,null,null,null,null,{"$f":"IFERROR('Whip Data'!A300,\"\")","v":""},{"$f":"IF('Whip Data'!A300=\"\",\"\",IF(VALUE(RIGHT(BOM!K287,1))=0,10,VALUE(RIGHT(BOM!K287,1))))","v":""},{"$f":"IF('Whip Data'!A300=\"\",\"\",VLOOKUP('Whip Data'!L300,Materials,7,FALSE))","v":""},"",{"$f":"IF('Whip Data'!A300=\"\",\"\",VLOOKUP('Whip Data'!L300,Materials,4,FALSE))","v":""},{"$f":"IF('Whip Data'!A300=\"\",\"\",'Whip Data'!O300)","v":""},"",{"$f":"IF(M287=\"\",\"\",M287/VLOOKUP('Whip Data'!L300,Materials,3,FALSE))","v":""}]
[null,null,null,null,null,null,{"$f":"IFERROR('Whip Data'!A301,\"\")","v":""},{"$f":"IF('Whip Data'!A301=\"\",\"\",IF(VALUE(RIGHT(BOM!K288,1))=0,10,VALUE(RIGHT(BOM!K288,1))))","v":""},{"$f":"IF('Whip Data'!A301=\"\",\"\",VLOOKUP('Whip Data'!L301,Materials,7,FALSE))","v":""},"",{"$f":"IF('Whip Data'!A301=\"\",\"\",VLOOKUP('Whip Data'!L301,Materials,4,FALSE))","v":""},{"$f":"IF('Whip Data'!A301=\"\",\"\",'Whip Data'!O301)","v":""},"",{"$f":"IF(M288=\"\",\"\",M288/VLOOKUP('Whip Data'!L301,Materials,3,FALSE))","v":""}]
[null,null,null,null,null,null,{"$f":"IFERROR('Whip Data'!A302,\"\")","v":""},{"$f":"IF('Whip Data'!A302=\"\",\"\",IF(VALUE(RIGHT(BOM!K289,1))=0,10,VALUE(RIGHT(BOM!K289,1))))","v":""},{"$f":"IF('Whip Data'!A302=\"\",\"\",VLOOKUP('Whip Data'!L302,Materials,7,FALSE))","v":""},"",{"$f":"IF('Whip Data'!A302=\"\",\"\",VLOOKUP('Whip Data'!L302,Materials,4,FALSE))","v":""},{"$f":"IF('Whip Data'!A302=\"\",\"\",'Whip Data'!O302)","v":""},"",{"$f":"IF(M289=\"\",\"\",M289/VLOOKUP('Whip Data'!L302,Materials,3,FALSE))","v":""}]
[null,null,null,null,null,null,{"$f":"IFERROR('Whip Data'!A303,\"\")","v":""},{"$f":"IF('Whip Data'!A303=\"\",\"\",IF(VALUE(RIGHT(BOM!K290,1))=0,10,VALUE(RIGHT(BOM!K290,1))))","v":""},{"$f":"IF('Whip Data'!A303=\"\",\"\",VLOOKUP('Whip Data'!L303,Materials,7,FALSE))","v":""},"",{"$f":"IF('Whip Data'!A303=\"\",\"\",VLOOKUP('Whip Data'!L303,Materials,4,FALSE))","v":""},{"$f":"IF('Whip Data'!A303=\"\",\"\",'Whip Data'!O303)","v":""},"",{"$f":"IF(M290=\"\",\"\",M290/VLOOKUP('Whip Data'!L303,Materials,3,FALSE))","v":""}]
[null,null,null,null,null,null,{"$f":"IFERROR('Whip Data'!A304,\"\")","v":""},{"$f":"IF('Whip Data'!A304=\"\",\"\",IF(VALUE(RIGHT(BOM!K291,1))=0,10,VALUE(RIGHT(BOM!K291,1))))","v":""},{"$f":"IF('Whip Data'!A304=\"\",\"\",VLOOKUP('Whip Data'!L304,Materials,7,FALSE))","v":""},"",{"$f":"IF('Whip Data'!A304=\"\",\"\",VLOOKUP('Whip Data'!L304,Materials,4,FALSE))","v":""},{"$f":"IF('Whip Data'!A304=\"\",\"\",'Whip Data'!O304)","v":""},"",{"$f":"IF(M291=\"\",\"\",M291/VLOOKUP('Whip Data'!L304,Materials,3,FALSE))","v":""}]
[null,null,null,null,null,null,{"$f":"IFERROR('Whip Data'!A305,\"\")","v":""},{"$f":"IF('Whip Data'!A305=\"\",\"\",IF(VALUE(RIGHT(BOM!K292,1))=0,10,VALUE(RIGHT(BOM!K292,1))))","v":""},{"$f":"IF('Whip Data'!A305=\"\",\"\",VLOOKUP('Whip Data'!L305,Materials,7,FALSE))","v":""},"",{"$f":"IF('Whip Data'!A305=\"\",\"\",VLOOKUP('Whip Data'!L305,Materials,4,FALSE))","v":""},{"$f":"IF('Whip Data'!A305=\"\",\"\",'Whip Data'!O305)","v":""},"",{"$f":"IF(M292=\"\",\"\",M292/VLOOKUP('Whip Data'!L305,Materials,3,FALSE))","v":""}]
[null,null,null,null,null,null,{"$f":"IFERROR('Whip Data'!A306,\"\")","v":""},{"$f":"IF('Whip Data'!A306=\"\",\"\",IF(VALUE(RIGHT(BOM!K293,1))=0,10,VALUE(RIGHT(BOM!K293,1))))","v":""},{"$f":"IF('Whip Data'!A306=\"\",\"\",VLOOKUP('Whip Data'!L306,Materials,7,FALSE))","v":""},"",{"$f":"IF('Whip Data'!A306=\"\",\"\",VLOOKUP('Whip Data'!L306,Materials,4,FALSE))","v":""},{"$f":"IF('Whip Data'!A306=\"\",\"\",'Whip Data'!O306)","v":""},"",{"$f":"IF(M293=\"\",\"\",M293/VLOOKUP('Whip Data'!L306,Materials,3,FALSE))","v":""}]
[null,null,null,null,null,null,{"$f":"IFERROR('Whip Data'!A307,\"\")","v":""},{"$f":"IF('Whip Data'!A307=\"\",\"\",IF(VALUE(RIGHT(BOM!K294,1))=0,10,VALUE(RIGHT(BOM!K294,1))))","v":""},{"$f":"IF('Whip Data'!A307=\"\",\"\",VLOOKUP('Whip Data'!L307,Materials,7,FALSE))","v":""},"",{"$f":"IF('Whip Data'!A307=\"\",\"\",VLOOKUP('Whip Data'!L307,Materials,4,FALSE))","v":""},{"$f":"IF('Whip Data'!A307=\"\",\"\",'Whip Data'!O307)","v":""},"",{"$f":"IF(M294=\"\",\"\",M294/VLOOKUP('Whip Data'!L307,Materials,3,FALSE))","v":""}]
[null,null,null,null,null,null,{"$f":"IFERROR('Whip Data'!A308,\"\")","v":""},{"$f":"IF('Whip Data'!A308=\"\",\"\",IF(VALUE(RIGHT(BOM!K295,1))=0,10,VALUE(RIGHT(BOM!K295,1))))","v":""},{"$f":"IF('Whip Data'!A308=\"\",\"\",VLOOKUP('Whip Data'!L308,Materials,7,FALSE))","v":""},"",{"$f":"IF('Whip Data'!A308=\"\",\"\",VLOOKUP('Whip Data'!L308,Materials,4,FALSE))","v":""},{"$f":"IF('Whip Data'!A308=\"\",\"\",'Whip Data'!O308)","v":""},"",{"$f":"IF(M295=\"\",\"\",M295/VLOOKUP('Whip Data'!L308,Materials,3,FALSE))","v":""}]
[null,null,null,null,null,null,{"$f":"IFERROR('Whip Data'!A309,\"\")","v":""},{"$f":"IF('Whip Data'!A309=\"\",\"\",IF(VALUE(RIGHT(BOM!K296,1))=0,10,VALUE(RIGHT(BOM!K296,1))))","v":""},{"$f":"IF('Whip Data'!A309=\"\",\"\",VLOOKUP('Whip Data'!L309,Materials,7,FALSE))","v":""},"",{"$f":"IF('Whip Data'!A309=\"\",\"\",VLOOKUP('Whip Data'!L309,Materials,4,FALSE))","v":""},{"$f":"IF('Whip Data'!A309=\"\",\"\",'Whip Data'!O309)","v":""},"",{"$f":"IF(M296=\"\",\"\",M296/VLOOKUP('Whip Data'!L309,Materials,3,FALSE))","v":""}]
[null,null,null,null,null,null,{"$f":"IFERROR('Whip Data'!A310,\"\")","v":""},{"$f":"IF('Whip Data'!A310=\"\",\"\",IF(VALUE(RIGHT(BOM!K297,1))=0,10,VALUE(RIGHT(BOM!K297,1))))","v":""},{"$f":"IF('Whip Data'!A310=\"\",\"\",VLOOKUP('Whip Data'!L310,Materials,7,FALSE))","v":""},"",{"$f":"IF('Whip Data'!A310=\"\",\"\",VLOOKUP('Whip Data'!L310,Materials,4,FALSE))","v":""},{"$f":"IF('Whip Data'!A310=\"\",\"\",'Whip Data'!O310)","v":""},"",{"$f":"IF(M297=\"\",\"\",M297/VLOOKUP('Whip Data'!L310,Materials,3,FALSE))","v":""}]
[null,null,null,null,null,null,{"$f":"IFERROR('Whip Data'!A311,\"\")","v":""},{"$f":"IF('Whip Data'!A311=\"\",\"\",IF(VALUE(RIGHT(BOM!K298,1))=0,10,VALUE(RIGHT(BOM!K298,1))))","v":""},{"$f":"IF('Whip Data'!A311=\"\",\"\",VLOOKUP('Whip Data'!L311,Materials,7,FALSE))","v":""},"",{"$f":"IF('Whip Data'!A311=\"\",\"\",VLOOKUP('Whip Data'!L311,Materials,4,FALSE))","v":""},{"$f":"IF('Whip Data'!A311=\"\",\"\",'Whip Data'!O311)","v":""},"",{"$f":"IF(M298=\"\",\"\",M298/VLOOKUP('Whip Data'!L311,Materials,3,FALSE))","v":""}]
[null,null,null,null,null,null,{"$f":"IFERROR('Whip Data'!A312,\"\")","v":""},{"$f":"IF('Whip Data'!A312=\"\",\"\",IF(VALUE(RIGHT(BOM!K299,1))=0,10,VALUE(RIGHT(BOM!K299,1))))","v":""},{"$f":"IF('Whip Data'!A312=\"\",\"\",VLOOKUP('Whip Data'!L312,Materials,7,FALSE))","v":""},"",{"$f":"IF('Whip Data'!A312=\"\",\"\",VLOOKUP('Whip Data'!L312,Materials,4,FALSE))","v":""},{"$f":"IF('Whip Data'!A312=\"\",\"\",'Whip Data'!O312)","v":""},"",{"$f":"IF(M299=\"\",\"\",M299/VLOOKUP('Whip Data'!L312,Materials,3,FALSE))","v":""}]
[null,null,null,null,null,null,{"$f":"IFERROR('Whip Data'!A313,\"\")","v":""},{"$f":"IF('Whip Data'!A313=\"\",\"\",IF(VALUE(RIGHT(BOM!K300,1))=0,10,VALUE(RIGHT(BOM!K300,1))))","v":""},{"$f":"IF('Whip Data'!A313=\"\",\"\",VLOOKUP('Whip Data'!L313,Materials,7,FALSE))","v":""},"",{"$f":"IF('Whip Data'!A313=\"\",\"\",VLOOKUP('Whip Data'!L313,Materials,4,FALSE))","v":""},{"$f":"IF('Whip Data'!A313=\"\",\"\",'Whip Data'!O313)","v":""},"",{"$f":"IF(M300=\"\",\"\",M300/VLOOKUP('Whip Data'!L313,Materials,3,FALSE))","v":""}]
[null,null,null,null,null,null,{"$f":"IFERROR('Whip Data'!A314,\"\")","v":""},{"$f":"IF('Whip Data'!A314=\"\",\"\",IF(VALUE(RIGHT(BOM!K301,1))=0,10,VALUE(RIGHT(BOM!K301,1))))","v":""},{"$f":"IF('Whip Data'!A314=\"\",\"\",VLOOKUP('Whip Data'!L314,Materials,7,FALSE))","v":""},"",{"$f":"IF('Whip Data'!A314=\"\",\"\",VLOOKUP('Whip Data'!L314,Materials,4,FALSE))","v":""},{"$f":"IF('Whip Data'!A314=\"\",\"\",'Whip Data'!O314)","v":""},"",{"$f":"IF(M301=\"\",\"\",M301/VLOOKUP('Whip Data'!L314,Materials,3,FALSE))","v":""}]
[null,null,null,null,null,null,{"$f":"IFERROR('Whip Data'!A315,\"\")","v":""},{"$f":"IF('Whip Data'!A315=\"\",\"\",IF(VALUE(RIGHT(BOM!K302,1))=0,10,VALUE(RIGHT(BOM!K302,1))))","v":""},{"$f":"IF('Whip Data'!A315=\"\",\"\",VLOOKUP('Whip Data'!L315,Materials,7,FALSE))","v":""},"",{"$f":"IF('Whip Data'!A315=\"\",\"\",VLOOKUP('Whip Data'!L315,Materials,4,FALSE))","v":""},{"$f":"IF('Whip Data'!A315=\"\",\"\",'Whip Data'!O315)","v":""},"",{"$f":"IF(M302=\"\",\"\",M302/VLOOKUP('Whip Data'!L315,Materials,3,FALSE))","v":""}]
[null,null,null,null,null,null,{"$f":"IFERROR('Whip Data'!A316,\"\")","v":""},{"$f":"IF('Whip Data'!A316=\"\",\"\",IF(VALUE(RIGHT(BOM!K303,1))=0,10,VALUE(RIGHT(BOM!K303,1))))","v":""},{"$f":"IF('Whip Data'!A316=\"\",\"\",VLOOKUP('Whip Data'!L316,Materials,7,FALSE))","v":""},"",{"$f":"IF('Whip Data'!A316=\"\",\"\",VLOOKUP('Whip Data'!L316,Materials,4,FALSE))","v":""},{"$f":"IF('Whip Data'!A316=\"\",\"\",'Whip Data'!O316)","v":""},"",{"$f":"IF(M303=\"\",\"\",M303/VLOOKUP('Whip Data'!L316,Materials,3,FALSE))","v":""}]
[null,null,null,null,null,null,{"$f":"IFERROR('Whip Data'!A317,\"\")","v":""},{"$f":"IF('Whip Data'!A317=\"\",\"\",IF(VALUE(RIGHT(BOM!K304,1))=0,10,VALUE(RIGHT(BOM!K304,1))))","v":""},{"$f":"IF('Whip Data'!A317=\"\",\"\",VLOOKUP('Whip Data'!L317,Materials,7,FALSE))","v":""},"",{"$f":"IF('Whip Data'!A317=\"\",\"\",VLOOKUP('Whip Data'!L317,Materials,4,FALSE))","v":""},{"$f":"IF('Whip Data'!A317=\"\",\"\",'Whip Data'!O317)","v":""},"",{"$f":"IF(M304=\"\",\"\",M304/VLOOKUP('Whip Data'!L317,Materials,3,FALSE))","v":""}]
[null,null,null,null,null,null,{"$f":"IFERROR('Whip Data'!A318,\"\")","v":""},{"$f":"IF('Whip Data'!A318=\"\",\"\",IF(VALUE(RIGHT(BOM!K305,1))=0,10,VALUE(RIGHT(BOM!K305,1))))","v":""},{"$f":"IF('Whip Data'!A318=\"\",\"\",VLOOKUP('Whip Data'!L318,Materials,7,FALSE))","v":""},"",{"$f":"IF('Whip Data'!A318=\"\",\"\",VLOOKUP('Whip Data'!L318,Materials,4,FALSE))","v":""},{"$f":"IF('Whip Data'!A318=\"\",\"\",'Whip Data'!O318)","v":""},"",{"$f":"IF(M305=\"\",\"\",M305/VLOOKUP('Whip Data'!L318,Materials,3,FALSE))","v":""}]
[null,null,null,null,null,null,{"$f":"IFERROR('Whip Data'!A319,\"\")","v":""},{"$f":"IF('Whip Data'!A319=\"\",\"\",IF(VALUE(RIGHT(BOM!K306,1))=0,10,VALUE(RIGHT(BOM!K306,1))))","v":""},{"$f":"IF('Whip Data'!A319=\"\",\"\",VLOOKUP('Whip Data'!L319,Materials,7,FALSE))","v":""},"",{"$f":"IF('Whip Data'!A319=\"\",\"\",VLOOKUP('Whip Data'!L319,Materials,4,FALSE))","v":""},{"$f":"IF('Whip Data'!A319=\"\",\"\",'Whip Data'!O319)","v":""},"",{"$f":"IF(M306=\"\",\"\",M306/VLOOKUP('Whip Data'!L319,Materials,3,FALSE))","v":""}]
[null,null,null,null,null,null,{"$f":"IFERROR('Whip Data'!A320,\"\")","v":""},{"$f":"IF('Whip Data'!A320=\"\",\"\",IF(VALUE(RIGHT(BOM!K307,1))=0,10,VALUE(RIGHT(BOM!K307,1))))","v":""},{"$f":"IF('Whip Data'!A320=\"\",\"\",VLOOKUP('Whip Data'!L320,Materials,7,FALSE))","v":""},"",{"$f":"IF('Whip Data'!A320=\"\",\"\",VLOOKUP('Whip Data'!L320,Materials,4,FALSE))","v":""},{"$f":"IF('Whip Data'!A320=\"\",\"\",'Whip Data'!O320)","v":""},"",{"$f":"IF(M307=\"\",\"\",M307/VLOOKUP('Whip Data'!L320,Materials,3,FALSE))","v":""}]
[null,null,null,null,null,null,{"$f":"IFERROR('Whip Data'!A321,\"\")","v":""},{"$f":"IF('Whip Data'!A321=\"\",\"\",IF(VALUE(RIGHT(BOM!K308,1))=0,10,VALUE(RIGHT(BOM!K308,1))))","v":""},{"$f":"IF('Whip Data'!A321=\"\",\"\",VLOOKUP('Whip Data'!L321,Materials,7,FALSE))","v":""},"",{"$f":"IF('Whip Data'!A321=\"\",\"\",VLOOKUP('Whip Data'!L321,Materials,4,FALSE))","v":""},{"$f":"IF('Whip Data'!A321=\"\",\"\",'Whip Data'!O321)","v":""},"",{"$f":"IF(M308=\"\",\"\",M308/VLOOKUP('Whip Data'!L321,Materials,3,FALSE))","v":""}]
[null,null,null,null,null,null,{"$f":"IFERROR('Whip Data'!A322,\"\")","v":""},{"$f":"IF('Whip Data'!A322=\"\",\"\",IF(VALUE(RIGHT(BOM!K309,1))=0,10,VALUE(RIGHT(BOM!K309,1))))","v":""},{"$f":"IF('Whip Data'!A322=\"\",\"\",VLOOKUP('Whip Data'!L322,Materials,7,FALSE))","v":""},"",{"$f":"IF('Whip Data'!A322=\"\",\"\",VLOOKUP('Whip Data'!L322,Materials,4,FALSE))","v":""},{"$f":"IF('Whip Data'!A322=\"\",\"\",'Whip Data'!O322)","v":""},"",{"$f":"IF(M309=\"\",\"\",M309/VLOOKUP('Whip Data'!L322,Materials,3,FALSE))","v":""}]
[null,null,null,null,null,null,{"$f":"IFERROR('Whip Data'!A323,\"\")","v":""},{"$f":"IF('Whip Data'!A323=\"\",\"\",IF(VALUE(RIGHT(BOM!K310,1))=0,10,VALUE(RIGHT(BOM!K310,1))))","v":""},{"$f":"IF('Whip Data'!A323=\"\",\"\",VLOOKUP('Whip Data'!L323,Materials,7,FALSE))","v":""},"",{"$f":"IF('Whip Data'!A323=\"\",\"\",VLOOKUP('Whip Data'!L323,Materials,4,FALSE))","v":""},{"$f":"IF('Whip Data'!A323=\"\",\"\",'Whip Data'!O323)","v":""},"",{"$f":"IF(M310=\"\",\"\",M310/VLOOKUP('Whip Data'!L323,Materials,3,FALSE))","v":""}]
[null,null,null,null,null,null,{"$f":"IFERROR('Whip Data'!A324,\"\")","v":""},{"$f":"IF('Whip Data'!A324=\"\",\"\",IF(VALUE(RIGHT(BOM!K311,1))=0,10,VALUE(RIGHT(BOM!K311,1))))","v":""},{"$f":"IF('Whip Data'!A324=\"\",\"\",VLOOKUP('Whip Data'!L324,Materials,7,FALSE))","v":""},"",{"$f":"IF('Whip Data'!A324=\"\",\"\",VLOOKUP('Whip Data'!L324,Materials,4,FALSE))","v":""},{"$f":"IF('Whip Data'!A324=\"\",\"\",'Whip Data'!O324)","v":""},"",{"$f":"IF(M311=\"\",\"\",M311/VLOOKUP('Whip Data'!L324,Materials,3,FALSE))","v":""}]
[null,null,null,null,null,null,{"$f":"IFERROR('Whip Data'!A325,\"\")","v":""},{"$f":"IF('Whip Data'!A325=\"\",\"\",IF(VALUE(RIGHT(BOM!K312,1))=0,10,VALUE(RIGHT(BOM!K312,1))))","v":""},{"$f":"IF('Whip Data'!A325=\"\",\"\",VLOOKUP('Whip Data'!L325,Materials,7,FALSE))","v":""},"",{"$f":"IF('Whip Data'!A325=\"\",\"\",VLOOKUP('Whip Data'!L325,Materials,4,FALSE))","v":""},{"$f":"IF('Whip Data'!A325=\"\",\"\",'Whip Data'!O325)","v":""},"",{"$f":"IF(M312=\"\",\"\",M312/VLOOKUP('Whip Data'!L325,Materials,3,FALSE))","v":""}]
[null,null,null,null,null,null,{"$f":"IFERROR('Whip Data'!A326,\"\")","v":""},{"$f":"IF('Whip Data'!A326=\"\",\"\",IF(VALUE(RIGHT(BOM!K313,1))=0,10,VALUE(RIGHT(BOM!K313,1))))","v":""},{"$f":"IF('Whip Data'!A326=\"\",\"\",VLOOKUP('Whip Data'!L326,Materials,7,FALSE))","v":""},"",{"$f":"IF('Whip Data'!A326=\"\",\"\",VLOOKUP('Whip Data'!L326,Materials,4,FALSE))","v":""},{"$f":"IF('Whip Data'!A326=\"\",\"\",'Whip Data'!O326)","v":""},"",{"$f":"IF(M313=\"\",\"\",M313/VLOOKUP('Whip Data'!L326,Materials,3,FALSE))","v":""}]
[null,null,null,null,null,null,{"$f":"IFERROR('Whip Data'!A327,\"\")","v":""},{"$f":"IF('Whip Data'!A327=\"\",\"\",IF(VALUE(RIGHT(BOM!K314,1))=0,10,VALUE(RIGHT(BOM!K314,1))))","v":""},{"$f":"IF('Whip Data'!A327=\"\",\"\",VLOOKUP('Whip Data'!L327,Materials,7,FALSE))","v":""},"",{"$f":"IF('Whip Data'!A327=\"\",\"\",VLOOKUP('Whip Data'!L327,Materials,4,FALSE))","v":""},{"$f":"IF('Whip Data'!A327=\"\",\"\",'Whip Data'!O327)","v":""},"",{"$f":"IF(M314=\"\",\"\",M314/VLOOKUP('Whip Data'!L327,Materials,3,FALSE))","v":""}]
[null,null,null,null,null,null,{"$f":"IFERROR('Whip Data'!A328,\"\")","v":""},{"$f":"IF('Whip Data'!A328=\"\",\"\",IF(VALUE(RIGHT(BOM!K315,1))=0,10,VALUE(RIGHT(BOM!K315,1))))","v":""},{"$f":"IF('Whip Data'!A328=\"\",\"\",VLOOKUP('Whip Data'!L328,Materials,7,FALSE))","v":""},"",{"$f":"IF('Whip Data'!A328=\"\",\"\",VLOOKUP('Whip Data'!L328,Materials,4,FALSE))","v":""},{"$f":"IF('Whip Data'!A328=\"\",\"\",'Whip Data'!O328)","v":""},"",{"$f":"IF(M315=\"\",\"\",M315/VLOOKUP('Whip Data'!L328,Materials,3,FALSE))","v":""}]
[null,null,null,null,null,null,{"$f":"IFERROR('Whip Data'!A329,\"\")","v":""},{"$f":"IF('Whip Data'!A329=\"\",\"\",IF(VALUE(RIGHT(BOM!K316,1))=0,10,VALUE(RIGHT(BOM!K316,1))))","v":""},{"$f":"IF('Whip Data'!A329=\"\",\"\",VLOOKUP('Whip Data'!L329,Materials,7,FALSE))","v":""},"",{"$f":"IF('Whip Data'!A329=\"\",\"\",VLOOKUP('Whip Data'!L329,Materials,4,FALSE))","v":""},{"$f":"IF('Whip Data'!A329=\"\",\"\",'Whip Data'!O329)","v":""},"",{"$f":"IF(M316=\"\",\"\",M316/VLOOKUP('Whip Data'!L329,Materials,3,FALSE))","v":""}]
[null,null,null,null,null,null,{"$f":"IFERROR('Whip Data'!A330,\"\")","v":""},{"$f":"IF('Whip Data'!A330=\"\",\"\",IF(VALUE(RIGHT(BOM!K317,1))=0,10,VALUE(RIGHT(BOM!K317,1))))","v":""},{"$f":"IF('Whip Data'!A330=\"\",\"\",VLOOKUP('Whip Data'!L330,Materials,7,FALSE))","v":""},"",{"$f":"IF('Whip Data'!A330=\"\",\"\",VLOOKUP('Whip Data'!L330,Materials,4,FALSE))","v":""},{"$f":"IF('Whip Data'!A330=\"\",\"\",'Whip Data'!O330)","v":""},"",{"$f":"IF(M317=\"\",\"\",M317/VLOOKUP('Whip Data'!L330,Materials,3,FALSE))","v":""}]
[null,null,null,null,null,null,{"$f":"IFERROR('Whip Data'!A331,\"\")","v":""},{"$f":"IF('Whip Data'!A331=\"\",\"\",IF(VALUE(RIGHT(BOM!K318,1))=0,10,VALUE(RIGHT(BOM!K318,1))))","v":""},{"$f":"IF('Whip Data'!A331=\"\",\"\",VLOOKUP('Whip Data'!L331,Materials,7,FALSE))","v":""},"",{"$f":"IF('Whip Data'!A331=\"\",\"\",VLOOKUP('Whip Data'!L331,Materials,4,FALSE))","v":""},{"$f":"IF('Whip Data'!A331=\"\",\"\",'Whip Data'!O331)","v":""},"",{"$f":"IF(M318=\"\",\"\",M318/VLOOKUP('Whip Data'!L331,Materials,3,FALSE))","v":""}]
[null,null,null,null,null,null,{"$f":"IFERROR('Whip Data'!A332,\"\")","v":""},{"$f":"IF('Whip Data'!A332=\"\",\"\",IF(VALUE(RIGHT(BOM!K319,1))=0,10,VALUE(RIGHT(BOM!K319,1))))","v":""},{"$f":"IF('Whip Data'!A332=\"\",\"\",VLOOKUP('Whip Data'!L332,Materials,7,FALSE))","v":""},"",{"$f":"IF('Whip Data'!A332=\"\",\"\",VLOOKUP('Whip Data'!L332,Materials,4,FALSE))","v":""},{"$f":"IF('Whip Data'!A332=\"\",\"\",'Whip Data'!O332)","v":""},"",{"$f":"IF(M319=\"\",\"\",M319/VLOOKUP('Whip Data'!L332,Materials,3,FALSE))","v":""}]
[null,null,null,null,null,null,{"$f":"IFERROR('Whip Data'!A333,\"\")","v":""},{"$f":"IF('Whip Data'!A333=\"\",\"\",IF(VALUE(RIGHT(BOM!K320,1))=0,10,VALUE(RIGHT(BOM!K320,1))))","v":""},{"$f":"IF('Whip Data'!A333=\"\",\"\",VLOOKUP('Whip Data'!L333,Materials,7,FALSE))","v":""},"",{"$f":"IF('Whip Data'!A333=\"\",\"\",VLOOKUP('Whip Data'!L333,Materials,4,FALSE))","v":""},{"$f":"IF('Whip Data'!A333=\"\",\"\",'Whip Data'!O333)","v":""},"",{"$f":"IF(M320=\"\",\"\",M320/VLOOKUP('Whip Data'!L333,Materials,3,FALSE))","v":""}]
[null,null,null,null,null,null,{"$f":"IFERROR('Whip Data'!A334,\"\")","v":""},{"$f":"IF('Whip Data'!A334=\"\",\"\",IF(VALUE(RIGHT(BOM!K321,1))=0,10,VALUE(RIGHT(BOM!K321,1))))","v":""},{"$f":"IF('Whip Data'!A334=\"\",\"\",VLOOKUP('Whip Data'!L334,Materials,7,FALSE))","v":""},"",{"$f":"IF('Whip Data'!A334=\"\",\"\",VLOOKUP('Whip Data'!L334,Materials,4,FALSE))","v":""},{"$f":"IF('Whip Data'!A334=\"\",\"\",'Whip Data'!O334)","v":""},"",{"$f":"IF(M321=\"\",\"\",M321/VLOOKUP('Whip Data'!L334,Materials,3,FALSE))","v":""}]
[null,null,null,null,null,null,{"$f":"IFERROR('Whip Data'!A335,\"\")","v":""},{"$f":"IF('Whip Data'!A335=\"\",\"\",IF(VALUE(RIGHT(BOM!K322,1))=0,10,VALUE(RIGHT(BOM!K322,1))))","v":""},{"$f":"IF('Whip Data'!A335=\"\",\"\",VLOOKUP('Whip Data'!L335,Materials,7,FALSE))","v":""},{"$f":"IF(G322=\"\",\"\",VLOOKUP(H322,NEC_T8,5,FALSE))","v":""},{"$f":"IF('Whip Data'!A335=\"\",\"\",VLOOKUP('Whip Data'!L335,Materials,4,FALSE))","v":""},{"$f":"IF('Whip Data'!A335=\"\",\"\",'Whip Data'!O335)","v":""},"",{"$f":"IF(M322=\"\",\"\",M322/VLOOKUP('Whip Data'!L335,Materials,3,FALSE))","v":""}]
[null,null,null,null,null,null,{"$f":"IFERROR('Whip Data'!A336,\"\")","v":""},{"$f":"IF('Whip Data'!A336=\"\",\"\",IF(VALUE(RIGHT(BOM!K323,1))=0,10,VALUE(RIGHT(BOM!K323,1))))","v":""},{"$f":"IF('Whip Data'!A336=\"\",\"\",VLOOKUP('Whip Data'!L336,Materials,7,FALSE))","v":""},"",{"$f":"IF('Whip Data'!A336=\"\",\"\",VLOOKUP('Whip Data'!L336,Materials,4,FALSE))","v":""},{"$f":"IF('Whip Data'!A336=\"\",\"\",'Whip Data'!O336)","v":""},"",{"$f":"IF(M323=\"\",\"\",M323/VLOOKUP('Whip Data'!L336,Materials,3,FALSE))","v":""}]
[null,null,null,null,null,null,{"$f":"IFERROR('Whip Data'!A337,\"\")","v":""},{"$f":"IF('Whip Data'!A337=\"\",\"\",IF(VALUE(RIGHT(BOM!K324,1))=0,10,VALUE(RIGHT(BOM!K324,1))))","v":""},{"$f":"IF('Whip Data'!A337=\"\",\"\",VLOOKUP('Whip Data'!L337,Materials,7,FALSE))","v":""},"",{"$f":"IF('Whip Data'!A337=\"\",\"\",VLOOKUP('Whip Data'!L337,Materials,4,FALSE))","v":""},{"$f":"IF('Whip Data'!A337=\"\",\"\",'Whip Data'!O337)","v":""},"",{"$f":"IF(M324=\"\",\"\",M324/VLOOKUP('Whip Data'!L337,Materials,3,FALSE))","v":""}]
[null,null,null,null,null,null,{"$f":"IFERROR('Whip Data'!A338,\"\")","v":""},{"$f":"IF('Whip Data'!A338=\"\",\"\",IF(VALUE(RIGHT(BOM!K325,1))=0,10,VALUE(RIGHT(BOM!K325,1))))","v":""},{"$f":"IF('Whip Data'!A338=\"\",\"\",VLOOKUP('Whip Data'!L338,Materials,7,FALSE))","v":""},"",{"$f":"IF('Whip Data'!A338=\"\",\"\",VLOOKUP('Whip Data'!L338,Materials,4,FALSE))","v":""},{"$f":"IF('Whip Data'!A338=\"\",\"\",'Whip Data'!O338)","v":""},"",{"$f":"IF(M325=\"\",\"\",M325/VLOOKUP('Whip Data'!L338,Materials,3,FALSE))","v":""}]
[null,null,null,null,null,null,{"$f":"IFERROR('Whip Data'!A339,\"\")","v":""},{"$f":"IF('Whip Data'!A339=\"\",\"\",IF(VALUE(RIGHT(BOM!K326,1))=0,10,VALUE(RIGHT(BOM!K326,1))))","v":""},{"$f":"IF('Whip Data'!A339=\"\",\"\",VLOOKUP('Whip Data'!L339,Materials,7,FALSE))","v":""},"",{"$f":"IF('Whip Data'!A339=\"\",\"\",VLOOKUP('Whip Data'!L339,Materials,4,FALSE))","v":""},{"$f":"IF('Whip Data'!A339=\"\",\"\",'Whip Data'!O339)","v":""},"",{"$f":"IF(M326=\"\",\"\",M326/VLOOKUP('Whip Data'!L339,Materials,3,FALSE))","v":""}]
[null,null,null,null,null,null,{"$f":"IFERROR('Whip Data'!A340,\"\")","v":""},{"$f":"IF('Whip Data'!A340=\"\",\"\",IF(VALUE(RIGHT(BOM!K327,1))=0,10,VALUE(RIGHT(BOM!K327,1))))","v":""},{"$f":"IF('Whip Data'!A340=\"\",\"\",VLOOKUP('Whip Data'!L340,Materials,7,FALSE))","v":""},"",{"$f":"IF('Whip Data'!A340=\"\",\"\",VLOOKUP('Whip Data'!L340,Materials,4,FALSE))","v":""},{"$f":"IF('Whip Data'!A340=\"\",\"\",'Whip Data'!O340)","v":""},"",{"$f":"IF(M327=\"\",\"\",M327/VLOOKUP('Whip Data'!L340,Materials,3,FALSE))","v":""}]
[null,null,null,null,null,null,{"$f":"IFERROR('Whip Data'!A341,\"\")","v":""},{"$f":"IF('Whip Data'!A341=\"\",\"\",IF(VALUE(RIGHT(BOM!K328,1))=0,10,VALUE(RIGHT(BOM!K328,1))))","v":""},{"$f":"IF('Whip Data'!A341=\"\",\"\",VLOOKUP('Whip Data'!L341,Materials,7,FALSE))","v":""},"",{"$f":"IF('Whip Data'!A341=\"\",\"\",VLOOKUP('Whip Data'!L341,Materials,4,FALSE))","v":""},{"$f":"IF('Whip Data'!A341=\"\",\"\",'Whip Data'!O341)","v":""},"",{"$f":"IF(M328=\"\",\"\",M328/VLOOKUP('Whip Data'!L341,Materials,3,FALSE))","v":""}]
[null,null,null,null,null,null,{"$f":"IFERROR('Whip Data'!A342,\"\")","v":""},{"$f":"IF('Whip Data'!A342=\"\",\"\",IF(VALUE(RIGHT(BOM!K329,1))=0,10,VALUE(RIGHT(BOM!K329,1))))","v":""},{"$f":"IF('Whip Data'!A342=\"\",\"\",VLOOKUP('Whip Data'!L342,Materials,7,FALSE))","v":""},"",{"$f":"IF('Whip Data'!A342=\"\",\"\",VLOOKUP('Whip Data'!L342,Materials,4,FALSE))","v":""},{"$f":"IF('Whip Data'!A342=\"\",\"\",'Whip Data'!O342)","v":""},"",{"$f":"IF(M329=\"\",\"\",M329/VLOOKUP('Whip Data'!L342,Materials,3,FALSE))","v":""}]
[null,null,null,null,null,null,{"$f":"IFERROR('Whip Data'!A343,\"\")","v":""},{"$f":"IF('Whip Data'!A343=\"\",\"\",IF(VALUE(RIGHT(BOM!K330,1))=0,10,VALUE(RIGHT(BOM!K330,1))))","v":""},{"$f":"IF('Whip Data'!A343=\"\",\"\",VLOOKUP('Whip Data'!L343,Materials,7,FALSE))","v":""},"",{"$f":"IF('Whip Data'!A343=\"\",\"\",VLOOKUP('Whip Data'!L343,Materials,4,FALSE))","v":""},{"$f":"IF('Whip Data'!A343=\"\",\"\",'Whip Data'!O343)","v":""},{"$f":"IF(G330=\"\",\"\",VLOOKUP(I330,$A$15:$B$16,2,FALSE)*J330*K330*L330/1000)","v":""},{"$f":"IF(M330=\"\",\"\",M330/VLOOKUP('Whip Data'!L343,Materials,3,FALSE))","v":""}]
[null,null,null,null,null,null,{"$f":"IFERROR('Whip Data'!A344,\"\")","v":""},{"$f":"IF('Whip Data'!A344=\"\",\"\",IF(VALUE(RIGHT(BOM!K331,1))=0,10,VALUE(RIGHT(BOM!K331,1))))","v":""},{"$f":"IF('Whip Data'!A344=\"\",\"\",VLOOKUP('Whip Data'!L344,Materials,7,FALSE))","v":""},"",{"$f":"IF('Whip Data'!A344=\"\",\"\",VLOOKUP('Whip Data'!L344,Materials,4,FALSE))","v":""},{"$f":"IF('Whip Data'!A344=\"\",\"\",'Whip Data'!O344)","v":""},"",{"$f":"IF(M331=\"\",\"\",M331/VLOOKUP('Whip Data'!L344,Materials,3,FALSE))","v":""}]
[null,null,null,null,null,null,{"$f":"IFERROR('Whip Data'!A345,\"\")","v":""},{"$f":"IF('Whip Data'!A345=\"\",\"\",IF(VALUE(RIGHT(BOM!K332,1))=0,10,VALUE(RIGHT(BOM!K332,1))))","v":""},{"$f":"IF('Whip Data'!A345=\"\",\"\",VLOOKUP('Whip Data'!L345,Materials,7,FALSE))","v":""},"",{"$f":"IF('Whip Data'!A345=\"\",\"\",VLOOKUP('Whip Data'!L345,Materials,4,FALSE))","v":""},{"$f":"IF('Whip Data'!A345=\"\",\"\",'Whip Data'!O345)","v":""},"",{"$f":"IF(M332=\"\",\"\",M332/VLOOKUP('Whip Data'!L345,Materials,3,FALSE))","v":""}]
[null,null,null,null,null,null,{"$f":"IFERROR('Whip Data'!A346,\"\")","v":""},{"$f":"IF('Whip Data'!A346=\"\",\"\",IF(VALUE(RIGHT(BOM!K333,1))=0,10,VALUE(RIGHT(BOM!K333,1))))","v":""},{"$f":"IF('Whip Data'!A346=\"\",\"\",VLOOKUP('Whip Data'!L346,Materials,7,FALSE))","v":""},"",{"$f":"IF('Whip Data'!A346=\"\",\"\",VLOOKUP('Whip Data'!L346,Materials,4,FALSE))","v":""},{"$f":"IF('Whip Data'!A346=\"\",\"\",'Whip Data'!O346)","v":""},"",{"$f":"IF(M333=\"\",\"\",M333/VLOOKUP('Whip Data'!L346,Materials,3,FALSE))","v":""}]
[null,null,null,null,null,null,{"$f":"IFERROR('Whip Data'!A347,\"\")","v":""},{"$f":"IF('Whip Data'!A347=\"\",\"\",IF(VALUE(RIGHT(BOM!K334,1))=0,10,VALUE(RIGHT(BOM!K334,1))))","v":""},{"$f":"IF('Whip Data'!A347=\"\",\"\",VLOOKUP('Whip Data'!L347,Materials,7,FALSE))","v":""},"",{"$f":"IF('Whip Data'!A347=\"\",\"\",VLOOKUP('Whip Data'!L347,Materials,4,FALSE))","v":""},{"$f":"IF('Whip Data'!A347=\"\",\"\",'Whip Data'!O347)","v":""},"",{"$f":"IF(M334=\"\",\"\",M334/VLOOKUP('Whip Data'!L347,Materials,3,FALSE))","v":""}]
[null,null,null,null,null,null,{"$f":"IFERROR('Whip Data'!A348,\"\")","v":""},{"$f":"IF('Whip Data'!A348=\"\",\"\",IF(VALUE(RIGHT(BOM!K335,1))=0,10,VALUE(RIGHT(BOM!K335,1))))","v":""},{"$f":"IF('Whip Data'!A348=\"\",\"\",VLOOKUP('Whip Data'!L348,Materials,7,FALSE))","v":""},"",{"$f":"IF('Whip Data'!A348=\"\",\"\",VLOOKUP('Whip Data'!L348,Materials,4,FALSE))","v":""},{"$f":"IF('Whip Data'!A348=\"\",\"\",'Whip Data'!O348)","v":""},"",{"$f":"IF(M335=\"\",\"\",M335/VLOOKUP('Whip Data'!L348,Materials,3,FALSE))","v":""}]
[null,null,null,null,null,null,{"$f":"IFERROR('Whip Data'!A349,\"\")","v":""},{"$f":"IF('Whip Data'!A349=\"\",\"\",IF(VALUE(RIGHT(BOM!K336,1))=0,10,VALUE(RIGHT(BOM!K336,1))))","v":""},{"$f":"IF('Whip Data'!A349=\"\",\"\",VLOOKUP('Whip Data'!L349,Materials,7,FALSE))","v":""},"",{"$f":"IF('Whip Data'!A349=\"\",\"\",VLOOKUP('Whip Data'!L349,Materials,4,FALSE))","v":""},{"$f":"IF('Whip Data'!A349=\"\",\"\",'Whip Data'!O349)","v":""},"",{"$f":"IF(M336=\"\",\"\",M336/VLOOKUP('Whip Data'!L349,Materials,3,FALSE))","v":""}]
[null,null,null,null,null,null,{"$f":"IFERROR('Whip Data'!A350,\"\")","v":""},{"$f":"IF('Whip Data'!A350=\"\",\"\",IF(VALUE(RIGHT(BOM!K337,1))=0,10,VALUE(RIGHT(BOM!K337,1))))","v":""},{"$f":"IF('Whip Data'!A350=\"\",\"\",VLOOKUP('Whip Data'!L350,Materials,7,FALSE))","v":""},"",{"$f":"IF('Whip Data'!A350=\"\",\"\",VLOOKUP('Whip Data'!L350,Materials,4,FALSE))","v":""},{"$f":"IF('Whip Data'!A350=\"\",\"\",'Whip Data'!O350)","v":""},"",{"$f":"IF(M337=\"\",\"\",M337/VLOOKUP('Whip Data'!L350,Materials,3,FALSE))","v":""}]
[null,null,null,null,null,null,{"$f":"IFERROR('Whip Data'!A351,\"\")","v":""},{"$f":"IF('Whip Data'!A351=\"\",\"\",IF(VALUE(RIGHT(BOM!K338,1))=0,10,VALUE(RIGHT(BOM!K338,1))))","v":""},{"$f":"IF('Whip Data'!A351=\"\",\"\",VLOOKUP('Whip Data'!L351,Materials,7,FALSE))","v":""},"",{"$f":"IF('Whip Data'!A351=\"\",\"\",VLOOKUP('Whip Data'!L351,Materials,4,FALSE))","v":""},{"$f":"IF('Whip Data'!A351=\"\",\"\",'Whip Data'!O351)","v":""},"",{"$f":"IF(M338=\"\",\"\",M338/VLOOKUP('Whip Data'!L351,Materials,3,FALSE))","v":""}]
[null,null,null,null,null,null,{"$f":"IFERROR('Whip Data'!A352,\"\")","v":""},{"$f":"IF('Whip Data'!A352=\"\",\"\",IF(VALUE(RIGHT(BOM!K339,1))=0,10,VALUE(RIGHT(BOM!K339,1))))","v":""},{"$f":"IF('Whip Data'!A352=\"\",\"\",VLOOKUP('Whip Data'!L352,Materials,7,FALSE))","v":""},"",{"$f":"IF('Whip Data'!A352=\"\",\"\",VLOOKUP('Whip Data'!L352,Materials,4,FALSE))","v":""},{"$f":"IF('Whip Data'!A352=\"\",\"\",'Whip Data'!O352)","v":""},"",{"$f":"IF(M339=\"\",\"\",M339/VLOOKUP('Whip Data'!L352,Materials,3,FALSE))","v":""}]
[null,null,null,null,null,null,{"$f":"IFERROR('Whip Data'!A353,\"\")","v":""},{"$f":"IF('Whip Data'!A353=\"\",\"\",IF(VALUE(RIGHT(BOM!K340,1))=0,10,VALUE(RIGHT(BOM!K340,1))))","v":""},{"$f":"IF('Whip Data'!A353=\"\",\"\",VLOOKUP('Whip Data'!L353,Materials,7,FALSE))","v":""},"",{"$f":"IF('Whip Data'!A353=\"\",\"\",VLOOKUP('Whip Data'!L353,Materials,4,FALSE))","v":""},{"$f":"IF('Whip Data'!A353=\"\",\"\",'Whip Data'!O353)","v":""},"",{"$f":"IF(M340=\"\",\"\",M340/VLOOKUP('Whip Data'!L353,Materials,3,FALSE))","v":""}]
[null,null,null,null,null,null,{"$f":"IFERROR('Whip Data'!A354,\"\")","v":""},{"$f":"IF('Whip Data'!A354=\"\",\"\",IF(VALUE(RIGHT(BOM!K341,1))=0,10,VALUE(RIGHT(BOM!K341,1))))","v":""},{"$f":"IF('Whip Data'!A354=\"\",\"\",VLOOKUP('Whip Data'!L354,Materials,7,FALSE))","v":""},"",{"$f":"IF('Whip Data'!A354=\"\",\"\",VLOOKUP('Whip Data'!L354,Materials,4,FALSE))","v":""},{"$f":"IF('Whip Data'!A354=\"\",\"\",'Whip Data'!O354)","v":""},"",{"$f":"IF(M341=\"\",\"\",M341/VLOOKUP('Whip Data'!L354,Materials,3,FALSE))","v":""}]
[null,null,null,null,null,null,{"$f":"IFERROR('Whip Data'!A355,\"\")","v":""},{"$f":"IF('Whip Data'!A355=\"\",\"\",IF(VALUE(RIGHT(BOM!K342,1))=0,10,VALUE(RIGHT(BOM!K342,1))))","v":""},{"$f":"IF('Whip Data'!A355=\"\",\"\",VLOOKUP('Whip Data'!L355,Materials,7,FALSE))","v":""},"",{"$f":"IF('Whip Data'!A355=\"\",\"\",VLOOKUP('Whip Data'!L355,Materials,4,FALSE))","v":""},{"$f":"IF('Whip Data'!A355=\"\",\"\",'Whip Data'!O355)","v":""},"",{"$f":"IF(M342=\"\",\"\",M342/VLOOKUP('Whip Data'!L355,Materials,3,FALSE))","v":""}]
[null,null,null,null,null,null,{"$f":"IFERROR('Whip Data'!A356,\"\")","v":""},{"$f":"IF('Whip Data'!A356=\"\",\"\",IF(VALUE(RIGHT(BOM!K343,1))=0,10,VALUE(RIGHT(BOM!K343,1))))","v":""},{"$f":"IF('Whip Data'!A356=\"\",\"\",VLOOKUP('Whip Data'!L356,Materials,7,FALSE))","v":""},"",{"$f":"IF('Whip Data'!A356=\"\",\"\",VLOOKUP('Whip Data'!L356,Materials,4,FALSE))","v":""},{"$f":"IF('Whip Data'!A356=\"\",\"\",'Whip Data'!O356)","v":""},"",{"$f":"IF(M343=\"\",\"\",M343/VLOOKUP('Whip Data'!L356,Materials,3,FALSE))","v":""}]
[null,null,null,null,null,null,{"$f":"IFERROR('Whip Data'!A357,\"\")","v":""},{"$f":"IF('Whip Data'!A357=\"\",\"\",IF(VALUE(RIGHT(BOM!K344,1))=0,10,VALUE(RIGHT(BOM!K344,1))))","v":""},{"$f":"IF('Whip Data'!A357=\"\",\"\",VLOOKUP('Whip Data'!L357,Materials,7,FALSE))","v":""},"",{"$f":"IF('Whip Data'!A357=\"\",\"\",VLOOKUP('Whip Data'!L357,Materials,4,FALSE))","v":""},{"$f":"IF('Whip Data'!A357=\"\",\"\",'Whip Data'!O357)","v":""},"",{"$f":"IF(M344=\"\",\"\",M344/VLOOKUP('Whip Data'!L357,Materials,3,FALSE))","v":""}]
[null,null,null,null,null,null,{"$f":"IFERROR('Whip Data'!A358,\"\")","v":""},{"$f":"IF('Whip Data'!A358=\"\",\"\",IF(VALUE(RIGHT(BOM!K345,1))=0,10,VALUE(RIGHT(BOM!K345,1))))","v":""},{"$f":"IF('Whip Data'!A358=\"\",\"\",VLOOKUP('Whip Data'!L358,Materials,7,FALSE))","v":""},"",{"$f":"IF('Whip Data'!A358=\"\",\"\",VLOOKUP('Whip Data'!L358,Materials,4,FALSE))","v":""},{"$f":"IF('Whip Data'!A358=\"\",\"\",'Whip Data'!O358)","v":""},"",{"$f":"IF(M345=\"\",\"\",M345/VLOOKUP('Whip Data'!L358,Materials,3,FALSE))","v":""}]
[null,null,null,null,null,null,{"$f":"IFERROR('Whip Data'!A359,\"\")","v":""},{"$f":"IF('Whip Data'!A359=\"\",\"\",IF(VALUE(RIGHT(BOM!K346,1))=0,10,VALUE(RIGHT(BOM!K346,1))))","v":""},{"$f":"IF('Whip Data'!A359=\"\",\"\",VLOOKUP('Whip Data'!L359,Materials,7,FALSE))","v":""},"",{"$f":"IF('Whip Data'!A359=\"\",\"\",VLOOKUP('Whip Data'!L359,Materials,4,FALSE))","v":""},{"$f":"IF('Whip Data'!A359=\"\",\"\",'Whip Data'!O359)","v":""},"",{"$f":"IF(M346=\"\",\"\",M346/VLOOKUP('Whip Data'!L359,Materials,3,FALSE))","v":""}]
[null,null,null,null,null,null,{"$f":"IFERROR('Whip Data'!A360,\"\")","v":""},{"$f":"IF('Whip Data'!A360=\"\",\"\",IF(VALUE(RIGHT(BOM!K347,1))=0,10,VALUE(RIGHT(BOM!K347,1))))","v":""},{"$f":"IF('Whip Data'!A360=\"\",\"\",VLOOKUP('Whip Data'!L360,Materials,7,FALSE))","v":""},"",{"$f":"IF('Whip Data'!A360=\"\",\"\",VLOOKUP('Whip Data'!L360,Materials,4,FALSE))","v":""},{"$f":"IF('Whip Data'!A360=\"\",\"\",'Whip Data'!O360)","v":""},"",{"$f":"IF(M347=\"\",\"\",M347/VLOOKUP('Whip Data'!L360,Materials,3,FALSE))","v":""}]
[null,null,null,null,null,null,{"$f":"IFERROR('Whip Data'!A361,\"\")","v":""},{"$f":"IF('Whip Data'!A361=\"\",\"\",IF(VALUE(RIGHT(BOM!K348,1))=0,10,VALUE(RIGHT(BOM!K348,1))))","v":""},{"$f":"IF('Whip Data'!A361=\"\",\"\",VLOOKUP('Whip Data'!L361,Materials,7,FALSE))","v":""},"",{"$f":"IF('Whip Data'!A361=\"\",\"\",VLOOKUP('Whip Data'!L361,Materials,4,FALSE))","v":""},{"$f":"IF('Whip Data'!A361=\"\",\"\",'Whip Data'!O361)","v":""},"",{"$f":"IF(M348=\"\",\"\",M348/VLOOKUP('Whip Data'!L361,Materials,3,FALSE))","v":""}]
[null,null,null,null,null,null,{"$f":"IFERROR('Whip Data'!A362,\"\")","v":""},{"$f":"IF('Whip Data'!A362=\"\",\"\",IF(VALUE(RIGHT(BOM!K349,1))=0,10,VALUE(RIGHT(BOM!K349,1))))","v":""},{"$f":"IF('Whip Data'!A362=\"\",\"\",VLOOKUP('Whip Data'!L362,Materials,7,FALSE))","v":""},"",{"$f":"IF('Whip Data'!A362=\"\",\"\",VLOOKUP('Whip Data'!L362,Materials,4,FALSE))","v":""},{"$f":"IF('Whip Data'!A362=\"\",\"\",'Whip Data'!O362)","v":""},"",{"$f":"IF(M349=\"\",\"\",M349/VLOOKUP('Whip Data'!L362,Materials,3,FALSE))","v":""}]
[null,null,null,null,null,null,{"$f":"IFERROR('Whip Data'!A363,\"\")","v":""},{"$f":"IF('Whip Data'!A363=\"\",\"\",IF(VALUE(RIGHT(BOM!K350,1))=0,10,VALUE(RIGHT(BOM!K350,1))))","v":""},{"$f":"IF('Whip Data'!A363=\"\",\"\",VLOOKUP('Whip Data'!L363,Materials,7,FALSE))","v":""},"",{"$f":"IF('Whip Data'!A363=\"\",\"\",VLOOKUP('Whip Data'!L363,Materials,4,FALSE))","v":""},{"$f":"IF('Whip Data'!A363=\"\",\"\",'Whip Data'!O363)","v":""},"",{"$f":"IF(M350=\"\",\"\",M350/VLOOKUP('Whip Data'!L363,Materials,3,FALSE))","v":""}]
[null,null,null,null,null,null,{"$f":"IFERROR('Whip Data'!A364,\"\")","v":""},{"$f":"IF('Whip Data'!A364=\"\",\"\",IF(VALUE(RIGHT(BOM!K351,1))=0,10,VALUE(RIGHT(BOM!K351,1))))","v":""},{"$f":"IF('Whip Data'!A364=\"\",\"\",VLOOKUP('Whip Data'!L364,Materials,7,FALSE))","v":""},"",{"$f":"IF('Whip Data'!A364=\"\",\"\",VLOOKUP('Whip Data'!L364,Materials,4,FALSE))","v":""},{"$f":"IF('Whip Data'!A364=\"\",\"\",'Whip Data'!O364)","v":""},"",{"$f":"IF(M351=\"\",\"\",M351/VLOOKUP('Whip Data'!L364,Materials,3,FALSE))","v":""}]
[null,null,null,null,null,null,{"$f":"IFERROR('Whip Data'!A365,\"\")","v":""},{"$f":"IF('Whip Data'!A365=\"\",\"\",IF(VALUE(RIGHT(BOM!K352,1))=0,10,VALUE(RIGHT(BOM!K352,1))))","v":""},{"$f":"IF('Whip Data'!A365=\"\",\"\",VLOOKUP('Whip Data'!L365,Materials,7,FALSE))","v":""},"",{"$f":"IF('Whip Data'!A365=\"\",\"\",VLOOKUP('Whip Data'!L365,Materials,4,FALSE))","v":""},{"$f":"IF('Whip Data'!A365=\"\",\"\",'Whip Data'!O365)","v":""},"",{"$f":"IF(M352=\"\",\"\",M352/VLOOKUP('Whip Data'!L365,Materials,3,FALSE))","v":""}]
[null,null,null,null,null,null,{"$f":"IFERROR('Whip Data'!A366,\"\")","v":""},{"$f":"IF('Whip Data'!A366=\"\",\"\",IF(VALUE(RIGHT(BOM!K353,1))=0,10,VALUE(RIGHT(BOM!K353,1))))","v":""},{"$f":"IF('Whip Data'!A366=\"\",\"\",VLOOKUP('Whip Data'!L366,Materials,7,FALSE))","v":""},"",{"$f":"IF('Whip Data'!A366=\"\",\"\",VLOOKUP('Whip Data'!L366,Materials,4,FALSE))","v":""},{"$f":"IF('Whip Data'!A366=\"\",\"\",'Whip Data'!O366)","v":""},"",{"$f":"IF(M353=\"\",\"\",M353/VLOOKUP('Whip Data'!L366,Materials,3,FALSE))","v":""}]
[null,null,null,null,null,null,{"$f":"IFERROR('Whip Data'!A367,\"\")","v":""},{"$f":"IF('Whip Data'!A367=\"\",\"\",IF(VALUE(RIGHT(BOM!K354,1))=0,10,VALUE(RIGHT(BOM!K354,1))))","v":""},{"$f":"IF('Whip Data'!A367=\"\",\"\",VLOOKUP('Whip Data'!L367,Materials,7,FALSE))","v":""},"",{"$f":"IF('Whip Data'!A367=\"\",\"\",VLOOKUP('Whip Data'!L367,Materials,4,FALSE))","v":""},{"$f":"IF('Whip Data'!A367=\"\",\"\",'Whip Data'!O367)","v":""},"",{"$f":"IF(M354=\"\",\"\",M354/VLOOKUP('Whip Data'!L367,Materials,3,FALSE))","v":""}]
[null,null,null,null,null,null,{"$f":"IFERROR('Whip Data'!A368,\"\")","v":""},{"$f":"IF('Whip Data'!A368=\"\",\"\",IF(VALUE(RIGHT(BOM!K355,1))=0,10,VALUE(RIGHT(BOM!K355,1))))","v":""},{"$f":"IF('Whip Data'!A368=\"\",\"\",VLOOKUP('Whip Data'!L368,Materials,7,FALSE))","v":""},"",{"$f":"IF('Whip Data'!A368=\"\",\"\",VLOOKUP('Whip Data'!L368,Materials,4,FALSE))","v":""},{"$f":"IF('Whip Data'!A368=\"\",\"\",'Whip Data'!O368)","v":""},"",{"$f":"IF(M355=\"\",\"\",M355/VLOOKUP('Whip Data'!L368,Materials,3,FALSE))","v":""}]
[null,null,null,null,null,null,{"$f":"IFERROR('Whip Data'!A369,\"\")","v":""},{"$f":"IF('Whip Data'!A369=\"\",\"\",IF(VALUE(RIGHT(BOM!K356,1))=0,10,VALUE(RIGHT(BOM!K356,1))))","v":""},{"$f":"IF('Whip Data'!A369=\"\",\"\",VLOOKUP('Whip Data'!L369,Materials,7,FALSE))","v":""},"",{"$f":"IF('Whip Data'!A369=\"\",\"\",VLOOKUP('Whip Data'!L369,Materials,4,FALSE))","v":""},{"$f":"IF('Whip Data'!A369=\"\",\"\",'Whip Data'!O369)","v":""},"",{"$f":"IF(M356=\"\",\"\",M356/VLOOKUP('Whip Data'!L369,Materials,3,FALSE))","v":""}]
[null,null,null,null,null,null,{"$f":"IFERROR('Whip Data'!A370,\"\")","v":""},{"$f":"IF('Whip Data'!A370=\"\",\"\",IF(VALUE(RIGHT(BOM!K357,1))=0,10,VALUE(RIGHT(BOM!K357,1))))","v":""},{"$f":"IF('Whip Data'!A370=\"\",\"\",VLOOKUP('Whip Data'!L370,Materials,7,FALSE))","v":""},"",{"$f":"IF('Whip Data'!A370=\"\",\"\",VLOOKUP('Whip Data'!L370,Materials,4,FALSE))","v":""},{"$f":"IF('Whip Data'!A370=\"\",\"\",'Whip Data'!O370)","v":""},"",{"$f":"IF(M357=\"\",\"\",M357/VLOOKUP('Whip Data'!L370,Materials,3,FALSE))","v":""}]
[null,null,null,null,null,null,{"$f":"IFERROR('Whip Data'!A371,\"\")","v":""},{"$f":"IF('Whip Data'!A371=\"\",\"\",IF(VALUE(RIGHT(BOM!K358,1))=0,10,VALUE(RIGHT(BOM!K358,1))))","v":""},{"$f":"IF('Whip Data'!A371=\"\",\"\",VLOOKUP('Whip Data'!L371,Materials,7,FALSE))","v":""},"",{"$f":"IF('Whip Data'!A371=\"\",\"\",VLOOKUP('Whip Data'!L371,Materials,4,FALSE))","v":""},{"$f":"IF('Whip Data'!A371=\"\",\"\",'Whip Data'!O371)","v":""},"",{"$f":"IF(M358=\"\",\"\",M358/VLOOKUP('Whip Data'!L371,Materials,3,FALSE))","v":""}]
[null,null,null,null,null,null,{"$f":"IFERROR('Whip Data'!A372,\"\")","v":""},{"$f":"IF('Whip Data'!A372=\"\",\"\",IF(VALUE(RIGHT(BOM!K359,1))=0,10,VALUE(RIGHT(BOM!K359,1))))","v":""},{"$f":"IF('Whip Data'!A372=\"\",\"\",VLOOKUP('Whip Data'!L372,Materials,7,FALSE))","v":""},"",{"$f":"IF('Whip Data'!A372=\"\",\"\",VLOOKUP('Whip Data'!L372,Materials,4,FALSE))","v":""},{"$f":"IF('Whip Data'!A372=\"\",\"\",'Whip Data'!O372)","v":""},"",{"$f":"IF(M359=\"\",\"\",M359/VLOOKUP('Whip Data'!L372,Materials,3,FALSE))","v":""}]
[null,null,null,null,null,null,{"$f":"IFERROR('Whip Data'!A373,\"\")","v":""},{"$f":"IF('Whip Data'!A373=\"\",\"\",IF(VALUE(RIGHT(BOM!K360,1))=0,10,VALUE(RIGHT(BOM!K360,1))))","v":""},{"$f":"IF('Whip Data'!A373=\"\",\"\",VLOOKUP('Whip Data'!L373,Materials,7,FALSE))","v":""},"",{"$f":"IF('Whip Data'!A373=\"\",\"\",VLOOKUP('Whip Data'!L373,Materials,4,FALSE))","v":""},{"$f":"IF('Whip Data'!A373=\"\",\"\",'Whip Data'!O373)","v":""},"",{"$f":"IF(M360=\"\",\"\",M360/VLOOKUP('Whip Data'!L373,Materials,3,FALSE))","v":""}]
[null,null,null,null,null,null,{"$f":"IFERROR('Whip Data'!A374,\"\")","v":""},{"$f":"IF('Whip Data'!A374=\"\",\"\",IF(VALUE(RIGHT(BOM!K361,1))=0,10,VALUE(RIGHT(BOM!K361,1))))","v":""},{"$f":"IF('Whip Data'!A374=\"\",\"\",VLOOKUP('Whip Data'!L374,Materials,7,FALSE))","v":""},"",{"$f":"IF('Whip Data'!A374=\"\",\"\",VLOOKUP('Whip Data'!L374,Materials,4,FALSE))","v":""},{"$f":"IF('Whip Data'!A374=\"\",\"\",'Whip Data'!O374)","v":""},"",{"$f":"IF(M361=\"\",\"\",M361/VLOOKUP('Whip Data'!L374,Materials,3,FALSE))","v":""}]
[null,null,null,null,null,null,{"$f":"IFERROR('Whip Data'!A375,\"\")","v":""},{"$f":"IF('Whip Data'!A375=\"\",\"\",IF(VALUE(RIGHT(BOM!K362,1))=0,10,VALUE(RIGHT(BOM!K362,1))))","v":""},{"$f":"IF('Whip Data'!A375=\"\",\"\",VLOOKUP('Whip Data'!L375,Materials,7,FALSE))","v":""},"",{"$f":"IF('Whip Data'!A375=\"\",\"\",VLOOKUP('Whip Data'!L375,Materials,4,FALSE))","v":""},{"$f":"IF('Whip Data'!A375=\"\",\"\",'Whip Data'!O375)","v":""},"",{"$f":"IF(M362=\"\",\"\",M362/VLOOKUP('Whip Data'!L375,Materials,3,FALSE))","v":""}]
[null,null,null,null,null,null,{"$f":"IFERROR('Whip Data'!A376,\"\")","v":""},{"$f":"IF('Whip Data'!A376=\"\",\"\",IF(VALUE(RIGHT(BOM!K363,1))=0,10,VALUE(RIGHT(BOM!K363,1))))","v":""},{"$f":"IF('Whip Data'!A376=\"\",\"\",VLOOKUP('Whip Data'!L376,Materials,7,FALSE))","v":""},"",{"$f":"IF('Whip Data'!A376=\"\",\"\",VLOOKUP('Whip Data'!L376,Materials,4,FALSE))","v":""},{"$f":"IF('Whip Data'!A376=\"\",\"\",'Whip Data'!O376)","v":""},"",{"$f":"IF(M363=\"\",\"\",M363/VLOOKUP('Whip Data'!L376,Materials,3,FALSE))","v":""}]
[null,null,null,null,null,null,{"$f":"IFERROR('Whip Data'!A377,\"\")","v":""},{"$f":"IF('Whip Data'!A377=\"\",\"\",IF(VALUE(RIGHT(BOM!K364,1))=0,10,VALUE(RIGHT(BOM!K364,1))))","v":""},{"$f":"IF('Whip Data'!A377=\"\",\"\",VLOOKUP('Whip Data'!L377,Materials,7,FALSE))","v":""},"",{"$f":"IF('Whip Data'!A377=\"\",\"\",VLOOKUP('Whip Data'!L377,Materials,4,FALSE))","v":""},{"$f":"IF('Whip Data'!A377=\"\",\"\",'Whip Data'!O377)","v":""},"",{"$f":"IF(M364=\"\",\"\",M364/VLOOKUP('Whip Data'!L377,Materials,3,FALSE))","v":""}]
[null,null,null,null,null,null,{"$f":"IFERROR('Whip Data'!A378,\"\")","v":""},{"$f":"IF('Whip Data'!A378=\"\",\"\",IF(VALUE(RIGHT(BOM!K365,1))=0,10,VALUE(RIGHT(BOM!K365,1))))","v":""},{"$f":"IF('Whip Data'!A378=\"\",\"\",VLOOKUP('Whip Data'!L378,Materials,7,FALSE))","v":""},"",{"$f":"IF('Whip Data'!A378=\"\",\"\",VLOOKUP('Whip Data'!L378,Materials,4,FALSE))","v":""},{"$f":"IF('Whip Data'!A378=\"\",\"\",'Whip Data'!O378)","v":""},"",{"$f":"IF(M365=\"\",\"\",M365/VLOOKUP('Whip Data'!L378,Materials,3,FALSE))","v":""}]
[null,null,null,null,null,null,{"$f":"IFERROR('Whip Data'!A379,\"\")","v":""},{"$f":"IF('Whip Data'!A379=\"\",\"\",IF(VALUE(RIGHT(BOM!K366,1))=0,10,VALUE(RIGHT(BOM!K366,1))))","v":""},{"$f":"IF('Whip Data'!A379=\"\",\"\",VLOOKUP('Whip Data'!L379,Materials,7,FALSE))","v":""},"",{"$f":"IF('Whip Data'!A379=\"\",\"\",VLOOKUP('Whip Data'!L379,Materials,4,FALSE))","v":""},{"$f":"IF('Whip Data'!A379=\"\",\"\",'Whip Data'!O379)","v":""},"",{"$f":"IF(M366=\"\",\"\",M366/VLOOKUP('Whip Data'!L379,Materials,3,FALSE))","v":""}]
[null,null,null,null,null,null,{"$f":"IFERROR('Whip Data'!A380,\"\")","v":""},{"$f":"IF('Whip Data'!A380=\"\",\"\",IF(VALUE(RIGHT(BOM!K367,1))=0,10,VALUE(RIGHT(BOM!K367,1))))","v":""},{"$f":"IF('Whip Data'!A380=\"\",\"\",VLOOKUP('Whip Data'!L380,Materials,7,FALSE))","v":""},"",{"$f":"IF('Whip Data'!A380=\"\",\"\",VLOOKUP('Whip Data'!L380,Materials,4,FALSE))","v":""},{"$f":"IF('Whip Data'!A380=\"\",\"\",'Whip Data'!O380)","v":""},"",{"$f":"IF(M367=\"\",\"\",M367/VLOOKUP('Whip Data'!L380,Materials,3,FALSE))","v":""}]
[null,null,null,null,null,null,{"$f":"IFERROR('Whip Data'!A381,\"\")","v":""},{"$f":"IF('Whip Data'!A381=\"\",\"\",IF(VALUE(RIGHT(BOM!K368,1))=0,10,VALUE(RIGHT(BOM!K368,1))))","v":""},{"$f":"IF('Whip Data'!A381=\"\",\"\",VLOOKUP('Whip Data'!L381,Materials,7,FALSE))","v":""},"",{"$f":"IF('Whip Data'!A381=\"\",\"\",VLOOKUP('Whip Data'!L381,Materials,4,FALSE))","v":""},{"$f":"IF('Whip Data'!A381=\"\",\"\",'Whip Data'!O381)","v":""},"",{"$f":"IF(M368=\"\",\"\",M368/VLOOKUP('Whip Data'!L381,Materials,3,FALSE))","v":""}]
[null,null,null,null,null,null,{"$f":"IFERROR('Whip Data'!A382,\"\")","v":""},{"$f":"IF('Whip Data'!A382=\"\",\"\",IF(VALUE(RIGHT(BOM!K369,1))=0,10,VALUE(RIGHT(BOM!K369,1))))","v":""},{"$f":"IF('Whip Data'!A382=\"\",\"\",VLOOKUP('Whip Data'!L382,Materials,7,FALSE))","v":""},"",{"$f":"IF('Whip Data'!A382=\"\",\"\",VLOOKUP('Whip Data'!L382,Materials,4,FALSE))","v":""},{"$f":"IF('Whip Data'!A382=\"\",\"\",'Whip Data'!O382)","v":""},"",{"$f":"IF(M369=\"\",\"\",M369/VLOOKUP('Whip Data'!L382,Materials,3,FALSE))","v":""}]
[null,null,null,null,null,null,{"$f":"IFERROR('Whip Data'!A383,\"\")","v":""},{"$f":"IF('Whip Data'!A383=\"\",\"\",IF(VALUE(RIGHT(BOM!K370,1))=0,10,VALUE(RIGHT(BOM!K370,1))))","v":""},{"$f":"IF('Whip Data'!A383=\"\",\"\",VLOOKUP('Whip Data'!L383,Materials,7,FALSE))","v":""},"",{"$f":"IF('Whip Data'!A383=\"\",\"\",VLOOKUP('Whip Data'!L383,Materials,4,FALSE))","v":""},{"$f":"IF('Whip Data'!A383=\"\",\"\",'Whip Data'!O383)","v":""},"",{"$f":"IF(M370=\"\",\"\",M370/VLOOKUP('Whip Data'!L383,Materials,3,FALSE))","v":""}]
[null,null,null,null,null,null,{"$f":"IFERROR('Whip Data'!A384,\"\")","v":""},{"$f":"IF('Whip Data'!A384=\"\",\"\",IF(VALUE(RIGHT(BOM!K371,1))=0,10,VALUE(RIGHT(BOM!K371,1))))","v":""},{"$f":"IF('Whip Data'!A384=\"\",\"\",VLOOKUP('Whip Data'!L384,Materials,7,FALSE))","v":""},"",{"$f":"IF('Whip Data'!A384=\"\",\"\",VLOOKUP('Whip Data'!L384,Materials,4,FALSE))","v":""},{"$f":"IF('Whip Data'!A384=\"\",\"\",'Whip Data'!O384)","v":""},"",{"$f":"IF(M371=\"\",\"\",M371/VLOOKUP('Whip Data'!L384,Materials,3,FALSE))","v":""}]
[null,null,null,null,null,null,{"$f":"IFERROR('Whip Data'!A385,\"\")","v":""},{"$f":"IF('Whip Data'!A385=\"\",\"\",IF(VALUE(RIGHT(BOM!K372,1))=0,10,VALUE(RIGHT(BOM!K372,1))))","v":""},{"$f":"IF('Whip Data'!A385=\"\",\"\",VLOOKUP('Whip Data'!L385,Materials,7,FALSE))","v":""},"",{"$f":"IF('Whip Data'!A385=\"\",\"\",VLOOKUP('Whip Data'!L385,Materials,4,FALSE))","v":""},{"$f":"IF('Whip Data'!A385=\"\",\"\",'Whip Data'!O385)","v":""},"",{"$f":"IF(M372=\"\",\"\",M372/VLOOKUP('Whip Data'!L385,Materials,3,FALSE))","v":""}]
[null,null,null,null,null,null,{"$f":"IFERROR('Whip Data'!A386,\"\")","v":""},{"$f":"IF('Whip Data'!A386=\"\",\"\",IF(VALUE(RIGHT(BOM!K373,1))=0,10,VALUE(RIGHT(BOM!K373,1))))","v":""},{"$f":"IF('Whip Data'!A386=\"\",\"\",VLOOKUP('Whip Data'!L386,Materials,7,FALSE))","v":""},"",{"$f":"IF('Whip Data'!A386=\"\",\"\",VLOOKUP('Whip Data'!L386,Materials,4,FALSE))","v":""},{"$f":"IF('Whip Data'!A386=\"\",\"\",'Whip Data'!O386)","v":""},"",{"$f":"IF(M373=\"\",\"\",M373/VLOOKUP('Whip Data'!L386,Materials,3,FALSE))","v":""}]
[null,null,null,null,null,null,{"$f":"IFERROR('Whip Data'!A387,\"\")","v":""},{"$f":"IF('Whip Data'!A387=\"\",\"\",IF(VALUE(RIGHT(BOM!K374,1))=0,10,VALUE(RIGHT(BOM!K374,1))))","v":""},{"$f":"IF('Whip Data'!A387=\"\",\"\",VLOOKUP('Whip Data'!L387,Materials,7,FALSE))","v":""},"",{"$f":"IF('Whip Data'!A387=\"\",\"\",VLOOKUP('Whip Data'!L387,Materials,4,FALSE))","v":""},{"$f":"IF('Whip Data'!A387=\"\",\"\",'Whip Data'!O387)","v":""},"",{"$f":"IF(M374=\"\",\"\",M374/VLOOKUP('Whip Data'!L387,Materials,3,FALSE))","v":""}]
[null,null,null,null,null,null,{"$f":"IFERROR('Whip Data'!A388,\"\")","v":""},{"$f":"IF('Whip Data'!A388=\"\",\"\",IF(VALUE(RIGHT(BOM!K375,1))=0,10,VALUE(RIGHT(BOM!K375,1))))","v":""},{"$f":"IF('Whip Data'!A388=\"\",\"\",VLOOKUP('Whip Data'!L388,Materials,7,FALSE))","v":""},"",{"$f":"IF('Whip Data'!A388=\"\",\"\",VLOOKUP('Whip Data'!L388,Materials,4,FALSE))","v":""},{"$f":"IF('Whip Data'!A388=\"\",\"\",'Whip Data'!O388)","v":""},"",{"$f":"IF(M375=\"\",\"\",M375/VLOOKUP('Whip Data'!L388,Materials,3,FALSE))","v":""}]
[null,null,null,null,null,null,{"$f":"IFERROR('Whip Data'!A389,\"\")","v":""},{"$f":"IF('Whip Data'!A389=\"\",\"\",IF(VALUE(RIGHT(BOM!K376,1))=0,10,VALUE(RIGHT(BOM!K376,1))))","v":""},{"$f":"IF('Whip Data'!A389=\"\",\"\",VLOOKUP('Whip Data'!L389,Materials,7,FALSE))","v":""},"",{"$f":"IF('Whip Data'!A389=\"\",\"\",VLOOKUP('Whip Data'!L389,Materials,4,FALSE))","v":""},{"$f":"IF('Whip Data'!A389=\"\",\"\",'Whip Data'!O389)","v":""},"",{"$f":"IF(M376=\"\",\"\",M376/VLOOKUP('Whip Data'!L389,Materials,3,FALSE))","v":""}]
[null,null,null,null,null,null,{"$f":"IFERROR('Whip Data'!A390,\"\")","v":""},{"$f":"IF('Whip Data'!A390=\"\",\"\",IF(VALUE(RIGHT(BOM!K377,1))=0,10,VALUE(RIGHT(BOM!K377,1))))","v":""},{"$f":"IF('Whip Data'!A390=\"\",\"\",VLOOKUP('Whip Data'!L390,Materials,7,FALSE))","v":""},"",{"$f":"IF('Whip Data'!A390=\"\",\"\",VLOOKUP('Whip Data'!L390,Materials,4,FALSE))","v":""},{"$f":"IF('Whip Data'!A390=\"\",\"\",'Whip Data'!O390)","v":""},"",{"$f":"IF(M377=\"\",\"\",M377/VLOOKUP('Whip Data'!L390,Materials,3,FALSE))","v":""}]
[null,null,null,null,null,null,{"$f":"IFERROR('Whip Data'!A391,\"\")","v":""},{"$f":"IF('Whip Data'!A391=\"\",\"\",IF(VALUE(RIGHT(BOM!K378,1))=0,10,VALUE(RIGHT(BOM!K378,1))))","v":""},{"$f":"IF('Whip Data'!A391=\"\",\"\",VLOOKUP('Whip Data'!L391,Materials,7,FALSE))","v":""},"",{"$f":"IF('Whip Data'!A391=\"\",\"\",VLOOKUP('Whip Data'!L391,Materials,4,FALSE))","v":""},{"$f":"IF('Whip Data'!A391=\"\",\"\",'Whip Data'!O391)","v":""},"",{"$f":"IF(M378=\"\",\"\",M378/VLOOKUP('Whip Data'!L391,Materials,3,FALSE))","v":""}]
[null,null,null,null,null,null,{"$f":"IFERROR('Whip Data'!A392,\"\")","v":""},{"$f":"IF('Whip Data'!A392=\"\",\"\",IF(VALUE(RIGHT(BOM!K379,1))=0,10,VALUE(RIGHT(BOM!K379,1))))","v":""},{"$f":"IF('Whip Data'!A392=\"\",\"\",VLOOKUP('Whip Data'!L392,Materials,7,FALSE))","v":""},"",{"$f":"IF('Whip Data'!A392=\"\",\"\",VLOOKUP('Whip Data'!L392,Materials,4,FALSE))","v":""},{"$f":"IF('Whip Data'!A392=\"\",\"\",'Whip Data'!O392)","v":""},"",{"$f":"IF(M379=\"\",\"\",M379/VLOOKUP('Whip Data'!L392,Materials,3,FALSE))","v":""}]
[null,null,null,null,null,null,{"$f":"IFERROR('Whip Data'!A393,\"\")","v":""},{"$f":"IF('Whip Data'!A393=\"\",\"\",IF(VALUE(RIGHT(BOM!K380,1))=0,10,VALUE(RIGHT(BOM!K380,1))))","v":""},{"$f":"IF('Whip Data'!A393=\"\",\"\",VLOOKUP('Whip Data'!L393,Materials,7,FALSE))","v":""},"",{"$f":"IF('Whip Data'!A393=\"\",\"\",VLOOKUP('Whip Data'!L393,Materials,4,FALSE))","v":""},{"$f":"IF('Whip Data'!A393=\"\",\"\",'Whip Data'!O393)","v":""},"",{"$f":"IF(M380=\"\",\"\",M380/VLOOKUP('Whip Data'!L393,Materials,3,FALSE))","v":""}]
[null,null,null,null,null,null,{"$f":"IFERROR('Whip Data'!A394,\"\")","v":""},{"$f":"IF('Whip Data'!A394=\"\",\"\",IF(VALUE(RIGHT(BOM!K381,1))=0,10,VALUE(RIGHT(BOM!K381,1))))","v":""},{"$f":"IF('Whip Data'!A394=\"\",\"\",VLOOKUP('Whip Data'!L394,Materials,7,FALSE))","v":""},"",{"$f":"IF('Whip Data'!A394=\"\",\"\",VLOOKUP('Whip Data'!L394,Materials,4,FALSE))","v":""},{"$f":"IF('Whip Data'!A394=\"\",\"\",'Whip Data'!O394)","v":""},"",{"$f":"IF(M381=\"\",\"\",M381/VLOOKUP('Whip Data'!L394,Materials,3,FALSE))","v":""}]
[null,null,null,null,null,null,{"$f":"IFERROR('Whip Data'!A395,\"\")","v":""},{"$f":"IF('Whip Data'!A395=\"\",\"\",IF(VALUE(RIGHT(BOM!K382,1))=0,10,VALUE(RIGHT(BOM!K382,1))))","v":""},{"$f":"IF('Whip Data'!A395=\"\",\"\",VLOOKUP('Whip Data'!L395,Materials,7,FALSE))","v":""},"",{"$f":"IF('Whip Data'!A395=\"\",\"\",VLOOKUP('Whip Data'!L395,Materials,4,FALSE))","v":""},{"$f":"IF('Whip Data'!A395=\"\",\"\",'Whip Data'!O395)","v":""},"",{"$f":"IF(M382=\"\",\"\",M382/VLOOKUP('Whip Data'!L395,Materials,3,FALSE))","v":""}]
[null,null,null,null,null,null,{"$f":"IFERROR('Whip Data'!A396,\"\")","v":""},{"$f":"IF('Whip Data'!A396=\"\",\"\",IF(VALUE(RIGHT(BOM!K383,1))=0,10,VALUE(RIGHT(BOM!K383,1))))","v":""},{"$f":"IF('Whip Data'!A396=\"\",\"\",VLOOKUP('Whip Data'!L396,Materials,7,FALSE))","v":""},"",{"$f":"IF('Whip Data'!A396=\"\",\"\",VLOOKUP('Whip Data'!L396,Materials,4,FALSE))","v":""},{"$f":"IF('Whip Data'!A396=\"\",\"\",'Whip Data'!O396)","v":""},"",{"$f":"IF(M383=\"\",\"\",M383/VLOOKUP('Whip Data'!L396,Materials,3,FALSE))","v":""}]
[null,null,null,null,null,null,{"$f":"IFERROR('Whip Data'!A397,\"\")","v":""},{"$f":"IF('Whip Data'!A397=\"\",\"\",IF(VALUE(RIGHT(BOM!K384,1))=0,10,VALUE(RIGHT(BOM!K384,1))))","v":""},{"$f":"IF('Whip Data'!A397=\"\",\"\",VLOOKUP('Whip Data'!L397,Materials,7,FALSE))","v":""},"",{"$f":"IF('Whip Data'!A397=\"\",\"\",VLOOKUP('Whip Data'!L397,Materials,4,FALSE))","v":""},{"$f":"IF('Whip Data'!A397=\"\",\"\",'Whip Data'!O397)","v":""},"",{"$f":"IF(M384=\"\",\"\",M384/VLOOKUP('Whip Data'!L397,Materials,3,FALSE))","v":""}]
[null,null,null,null,null,null,{"$f":"IFERROR('Whip Data'!A398,\"\")","v":""},{"$f":"IF('Whip Data'!A398=\"\",\"\",IF(VALUE(RIGHT(BOM!K385,1))=0,10,VALUE(RIGHT(BOM!K385,1))))","v":""},{"$f":"IF('Whip Data'!A398=\"\",\"\",VLOOKUP('Whip Data'!L398,Materials,7,FALSE))","v":""},"",{"$f":"IF('Whip Data'!A398=\"\",\"\",VLOOKUP('Whip Data'!L398,Materials,4,FALSE))","v":""},{"$f":"IF('Whip Data'!A398=\"\",\"\",'Whip Data'!O398)","v":""},"",{"$f":"IF(M385=\"\",\"\",M385/VLOOKUP('Whip Data'!L398,Materials,3,FALSE))","v":""}]
[null,null,null,null,null,null,{"$f":"IFERROR('Whip Data'!A399,\"\")","v":""},{"$f":"IF('Whip Data'!A399=\"\",\"\",IF(VALUE(RIGHT(BOM!K386,1))=0,10,VALUE(RIGHT(BOM!K386,1))))","v":""},{"$f":"IF('Whip Data'!A399=\"\",\"\",VLOOKUP('Whip Data'!L399,Materials,7,FALSE))","v":""},{"$f":"IF(G386=\"\",\"\",VLOOKUP(H386,NEC_T8,5,FALSE))","v":""},{"$f":"IF('Whip Data'!A399=\"\",\"\",VLOOKUP('Whip Data'!L399,Materials,4,FALSE))","v":""},{"$f":"IF('Whip Data'!A399=\"\",\"\",'Whip Data'!O399)","v":""},"",{"$f":"IF(M386=\"\",\"\",M386/VLOOKUP('Whip Data'!L399,Materials,3,FALSE))","v":""}]
[null,null,null,null,null,null,{"$f":"IFERROR('Whip Data'!A400,\"\")","v":""},{"$f":"IF('Whip Data'!A400=\"\",\"\",IF(VALUE(RIGHT(BOM!K387,1))=0,10,VALUE(RIGHT(BOM!K387,1))))","v":""},{"$f":"IF('Whip Data'!A400=\"\",\"\",VLOOKUP('Whip Data'!L400,Materials,7,FALSE))","v":""},"",{"$f":"IF('Whip Data'!A400=\"\",\"\",VLOOKUP('Whip Data'!L400,Materials,4,FALSE))","v":""},{"$f":"IF('Whip Data'!A400=\"\",\"\",'Whip Data'!O400)","v":""},"",{"$f":"IF(M387=\"\",\"\",M387/VLOOKUP('Whip Data'!L400,Materials,3,FALSE))","v":""}]
[null,null,null,null,null,null,{"$f":"IFERROR('Whip Data'!A401,\"\")","v":""},{"$f":"IF('Whip Data'!A401=\"\",\"\",IF(VALUE(RIGHT(BOM!K388,1))=0,10,VALUE(RIGHT(BOM!K388,1))))","v":""},{"$f":"IF('Whip Data'!A401=\"\",\"\",VLOOKUP('Whip Data'!L401,Materials,7,FALSE))","v":""},"",{"$f":"IF('Whip Data'!A401=\"\",\"\",VLOOKUP('Whip Data'!L401,Materials,4,FALSE))","v":""},{"$f":"IF('Whip Data'!A401=\"\",\"\",'Whip Data'!O401)","v":""},"",{"$f":"IF(M388=\"\",\"\",M388/VLOOKUP('Whip Data'!L401,Materials,3,FALSE))","v":""}]
[null,null,null,null,null,null,{"$f":"IFERROR('Whip Data'!A402,\"\")","v":""},{"$f":"IF('Whip Data'!A402=\"\",\"\",IF(VALUE(RIGHT(BOM!K389,1))=0,10,VALUE(RIGHT(BOM!K389,1))))","v":""},{"$f":"IF('Whip Data'!A402=\"\",\"\",VLOOKUP('Whip Data'!L402,Materials,7,FALSE))","v":""},"",{"$f":"IF('Whip Data'!A402=\"\",\"\",VLOOKUP('Whip Data'!L402,Materials,4,FALSE))","v":""},{"$f":"IF('Whip Data'!A402=\"\",\"\",'Whip Data'!O402)","v":""},"",{"$f":"IF(M389=\"\",\"\",M389/VLOOKUP('Whip Data'!L402,Materials,3,FALSE))","v":""}]
[null,null,null,null,null,null,{"$f":"IFERROR('Whip Data'!A403,\"\")","v":""},{"$f":"IF('Whip Data'!A403=\"\",\"\",IF(VALUE(RIGHT(BOM!K390,1))=0,10,VALUE(RIGHT(BOM!K390,1))))","v":""},{"$f":"IF('Whip Data'!A403=\"\",\"\",VLOOKUP('Whip Data'!L403,Materials,7,FALSE))","v":""},"",{"$f":"IF('Whip Data'!A403=\"\",\"\",VLOOKUP('Whip Data'!L403,Materials,4,FALSE))","v":""},{"$f":"IF('Whip Data'!A403=\"\",\"\",'Whip Data'!O403)","v":""},"",{"$f":"IF(M390=\"\",\"\",M390/VLOOKUP('Whip Data'!L403,Materials,3,FALSE))","v":""}]
[null,null,null,null,null,null,{"$f":"IFERROR('Whip Data'!A404,\"\")","v":""},{"$f":"IF('Whip Data'!A404=\"\",\"\",IF(VALUE(RIGHT(BOM!K391,1))=0,10,VALUE(RIGHT(BOM!K391,1))))","v":""},{"$f":"IF('Whip Data'!A404=\"\",\"\",VLOOKUP('Whip Data'!L404,Materials,7,FALSE))","v":""},"",{"$f":"IF('Whip Data'!A404=\"\",\"\",VLOOKUP('Whip Data'!L404,Materials,4,FALSE))","v":""},{"$f":"IF('Whip Data'!A404=\"\",\"\",'Whip Data'!O404)","v":""},"",{"$f":"IF(M391=\"\",\"\",M391/VLOOKUP('Whip Data'!L404,Materials,3,FALSE))","v":""}]
[null,null,null,null,null,null,{"$f":"IFERROR('Whip Data'!A405,\"\")","v":""},{"$f":"IF('Whip Data'!A405=\"\",\"\",IF(VALUE(RIGHT(BOM!K392,1))=0,10,VALUE(RIGHT(BOM!K392,1))))","v":""},{"$f":"IF('Whip Data'!A405=\"\",\"\",VLOOKUP('Whip Data'!L405,Materials,7,FALSE))","v":""},"",{"$f":"IF('Whip Data'!A405=\"\",\"\",VLOOKUP('Whip Data'!L405,Materials,4,FALSE))","v":""},{"$f":"IF('Whip Data'!A405=\"\",\"\",'Whip Data'!O405)","v":""},"",{"$f":"IF(M392=\"\",\"\",M392/VLOOKUP('Whip Data'!L405,Materials,3,FALSE))","v":""}]
[null,null,null,null,null,null,{"$f":"IFERROR('Whip Data'!A406,\"\")","v":""},{"$f":"IF('Whip Data'!A406=\"\",\"\",IF(VALUE(RIGHT(BOM!K393,1))=0,10,VALUE(RIGHT(BOM!K393,1))))","v":""},{"$f":"IF('Whip Data'!A406=\"\",\"\",VLOOKUP('Whip Data'!L406,Materials,7,FALSE))","v":""},"",{"$f":"IF('Whip Data'!A406=\"\",\"\",VLOOKUP('Whip Data'!L406,Materials,4,FALSE))","v":""},{"$f":"IF('Whip Data'!A406=\"\",\"\",'Whip Data'!O406)","v":""},"",{"$f":"IF(M393=\"\",\"\",M393/VLOOKUP('Whip Data'!L406,Materials,3,FALSE))","v":""}]
[null,null,null,null,null,null,{"$f":"IFERROR('Whip Data'!A407,\"\")","v":""},{"$f":"IF('Whip Data'!A407=\"\",\"\",IF(VALUE(RIGHT(BOM!K394,1))=0,10,VALUE(RIGHT(BOM!K394,1))))","v":""},{"$f":"IF('Whip Data'!A407=\"\",\"\",VLOOKUP('Whip Data'!L407,Materials,7,FALSE))","v":""},"",{"$f":"IF('Whip Data'!A407=\"\",\"\",VLOOKUP('Whip Data'!L407,Materials,4,FALSE))","v":""},{"$f":"IF('Whip Data'!A407=\"\",\"\",'Whip Data'!O407)","v":""},{"$f":"IF(G394=\"\",\"\",VLOOKUP(I394,$A$15:$B$16,2,FALSE)*J394*K394*L394/1000)","v":""},{"$f":"IF(M394=\"\",\"\",M394/VLOOKUP('Whip Data'!L407,Materials,3,FALSE))","v":""}]
[null,null,null,null,null,null,{"$f":"IFERROR('Whip Data'!A408,\"\")","v":""},{"$f":"IF('Whip Data'!A408=\"\",\"\",IF(VALUE(RIGHT(BOM!K395,1))=0,10,VALUE(RIGHT(BOM!K395,1))))","v":""},{"$f":"IF('Whip Data'!A408=\"\",\"\",VLOOKUP('Whip Data'!L408,Materials,7,FALSE))","v":""},"",{"$f":"IF('Whip Data'!A408=\"\",\"\",VLOOKUP('Whip Data'!L408,Materials,4,FALSE))","v":""},{"$f":"IF('Whip Data'!A408=\"\",\"\",'Whip Data'!O408)","v":""},"",{"$f":"IF(M395=\"\",\"\",M395/VLOOKUP('Whip Data'!L408,Materials,3,FALSE))","v":""}]
[null,null,null,null,null,null,{"$f":"IFERROR('Whip Data'!A409,\"\")","v":""},{"$f":"IF('Whip Data'!A409=\"\",\"\",IF(VALUE(RIGHT(BOM!K396,1))=0,10,VALUE(RIGHT(BOM!K396,1))))","v":""},{"$f":"IF('Whip Data'!A409=\"\",\"\",VLOOKUP('Whip Data'!L409,Materials,7,FALSE))","v":""},"",{"$f":"IF('Whip Data'!A409=\"\",\"\",VLOOKUP('Whip Data'!L409,Materials,4,FALSE))","v":""},{"$f":"IF('Whip Data'!A409=\"\",\"\",'Whip Data'!O409)","v":""},"",{"$f":"IF(M396=\"\",\"\",M396/VLOOKUP('Whip Data'!L409,Materials,3,FALSE))","v":""}]
[null,null,null,null,null,null,{"$f":"IFERROR('Whip Data'!A410,\"\")","v":""},{"$f":"IF('Whip Data'!A410=\"\",\"\",IF(VALUE(RIGHT(BOM!K397,1))=0,10,VALUE(RIGHT(BOM!K397,1))))","v":""},{"$f":"IF('Whip Data'!A410=\"\",\"\",VLOOKUP('Whip Data'!L410,Materials,7,FALSE))","v":""},"",{"$f":"IF('Whip Data'!A410=\"\",\"\",VLOOKUP('Whip Data'!L410,Materials,4,FALSE))","v":""},{"$f":"IF('Whip Data'!A410=\"\",\"\",'Whip Data'!O410)","v":""},"",{"$f":"IF(M397=\"\",\"\",M397/VLOOKUP('Whip Data'!L410,Materials,3,FALSE))","v":""}]
[null,null,null,null,null,null,{"$f":"IFERROR('Whip Data'!A411,\"\")","v":""},{"$f":"IF('Whip Data'!A411=\"\",\"\",IF(VALUE(RIGHT(BOM!K398,1))=0,10,VALUE(RIGHT(BOM!K398,1))))","v":""},{"$f":"IF('Whip Data'!A411=\"\",\"\",VLOOKUP('Whip Data'!L411,Materials,7,FALSE))","v":""},"",{"$f":"IF('Whip Data'!A411=\"\",\"\",VLOOKUP('Whip Data'!L411,Materials,4,FALSE))","v":""},{"$f":"IF('Whip Data'!A411=\"\",\"\",'Whip Data'!O411)","v":""},"",{"$f":"IF(M398=\"\",\"\",M398/VLOOKUP('Whip Data'!L411,Materials,3,FALSE))","v":""}]
[null,null,null,null,null,null,{"$f":"IFERROR('Whip Data'!A412,\"\")","v":""},{"$f":"IF('Whip Data'!A412=\"\",\"\",IF(VALUE(RIGHT(BOM!K399,1))=0,10,VALUE(RIGHT(BOM!K399,1))))","v":""},{"$f":"IF('Whip Data'!A412=\"\",\"\",VLOOKUP('Whip Data'!L412,Materials,7,FALSE))","v":""},"",{"$f":"IF('Whip Data'!A412=\"\",\"\",VLOOKUP('Whip Data'!L412,Materials,4,FALSE))","v":""},{"$f":"IF('Whip Data'!A412=\"\",\"\",'Whip Data'!O412)","v":""},"",{"$f":"IF(M399=\"\",\"\",M399/VLOOKUP('Whip Data'!L412,Materials,3,FALSE))","v":""}]
[null,null,null,null,null,null,{"$f":"IFERROR('Whip Data'!A413,\"\")","v":""},{"$f":"IF('Whip Data'!A413=\"\",\"\",IF(VALUE(RIGHT(BOM!K400,1))=0,10,VALUE(RIGHT(BOM!K400,1))))","v":""},{"$f":"IF('Whip Data'!A413=\"\",\"\",VLOOKUP('Whip Data'!L413,Materials,7,FALSE))","v":""},"",{"$f":"IF('Whip Data'!A413=\"\",\"\",VLOOKUP('Whip Data'!L413,Materials,4,FALSE))","v":""},{"$f":"IF('Whip Data'!A413=\"\",\"\",'Whip Data'!O413)","v":""},"",{"$f":"IF(M400=\"\",\"\",M400/VLOOKUP('Whip Data'!L413,Materials,3,FALSE))","v":""}]
[null,null,null,null,null,null,{"$f":"IFERROR('Whip Data'!A414,\"\")","v":""},{"$f":"IF('Whip Data'!A414=\"\",\"\",IF(VALUE(RIGHT(BOM!K401,1))=0,10,VALUE(RIGHT(BOM!K401,1))))","v":""},{"$f":"IF('Whip Data'!A414=\"\",\"\",VLOOKUP('Whip Data'!L414,Materials,7,FALSE))","v":""},"",{"$f":"IF('Whip Data'!A414=\"\",\"\",VLOOKUP('Whip Data'!L414,Materials,4,FALSE))","v":""},{"$f":"IF('Whip Data'!A414=\"\",\"\",'Whip Data'!O414)","v":""},"",{"$f":"IF(M401=\"\",\"\",M401/VLOOKUP('Whip Data'!L414,Materials,3,FALSE))","v":""}]
[null,null,null,null,null,null,{"$f":"IFERROR('Whip Data'!A415,\"\")","v":""},{"$f":"IF('Whip Data'!A415=\"\",\"\",IF(VALUE(RIGHT(BOM!K402,1))=0,10,VALUE(RIGHT(BOM!K402,1))))","v":""},{"$f":"IF('Whip Data'!A415=\"\",\"\",VLOOKUP('Whip Data'!L415,Materials,7,FALSE))","v":""},"",{"$f":"IF('Whip Data'!A415=\"\",\"\",VLOOKUP('Whip Data'!L415,Materials,4,FALSE))","v":""},{"$f":"IF('Whip Data'!A415=\"\",\"\",'Whip Data'!O415)","v":""},"",{"$f":"IF(M402=\"\",\"\",M402/VLOOKUP('Whip Data'!L415,Materials,3,FALSE))","v":""}]
[null,null,null,null,null,null,{"$f":"IFERROR('Whip Data'!A416,\"\")","v":""},{"$f":"IF('Whip Data'!A416=\"\",\"\",IF(VALUE(RIGHT(BOM!K403,1))=0,10,VALUE(RIGHT(BOM!K403,1))))","v":""},{"$f":"IF('Whip Data'!A416=\"\",\"\",VLOOKUP('Whip Data'!L416,Materials,7,FALSE))","v":""},"",{"$f":"IF('Whip Data'!A416=\"\",\"\",VLOOKUP('Whip Data'!L416,Materials,4,FALSE))","v":""},{"$f":"IF('Whip Data'!A416=\"\",\"\",'Whip Data'!O416)","v":""},"",{"$f":"IF(M403=\"\",\"\",M403/VLOOKUP('Whip Data'!L416,Materials,3,FALSE))","v":""}]
[null,null,null,null,null,null,{"$f":"IFERROR('Whip Data'!A417,\"\")","v":""},{"$f":"IF('Whip Data'!A417=\"\",\"\",IF(VALUE(RIGHT(BOM!K404,1))=0,10,VALUE(RIGHT(BOM!K404,1))))","v":""},{"$f":"IF('Whip Data'!A417=\"\",\"\",VLOOKUP('Whip Data'!L417,Materials,7,FALSE))","v":""},"",{"$f":"IF('Whip Data'!A417=\"\",\"\",VLOOKUP('Whip Data'!L417,Materials,4,FALSE))","v":""},{"$f":"IF('Whip Data'!A417=\"\",\"\",'Whip Data'!O417)","v":""},"",{"$f":"IF(M404=\"\",\"\",M404/VLOOKUP('Whip Data'!L417,Materials,3,FALSE))","v":""}]
[null,null,null,null,null,null,{"$f":"IFERROR('Whip Data'!A418,\"\")","v":""},{"$f":"IF('Whip Data'!A418=\"\",\"\",IF(VALUE(RIGHT(BOM!K405,1))=0,10,VALUE(RIGHT(BOM!K405,1))))","v":""},{"$f":"IF('Whip Data'!A418=\"\",\"\",VLOOKUP('Whip Data'!L418,Materials,7,FALSE))","v":""},"",{"$f":"IF('Whip Data'!A418=\"\",\"\",VLOOKUP('Whip Data'!L418,Materials,4,FALSE))","v":""},{"$f":"IF('Whip Data'!A418=\"\",\"\",'Whip Data'!O418)","v":""},"",{"$f":"IF(M405=\"\",\"\",M405/VLOOKUP('Whip Data'!L418,Materials,3,FALSE))","v":""}]
[null,null,null,null,null,null,{"$f":"IFERROR('Whip Data'!A419,\"\")","v":""},{"$f":"IF('Whip Data'!A419=\"\",\"\",IF(VALUE(RIGHT(BOM!K406,1))=0,10,VALUE(RIGHT(BOM!K406,1))))","v":""},{"$f":"IF('Whip Data'!A419=\"\",\"\",VLOOKUP('Whip Data'!L419,Materials,7,FALSE))","v":""},"",{"$f":"IF('Whip Data'!A419=\"\",\"\",VLOOKUP('Whip Data'!L419,Materials,4,FALSE))","v":""},{"$f":"IF('Whip Data'!A419=\"\",\"\",'Whip Data'!O419)","v":""},"",{"$f":"IF(M406=\"\",\"\",M406/VLOOKUP('Whip Data'!L419,Materials,3,FALSE))","v":""}]
[null,null,null,null,null,null,{"$f":"IFERROR('Whip Data'!A420,\"\")","v":""},{"$f":"IF('Whip Data'!A420=\"\",\"\",IF(VALUE(RIGHT(BOM!K407,1))=0,10,VALUE(RIGHT(BOM!K407,1))))","v":""},{"$f":"IF('Whip Data'!A420=\"\",\"\",VLOOKUP('Whip Data'!L420,Materials,7,FALSE))","v":""},"",{"$f":"IF('Whip Data'!A420=\"\",\"\",VLOOKUP('Whip Data'!L420,Materials,4,FALSE))","v":""},{"$f":"IF('Whip Data'!A420=\"\",\"\",'Whip Data'!O420)","v":""},"",{"$f":"IF(M407=\"\",\"\",M407/VLOOKUP('Whip Data'!L420,Materials,3,FALSE))","v":""}]
[null,null,null,null,null,null,{"$f":"IFERROR('Whip Data'!A421,\"\")","v":""},{"$f":"IF('Whip Data'!A421=\"\",\"\",IF(VALUE(RIGHT(BOM!K408,1))=0,10,VALUE(RIGHT(BOM!K408,1))))","v":""},{"$f":"IF('Whip Data'!A421=\"\",\"\",VLOOKUP('Whip Data'!L421,Materials,7,FALSE))","v":""},"",{"$f":"IF('Whip Data'!A421=\"\",\"\",VLOOKUP('Whip Data'!L421,Materials,4,FALSE))","v":""},{"$f":"IF('Whip Data'!A421=\"\",\"\",'Whip Data'!O421)","v":""},"",{"$f":"IF(M408=\"\",\"\",M408/VLOOKUP('Whip Data'!L421,Materials,3,FALSE))","v":""}]
[null,null,null,null,null,null,{"$f":"IFERROR('Whip Data'!A422,\"\")","v":""},{"$f":"IF('Whip Data'!A422=\"\",\"\",IF(VALUE(RIGHT(BOM!K409,1))=0,10,VALUE(RIGHT(BOM!K409,1))))","v":""},{"$f":"IF('Whip Data'!A422=\"\",\"\",VLOOKUP('Whip Data'!L422,Materials,7,FALSE))","v":""},"",{"$f":"IF('Whip Data'!A422=\"\",\"\",VLOOKUP('Whip Data'!L422,Materials,4,FALSE))","v":""},{"$f":"IF('Whip Data'!A422=\"\",\"\",'Whip Data'!O422)","v":""},"",{"$f":"IF(M409=\"\",\"\",M409/VLOOKUP('Whip Data'!L422,Materials,3,FALSE))","v":""}]
[null,null,null,null,null,null,{"$f":"IFERROR('Whip Data'!A423,\"\")","v":""},{"$f":"IF('Whip Data'!A423=\"\",\"\",IF(VALUE(RIGHT(BOM!K410,1))=0,10,VALUE(RIGHT(BOM!K410,1))))","v":""},{"$f":"IF('Whip Data'!A423=\"\",\"\",VLOOKUP('Whip Data'!L423,Materials,7,FALSE))","v":""},"",{"$f":"IF('Whip Data'!A423=\"\",\"\",VLOOKUP('Whip Data'!L423,Materials,4,FALSE))","v":""},{"$f":"IF('Whip Data'!A423=\"\",\"\",'Whip Data'!O423)","v":""},"",{"$f":"IF(M410=\"\",\"\",M410/VLOOKUP('Whip Data'!L423,Materials,3,FALSE))","v":""}]
[null,null,null,null,null,null,{"$f":"IFERROR('Whip Data'!A424,\"\")","v":""},{"$f":"IF('Whip Data'!A424=\"\",\"\",IF(VALUE(RIGHT(BOM!K411,1))=0,10,VALUE(RIGHT(BOM!K411,1))))","v":""},{"$f":"IF('Whip Data'!A424=\"\",\"\",VLOOKUP('Whip Data'!L424,Materials,7,FALSE))","v":""},"",{"$f":"IF('Whip Data'!A424=\"\",\"\",VLOOKUP('Whip Data'!L424,Materials,4,FALSE))","v":""},{"$f":"IF('Whip Data'!A424=\"\",\"\",'Whip Data'!O424)","v":""},"",{"$f":"IF(M411=\"\",\"\",M411/VLOOKUP('Whip Data'!L424,Materials,3,FALSE))","v":""}]
[null,null,null,null,null,null,{"$f":"IFERROR('Whip Data'!A425,\"\")","v":""},{"$f":"IF('Whip Data'!A425=\"\",\"\",IF(VALUE(RIGHT(BOM!K412,1))=0,10,VALUE(RIGHT(BOM!K412,1))))","v":""},{"$f":"IF('Whip Data'!A425=\"\",\"\",VLOOKUP('Whip Data'!L425,Materials,7,FALSE))","v":""},"",{"$f":"IF('Whip Data'!A425=\"\",\"\",VLOOKUP('Whip Data'!L425,Materials,4,FALSE))","v":""},{"$f":"IF('Whip Data'!A425=\"\",\"\",'Whip Data'!O425)","v":""},"",{"$f":"IF(M412=\"\",\"\",M412/VLOOKUP('Whip Data'!L425,Materials,3,FALSE))","v":""}]
[null,null,null,null,null,null,{"$f":"IFERROR('Whip Data'!A426,\"\")","v":""},{"$f":"IF('Whip Data'!A426=\"\",\"\",IF(VALUE(RIGHT(BOM!K413,1))=0,10,VALUE(RIGHT(BOM!K413,1))))","v":""},{"$f":"IF('Whip Data'!A426=\"\",\"\",VLOOKUP('Whip Data'!L426,Materials,7,FALSE))","v":""},"",{"$f":"IF('Whip Data'!A426=\"\",\"\",VLOOKUP('Whip Data'!L426,Materials,4,FALSE))","v":""},{"$f":"IF('Whip Data'!A426=\"\",\"\",'Whip Data'!O426)","v":""},"",{"$f":"IF(M413=\"\",\"\",M413/VLOOKUP('Whip Data'!L426,Materials,3,FALSE))","v":""}]
[null,null,null,null,null,null,{"$f":"IFERROR('Whip Data'!A427,\"\")","v":""},{"$f":"IF('Whip Data'!A427=\"\",\"\",IF(VALUE(RIGHT(BOM!K414,1))=0,10,VALUE(RIGHT(BOM!K414,1))))","v":""},{"$f":"IF('Whip Data'!A427=\"\",\"\",VLOOKUP('Whip Data'!L427,Materials,7,FALSE))","v":""},"",{"$f":"IF('Whip Data'!A427=\"\",\"\",VLOOKUP('Whip Data'!L427,Materials,4,FALSE))","v":""},{"$f":"IF('Whip Data'!A427=\"\",\"\",'Whip Data'!O427)","v":""},"",{"$f":"IF(M414=\"\",\"\",M414/VLOOKUP('Whip Data'!L427,Materials,3,FALSE))","v":""}]
[null,null,null,null,null,null,{"$f":"IFERROR('Whip Data'!A428,\"\")","v":""},{"$f":"IF('Whip Data'!A428=\"\",\"\",IF(VALUE(RIGHT(BOM!K415,1))=0,10,VALUE(RIGHT(BOM!K415,1))))","v":""},{"$f":"IF('Whip Data'!A428=\"\",\"\",VLOOKUP('Whip Data'!L428,Materials,7,FALSE))","v":""},"",{"$f":"IF('Whip Data'!A428=\"\",\"\",VLOOKUP('Whip Data'!L428,Materials,4,FALSE))","v":""},{"$f":"IF('Whip Data'!A428=\"\",\"\",'Whip Data'!O428)","v":""},"",{"$f":"IF(M415=\"\",\"\",M415/VLOOKUP('Whip Data'!L428,Materials,3,FALSE))","v":""}]
[null,null,null,null,null,null,{"$f":"IFERROR('Whip Data'!A429,\"\")","v":""},{"$f":"IF('Whip Data'!A429=\"\",\"\",IF(VALUE(RIGHT(BOM!K416,1))=0,10,VALUE(RIGHT(BOM!K416,1))))","v":""},{"$f":"IF('Whip Data'!A429=\"\",\"\",VLOOKUP('Whip Data'!L429,Materials,7,FALSE))","v":""},"",{"$f":"IF('Whip Data'!A429=\"\",\"\",VLOOKUP('Whip Data'!L429,Materials,4,FALSE))","v":""},{"$f":"IF('Whip Data'!A429=\"\",\"\",'Whip Data'!O429)","v":""},"",{"$f":"IF(M416=\"\",\"\",M416/VLOOKUP('Whip Data'!L429,Materials,3,FALSE))","v":""}]
[null,null,null,null,null,null,{"$f":"IFERROR('Whip Data'!A430,\"\")","v":""},{"$f":"IF('Whip Data'!A430=\"\",\"\",IF(VALUE(RIGHT(BOM!K417,1))=0,10,VALUE(RIGHT(BOM!K417,1))))","v":""},{"$f":"IF('Whip Data'!A430=\"\",\"\",VLOOKUP('Whip Data'!L430,Materials,7,FALSE))","v":""},"",{"$f":"IF('Whip Data'!A430=\"\",\"\",VLOOKUP('Whip Data'!L430,Materials,4,FALSE))","v":""},{"$f":"IF('Whip Data'!A430=\"\",\"\",'Whip Data'!O430)","v":""},"",{"$f":"IF(M417=\"\",\"\",M417/VLOOKUP('Whip Data'!L430,Materials,3,FALSE))","v":""}]
[null,null,null,null,null,null,{"$f":"IFERROR('Whip Data'!A431,\"\")","v":""},{"$f":"IF('Whip Data'!A431=\"\",\"\",IF(VALUE(RIGHT(BOM!K418,1))=0,10,VALUE(RIGHT(BOM!K418,1))))","v":""},{"$f":"IF('Whip Data'!A431=\"\",\"\",VLOOKUP('Whip Data'!L431,Materials,7,FALSE))","v":""},"",{"$f":"IF('Whip Data'!A431=\"\",\"\",VLOOKUP('Whip Data'!L431,Materials,4,FALSE))","v":""},{"$f":"IF('Whip Data'!A431=\"\",\"\",'Whip Data'!O431)","v":""},"",{"$f":"IF(M418=\"\",\"\",M418/VLOOKUP('Whip Data'!L431,Materials,3,FALSE))","v":""}]
[null,null,null,null,null,null,{"$f":"IFERROR('Whip Data'!A432,\"\")","v":""},{"$f":"IF('Whip Data'!A432=\"\",\"\",IF(VALUE(RIGHT(BOM!K419,1))=0,10,VALUE(RIGHT(BOM!K419,1))))","v":""},{"$f":"IF('Whip Data'!A432=\"\",\"\",VLOOKUP('Whip Data'!L432,Materials,7,FALSE))","v":""},"",{"$f":"IF('Whip Data'!A432=\"\",\"\",VLOOKUP('Whip Data'!L432,Materials,4,FALSE))","v":""},{"$f":"IF('Whip Data'!A432=\"\",\"\",'Whip Data'!O432)","v":""},"",{"$f":"IF(M419=\"\",\"\",M419/VLOOKUP('Whip Data'!L432,Materials,3,FALSE))","v":""}]
[null,null,null,null,null,null,{"$f":"IFERROR('Whip Data'!A433,\"\")","v":""},{"$f":"IF('Whip Data'!A433=\"\",\"\",IF(VALUE(RIGHT(BOM!K420,1))=0,10,VALUE(RIGHT(BOM!K420,1))))","v":""},{"$f":"IF('Whip Data'!A433=\"\",\"\",VLOOKUP('Whip Data'!L433,Materials,7,FALSE))","v":""},"",{"$f":"IF('Whip Data'!A433=\"\",\"\",VLOOKUP('Whip Data'!L433,Materials,4,FALSE))","v":""},{"$f":"IF('Whip Data'!A433=\"\",\"\",'Whip Data'!O433)","v":""},"",{"$f":"IF(M420=\"\",\"\",M420/VLOOKUP('Whip Data'!L433,Materials,3,FALSE))","v":""}]
[null,null,null,null,null,null,{"$f":"IFERROR('Whip Data'!A434,\"\")","v":""},{"$f":"IF('Whip Data'!A434=\"\",\"\",IF(VALUE(RIGHT(BOM!K421,1))=0,10,VALUE(RIGHT(BOM!K421,1))))","v":""},{"$f":"IF('Whip Data'!A434=\"\",\"\",VLOOKUP('Whip Data'!L434,Materials,7,FALSE))","v":""},"",{"$f":"IF('Whip Data'!A434=\"\",\"\",VLOOKUP('Whip Data'!L434,Materials,4,FALSE))","v":""},{"$f":"IF('Whip Data'!A434=\"\",\"\",'Whip Data'!O434)","v":""},"",{"$f":"IF(M421=\"\",\"\",M421/VLOOKUP('Whip Data'!L434,Materials,3,FALSE))","v":""}]
[null,null,null,null,null,null,{"$f":"IFERROR('Whip Data'!A435,\"\")","v":""},{"$f":"IF('Whip Data'!A435=\"\",\"\",IF(VALUE(RIGHT(BOM!K422,1))=0,10,VALUE(RIGHT(BOM!K422,1))))","v":""},{"$f":"IF('Whip Data'!A435=\"\",\"\",VLOOKUP('Whip Data'!L435,Materials,7,FALSE))","v":""},"",{"$f":"IF('Whip Data'!A435=\"\",\"\",VLOOKUP('Whip Data'!L435,Materials,4,FALSE))","v":""},{"$f":"IF('Whip Data'!A435=\"\",\"\",'Whip Data'!O435)","v":""},"",{"$f":"IF(M422=\"\",\"\",M422/VLOOKUP('Whip Data'!L435,Materials,3,FALSE))","v":""}]
[null,null,null,null,null,null,{"$f":"IFERROR('Whip Data'!A436,\"\")","v":""},{"$f":"IF('Whip Data'!A436=\"\",\"\",IF(VALUE(RIGHT(BOM!K423,1))=0,10,VALUE(RIGHT(BOM!K423,1))))","v":""},{"$f":"IF('Whip Data'!A436=\"\",\"\",VLOOKUP('Whip Data'!L436,Materials,7,FALSE))","v":""},"",{"$f":"IF('Whip Data'!A436=\"\",\"\",VLOOKUP('Whip Data'!L436,Materials,4,FALSE))","v":""},{"$f":"IF('Whip Data'!A436=\"\",\"\",'Whip Data'!O436)","v":""},"",{"$f":"IF(M423=\"\",\"\",M423/VLOOKUP('Whip Data'!L436,Materials,3,FALSE))","v":""}]
[null,null,null,null,null,null,{"$f":"IFERROR('Whip Data'!A437,\"\")","v":""},{"$f":"IF('Whip Data'!A437=\"\",\"\",IF(VALUE(RIGHT(BOM!K424,1))=0,10,VALUE(RIGHT(BOM!K424,1))))","v":""},{"$f":"IF('Whip Data'!A437=\"\",\"\",VLOOKUP('Whip Data'!L437,Materials,7,FALSE))","v":""},"",{"$f":"IF('Whip Data'!A437=\"\",\"\",VLOOKUP('Whip Data'!L437,Materials,4,FALSE))","v":""},{"$f":"IF('Whip Data'!A437=\"\",\"\",'Whip Data'!O437)","v":""},"",{"$f":"IF(M424=\"\",\"\",M424/VLOOKUP('Whip Data'!L437,Materials,3,FALSE))","v":""}]
[null,null,null,null,null,null,{"$f":"IFERROR('Whip Data'!A438,\"\")","v":""},{"$f":"IF('Whip Data'!A438=\"\",\"\",IF(VALUE(RIGHT(BOM!K425,1))=0,10,VALUE(RIGHT(BOM!K425,1))))","v":""},{"$f":"IF('Whip Data'!A438=\"\",\"\",VLOOKUP('Whip Data'!L438,Materials,7,FALSE))","v":""},"",{"$f":"IF('Whip Data'!A438=\"\",\"\",VLOOKUP('Whip Data'!L438,Materials,4,FALSE))","v":""},{"$f":"IF('Whip Data'!A438=\"\",\"\",'Whip Data'!O438)","v":""},"",{"$f":"IF(M425=\"\",\"\",M425/VLOOKUP('Whip Data'!L438,Materials,3,FALSE))","v":""}]
[null,null,null,null,null,null,{"$f":"IFERROR('Whip Data'!A439,\"\")","v":""},{"$f":"IF('Whip Data'!A439=\"\",\"\",IF(VALUE(RIGHT(BOM!K426,1))=0,10,VALUE(RIGHT(BOM!K426,1))))","v":""},{"$f":"IF('Whip Data'!A439=\"\",\"\",VLOOKUP('Whip Data'!L439,Materials,7,FALSE))","v":""},"",{"$f":"IF('Whip Data'!A439=\"\",\"\",VLOOKUP('Whip Data'!L439,Materials,4,FALSE))","v":""},{"$f":"IF('Whip Data'!A439=\"\",\"\",'Whip Data'!O439)","v":""},"",{"$f":"IF(M426=\"\",\"\",M426/VLOOKUP('Whip Data'!L439,Materials,3,FALSE))","v":""}]
[null,null,null,null,null,null,{"$f":"IFERROR('Whip Data'!A440,\"\")","v":""},{"$f":"IF('Whip Data'!A440=\"\",\"\",IF(VALUE(RIGHT(BOM!K427,1))=0,10,VALUE(RIGHT(BOM!K427,1))))","v":""},{"$f":"IF('Whip Data'!A440=\"\",\"\",VLOOKUP('Whip Data'!L440,Materials,7,FALSE))","v":""},"",{"$f":"IF('Whip Data'!A440=\"\",\"\",VLOOKUP('Whip Data'!L440,Materials,4,FALSE))","v":""},{"$f":"IF('Whip Data'!A440=\"\",\"\",'Whip Data'!O440)","v":""},"",{"$f":"IF(M427=\"\",\"\",M427/VLOOKUP('Whip Data'!L440,Materials,3,FALSE))","v":""}]
[null,null,null,null,null,null,{"$f":"IFERROR('Whip Data'!A441,\"\")","v":""},{"$f":"IF('Whip Data'!A441=\"\",\"\",IF(VALUE(RIGHT(BOM!K428,1))=0,10,VALUE(RIGHT(BOM!K428,1))))","v":""},{"$f":"IF('Whip Data'!A441=\"\",\"\",VLOOKUP('Whip Data'!L441,Materials,7,FALSE))","v":""},"",{"$f":"IF('Whip Data'!A441=\"\",\"\",VLOOKUP('Whip Data'!L441,Materials,4,FALSE))","v":""},{"$f":"IF('Whip Data'!A441=\"\",\"\",'Whip Data'!O441)","v":""},"",{"$f":"IF(M428=\"\",\"\",M428/VLOOKUP('Whip Data'!L441,Materials,3,FALSE))","v":""}]
[null,null,null,null,null,null,{"$f":"IFERROR('Whip Data'!A442,\"\")","v":""},{"$f":"IF('Whip Data'!A442=\"\",\"\",IF(VALUE(RIGHT(BOM!K429,1))=0,10,VALUE(RIGHT(BOM!K429,1))))","v":""},{"$f":"IF('Whip Data'!A442=\"\",\"\",VLOOKUP('Whip Data'!L442,Materials,7,FALSE))","v":""},"",{"$f":"IF('Whip Data'!A442=\"\",\"\",VLOOKUP('Whip Data'!L442,Materials,4,FALSE))","v":""},{"$f":"IF('Whip Data'!A442=\"\",\"\",'Whip Data'!O442)","v":""},"",{"$f":"IF(M429=\"\",\"\",M429/VLOOKUP('Whip Data'!L442,Materials,3,FALSE))","v":""}]
[null,null,null,null,null,null,{"$f":"IFERROR('Whip Data'!A443,\"\")","v":""},{"$f":"IF('Whip Data'!A443=\"\",\"\",IF(VALUE(RIGHT(BOM!K430,1))=0,10,VALUE(RIGHT(BOM!K430,1))))","v":""},{"$f":"IF('Whip Data'!A443=\"\",\"\",VLOOKUP('Whip Data'!L443,Materials,7,FALSE))","v":""},"",{"$f":"IF('Whip Data'!A443=\"\",\"\",VLOOKUP('Whip Data'!L443,Materials,4,FALSE))","v":""},{"$f":"IF('Whip Data'!A443=\"\",\"\",'Whip Data'!O443)","v":""},"",{"$f":"IF(M430=\"\",\"\",M430/VLOOKUP('Whip Data'!L443,Materials,3,FALSE))","v":""}]
[null,null,null,null,null,null,{"$f":"IFERROR('Whip Data'!A444,\"\")","v":""},{"$f":"IF('Whip Data'!A444=\"\",\"\",IF(VALUE(RIGHT(BOM!K431,1))=0,10,VALUE(RIGHT(BOM!K431,1))))","v":""},{"$f":"IF('Whip Data'!A444=\"\",\"\",VLOOKUP('Whip Data'!L444,Materials,7,FALSE))","v":""},"",{"$f":"IF('Whip Data'!A444=\"\",\"\",VLOOKUP('Whip Data'!L444,Materials,4,FALSE))","v":""},{"$f":"IF('Whip Data'!A444=\"\",\"\",'Whip Data'!O444)","v":""},"",{"$f":"IF(M431=\"\",\"\",M431/VLOOKUP('Whip Data'!L444,Materials,3,FALSE))","v":""}]
[null,null,null,null,null,null,{"$f":"IFERROR('Whip Data'!A445,\"\")","v":""},{"$f":"IF('Whip Data'!A445=\"\",\"\",IF(VALUE(RIGHT(BOM!K432,1))=0,10,VALUE(RIGHT(BOM!K432,1))))","v":""},{"$f":"IF('Whip Data'!A445=\"\",\"\",VLOOKUP('Whip Data'!L445,Materials,7,FALSE))","v":""},"",{"$f":"IF('Whip Data'!A445=\"\",\"\",VLOOKUP('Whip Data'!L445,Materials,4,FALSE))","v":""},{"$f":"IF('Whip Data'!A445=\"\",\"\",'Whip Data'!O445)","v":""},"",{"$f":"IF(M432=\"\",\"\",M432/VLOOKUP('Whip Data'!L445,Materials,3,FALSE))","v":""}]
[null,null,null,null,null,null,{"$f":"IFERROR('Whip Data'!A446,\"\")","v":""},{"$f":"IF('Whip Data'!A446=\"\",\"\",IF(VALUE(RIGHT(BOM!K433,1))=0,10,VALUE(RIGHT(BOM!K433,1))))","v":""},{"$f":"IF('Whip Data'!A446=\"\",\"\",VLOOKUP('Whip Data'!L446,Materials,7,FALSE))","v":""},"",{"$f":"IF('Whip Data'!A446=\"\",\"\",VLOOKUP('Whip Data'!L446,Materials,4,FALSE))","v":""},{"$f":"IF('Whip Data'!A446=\"\",\"\",'Whip Data'!O446)","v":""},"",{"$f":"IF(M433=\"\",\"\",M433/VLOOKUP('Whip Data'!L446,Materials,3,FALSE))","v":""}]
[null,null,null,null,null,null,{"$f":"IFERROR('Whip Data'!A447,\"\")","v":""},{"$f":"IF('Whip Data'!A447=\"\",\"\",IF(VALUE(RIGHT(BOM!K434,1))=0,10,VALUE(RIGHT(BOM!K434,1))))","v":""},{"$f":"IF('Whip Data'!A447=\"\",\"\",VLOOKUP('Whip Data'!L447,Materials,7,FALSE))","v":""},"",{"$f":"IF('Whip Data'!A447=\"\",\"\",VLOOKUP('Whip Data'!L447,Materials,4,FALSE))","v":""},{"$f":"IF('Whip Data'!A447=\"\",\"\",'Whip Data'!O447)","v":""},"",{"$f":"IF(M434=\"\",\"\",M434/VLOOKUP('Whip Data'!L447,Materials,3,FALSE))","v":""}]
[null,null,null,null,null,null,{"$f":"IFERROR('Whip Data'!A448,\"\")","v":""},{"$f":"IF('Whip Data'!A448=\"\",\"\",IF(VALUE(RIGHT(BOM!K435,1))=0,10,VALUE(RIGHT(BOM!K435,1))))","v":""},{"$f":"IF('Whip Data'!A448=\"\",\"\",VLOOKUP('Whip Data'!L448,Materials,7,FALSE))","v":""},"",{"$f":"IF('Whip Data'!A448=\"\",\"\",VLOOKUP('Whip Data'!L448,Materials,4,FALSE))","v":""},{"$f":"IF('Whip Data'!A448=\"\",\"\",'Whip Data'!O448)","v":""},"",{"$f":"IF(M435=\"\",\"\",M435/VLOOKUP('Whip Data'!L448,Materials,3,FALSE))","v":""}]
[null,null,null,null,null,null,{"$f":"IFERROR('Whip Data'!A449,\"\")","v":""},{"$f":"IF('Whip Data'!A449=\"\",\"\",IF(VALUE(RIGHT(BOM!K436,1))=0,10,VALUE(RIGHT(BOM!K436,1))))","v":""},{"$f":"IF('Whip Data'!A449=\"\",\"\",VLOOKUP('Whip Data'!L449,Materials,7,FALSE))","v":""},"",{"$f":"IF('Whip Data'!A449=\"\",\"\",VLOOKUP('Whip Data'!L449,Materials,4,FALSE))","v":""},{"$f":"IF('Whip Data'!A449=\"\",\"\",'Whip Data'!O449)","v":""},"",{"$f":"IF(M436=\"\",\"\",M436/VLOOKUP('Whip Data'!L449,Materials,3,FALSE))","v":""}]
[null,null,null,null,null,null,{"$f":"IFERROR('Whip Data'!A450,\"\")","v":""},{"$f":"IF('Whip Data'!A450=\"\",\"\",IF(VALUE(RIGHT(BOM!K437,1))=0,10,VALUE(RIGHT(BOM!K437,1))))","v":""},{"$f":"IF('Whip Data'!A450=\"\",\"\",VLOOKUP('Whip Data'!L450,Materials,7,FALSE))","v":""},"",{"$f":"IF('Whip Data'!A450=\"\",\"\",VLOOKUP('Whip Data'!L450,Materials,4,FALSE))","v":""},{"$f":"IF('Whip Data'!A450=\"\",\"\",'Whip Data'!O450)","v":""},"",{"$f":"IF(M437=\"\",\"\",M437/VLOOKUP('Whip Data'!L450,Materials,3,FALSE))","v":""}]
[null,null,null,null,null,null,{"$f":"IFERROR('Whip Data'!A451,\"\")","v":""},{"$f":"IF('Whip Data'!A451=\"\",\"\",IF(VALUE(RIGHT(BOM!K438,1))=0,10,VALUE(RIGHT(BOM!K438,1))))","v":""},{"$f":"IF('Whip Data'!A451=\"\",\"\",VLOOKUP('Whip Data'!L451,Materials,7,FALSE))","v":""},"",{"$f":"IF('Whip Data'!A451=\"\",\"\",VLOOKUP('Whip Data'!L451,Materials,4,FALSE))","v":""},{"$f":"IF('Whip Data'!A451=\"\",\"\",'Whip Data'!O451)","v":""},"",{"$f":"IF(M438=\"\",\"\",M438/VLOOKUP('Whip Data'!L451,Materials,3,FALSE))","v":""}]
[null,null,null,null,null,null,{"$f":"IFERROR('Whip Data'!A452,\"\")","v":""},{"$f":"IF('Whip Data'!A452=\"\",\"\",IF(VALUE(RIGHT(BOM!K439,1))=0,10,VALUE(RIGHT(BOM!K439,1))))","v":""},{"$f":"IF('Whip Data'!A452=\"\",\"\",VLOOKUP('Whip Data'!L452,Materials,7,FALSE))","v":""},"",{"$f":"IF('Whip Data'!A452=\"\",\"\",VLOOKUP('Whip Data'!L452,Materials,4,FALSE))","v":""},{"$f":"IF('Whip Data'!A452=\"\",\"\",'Whip Data'!O452)","v":""},"",{"$f":"IF(M439=\"\",\"\",M439/VLOOKUP('Whip Data'!L452,Materials,3,FALSE))","v":""}]
[null,null,null,null,null,null,{"$f":"IFERROR('Whip Data'!A453,\"\")","v":""},{"$f":"IF('Whip Data'!A453=\"\",\"\",IF(VALUE(RIGHT(BOM!K440,1))=0,10,VALUE(RIGHT(BOM!K440,1))))","v":""},{"$f":"IF('Whip Data'!A453=\"\",\"\",VLOOKUP('Whip Data'!L453,Materials,7,FALSE))","v":""},"",{"$f":"IF('Whip Data'!A453=\"\",\"\",VLOOKUP('Whip Data'!L453,Materials,4,FALSE))","v":""},{"$f":"IF('Whip Data'!A453=\"\",\"\",'Whip Data'!O453)","v":""},"",{"$f":"IF(M440=\"\",\"\",M440/VLOOKUP('Whip Data'!L453,Materials,3,FALSE))","v":""}]
[null,null,null,null,null,null,{"$f":"IFERROR('Whip Data'!A454,\"\")","v":""},{"$f":"IF('Whip Data'!A454=\"\",\"\",IF(VALUE(RIGHT(BOM!K441,1))=0,10,VALUE(RIGHT(BOM!K441,1))))","v":""},{"$f":"IF('Whip Data'!A454=\"\",\"\",VLOOKUP('Whip Data'!L454,Materials,7,FALSE))","v":""},"",{"$f":"IF('Whip Data'!A454=\"\",\"\",VLOOKUP('Whip Data'!L454,Materials,4,FALSE))","v":""},{"$f":"IF('Whip Data'!A454=\"\",\"\",'Whip Data'!O454)","v":""},"",{"$f":"IF(M441=\"\",\"\",M441/VLOOKUP('Whip Data'!L454,Materials,3,FALSE))","v":""}]
[null,null,null,null,null,null,{"$f":"IFERROR('Whip Data'!A455,\"\")","v":""},{"$f":"IF('Whip Data'!A455=\"\",\"\",IF(VALUE(RIGHT(BOM!K442,1))=0,10,VALUE(RIGHT(BOM!K442,1))))","v":""},{"$f":"IF('Whip Data'!A455=\"\",\"\",VLOOKUP('Whip Data'!L455,Materials,7,FALSE))","v":""},"",{"$f":"IF('Whip Data'!A455=\"\",\"\",VLOOKUP('Whip Data'!L455,Materials,4,FALSE))","v":""},{"$f":"IF('Whip Data'!A455=\"\",\"\",'Whip Data'!O455)","v":""},"",{"$f":"IF(M442=\"\",\"\",M442/VLOOKUP('Whip Data'!L455,Materials,3,FALSE))","v":""}]
[null,null,null,null,null,null,{"$f":"IFERROR('Whip Data'!A456,\"\")","v":""},{"$f":"IF('Whip Data'!A456=\"\",\"\",IF(VALUE(RIGHT(BOM!K443,1))=0,10,VALUE(RIGHT(BOM!K443,1))))","v":""},{"$f":"IF('Whip Data'!A456=\"\",\"\",VLOOKUP('Whip Data'!L456,Materials,7,FALSE))","v":""},"",{"$f":"IF('Whip Data'!A456=\"\",\"\",VLOOKUP('Whip Data'!L456,Materials,4,FALSE))","v":""},{"$f":"IF('Whip Data'!A456=\"\",\"\",'Whip Data'!O456)","v":""},"",{"$f":"IF(M443=\"\",\"\",M443/VLOOKUP('Whip Data'!L456,Materials,3,FALSE))","v":""}]
[null,null,null,null,null,null,{"$f":"IFERROR('Whip Data'!A457,\"\")","v":""},{"$f":"IF('Whip Data'!A457=\"\",\"\",IF(VALUE(RIGHT(BOM!K444,1))=0,10,VALUE(RIGHT(BOM!K444,1))))","v":""},{"$f":"IF('Whip Data'!A457=\"\",\"\",VLOOKUP('Whip Data'!L457,Materials,7,FALSE))","v":""},"",{"$f":"IF('Whip Data'!A457=\"\",\"\",VLOOKUP('Whip Data'!L457,Materials,4,FALSE))","v":""},{"$f":"IF('Whip Data'!A457=\"\",\"\",'Whip Data'!O457)","v":""},"",{"$f":"IF(M444=\"\",\"\",M444/VLOOKUP('Whip Data'!L457,Materials,3,FALSE))","v":""}]
[null,null,null,null,null,null,{"$f":"IFERROR('Whip Data'!A458,\"\")","v":""},{"$f":"IF('Whip Data'!A458=\"\",\"\",IF(VALUE(RIGHT(BOM!K445,1))=0,10,VALUE(RIGHT(BOM!K445,1))))","v":""},{"$f":"IF('Whip Data'!A458=\"\",\"\",VLOOKUP('Whip Data'!L458,Materials,7,FALSE))","v":""},"",{"$f":"IF('Whip Data'!A458=\"\",\"\",VLOOKUP('Whip Data'!L458,Materials,4,FALSE))","v":""},{"$f":"IF('Whip Data'!A458=\"\",\"\",'Whip Data'!O458)","v":""},"",{"$f":"IF(M445=\"\",\"\",M445/VLOOKUP('Whip Data'!L458,Materials,3,FALSE))","v":""}]
[null,null,null,null,null,null,{"$f":"IFERROR('Whip Data'!A459,\"\")","v":""},{"$f":"IF('Whip Data'!A459=\"\",\"\",IF(VALUE(RIGHT(BOM!K446,1))=0,10,VALUE(RIGHT(BOM!K446,1))))","v":""},{"$f":"IF('Whip Data'!A459=\"\",\"\",VLOOKUP('Whip Data'!L459,Materials,7,FALSE))","v":""},"",{"$f":"IF('Whip Data'!A459=\"\",\"\",VLOOKUP('Whip Data'!L459,Materials,4,FALSE))","v":""},{"$f":"IF('Whip Data'!A459=\"\",\"\",'Whip Data'!O459)","v":""},"",{"$f":"IF(M446=\"\",\"\",M446/VLOOKUP('Whip Data'!L459,Materials,3,FALSE))","v":""}]
[null,null,null,null,null,null,{"$f":"IFERROR('Whip Data'!A460,\"\")","v":""},{"$f":"IF('Whip Data'!A460=\"\",\"\",IF(VALUE(RIGHT(BOM!K447,1))=0,10,VALUE(RIGHT(BOM!K447,1))))","v":""},{"$f":"IF('Whip Data'!A460=\"\",\"\",VLOOKUP('Whip Data'!L460,Materials,7,FALSE))","v":""},"",{"$f":"IF('Whip Data'!A460=\"\",\"\",VLOOKUP('Whip Data'!L460,Materials,4,FALSE))","v":""},{"$f":"IF('Whip Data'!A460=\"\",\"\",'Whip Data'!O460)","v":""},"",{"$f":"IF(M447=\"\",\"\",M447/VLOOKUP('Whip Data'!L460,Materials,3,FALSE))","v":""}]
[null,null,null,null,null,null,{"$f":"IFERROR('Whip Data'!A461,\"\")","v":""},{"$f":"IF('Whip Data'!A461=\"\",\"\",IF(VALUE(RIGHT(BOM!K448,1))=0,10,VALUE(RIGHT(BOM!K448,1))))","v":""},{"$f":"IF('Whip Data'!A461=\"\",\"\",VLOOKUP('Whip Data'!L461,Materials,7,FALSE))","v":""},"",{"$f":"IF('Whip Data'!A461=\"\",\"\",VLOOKUP('Whip Data'!L461,Materials,4,FALSE))","v":""},{"$f":"IF('Whip Data'!A461=\"\",\"\",'Whip Data'!O461)","v":""},"",{"$f":"IF(M448=\"\",\"\",M448/VLOOKUP('Whip Data'!L461,Materials,3,FALSE))","v":""}]
[null,null,null,null,null,null,{"$f":"IFERROR('Whip Data'!A462,\"\")","v":""},{"$f":"IF('Whip Data'!A462=\"\",\"\",IF(VALUE(RIGHT(BOM!K449,1))=0,10,VALUE(RIGHT(BOM!K449,1))))","v":""},{"$f":"IF('Whip Data'!A462=\"\",\"\",VLOOKUP('Whip Data'!L462,Materials,7,FALSE))","v":""},"",{"$f":"IF('Whip Data'!A462=\"\",\"\",VLOOKUP('Whip Data'!L462,Materials,4,FALSE))","v":""},{"$f":"IF('Whip Data'!A462=\"\",\"\",'Whip Data'!O462)","v":""},"",{"$f":"IF(M449=\"\",\"\",M449/VLOOKUP('Whip Data'!L462,Materials,3,FALSE))","v":""}]
[null,null,null,null,null,null,{"$f":"IFERROR('Whip Data'!A463,\"\")","v":""},{"$f":"IF('Whip Data'!A463=\"\",\"\",IF(VALUE(RIGHT(BOM!K450,1))=0,10,VALUE(RIGHT(BOM!K450,1))))","v":""},{"$f":"IF('Whip Data'!A463=\"\",\"\",VLOOKUP('Whip Data'!L463,Materials,7,FALSE))","v":""},{"$f":"IF(G450=\"\",\"\",VLOOKUP(H450,NEC_T8,5,FALSE))","v":""},{"$f":"IF('Whip Data'!A463=\"\",\"\",VLOOKUP('Whip Data'!L463,Materials,4,FALSE))","v":""},{"$f":"IF('Whip Data'!A463=\"\",\"\",'Whip Data'!O463)","v":""},"",{"$f":"IF(M450=\"\",\"\",M450/VLOOKUP('Whip Data'!L463,Materials,3,FALSE))","v":""}]
[null,null,null,null,null,null,{"$f":"IFERROR('Whip Data'!A464,\"\")","v":""},{"$f":"IF('Whip Data'!A464=\"\",\"\",IF(VALUE(RIGHT(BOM!K451,1))=0,10,VALUE(RIGHT(BOM!K451,1))))","v":""},{"$f":"IF('Whip Data'!A464=\"\",\"\",VLOOKUP('Whip Data'!L464,Materials,7,FALSE))","v":""},"",{"$f":"IF('Whip Data'!A464=\"\",\"\",VLOOKUP('Whip Data'!L464,Materials,4,FALSE))","v":""},{"$f":"IF('Whip Data'!A464=\"\",\"\",'Whip Data'!O464)","v":""},"",{"$f":"IF(M451=\"\",\"\",M451/VLOOKUP('Whip Data'!L464,Materials,3,FALSE))","v":""}]
[null,null,null,null,null,null,{"$f":"IFERROR('Whip Data'!A465,\"\")","v":""},{"$f":"IF('Whip Data'!A465=\"\",\"\",IF(VALUE(RIGHT(BOM!K452,1))=0,10,VALUE(RIGHT(BOM!K452,1))))","v":""},{"$f":"IF('Whip Data'!A465=\"\",\"\",VLOOKUP('Whip Data'!L465,Materials,7,FALSE))","v":""},"",{"$f":"IF('Whip Data'!A465=\"\",\"\",VLOOKUP('Whip Data'!L465,Materials,4,FALSE))","v":""},{"$f":"IF('Whip Data'!A465=\"\",\"\",'Whip Data'!O465)","v":""},"",{"$f":"IF(M452=\"\",\"\",M452/VLOOKUP('Whip Data'!L465,Materials,3,FALSE))","v":""}]
[null,null,null,null,null,null,{"$f":"IFERROR('Whip Data'!A466,\"\")","v":""},{"$f":"IF('Whip Data'!A466=\"\",\"\",IF(VALUE(RIGHT(BOM!K453,1))=0,10,VALUE(RIGHT(BOM!K453,1))))","v":""},{"$f":"IF('Whip Data'!A466=\"\",\"\",VLOOKUP('Whip Data'!L466,Materials,7,FALSE))","v":""},"",{"$f":"IF('Whip Data'!A466=\"\",\"\",VLOOKUP('Whip Data'!L466,Materials,4,FALSE))","v":""},{"$f":"IF('Whip Data'!A466=\"\",\"\",'Whip Data'!O466)","v":""},"",{"$f":"IF(M453=\"\",\"\",M453/VLOOKUP('Whip Data'!L466,Materials,3,FALSE))","v":""}]
[null,null,null,null,null,null,{"$f":"IFERROR('Whip Data'!A467,\"\")","v":""},{"$f":"IF('Whip Data'!A467=\"\",\"\",IF(VALUE(RIGHT(BOM!K454,1))=0,10,VALUE(RIGHT(BOM!K454,1))))","v":""},{"$f":"IF('Whip Data'!A467=\"\",\"\",VLOOKUP('Whip Data'!L467,Materials,7,FALSE))","v":""},"",{"$f":"IF('Whip Data'!A467=\"\",\"\",VLOOKUP('Whip Data'!L467,Materials,4,FALSE))","v":""},{"$f":"IF('Whip Data'!A467=\"\",\"\",'Whip Data'!O467)","v":""},"",{"$f":"IF(M454=\"\",\"\",M454/VLOOKUP('Whip Data'!L467,Materials,3,FALSE))","v":""}]
[null,null,null,null,null,null,{"$f":"IFERROR('Whip Data'!A468,\"\")","v":""},{"$f":"IF('Whip Data'!A468=\"\",\"\",IF(VALUE(RIGHT(BOM!K455,1))=0,10,VALUE(RIGHT(BOM!K455,1))))","v":""},{"$f":"IF('Whip Data'!A468=\"\",\"\",VLOOKUP('Whip Data'!L468,Materials,7,FALSE))","v":""},"",{"$f":"IF('Whip Data'!A468=\"\",\"\",VLOOKUP('Whip Data'!L468,Materials,4,FALSE))","v":""},{"$f":"IF('Whip Data'!A468=\"\",\"\",'Whip Data'!O468)","v":""},"",{"$f":"IF(M455=\"\",\"\",M455/VLOOKUP('Whip Data'!L468,Materials,3,FALSE))","v":""}]
[null,null,null,null,null,null,{"$f":"IFERROR('Whip Data'!A469,\"\")","v":""},{"$f":"IF('Whip Data'!A469=\"\",\"\",IF(VALUE(RIGHT(BOM!K456,1))=0,10,VALUE(RIGHT(BOM!K456,1))))","v":""},{"$f":"IF('Whip Data'!A469=\"\",\"\",VLOOKUP('Whip Data'!L469,Materials,7,FALSE))","v":""},"",{"$f":"IF('Whip Data'!A469=\"\",\"\",VLOOKUP('Whip Data'!L469,Materials,4,FALSE))","v":""},{"$f":"IF('Whip Data'!A469=\"\",\"\",'Whip Data'!O469)","v":""},"",{"$f":"IF(M456=\"\",\"\",M456/VLOOKUP('Whip Data'!L469,Materials,3,FALSE))","v":""}]
[null,null,null,null,null,null,{"$f":"IFERROR('Whip Data'!A470,\"\")","v":""},{"$f":"IF('Whip Data'!A470=\"\",\"\",IF(VALUE(RIGHT(BOM!K457,1))=0,10,VALUE(RIGHT(BOM!K457,1))))","v":""},{"$f":"IF('Whip Data'!A470=\"\",\"\",VLOOKUP('Whip Data'!L470,Materials,7,FALSE))","v":""},"",{"$f":"IF('Whip Data'!A470=\"\",\"\",VLOOKUP('Whip Data'!L470,Materials,4,FALSE))","v":""},{"$f":"IF('Whip Data'!A470=\"\",\"\",'Whip Data'!O470)","v":""},"",{"$f":"IF(M457=\"\",\"\",M457/VLOOKUP('Whip Data'!L470,Materials,3,FALSE))","v":""}]
[null,null,null,null,null,null,{"$f":"IFERROR('Whip Data'!A471,\"\")","v":""},{"$f":"IF('Whip Data'!A471=\"\",\"\",IF(VALUE(RIGHT(BOM!K458,1))=0,10,VALUE(RIGHT(BOM!K458,1))))","v":""},{"$f":"IF('Whip Data'!A471=\"\",\"\",VLOOKUP('Whip Data'!L471,Materials,7,FALSE))","v":""},"",{"$f":"IF('Whip Data'!A471=\"\",\"\",VLOOKUP('Whip Data'!L471,Materials,4,FALSE))","v":""},{"$f":"IF('Whip Data'!A471=\"\",\"\",'Whip Data'!O471)","v":""},{"$f":"IF(G458=\"\",\"\",VLOOKUP(I458,$A$15:$B$16,2,FALSE)*J458*K458*L458/1000)","v":""},{"$f":"IF(M458=\"\",\"\",M458/VLOOKUP('Whip Data'!L471,Materials,3,FALSE))","v":""}]
[null,null,null,null,null,null,{"$f":"IFERROR('Whip Data'!A472,\"\")","v":""},{"$f":"IF('Whip Data'!A472=\"\",\"\",IF(VALUE(RIGHT(BOM!K459,1))=0,10,VALUE(RIGHT(BOM!K459,1))))","v":""},{"$f":"IF('Whip Data'!A472=\"\",\"\",VLOOKUP('Whip Data'!L472,Materials,7,FALSE))","v":""},"",{"$f":"IF('Whip Data'!A472=\"\",\"\",VLOOKUP('Whip Data'!L472,Materials,4,FALSE))","v":""},{"$f":"IF('Whip Data'!A472=\"\",\"\",'Whip Data'!O472)","v":""},"",{"$f":"IF(M459=\"\",\"\",M459/VLOOKUP('Whip Data'!L472,Materials,3,FALSE))","v":""}]
[null,null,null,null,null,null,{"$f":"IFERROR('Whip Data'!A473,\"\")","v":""},{"$f":"IF('Whip Data'!A473=\"\",\"\",IF(VALUE(RIGHT(BOM!K460,1))=0,10,VALUE(RIGHT(BOM!K460,1))))","v":""},{"$f":"IF('Whip Data'!A473=\"\",\"\",VLOOKUP('Whip Data'!L473,Materials,7,FALSE))","v":""},"",{"$f":"IF('Whip Data'!A473=\"\",\"\",VLOOKUP('Whip Data'!L473,Materials,4,FALSE))","v":""},{"$f":"IF('Whip Data'!A473=\"\",\"\",'Whip Data'!O473)","v":""},"",{"$f":"IF(M460=\"\",\"\",M460/VLOOKUP('Whip Data'!L473,Materials,3,FALSE))","v":""}]
[null,null,null,null,null,null,{"$f":"IFERROR('Whip Data'!A474,\"\")","v":""},{"$f":"IF('Whip Data'!A474=\"\",\"\",IF(VALUE(RIGHT(BOM!K461,1))=0,10,VALUE(RIGHT(BOM!K461,1))))","v":""},{"$f":"IF('Whip Data'!A474=\"\",\"\",VLOOKUP('Whip Data'!L474,Materials,7,FALSE))","v":""},"",{"$f":"IF('Whip Data'!A474=\"\",\"\",VLOOKUP('Whip Data'!L474,Materials,4,FALSE))","v":""},{"$f":"IF('Whip Data'!A474=\"\",\"\",'Whip Data'!O474)","v":""},"",{"$f":"IF(M461=\"\",\"\",M461/VLOOKUP('Whip Data'!L474,Materials,3,FALSE))","v":""}]
[null,null,null,null,null,null,{"$f":"IFERROR('Whip Data'!A475,\"\")","v":""},{"$f":"IF('Whip Data'!A475=\"\",\"\",IF(VALUE(RIGHT(BOM!K462,1))=0,10,VALUE(RIGHT(BOM!K462,1))))","v":""},{"$f":"IF('Whip Data'!A475=\"\",\"\",VLOOKUP('Whip Data'!L475,Materials,7,FALSE))","v":""},"",{"$f":"IF('Whip Data'!A475=\"\",\"\",VLOOKUP('Whip Data'!L475,Materials,4,FALSE))","v":""},{"$f":"IF('Whip Data'!A475=\"\",\"\",'Whip Data'!O475)","v":""},"",{"$f":"IF(M462=\"\",\"\",M462/VLOOKUP('Whip Data'!L475,Materials,3,FALSE))","v":""}]
[null,null,null,null,null,null,{"$f":"IFERROR('Whip Data'!A476,\"\")","v":""},{"$f":"IF('Whip Data'!A476=\"\",\"\",IF(VALUE(RIGHT(BOM!K463,1))=0,10,VALUE(RIGHT(BOM!K463,1))))","v":""},{"$f":"IF('Whip Data'!A476=\"\",\"\",VLOOKUP('Whip Data'!L476,Materials,7,FALSE))","v":""},"",{"$f":"IF('Whip Data'!A476=\"\",\"\",VLOOKUP('Whip Data'!L476,Materials,4,FALSE))","v":""},{"$f":"IF('Whip Data'!A476=\"\",\"\",'Whip Data'!O476)","v":""},"",{"$f":"IF(M463=\"\",\"\",M463/VLOOKUP('Whip Data'!L476,Materials,3,FALSE))","v":""}]
[null,null,null,null,null,null,{"$f":"IFERROR('Whip Data'!A477,\"\")","v":""},{"$f":"IF('Whip Data'!A477=\"\",\"\",IF(VALUE(RIGHT(BOM!K464,1))=0,10,VALUE(RIGHT(BOM!K464,1))))","v":""},{"$f":"IF('Whip Data'!A477=\"\",\"\",VLOOKUP('Whip Data'!L477,Materials,7,FALSE))","v":""},"",{"$f":"IF('Whip Data'!A477=\"\",\"\",VLOOKUP('Whip Data'!L477,Materials,4,FALSE))","v":""},{"$f":"IF('Whip Data'!A477=\"\",\"\",'Whip Data'!O477)","v":""},"",{"$f":"IF(M464=\"\",\"\",M464/VLOOKUP('Whip Data'!L477,Materials,3,FALSE))","v":""}]
[null,null,null,null,null,null,{"$f":"IFERROR('Whip Data'!A478,\"\")","v":""},{"$f":"IF('Whip Data'!A478=\"\",\"\",IF(VALUE(RIGHT(BOM!K465,1))=0,10,VALUE(RIGHT(BOM!K465,1))))","v":""},{"$f":"IF('Whip Data'!A478=\"\",\"\",VLOOKUP('Whip Data'!L478,Materials,7,FALSE))","v":""},"",{"$f":"IF('Whip Data'!A478=\"\",\"\",VLOOKUP('Whip Data'!L478,Materials,4,FALSE))","v":""},{"$f":"IF('Whip Data'!A478=\"\",\"\",'Whip Data'!O478)","v":""},"",{"$f":"IF(M465=\"\",\"\",M465/VLOOKUP('Whip Data'!L478,Materials,3,FALSE))","v":""}]
[null,null,null,null,null,null,{"$f":"IFERROR('Whip Data'!A479,\"\")","v":""},{"$f":"IF('Whip Data'!A479=\"\",\"\",IF(VALUE(RIGHT(BOM!K466,1))=0,10,VALUE(RIGHT(BOM!K466,1))))","v":""},{"$f":"IF('Whip Data'!A479=\"\",\"\",VLOOKUP('Whip Data'!L479,Materials,7,FALSE))","v":""},"",{"$f":"IF('Whip Data'!A479=\"\",\"\",VLOOKUP('Whip Data'!L479,Materials,4,FALSE))","v":""},{"$f":"IF('Whip Data'!A479=\"\",\"\",'Whip Data'!O479)","v":""},"",{"$f":"IF(M466=\"\",\"\",M466/VLOOKUP('Whip Data'!L479,Materials,3,FALSE))","v":""}]
[null,null,null,null,null,null,{"$f":"IFERROR('Whip Data'!A480,\"\")","v":""},{"$f":"IF('Whip Data'!A480=\"\",\"\",IF(VALUE(RIGHT(BOM!K467,1))=0,10,VALUE(RIGHT(BOM!K467,1))))","v":""},{"$f":"IF('Whip Data'!A480=\"\",\"\",VLOOKUP('Whip Data'!L480,Materials,7,FALSE))","v":""},"",{"$f":"IF('Whip Data'!A480=\"\",\"\",VLOOKUP('Whip Data'!L480,Materials,4,FALSE))","v":""},{"$f":"IF('Whip Data'!A480=\"\",\"\",'Whip Data'!O480)","v":""},"",{"$f":"IF(M467=\"\",\"\",M467/VLOOKUP('Whip Data'!L480,Materials,3,FALSE))","v":""}]
[null,null,null,null,null,null,{"$f":"IFERROR('Whip Data'!A481,\"\")","v":""},{"$f":"IF('Whip Data'!A481=\"\",\"\",IF(VALUE(RIGHT(BOM!K468,1))=0,10,VALUE(RIGHT(BOM!K468,1))))","v":""},{"$f":"IF('Whip Data'!A481=\"\",\"\",VLOOKUP('Whip Data'!L481,Materials,7,FALSE))","v":""},"",{"$f":"IF('Whip Data'!A481=\"\",\"\",VLOOKUP('Whip Data'!L481,Materials,4,FALSE))","v":""},{"$f":"IF('Whip Data'!A481=\"\",\"\",'Whip Data'!O481)","v":""},"",{"$f":"IF(M468=\"\",\"\",M468/VLOOKUP('Whip Data'!L481,Materials,3,FALSE))","v":""}]
[null,null,null,null,null,null,{"$f":"IFERROR('Whip Data'!A482,\"\")","v":""},{"$f":"IF('Whip Data'!A482=\"\",\"\",IF(VALUE(RIGHT(BOM!K469,1))=0,10,VALUE(RIGHT(BOM!K469,1))))","v":""},{"$f":"IF('Whip Data'!A482=\"\",\"\",VLOOKUP('Whip Data'!L482,Materials,7,FALSE))","v":""},"",{"$f":"IF('Whip Data'!A482=\"\",\"\",VLOOKUP('Whip Data'!L482,Materials,4,FALSE))","v":""},{"$f":"IF('Whip Data'!A482=\"\",\"\",'Whip Data'!O482)","v":""},"",{"$f":"IF(M469=\"\",\"\",M469/VLOOKUP('Whip Data'!L482,Materials,3,FALSE))","v":""}]
[null,null,null,null,null,null,{"$f":"IFERROR('Whip Data'!A483,\"\")","v":""},{"$f":"IF('Whip Data'!A483=\"\",\"\",IF(VALUE(RIGHT(BOM!K470,1))=0,10,VALUE(RIGHT(BOM!K470,1))))","v":""},{"$f":"IF('Whip Data'!A483=\"\",\"\",VLOOKUP('Whip Data'!L483,Materials,7,FALSE))","v":""},"",{"$f":"IF('Whip Data'!A483=\"\",\"\",VLOOKUP('Whip Data'!L483,Materials,4,FALSE))","v":""},{"$f":"IF('Whip Data'!A483=\"\",\"\",'Whip Data'!O483)","v":""},"",{"$f":"IF(M470=\"\",\"\",M470/VLOOKUP('Whip Data'!L483,Materials,3,FALSE))","v":""}]
[null,null,null,null,null,null,{"$f":"IFERROR('Whip Data'!A484,\"\")","v":""},{"$f":"IF('Whip Data'!A484=\"\",\"\",IF(VALUE(RIGHT(BOM!K471,1))=0,10,VALUE(RIGHT(BOM!K471,1))))","v":""},{"$f":"IF('Whip Data'!A484=\"\",\"\",VLOOKUP('Whip Data'!L484,Materials,7,FALSE))","v":""},"",{"$f":"IF('Whip Data'!A484=\"\",\"\",VLOOKUP('Whip Data'!L484,Materials,4,FALSE))","v":""},{"$f":"IF('Whip Data'!A484=\"\",\"\",'Whip Data'!O484)","v":""},"",{"$f":"IF(M471=\"\",\"\",M471/VLOOKUP('Whip Data'!L484,Materials,3,FALSE))","v":""}]
[null,null,null,null,null,null,{"$f":"IFERROR('Whip Data'!A485,\"\")","v":""},{"$f":"IF('Whip Data'!A485=\"\",\"\",IF(VALUE(RIGHT(BOM!K472,1))=0,10,VALUE(RIGHT(BOM!K472,1))))","v":""},{"$f":"IF('Whip Data'!A485=\"\",\"\",VLOOKUP('Whip Data'!L485,Materials,7,FALSE))","v":""},"",{"$f":"IF('Whip Data'!A485=\"\",\"\",VLOOKUP('Whip Data'!L485,Materials,4,FALSE))","v":""},{"$f":"IF('Whip Data'!A485=\"\",\"\",'Whip Data'!O485)","v":""},"",{"$f":"IF(M472=\"\",\"\",M472/VLOOKUP('Whip Data'!L485,Materials,3,FALSE))","v":""}]
[null,null,null,null,null,null,{"$f":"IFERROR('Whip Data'!A486,\"\")","v":""},{"$f":"IF('Whip Data'!A486=\"\",\"\",IF(VALUE(RIGHT(BOM!K473,1))=0,10,VALUE(RIGHT(BOM!K473,1))))","v":""},{"$f":"IF('Whip Data'!A486=\"\",\"\",VLOOKUP('Whip Data'!L486,Materials,7,FALSE))","v":""},"",{"$f":"IF('Whip Data'!A486=\"\",\"\",VLOOKUP('Whip Data'!L486,Materials,4,FALSE))","v":""},{"$f":"IF('Whip Data'!A486=\"\",\"\",'Whip Data'!O486)","v":""},"",{"$f":"IF(M473=\"\",\"\",M473/VLOOKUP('Whip Data'!L486,Materials,3,FALSE))","v":""}]
[null,null,null,null,null,null,{"$f":"IFERROR('Whip Data'!A487,\"\")","v":""},{"$f":"IF('Whip Data'!A487=\"\",\"\",IF(VALUE(RIGHT(BOM!K474,1))=0,10,VALUE(RIGHT(BOM!K474,1))))","v":""},{"$f":"IF('Whip Data'!A487=\"\",\"\",VLOOKUP('Whip Data'!L487,Materials,7,FALSE))","v":""},"",{"$f":"IF('Whip Data'!A487=\"\",\"\",VLOOKUP('Whip Data'!L487,Materials,4,FALSE))","v":""},{"$f":"IF('Whip Data'!A487=\"\",\"\",'Whip Data'!O487)","v":""},"",{"$f":"IF(M474=\"\",\"\",M474/VLOOKUP('Whip Data'!L487,Materials,3,FALSE))","v":""}]
[null,null,null,null,null,null,{"$f":"IFERROR('Whip Data'!A488,\"\")","v":""},{"$f":"IF('Whip Data'!A488=\"\",\"\",IF(VALUE(RIGHT(BOM!K475,1))=0,10,VALUE(RIGHT(BOM!K475,1))))","v":""},{"$f":"IF('Whip Data'!A488=\"\",\"\",VLOOKUP('Whip Data'!L488,Materials,7,FALSE))","v":""},"",{"$f":"IF('Whip Data'!A488=\"\",\"\",VLOOKUP('Whip Data'!L488,Materials,4,FALSE))","v":""},{"$f":"IF('Whip Data'!A488=\"\",\"\",'Whip Data'!O488)","v":""},"",{"$f":"IF(M475=\"\",\"\",M475/VLOOKUP('Whip Data'!L488,Materials,3,FALSE))","v":""}]
[null,null,null,null,null,null,{"$f":"IFERROR('Whip Data'!A489,\"\")","v":""},{"$f":"IF('Whip Data'!A489=\"\",\"\",IF(VALUE(RIGHT(BOM!K476,1))=0,10,VALUE(RIGHT(BOM!K476,1))))","v":""},{"$f":"IF('Whip Data'!A489=\"\",\"\",VLOOKUP('Whip Data'!L489,Materials,7,FALSE))","v":""},"",{"$f":"IF('Whip Data'!A489=\"\",\"\",VLOOKUP('Whip Data'!L489,Materials,4,FALSE))","v":""},{"$f":"IF('Whip Data'!A489=\"\",\"\",'Whip Data'!O489)","v":""},"",{"$f":"IF(M476=\"\",\"\",M476/VLOOKUP('Whip Data'!L489,Materials,3,FALSE))","v":""}]
[null,null,null,null,null,null,{"$f":"IFERROR('Whip Data'!A490,\"\")","v":""},{"$f":"IF('Whip Data'!A490=\"\",\"\",IF(VALUE(RIGHT(BOM!K477,1))=0,10,VALUE(RIGHT(BOM!K477,1))))","v":""},{"$f":"IF('Whip Data'!A490=\"\",\"\",VLOOKUP('Whip Data'!L490,Materials,7,FALSE))","v":""},"",{"$f":"IF('Whip Data'!A490=\"\",\"\",VLOOKUP('Whip Data'!L490,Materials,4,FALSE))","v":""},{"$f":"IF('Whip Data'!A490=\"\",\"\",'Whip Data'!O490)","v":""},"",{"$f":"IF(M477=\"\",\"\",M477/VLOOKUP('Whip Data'!L490,Materials,3,FALSE))","v":""}]
[null,null,null,null,null,null,{"$f":"IFERROR('Whip Data'!A491,\"\")","v":""},{"$f":"IF('Whip Data'!A491=\"\",\"\",IF(VALUE(RIGHT(BOM!K478,1))=0,10,VALUE(RIGHT(BOM!K478,1))))","v":""},{"$f":"IF('Whip Data'!A491=\"\",\"\",VLOOKUP('Whip Data'!L491,Materials,7,FALSE))","v":""},"",{"$f":"IF('Whip Data'!A491=\"\",\"\",VLOOKUP('Whip Data'!L491,Materials,4,FALSE))","v":""},{"$f":"IF('Whip Data'!A491=\"\",\"\",'Whip Data'!O491)","v":""},"",{"$f":"IF(M478=\"\",\"\",M478/VLOOKUP('Whip Data'!L491,Materials,3,FALSE))","v":""}]
[null,null,null,null,null,null,{"$f":"IFERROR('Whip Data'!A492,\"\")","v":""},{"$f":"IF('Whip Data'!A492=\"\",\"\",IF(VALUE(RIGHT(BOM!K479,1))=0,10,VALUE(RIGHT(BOM!K479,1))))","v":""},{"$f":"IF('Whip Data'!A492=\"\",\"\",VLOOKUP('Whip Data'!L492,Materials,7,FALSE))","v":""},"",{"$f":"IF('Whip Data'!A492=\"\",\"\",VLOOKUP('Whip Data'!L492,Materials,4,FALSE))","v":""},{"$f":"IF('Whip Data'!A492=\"\",\"\",'Whip Data'!O492)","v":""},"",{"$f":"IF(M479=\"\",\"\",M479/VLOOKUP('Whip Data'!L492,Materials,3,FALSE))","v":""}]
[null,null,null,null,null,null,{"$f":"IFERROR('Whip Data'!A493,\"\")","v":""},{"$f":"IF('Whip Data'!A493=\"\",\"\",IF(VALUE(RIGHT(BOM!K480,1))=0,10,VALUE(RIGHT(BOM!K480,1))))","v":""},{"$f":"IF('Whip Data'!A493=\"\",\"\",VLOOKUP('Whip Data'!L493,Materials,7,FALSE))","v":""},"",{"$f":"IF('Whip Data'!A493=\"\",\"\",VLOOKUP('Whip Data'!L493,Materials,4,FALSE))","v":""},{"$f":"IF('Whip Data'!A493=\"\",\"\",'Whip Data'!O493)","v":""},"",{"$f":"IF(M480=\"\",\"\",M480/VLOOKUP('Whip Data'!L493,Materials,3,FALSE))","v":""}]
[null,null,null,null,null,null,{"$f":"IFERROR('Whip Data'!A494,\"\")","v":""},{"$f":"IF('Whip Data'!A494=\"\",\"\",IF(VALUE(RIGHT(BOM!K481,1))=0,10,VALUE(RIGHT(BOM!K481,1))))","v":""},{"$f":"IF('Whip Data'!A494=\"\",\"\",VLOOKUP('Whip Data'!L494,Materials,7,FALSE))","v":""},"",{"$f":"IF('Whip Data'!A494=\"\",\"\",VLOOKUP('Whip Data'!L494,Materials,4,FALSE))","v":""},{"$f":"IF('Whip Data'!A494=\"\",\"\",'Whip Data'!O494)","v":""},"",{"$f":"IF(M481=\"\",\"\",M481/VLOOKUP('Whip Data'!L494,Materials,3,FALSE))","v":""}]
[null,null,null,null,null,null,{"$f":"IFERROR('Whip Data'!A495,\"\")","v":""},{"$f":"IF('Whip Data'!A495=\"\",\"\",IF(VALUE(RIGHT(BOM!K482,1))=0,10,VALUE(RIGHT(BOM!K482,1))))","v":""},{"$f":"IF('Whip Data'!A495=\"\",\"\",VLOOKUP('Whip Data'!L495,Materials,7,FALSE))","v":""},"",{"$f":"IF('Whip Data'!A495=\"\",\"\",VLOOKUP('Whip Data'!L495,Materials,4,FALSE))","v":""},{"$f":"IF('Whip Data'!A495=\"\",\"\",'Whip Data'!O495)","v":""},"",{"$f":"IF(M482=\"\",\"\",M482/VLOOKUP('Whip Data'!L495,Materials,3,FALSE))","v":""}]
[null,null,null,null,null,null,{"$f":"IFERROR('Whip Data'!A496,\"\")","v":""},{"$f":"IF('Whip Data'!A496=\"\",\"\",IF(VALUE(RIGHT(BOM!K483,1))=0,10,VALUE(RIGHT(BOM!K483,1))))","v":""},{"$f":"IF('Whip Data'!A496=\"\",\"\",VLOOKUP('Whip Data'!L496,Materials,7,FALSE))","v":""},"",{"$f":"IF('Whip Data'!A496=\"\",\"\",VLOOKUP('Whip Data'!L496,Materials,4,FALSE))","v":""},{"$f":"IF('Whip Data'!A496=\"\",\"\",'Whip Data'!O496)","v":""},"",{"$f":"IF(M483=\"\",\"\",M483/VLOOKUP('Whip Data'!L496,Materials,3,FALSE))","v":""}]
[null,null,null,null,null,null,{"$f":"IFERROR('Whip Data'!A497,\"\")","v":""},{"$f":"IF('Whip Data'!A497=\"\",\"\",IF(VALUE(RIGHT(BOM!K484,1))=0,10,VALUE(RIGHT(BOM!K484,1))))","v":""},{"$f":"IF('Whip Data'!A497=\"\",\"\",VLOOKUP('Whip Data'!L497,Materials,7,FALSE))","v":""},"",{"$f":"IF('Whip Data'!A497=\"\",\"\",VLOOKUP('Whip Data'!L497,Materials,4,FALSE))","v":""},{"$f":"IF('Whip Data'!A497=\"\",\"\",'Whip Data'!O497)","v":""},"",{"$f":"IF(M484=\"\",\"\",M484/VLOOKUP('Whip Data'!L497,Materials,3,FALSE))","v":""}]
[null,null,null,null,null,null,{"$f":"IFERROR('Whip Data'!A498,\"\")","v":""},{"$f":"IF('Whip Data'!A498=\"\",\"\",IF(VALUE(RIGHT(BOM!K485,1))=0,10,VALUE(RIGHT(BOM!K485,1))))","v":""},{"$f":"IF('Whip Data'!A498=\"\",\"\",VLOOKUP('Whip Data'!L498,Materials,7,FALSE))","v":""},"",{"$f":"IF('Whip Data'!A498=\"\",\"\",VLOOKUP('Whip Data'!L498,Materials,4,FALSE))","v":""},{"$f":"IF('Whip Data'!A498=\"\",\"\",'Whip Data'!O498)","v":""},"",{"$f":"IF(M485=\"\",\"\",M485/VLOOKUP('Whip Data'!L498,Materials,3,FALSE))","v":""}]
[null,null,null,null,null,null,{"$f":"IFERROR('Whip Data'!A499,\"\")","v":""},{"$f":"IF('Whip Data'!A499=\"\",\"\",IF(VALUE(RIGHT(BOM!K486,1))=0,10,VALUE(RIGHT(BOM!K486,1))))","v":""},{"$f":"IF('Whip Data'!A499=\"\",\"\",VLOOKUP('Whip Data'!L499,Materials,7,FALSE))","v":""},"",{"$f":"IF('Whip Data'!A499=\"\",\"\",VLOOKUP('Whip Data'!L499,Materials,4,FALSE))","v":""},{"$f":"IF('Whip Data'!A499=\"\",\"\",'Whip Data'!O499)","v":""},"",{"$f":"IF(M486=\"\",\"\",M486/VLOOKUP('Whip Data'!L499,Materials,3,FALSE))","v":""}]
[null,null,null,null,null,null,{"$f":"IFERROR('Whip Data'!A500,\"\")","v":""},{"$f":"IF('Whip Data'!A500=\"\",\"\",IF(VALUE(RIGHT(BOM!K487,1))=0,10,VALUE(RIGHT(BOM!K487,1))))","v":""},{"$f":"IF('Whip Data'!A500=\"\",\"\",VLOOKUP('Whip Data'!L500,Materials,7,FALSE))","v":""},"",{"$f":"IF('Whip Data'!A500=\"\",\"\",VLOOKUP('Whip Data'!L500,Materials,4,FALSE))","v":""},{"$f":"IF('Whip Data'!A500=\"\",\"\",'Whip Data'!O500)","v":""},"",{"$f":"IF(M487=\"\",\"\",M487/VLOOKUP('Whip Data'!L500,Materials,3,FALSE))","v":""}]

{"sheet":"PDU Circuit","index":8,"n_rows":199,"n_cols":6,"rows_kept":199,"cut":false,"hidden":true,"merged":[]}
["PDUType","CircuitNUM","StandardPDU","VertPDU","StandardPDU","VertPDU"]
["StandardPDU",1,"BK","BK","BR","BR"]
["VertPDU",2,"BK","RED","BR","OR"]
["CircuitNUM",3,"RED","BL","OR","YL"]
[null,4,"RED","BK","OR","BR"]
[null,5,"BL","RED","YL","OR"]
[null,6,"BL","BL","YL","YL"]
[null,7,"BK","BK","BR","BR"]
[null,8,"BK","RED","BR","OR"]
[null,9,"RED","BL","OR","YL"]
[null,10,"RED","BK","OR","BR"]
[null,11,"BL","RED","YL","OR"]
[null,12,"BL","BL","YL","YL"]
[null,13,"BK","BK","BR","BR"]
[null,14,"BK","RED","BR","OR"]
[null,15,"RED","BL","OR","YL"]
[null,16,"RED","BK","OR","BR"]
[null,17,"BL","RED","YL","OR"]
[null,18,"BL","BL","YL","YL"]
[null,19,"BK","BK","BR","BR"]
[null,20,"BK","RED","BR","OR"]
[null,21,"RED","BL","OR","YL"]
[null,22,"RED","BK","OR","BR"]
[null,23,"BL","RED","YL","OR"]
[null,24,"BL","BL","YL","YL"]
[null,25,"BK","BK","BR","BR"]
[null,26,"BK","RED","BR","OR"]
[null,27,"RED","BL","OR","YL"]
[null,28,"RED","BK","OR","BR"]
[null,29,"BL","RED","YL","OR"]
[null,30,"BL","BL","YL","YL"]
[null,31,"BK","BK","BR","BR"]
[null,32,"BK","RED","BR","OR"]
[null,33,"RED","BL","OR","YL"]
[null,34,"RED","BK","OR","BR"]
[null,35,"BL","RED","YL","OR"]
[null,36,"BL","BL","YL","YL"]
[null,37,"BK","BK","BR","BR"]
[null,38,"BK","RED","BR","OR"]
[null,39,"RED","BL","OR","YL"]
[null,40,"RED","BK","OR","BR"]
[null,41,"BL","RED","YL","OR"]
[null,42,"BL","BL","YL","YL"]
[null,43,"BK","BK","BR","BR"]
[null,44,"BK","RED","BR","OR"]
[null,45,"RED","BL","OR","YL"]
[null,46,"RED","BK","OR","BR"]
[null,47,"BL","RED","YL","OR"]
[null,48,"BL","BL","YL","YL"]
[null,49,"BK","BK","BR","BR"]
[null,50,"BK","RED","BR","OR"]
[null,51,"RED","BL","OR","YL"]
[null,52,"RED","BK","OR","BR"]
[null,53,"BL","RED","YL","OR"]
[null,54,"BL","BL","YL","YL"]
[null,55,"BK","BK","BR","BR"]
[null,56,"BK","RED","BR","OR"]
[null,57,"RED","BL","OR","YL"]
[null,58,"RED","BK","OR","BR"]
[null,59,"BL","RED","YL","OR"]
[null,60,"BL","BL","YL","YL"]
[null,61,"BK","BK","BR","BR"]
[null,62,"BK","RED","BR","OR"]
[null,63,"RED","BL","OR","YL"]
[null,64,"RED","BK","OR","BR"]
[null,65,"BL","RED","YL","OR"]
[null,66,"BL","BL","YL","YL"]
[null,67,"BK","BK","BR","BR"]
[null,68,"BK","RED","BR","OR"]
[null,69,"RED","BL","OR","YL"]
[null,70,"RED","BK","OR","BR"]
[null,71,"BL","RED","YL","OR"]
[null,72,"BL","BL","YL","YL"]
[null,73,"BK","BK","BR","BR"]
[null,74,"BK","RED","BR","OR"]
[null,75,"RED","BL","OR","YL"]
[null,76,"RED","BK","OR","BR"]
[null,77,"BL","RED","YL","OR"]
[null,78,"BL","BL","YL","YL"]
[null,79,"BK","BK","BR","BR"]
[null,80,"BK","RED","BR","OR"]
[null,81,"RED","BL","OR","YL"]
[null,82,"RED","BK","OR","BR"]
[null,83,"BL","RED","YL","OR"]
[null,84,"BL","BL","YL","YL"]
[null,85,"BK","BK","BR","BR"]
[null,86,"BK","RED","BR","OR"]
[null,87,"RED","BL","OR","YL"]
[null,88,"RED","BK","OR","BR"]
[null,89,"BL","RED","YL","OR"]
[null,90,"BL","BL","YL","YL"]
[null,91,"BK","BK","BR","BR"]
[null,92,"BK","RED","BR","OR"]
[null,93,"RED","BL","OR","YL"]
[null,94,"RED","BK","OR","BR"]
[null,95,"BL","RED","YL","OR"]
[null,96,"BL","BL","YL","YL"]
[null,97,"BK","BK","BR","BR"]
[null,98,"BK","RED","BR","OR"]
[null,99,"RED","BL","OR","YL"]
[null,100,"RED","BK","OR","BR"]
[null,101,"BL","RED","YL","OR"]
[null,102,"BL","BL","YL","YL"]
[null,103,"BK","BK","BR","BR"]
[null,104,"BK","RED","BR","OR"]
[null,105,"RED","BL","OR","YL"]
[null,106,"RED","BK","OR","BR"]
[null,107,"BL","RED","YL","OR"]
[null,108,"BL","BL","YL","YL"]
[null,109,"BK","BK","BR","BR"]
[null,110,"BK","RED","BR","OR"]
[null,111,"RED","BL","OR","YL"]
[null,112,"RED","BK","OR","BR"]
[null,113,"BL","RED","YL","OR"]
[null,114,"BL","BL","YL","YL"]
[null,115,"BK","BK","BR","BR"]
[null,116,"BK","RED","BR","OR"]
[null,117,"RED","BL","OR","YL"]
[null,118,"RED","BK","OR","BR"]
[null,119,"BL","RED","YL","OR"]
[null,120,"BL","BL","YL","YL"]
[null,121,"BK","BK","BR","BR"]
[null,122,"BK","RED","BR","OR"]
[null,123,"RED","BL","OR","YL"]
[null,124,"RED","BK","OR","BR"]
[null,125,"BL","RED","YL","OR"]
[null,126,"BL","BL","YL","YL"]
[null,127,"BK","BK","BR","BR"]
[null,128,"BK","RED","BR","OR"]
[null,129,"RED","BL","OR","YL"]
[null,130,"RED","BK","OR","BR"]
[null,131,"BL","RED","YL","OR"]
[null,132,"BL","BL","YL","YL"]
[null,133,"BK","BK","BR","BR"]
[null,134,"BK","RED","BR","OR"]
[null,135,"RED","BL","OR","YL"]
[null,136,"RED","BK","OR","BR"]
[null,137,"BL","RED","YL","OR"]
[null,138,"BL","BL","YL","YL"]
[null,139,"BK","BK","BR","BR"]
[null,140,"BK","RED","BR","OR"]
[null,141,"RED","BL","OR","YL"]
[null,142,"RED","BK","OR","BR"]
[null,143,"BL","RED","YL","OR"]
[null,144,"BL","BL","YL","YL"]
[null,145,"BK","BK","BR","BR"]
[null,146,"BK","RED","BR","OR"]
[null,147,"RED","BL","OR","YL"]
[null,148,"RED","BK","OR","BR"]
[null,149,"BL","RED","YL","OR"]
[null,150,"BL","BL","YL","YL"]
[null,151,"BK","BK","BR","BR"]
[null,152,"BK","RED","BR","OR"]
[null,153,"RED","BL","OR","YL"]
[null,154,"RED","BK","OR","BR"]
[null,155,"BL","RED","YL","OR"]
[null,156,"BL","BL","YL","YL"]
[null,157,"BK","BK","BR","BR"]
[null,158,"BK","RED","BR","OR"]
[null,159,"RED","BL","OR","YL"]
[null,160,"RED","BK","OR","BR"]
[null,161,"BL","RED","YL","OR"]
[null,162,"BL","BL","YL","YL"]
[null,163,"BK","BK","BR","BR"]
[null,164,"BK","RED","BR","OR"]
[null,165,"RED","BL","OR","YL"]
[null,166,"RED","BK","OR","BR"]
[null,167,"BL","RED","YL","OR"]
[null,168,"BL","BL","YL","YL"]
[null,169,"BK","BK","BR","BR"]
[null,170,"BK","RED","BR","OR"]
[null,171,"RED","BL","OR","YL"]
[null,172,"RED","BK","OR","BR"]
[null,173,"BL","RED","YL","OR"]
[null,174,"BL","BL","YL","YL"]
[null,175,"BK","BK","BR","BR"]
[null,176,"BK","RED","BR","OR"]
[null,177,"RED","BL","OR","YL"]
[null,178,"RED","BK","OR","BR"]
[null,179,"BL","RED","YL","OR"]
[null,180,"BL","BL","YL","YL"]
[null,181,"BK","BK","BR","BR"]
[null,182,"BK","RED","BR","OR"]
[null,183,"RED","BL","OR","YL"]
[null,184,"RED","BK","OR","BR"]
[null,185,"BL","RED","YL","OR"]
[null,186,"BL","BL","YL","YL"]
[null,187,"BK","BK","BR","BR"]
[null,188,"BK","RED","BR","OR"]
[null,189,"RED","BL","OR","YL"]
[null,190,"RED","BK","OR","BR"]
[null,191,"BL","RED","YL","OR"]
[null,192,"BL","BL","YL","YL"]
[null,193,"BK","BK","BR","BR"]
[null,194,"BK","RED","BR","OR"]
[null,195,"RED","BL","OR","YL"]
[null,196,"RED","BK","OR","BR"]
[null,197,"BL","RED","YL","OR"]
[null,198,"BL","BL","YL","YL"]